{"text_format":"1","workbook":"xlsx","n_sheets":7,"sheets":["はじめに","設定・基礎","大中小分類登録","基準表","作業用シート","背表紙データ","ファイルタグデータ"],"not_rendered":{"charts":0,"images":9,"macros":1,"external_links":0,"defined_names":6,"comments":1,"pivot_tables":0},"unopened":[],"bounds":{"document_bytes":16777216,"sheet_cells":100000,"rows_first":2000,"rows_last":500,"rows_between":2000,"halvings":0,"cell_chars":16384,"cell_head_chars":4096},"cells_cut":0,"cells_raw":0,"read":"whole","date_system":"1900"}

{"sheet":"はじめに","index":0,"n_rows":9,"n_cols":1,"rows_kept":9,"cut":false,"hidden":false,"merged":[]}
["【著作権及び利用条件】"]
["このソフトウェアは、使用によって生じた一切の損害について、著作権者に求めないことを条件に無償にて利用できます。"]
["このソフトウェアの著作権は兵庫県教育委員会、兵庫県立教育研修所企画調査課課員（平成29年度県政事務推進員含む）に属します。"]
["このソフトウェア利用は自己責任においてご利用ください。"]
[]
["【注意事項】"]
["このファイル内のシートの追加・削除はしないでください。"]
["マクロも含めて、保護に関するパスワードの設定をしていません。"]
["ブック・シート等の保護に関わる設定を変更しないでください。"]

{"sheet":"設定・基礎","index":1,"n_rows":22,"n_cols":8,"rows_kept":22,"cut":false,"hidden":false,"merged":[]}
[]
[null,"所属",null,"年度",null,null,"担当者","記号"]
[null,"企画調査課",null,2019,null,null,"１年","①"]
[null,null,null,null,null,null,"２年","②"]
[null,null,null,null,null,null,"３年","③"]
[null,null,null,null,null,null,"５年","⑤"]
[null,null,null,null,null,null,"７年","⑦"]
[null,null,null,null,null,null,"10年","⑩"]
[null,null,null,null,null,null,"15年","⑮"]
[null,null,null,null,null,null,"20年","⑳"]
[null,null,null,null,null,null,"30年","㉚"]
[null,null,null,null,null,null,"（　　）年","○"]
[null,null,null,null,null,null,"継続","●"]
[null,null,null,null,null,null,"Dummy12","⑫"]
[null,null,null,null,null,null,"Dummy13","⑬"]
[null,null,null,null,null,null,"Dummy14","⑭"]
[null,null,null,null,null,null,"Dummy15","⑮"]
[null,null,null,null,null,null,"Dummy16","⑯"]
[null,null,null,null,null,null,"Dummy17","⑰"]
[null,null,null,null,null,null,"Dummy18","⑱"]
[null,null,null,null,null,null,"Dummy19","⑲"]
[null,null,null,null,null,null,"Dummy20","⑳"]

{"sheet":"大中小分類登録","index":2,"n_rows":20005,"n_cols":10,"rows_kept":4500,"cut":true,"hidden":false,"merged":[],"bounds":{"rows_first":2000,"rows_last":500,"rows_between":2000,"halvings":0}}
[]
[]
[null,null,null,"(A)","リスト未表示の時は①ボタン→②ボタン","(B)","（A）選択→③ボタン→（B）選択　項目入力後③ボタン"]
[]
["分類No.","大No.","大分類","中No.","中分類","小No.","小分類","小分類略","保存期間","記号"]
[" 01-01-01","01","総括","01","共有情報","01","◆共有情報◆","◆共有情報◆","１年",{"$f":"IFERROR(VLOOKUP(I6,設定・基礎!$G$3:$H$22,2,FALSE),\"\")","v":"①"}]
[" 01-01-02","01",null,"01",null,"02","永久保存情報","永久保存情報","継続",{"$f":"IFERROR(VLOOKUP(I7,設定・基礎!$G$3:$H$22,2,FALSE),\"\")","v":"●"}]
[" 01-01-03","01",null,"01",null,"03","学校情報","学校情報","３年",{"$f":"IFERROR(VLOOKUP(I8,設定・基礎!$G$3:$H$22,2,FALSE),\"\")","v":"③"}]
[" 01-01-04","01",null,"01",null,"04","受講履歴（修了者台帳電子データ）","受講履歴","20年",{"$f":"IFERROR(VLOOKUP(I9,設定・基礎!$G$3:$H$22,2,FALSE),\"\")","v":"⑳"}]
[" 01-01-05","01",null,"01",null,"05","受講願・研修事務メニュー","受講願・ﾒﾆｭｰ","３年",{"$f":"IFERROR(VLOOKUP(I10,設定・基礎!$G$3:$H$22,2,FALSE),\"\")","v":"③"}]
[" 01-01-06","01",null,"01",null,"06","自動集計【簡易申請システム】","簡易申請ｼｽﾃﾑ","20年",{"$f":"IFERROR(VLOOKUP(I11,設定・基礎!$G$3:$H$22,2,FALSE),\"\")","v":"⑳"}]
[" 01-01-07","01",null,"01",null,"07","ひょうご教育アンケートシステム","ｱﾝｹｰﾄｼｽﾃﾑ","20年",{"$f":"IFERROR(VLOOKUP(I12,設定・基礎!$G$3:$H$22,2,FALSE),\"\")","v":"⑳"}]
[" 01-01-08","01",null,"01",null,"08",null,null,null,{"$f":"IFERROR(VLOOKUP(I13,設定・基礎!$G$3:$H$22,2,FALSE),\"\")","v":""}]
[" 01-01-09","01",null,"01",null,"09",null,null,null,{"$f":"IFERROR(VLOOKUP(I14,設定・基礎!$G$3:$H$22,2,FALSE),\"\")","v":""}]
[" 01-01-10","01",null,"01",null,"10",null,null,null,{"$f":"IFERROR(VLOOKUP(I15,設定・基礎!$G$3:$H$22,2,FALSE),\"\")","v":""}]
[" 01-01-11","01",null,"01",null,"11",null,null,null,{"$f":"IFERROR(VLOOKUP(I16,設定・基礎!$G$3:$H$22,2,FALSE),\"\")","v":""}]
[" 01-01-12","01",null,"01",null,"12",null,null,null,{"$f":"IFERROR(VLOOKUP(I17,設定・基礎!$G$3:$H$22,2,FALSE),\"\")","v":""}]
[" 01-01-13","01",null,"01",null,"13",null,null,null,{"$f":"IFERROR(VLOOKUP(I18,設定・基礎!$G$3:$H$22,2,FALSE),\"\")","v":""}]
[" 01-01-14","01",null,"01",null,"14",null,null,null,{"$f":"IFERROR(VLOOKUP(I19,設定・基礎!$G$3:$H$22,2,FALSE),\"\")","v":""}]
[" 01-01-15","01",null,"01",null,"15",null,null,null,{"$f":"IFERROR(VLOOKUP(I20,設定・基礎!$G$3:$H$22,2,FALSE),\"\")","v":""}]
[" 01-01-16","01",null,"01",null,"16",null,null,null,{"$f":"IFERROR(VLOOKUP(I21,設定・基礎!$G$3:$H$22,2,FALSE),\"\")","v":""}]
[" 01-01-17","01",null,"01",null,"17",null,null,null,{"$f":"IFERROR(VLOOKUP(I22,設定・基礎!$G$3:$H$22,2,FALSE),\"\")","v":""}]
[" 01-01-18","01",null,"01",null,"18",null,null,null,{"$f":"IFERROR(VLOOKUP(I23,設定・基礎!$G$3:$H$22,2,FALSE),\"\")","v":""}]
[" 01-01-19","01",null,"01",null,"19",null,null,null,{"$f":"IFERROR(VLOOKUP(I24,設定・基礎!$G$3:$H$22,2,FALSE),\"\")","v":""}]
[" 01-01-20","01",null,"01",null,"20",null,null,null,{"$f":"IFERROR(VLOOKUP(I25,設定・基礎!$G$3:$H$22,2,FALSE),\"\")","v":""}]
[" 01-02-01","01",null,"02","課務総括","01","◆課務総括◆","◆課務総括◆","３年",{"$f":"IFERROR(VLOOKUP(I26,設定・基礎!$G$3:$H$22,2,FALSE),\"\")","v":"③"}]
[" 01-02-02","01",null,"02",null,"02","引き継ぎ事項","引き継ぎ事項","３年",{"$f":"IFERROR(VLOOKUP(I27,設定・基礎!$G$3:$H$22,2,FALSE),\"\")","v":"③"}]
[" 01-02-03","01",null,"02",null,"03","分掌（企画）等","分掌（企画）等","３年",{"$f":"IFERROR(VLOOKUP(I28,設定・基礎!$G$3:$H$22,2,FALSE),\"\")","v":"③"}]
[" 01-02-04","01",null,"02",null,"04","年間計画","年間計画","３年",{"$f":"IFERROR(VLOOKUP(I29,設定・基礎!$G$3:$H$22,2,FALSE),\"\")","v":"③"}]
[" 01-02-05","01",null,"02",null,"05","事業概要（所内研修資料）","事業概要（所内）","３年",{"$f":"IFERROR(VLOOKUP(I30,設定・基礎!$G$3:$H$22,2,FALSE),\"\")","v":"③"}]
[" 01-02-06","01",null,"02",null,"06","懸案事項ヒア用資料（企画）","懸案事項ヒア","５年",{"$f":"IFERROR(VLOOKUP(I31,設定・基礎!$G$3:$H$22,2,FALSE),\"\")","v":"⑤"}]
[" 01-02-07","01",null,"02",null,"07","三役への挨拶等依頼事項一覧","三役挨拶出張一覧","３年",{"$f":"IFERROR(VLOOKUP(I32,設定・基礎!$G$3:$H$22,2,FALSE),\"\")","v":"③"}]
[" 01-02-08","01",null,"02",null,"08",null,null,null,{"$f":"IFERROR(VLOOKUP(I33,設定・基礎!$G$3:$H$22,2,FALSE),\"\")","v":""}]
[" 01-02-09","01",null,"02",null,"09",null,null,null,{"$f":"IFERROR(VLOOKUP(I34,設定・基礎!$G$3:$H$22,2,FALSE),\"\")","v":""}]
[" 01-02-10","01",null,"02",null,"10",null,null,null,{"$f":"IFERROR(VLOOKUP(I35,設定・基礎!$G$3:$H$22,2,FALSE),\"\")","v":""}]
[" 01-02-11","01",null,"02",null,"11",null,null,null,{"$f":"IFERROR(VLOOKUP(I36,設定・基礎!$G$3:$H$22,2,FALSE),\"\")","v":""}]
[" 01-02-12","01",null,"02",null,"12",null,null,null,{"$f":"IFERROR(VLOOKUP(I37,設定・基礎!$G$3:$H$22,2,FALSE),\"\")","v":""}]
[" 01-02-13","01",null,"02",null,"13",null,null,null,{"$f":"IFERROR(VLOOKUP(I38,設定・基礎!$G$3:$H$22,2,FALSE),\"\")","v":""}]
[" 01-02-14","01",null,"02",null,"14",null,null,null,{"$f":"IFERROR(VLOOKUP(I39,設定・基礎!$G$3:$H$22,2,FALSE),\"\")","v":""}]
[" 01-02-15","01",null,"02",null,"15",null,null,null,{"$f":"IFERROR(VLOOKUP(I40,設定・基礎!$G$3:$H$22,2,FALSE),\"\")","v":""}]
[" 01-02-16","01",null,"02",null,"16",null,null,null,{"$f":"IFERROR(VLOOKUP(I41,設定・基礎!$G$3:$H$22,2,FALSE),\"\")","v":""}]
[" 01-02-17","01",null,"02",null,"17",null,null,null,{"$f":"IFERROR(VLOOKUP(I42,設定・基礎!$G$3:$H$22,2,FALSE),\"\")","v":""}]
[" 01-02-18","01",null,"02",null,"18",null,null,null,{"$f":"IFERROR(VLOOKUP(I43,設定・基礎!$G$3:$H$22,2,FALSE),\"\")","v":""}]
[" 01-02-19","01",null,"02",null,"19",null,null,null,{"$f":"IFERROR(VLOOKUP(I44,設定・基礎!$G$3:$H$22,2,FALSE),\"\")","v":""}]
[" 01-02-20","01",null,"02",null,"20",null,null,null,{"$f":"IFERROR(VLOOKUP(I45,設定・基礎!$G$3:$H$22,2,FALSE),\"\")","v":""}]
[" 01-03-01","01",null,"03",null,"01",null,null,null,{"$f":"IFERROR(VLOOKUP(I46,設定・基礎!$G$3:$H$22,2,FALSE),\"\")","v":""}]
[" 01-03-02","01",null,"03",null,"02",null,null,null,{"$f":"IFERROR(VLOOKUP(I47,設定・基礎!$G$3:$H$22,2,FALSE),\"\")","v":""}]
[" 01-03-03","01",null,"03",null,"03",null,null,null,{"$f":"IFERROR(VLOOKUP(I48,設定・基礎!$G$3:$H$22,2,FALSE),\"\")","v":""}]
[" 01-03-04","01",null,"03",null,"04",null,null,null,{"$f":"IFERROR(VLOOKUP(I49,設定・基礎!$G$3:$H$22,2,FALSE),\"\")","v":""}]
[" 01-03-05","01",null,"03",null,"05",null,null,null,{"$f":"IFERROR(VLOOKUP(I50,設定・基礎!$G$3:$H$22,2,FALSE),\"\")","v":""}]
[" 01-03-06","01",null,"03",null,"06",null,null,null,{"$f":"IFERROR(VLOOKUP(I51,設定・基礎!$G$3:$H$22,2,FALSE),\"\")","v":""}]
[" 01-03-07","01",null,"03",null,"07",null,null,null,{"$f":"IFERROR(VLOOKUP(I52,設定・基礎!$G$3:$H$22,2,FALSE),\"\")","v":""}]
[" 01-03-08","01",null,"03",null,"08",null,null,null,{"$f":"IFERROR(VLOOKUP(I53,設定・基礎!$G$3:$H$22,2,FALSE),\"\")","v":""}]
[" 01-03-09","01",null,"03",null,"09",null,null,null,{"$f":"IFERROR(VLOOKUP(I54,設定・基礎!$G$3:$H$22,2,FALSE),\"\")","v":""}]
[" 01-03-10","01",null,"03",null,"10",null,null,null,{"$f":"IFERROR(VLOOKUP(I55,設定・基礎!$G$3:$H$22,2,FALSE),\"\")","v":""}]
[" 01-03-11","01",null,"03",null,"11",null,null,null,{"$f":"IFERROR(VLOOKUP(I56,設定・基礎!$G$3:$H$22,2,FALSE),\"\")","v":""}]
[" 01-03-12","01",null,"03",null,"12",null,null,null,{"$f":"IFERROR(VLOOKUP(I57,設定・基礎!$G$3:$H$22,2,FALSE),\"\")","v":""}]
[" 01-03-13","01",null,"03",null,"13",null,null,null,{"$f":"IFERROR(VLOOKUP(I58,設定・基礎!$G$3:$H$22,2,FALSE),\"\")","v":""}]
[" 01-03-14","01",null,"03",null,"14",null,null,null,{"$f":"IFERROR(VLOOKUP(I59,設定・基礎!$G$3:$H$22,2,FALSE),\"\")","v":""}]
[" 01-03-15","01",null,"03",null,"15",null,null,null,{"$f":"IFERROR(VLOOKUP(I60,設定・基礎!$G$3:$H$22,2,FALSE),\"\")","v":""}]
[" 01-03-16","01",null,"03",null,"16",null,null,null,{"$f":"IFERROR(VLOOKUP(I61,設定・基礎!$G$3:$H$22,2,FALSE),\"\")","v":""}]
[" 01-03-17","01",null,"03",null,"17",null,null,null,{"$f":"IFERROR(VLOOKUP(I62,設定・基礎!$G$3:$H$22,2,FALSE),\"\")","v":""}]
[" 01-03-18","01",null,"03",null,"18",null,null,null,{"$f":"IFERROR(VLOOKUP(I63,設定・基礎!$G$3:$H$22,2,FALSE),\"\")","v":""}]
[" 01-03-19","01",null,"03",null,"19",null,null,null,{"$f":"IFERROR(VLOOKUP(I64,設定・基礎!$G$3:$H$22,2,FALSE),\"\")","v":""}]
[" 01-03-20","01",null,"03",null,"20",null,null,null,{"$f":"IFERROR(VLOOKUP(I65,設定・基礎!$G$3:$H$22,2,FALSE),\"\")","v":""}]
[" 01-04-01","01",null,"04",null,"01",null,null,null,{"$f":"IFERROR(VLOOKUP(I66,設定・基礎!$G$3:$H$22,2,FALSE),\"\")","v":""}]
[" 01-04-02","01",null,"04",null,"02",null,null,null,{"$f":"IFERROR(VLOOKUP(I67,設定・基礎!$G$3:$H$22,2,FALSE),\"\")","v":""}]
[" 01-04-03","01",null,"04",null,"03",null,null,null,{"$f":"IFERROR(VLOOKUP(I68,設定・基礎!$G$3:$H$22,2,FALSE),\"\")","v":""}]
[" 01-04-04","01",null,"04",null,"04",null,null,null,{"$f":"IFERROR(VLOOKUP(I69,設定・基礎!$G$3:$H$22,2,FALSE),\"\")","v":""}]
[" 01-04-05","01",null,"04",null,"05",null,null,null,{"$f":"IFERROR(VLOOKUP(I70,設定・基礎!$G$3:$H$22,2,FALSE),\"\")","v":""}]
[" 01-04-06","01",null,"04",null,"06",null,null,null,{"$f":"IFERROR(VLOOKUP(I71,設定・基礎!$G$3:$H$22,2,FALSE),\"\")","v":""}]
[" 01-04-07","01",null,"04",null,"07",null,null,null,{"$f":"IFERROR(VLOOKUP(I72,設定・基礎!$G$3:$H$22,2,FALSE),\"\")","v":""}]
[" 01-04-08","01",null,"04",null,"08",null,null,null,{"$f":"IFERROR(VLOOKUP(I73,設定・基礎!$G$3:$H$22,2,FALSE),\"\")","v":""}]
[" 01-04-09","01",null,"04",null,"09",null,null,null,{"$f":"IFERROR(VLOOKUP(I74,設定・基礎!$G$3:$H$22,2,FALSE),\"\")","v":""}]
[" 01-04-10","01",null,"04",null,"10",null,null,null,{"$f":"IFERROR(VLOOKUP(I75,設定・基礎!$G$3:$H$22,2,FALSE),\"\")","v":""}]
[" 01-04-11","01",null,"04",null,"11",null,null,null,{"$f":"IFERROR(VLOOKUP(I76,設定・基礎!$G$3:$H$22,2,FALSE),\"\")","v":""}]
[" 01-04-12","01",null,"04",null,"12",null,null,null,{"$f":"IFERROR(VLOOKUP(I77,設定・基礎!$G$3:$H$22,2,FALSE),\"\")","v":""}]
[" 01-04-13","01",null,"04",null,"13",null,null,null,{"$f":"IFERROR(VLOOKUP(I78,設定・基礎!$G$3:$H$22,2,FALSE),\"\")","v":""}]
[" 01-04-14","01",null,"04",null,"14",null,null,null,{"$f":"IFERROR(VLOOKUP(I79,設定・基礎!$G$3:$H$22,2,FALSE),\"\")","v":""}]
[" 01-04-15","01",null,"04",null,"15",null,null,null,{"$f":"IFERROR(VLOOKUP(I80,設定・基礎!$G$3:$H$22,2,FALSE),\"\")","v":""}]
[" 01-04-16","01",null,"04",null,"16",null,null,null,{"$f":"IFERROR(VLOOKUP(I81,設定・基礎!$G$3:$H$22,2,FALSE),\"\")","v":""}]
[" 01-04-17","01",null,"04",null,"17",null,null,null,{"$f":"IFERROR(VLOOKUP(I82,設定・基礎!$G$3:$H$22,2,FALSE),\"\")","v":""}]
[" 01-04-18","01",null,"04",null,"18",null,null,null,{"$f":"IFERROR(VLOOKUP(I83,設定・基礎!$G$3:$H$22,2,FALSE),\"\")","v":""}]
[" 01-04-19","01",null,"04",null,"19",null,null,null,{"$f":"IFERROR(VLOOKUP(I84,設定・基礎!$G$3:$H$22,2,FALSE),\"\")","v":""}]
[" 01-04-20","01",null,"04",null,"20",null,null,null,{"$f":"IFERROR(VLOOKUP(I85,設定・基礎!$G$3:$H$22,2,FALSE),\"\")","v":""}]
[" 01-05-01","01",null,"05",null,"01",null,null,null,{"$f":"IFERROR(VLOOKUP(I86,設定・基礎!$G$3:$H$22,2,FALSE),\"\")","v":""}]
[" 01-05-02","01",null,"05",null,"02",null,null,null,{"$f":"IFERROR(VLOOKUP(I87,設定・基礎!$G$3:$H$22,2,FALSE),\"\")","v":""}]
[" 01-05-03","01",null,"05",null,"03",null,null,null,{"$f":"IFERROR(VLOOKUP(I88,設定・基礎!$G$3:$H$22,2,FALSE),\"\")","v":""}]
[" 01-05-04","01",null,"05",null,"04",null,null,null,{"$f":"IFERROR(VLOOKUP(I89,設定・基礎!$G$3:$H$22,2,FALSE),\"\")","v":""}]
[" 01-05-05","01",null,"05",null,"05",null,null,null,{"$f":"IFERROR(VLOOKUP(I90,設定・基礎!$G$3:$H$22,2,FALSE),\"\")","v":""}]
[" 01-05-06","01",null,"05",null,"06",null,null,null,{"$f":"IFERROR(VLOOKUP(I91,設定・基礎!$G$3:$H$22,2,FALSE),\"\")","v":""}]
[" 01-05-07","01",null,"05",null,"07",null,null,null,{"$f":"IFERROR(VLOOKUP(I92,設定・基礎!$G$3:$H$22,2,FALSE),\"\")","v":""}]
[" 01-05-08","01",null,"05",null,"08",null,null,null,{"$f":"IFERROR(VLOOKUP(I93,設定・基礎!$G$3:$H$22,2,FALSE),\"\")","v":""}]
[" 01-05-09","01",null,"05",null,"09",null,null,null,{"$f":"IFERROR(VLOOKUP(I94,設定・基礎!$G$3:$H$22,2,FALSE),\"\")","v":""}]
[" 01-05-10","01",null,"05",null,"10",null,null,null,{"$f":"IFERROR(VLOOKUP(I95,設定・基礎!$G$3:$H$22,2,FALSE),\"\")","v":""}]
[" 01-05-11","01",null,"05",null,"11",null,null,null,{"$f":"IFERROR(VLOOKUP(I96,設定・基礎!$G$3:$H$22,2,FALSE),\"\")","v":""}]
[" 01-05-12","01",null,"05",null,"12",null,null,null,{"$f":"IFERROR(VLOOKUP(I97,設定・基礎!$G$3:$H$22,2,FALSE),\"\")","v":""}]
[" 01-05-13","01",null,"05",null,"13",null,null,null,{"$f":"IFERROR(VLOOKUP(I98,設定・基礎!$G$3:$H$22,2,FALSE),\"\")","v":""}]
[" 01-05-14","01",null,"05",null,"14",null,null,null,{"$f":"IFERROR(VLOOKUP(I99,設定・基礎!$G$3:$H$22,2,FALSE),\"\")","v":""}]
[" 01-05-15","01",null,"05",null,"15",null,null,null,{"$f":"IFERROR(VLOOKUP(I100,設定・基礎!$G$3:$H$22,2,FALSE),\"\")","v":""}]
[" 01-05-16","01",null,"05",null,"16",null,null,null,{"$f":"IFERROR(VLOOKUP(I101,設定・基礎!$G$3:$H$22,2,FALSE),\"\")","v":""}]
[" 01-05-17","01",null,"05",null,"17",null,null,null,{"$f":"IFERROR(VLOOKUP(I102,設定・基礎!$G$3:$H$22,2,FALSE),\"\")","v":""}]
[" 01-05-18","01",null,"05",null,"18",null,null,null,{"$f":"IFERROR(VLOOKUP(I103,設定・基礎!$G$3:$H$22,2,FALSE),\"\")","v":""}]
[" 01-05-19","01",null,"05",null,"19",null,null,null,{"$f":"IFERROR(VLOOKUP(I104,設定・基礎!$G$3:$H$22,2,FALSE),\"\")","v":""}]
[" 01-05-20","01",null,"05",null,"20",null,null,null,{"$f":"IFERROR(VLOOKUP(I105,設定・基礎!$G$3:$H$22,2,FALSE),\"\")","v":""}]
[" 01-06-01","01",null,"06",null,"01",null,null,null,{"$f":"IFERROR(VLOOKUP(I106,設定・基礎!$G$3:$H$22,2,FALSE),\"\")","v":""}]
[" 01-06-02","01",null,"06",null,"02",null,null,null,{"$f":"IFERROR(VLOOKUP(I107,設定・基礎!$G$3:$H$22,2,FALSE),\"\")","v":""}]
[" 01-06-03","01",null,"06",null,"03",null,null,null,{"$f":"IFERROR(VLOOKUP(I108,設定・基礎!$G$3:$H$22,2,FALSE),\"\")","v":""}]
[" 01-06-04","01",null,"06",null,"04",null,null,null,{"$f":"IFERROR(VLOOKUP(I109,設定・基礎!$G$3:$H$22,2,FALSE),\"\")","v":""}]
[" 01-06-05","01",null,"06",null,"05",null,null,null,{"$f":"IFERROR(VLOOKUP(I110,設定・基礎!$G$3:$H$22,2,FALSE),\"\")","v":""}]
[" 01-06-06","01",null,"06",null,"06",null,null,null,{"$f":"IFERROR(VLOOKUP(I111,設定・基礎!$G$3:$H$22,2,FALSE),\"\")","v":""}]
[" 01-06-07","01",null,"06",null,"07",null,null,null,{"$f":"IFERROR(VLOOKUP(I112,設定・基礎!$G$3:$H$22,2,FALSE),\"\")","v":""}]
[" 01-06-08","01",null,"06",null,"08",null,null,null,{"$f":"IFERROR(VLOOKUP(I113,設定・基礎!$G$3:$H$22,2,FALSE),\"\")","v":""}]
[" 01-06-09","01",null,"06",null,"09",null,null,null,{"$f":"IFERROR(VLOOKUP(I114,設定・基礎!$G$3:$H$22,2,FALSE),\"\")","v":""}]
[" 01-06-10","01",null,"06",null,"10",null,null,null,{"$f":"IFERROR(VLOOKUP(I115,設定・基礎!$G$3:$H$22,2,FALSE),\"\")","v":""}]
[" 01-06-11","01",null,"06",null,"11",null,null,null,{"$f":"IFERROR(VLOOKUP(I116,設定・基礎!$G$3:$H$22,2,FALSE),\"\")","v":""}]
[" 01-06-12","01",null,"06",null,"12",null,null,null,{"$f":"IFERROR(VLOOKUP(I117,設定・基礎!$G$3:$H$22,2,FALSE),\"\")","v":""}]
[" 01-06-13","01",null,"06",null,"13",null,null,null,{"$f":"IFERROR(VLOOKUP(I118,設定・基礎!$G$3:$H$22,2,FALSE),\"\")","v":""}]
[" 01-06-14","01",null,"06",null,"14",null,null,null,{"$f":"IFERROR(VLOOKUP(I119,設定・基礎!$G$3:$H$22,2,FALSE),\"\")","v":""}]
[" 01-06-15","01",null,"06",null,"15",null,null,null,{"$f":"IFERROR(VLOOKUP(I120,設定・基礎!$G$3:$H$22,2,FALSE),\"\")","v":""}]
[" 01-06-16","01",null,"06",null,"16",null,null,null,{"$f":"IFERROR(VLOOKUP(I121,設定・基礎!$G$3:$H$22,2,FALSE),\"\")","v":""}]
[" 01-06-17","01",null,"06",null,"17",null,null,null,{"$f":"IFERROR(VLOOKUP(I122,設定・基礎!$G$3:$H$22,2,FALSE),\"\")","v":""}]
[" 01-06-18","01",null,"06",null,"18",null,null,null,{"$f":"IFERROR(VLOOKUP(I123,設定・基礎!$G$3:$H$22,2,FALSE),\"\")","v":""}]
[" 01-06-19","01",null,"06",null,"19",null,null,null,{"$f":"IFERROR(VLOOKUP(I124,設定・基礎!$G$3:$H$22,2,FALSE),\"\")","v":""}]
[" 01-06-20","01",null,"06",null,"20",null,null,null,{"$f":"IFERROR(VLOOKUP(I125,設定・基礎!$G$3:$H$22,2,FALSE),\"\")","v":""}]
[" 01-07-01","01",null,"07",null,"01",null,null,null,{"$f":"IFERROR(VLOOKUP(I126,設定・基礎!$G$3:$H$22,2,FALSE),\"\")","v":""}]
[" 01-07-02","01",null,"07",null,"02",null,null,null,{"$f":"IFERROR(VLOOKUP(I127,設定・基礎!$G$3:$H$22,2,FALSE),\"\")","v":""}]
[" 01-07-03","01",null,"07",null,"03",null,null,null,{"$f":"IFERROR(VLOOKUP(I128,設定・基礎!$G$3:$H$22,2,FALSE),\"\")","v":""}]
[" 01-07-04","01",null,"07",null,"04",null,null,null,{"$f":"IFERROR(VLOOKUP(I129,設定・基礎!$G$3:$H$22,2,FALSE),\"\")","v":""}]
[" 01-07-05","01",null,"07",null,"05",null,null,null,{"$f":"IFERROR(VLOOKUP(I130,設定・基礎!$G$3:$H$22,2,FALSE),\"\")","v":""}]
[" 01-07-06","01",null,"07",null,"06",null,null,null,{"$f":"IFERROR(VLOOKUP(I131,設定・基礎!$G$3:$H$22,2,FALSE),\"\")","v":""}]
[" 01-07-07","01",null,"07",null,"07",null,null,null,{"$f":"IFERROR(VLOOKUP(I132,設定・基礎!$G$3:$H$22,2,FALSE),\"\")","v":""}]
[" 01-07-08","01",null,"07",null,"08",null,null,null,{"$f":"IFERROR(VLOOKUP(I133,設定・基礎!$G$3:$H$22,2,FALSE),\"\")","v":""}]
[" 01-07-09","01",null,"07",null,"09",null,null,null,{"$f":"IFERROR(VLOOKUP(I134,設定・基礎!$G$3:$H$22,2,FALSE),\"\")","v":""}]
[" 01-07-10","01",null,"07",null,"10",null,null,null,{"$f":"IFERROR(VLOOKUP(I135,設定・基礎!$G$3:$H$22,2,FALSE),\"\")","v":""}]
[" 01-07-11","01",null,"07",null,"11",null,null,null,{"$f":"IFERROR(VLOOKUP(I136,設定・基礎!$G$3:$H$22,2,FALSE),\"\")","v":""}]
[" 01-07-12","01",null,"07",null,"12",null,null,null,{"$f":"IFERROR(VLOOKUP(I137,設定・基礎!$G$3:$H$22,2,FALSE),\"\")","v":""}]
[" 01-07-13","01",null,"07",null,"13",null,null,null,{"$f":"IFERROR(VLOOKUP(I138,設定・基礎!$G$3:$H$22,2,FALSE),\"\")","v":""}]
[" 01-07-14","01",null,"07",null,"14",null,null,null,{"$f":"IFERROR(VLOOKUP(I139,設定・基礎!$G$3:$H$22,2,FALSE),\"\")","v":""}]
[" 01-07-15","01",null,"07",null,"15",null,null,null,{"$f":"IFERROR(VLOOKUP(I140,設定・基礎!$G$3:$H$22,2,FALSE),\"\")","v":""}]
[" 01-07-16","01",null,"07",null,"16",null,null,null,{"$f":"IFERROR(VLOOKUP(I141,設定・基礎!$G$3:$H$22,2,FALSE),\"\")","v":""}]
[" 01-07-17","01",null,"07",null,"17",null,null,null,{"$f":"IFERROR(VLOOKUP(I142,設定・基礎!$G$3:$H$22,2,FALSE),\"\")","v":""}]
[" 01-07-18","01",null,"07",null,"18",null,null,null,{"$f":"IFERROR(VLOOKUP(I143,設定・基礎!$G$3:$H$22,2,FALSE),\"\")","v":""}]
[" 01-07-19","01",null,"07",null,"19",null,null,null,{"$f":"IFERROR(VLOOKUP(I144,設定・基礎!$G$3:$H$22,2,FALSE),\"\")","v":""}]
[" 01-07-20","01",null,"07",null,"20",null,null,null,{"$f":"IFERROR(VLOOKUP(I145,設定・基礎!$G$3:$H$22,2,FALSE),\"\")","v":""}]
[" 01-08-01","01",null,"08",null,"01",null,null,null,{"$f":"IFERROR(VLOOKUP(I146,設定・基礎!$G$3:$H$22,2,FALSE),\"\")","v":""}]
[" 01-08-02","01",null,"08",null,"02",null,null,null,{"$f":"IFERROR(VLOOKUP(I147,設定・基礎!$G$3:$H$22,2,FALSE),\"\")","v":""}]
[" 01-08-03","01",null,"08",null,"03",null,null,null,{"$f":"IFERROR(VLOOKUP(I148,設定・基礎!$G$3:$H$22,2,FALSE),\"\")","v":""}]
[" 01-08-04","01",null,"08",null,"04",null,null,null,{"$f":"IFERROR(VLOOKUP(I149,設定・基礎!$G$3:$H$22,2,FALSE),\"\")","v":""}]
[" 01-08-05","01",null,"08",null,"05",null,null,null,{"$f":"IFERROR(VLOOKUP(I150,設定・基礎!$G$3:$H$22,2,FALSE),\"\")","v":""}]
[" 01-08-06","01",null,"08",null,"06",null,null,null,{"$f":"IFERROR(VLOOKUP(I151,設定・基礎!$G$3:$H$22,2,FALSE),\"\")","v":""}]
[" 01-08-07","01",null,"08",null,"07",null,null,null,{"$f":"IFERROR(VLOOKUP(I152,設定・基礎!$G$3:$H$22,2,FALSE),\"\")","v":""}]
[" 01-08-08","01",null,"08",null,"08",null,null,null,{"$f":"IFERROR(VLOOKUP(I153,設定・基礎!$G$3:$H$22,2,FALSE),\"\")","v":""}]
[" 01-08-09","01",null,"08",null,"09",null,null,null,{"$f":"IFERROR(VLOOKUP(I154,設定・基礎!$G$3:$H$22,2,FALSE),\"\")","v":""}]
[" 01-08-10","01",null,"08",null,"10",null,null,null,{"$f":"IFERROR(VLOOKUP(I155,設定・基礎!$G$3:$H$22,2,FALSE),\"\")","v":""}]
[" 01-08-11","01",null,"08",null,"11",null,null,null,{"$f":"IFERROR(VLOOKUP(I156,設定・基礎!$G$3:$H$22,2,FALSE),\"\")","v":""}]
[" 01-08-12","01",null,"08",null,"12",null,null,null,{"$f":"IFERROR(VLOOKUP(I157,設定・基礎!$G$3:$H$22,2,FALSE),\"\")","v":""}]
[" 01-08-13","01",null,"08",null,"13",null,null,null,{"$f":"IFERROR(VLOOKUP(I158,設定・基礎!$G$3:$H$22,2,FALSE),\"\")","v":""}]
[" 01-08-14","01",null,"08",null,"14",null,null,null,{"$f":"IFERROR(VLOOKUP(I159,設定・基礎!$G$3:$H$22,2,FALSE),\"\")","v":""}]
[" 01-08-15","01",null,"08",null,"15",null,null,null,{"$f":"IFERROR(VLOOKUP(I160,設定・基礎!$G$3:$H$22,2,FALSE),\"\")","v":""}]
[" 01-08-16","01",null,"08",null,"16",null,null,null,{"$f":"IFERROR(VLOOKUP(I161,設定・基礎!$G$3:$H$22,2,FALSE),\"\")","v":""}]
[" 01-08-17","01",null,"08",null,"17",null,null,null,{"$f":"IFERROR(VLOOKUP(I162,設定・基礎!$G$3:$H$22,2,FALSE),\"\")","v":""}]
[" 01-08-18","01",null,"08",null,"18",null,null,null,{"$f":"IFERROR(VLOOKUP(I163,設定・基礎!$G$3:$H$22,2,FALSE),\"\")","v":""}]
[" 01-08-19","01",null,"08",null,"19",null,null,null,{"$f":"IFERROR(VLOOKUP(I164,設定・基礎!$G$3:$H$22,2,FALSE),\"\")","v":""}]
[" 01-08-20","01",null,"08",null,"20",null,null,null,{"$f":"IFERROR(VLOOKUP(I165,設定・基礎!$G$3:$H$22,2,FALSE),\"\")","v":""}]
[" 01-09-01","01",null,"09",null,"01",null,null,null,{"$f":"IFERROR(VLOOKUP(I166,設定・基礎!$G$3:$H$22,2,FALSE),\"\")","v":""}]
[" 01-09-02","01",null,"09",null,"02",null,null,null,{"$f":"IFERROR(VLOOKUP(I167,設定・基礎!$G$3:$H$22,2,FALSE),\"\")","v":""}]
[" 01-09-03","01",null,"09",null,"03",null,null,null,{"$f":"IFERROR(VLOOKUP(I168,設定・基礎!$G$3:$H$22,2,FALSE),\"\")","v":""}]
[" 01-09-04","01",null,"09",null,"04",null,null,null,{"$f":"IFERROR(VLOOKUP(I169,設定・基礎!$G$3:$H$22,2,FALSE),\"\")","v":""}]
[" 01-09-05","01",null,"09",null,"05",null,null,null,{"$f":"IFERROR(VLOOKUP(I170,設定・基礎!$G$3:$H$22,2,FALSE),\"\")","v":""}]
[" 01-09-06","01",null,"09",null,"06",null,null,null,{"$f":"IFERROR(VLOOKUP(I171,設定・基礎!$G$3:$H$22,2,FALSE),\"\")","v":""}]
[" 01-09-07","01",null,"09",null,"07",null,null,null,{"$f":"IFERROR(VLOOKUP(I172,設定・基礎!$G$3:$H$22,2,FALSE),\"\")","v":""}]
[" 01-09-08","01",null,"09",null,"08",null,null,null,{"$f":"IFERROR(VLOOKUP(I173,設定・基礎!$G$3:$H$22,2,FALSE),\"\")","v":""}]
[" 01-09-09","01",null,"09",null,"09",null,null,null,{"$f":"IFERROR(VLOOKUP(I174,設定・基礎!$G$3:$H$22,2,FALSE),\"\")","v":""}]
[" 01-09-10","01",null,"09",null,"10",null,null,null,{"$f":"IFERROR(VLOOKUP(I175,設定・基礎!$G$3:$H$22,2,FALSE),\"\")","v":""}]
[" 01-09-11","01",null,"09",null,"11",null,null,null,{"$f":"IFERROR(VLOOKUP(I176,設定・基礎!$G$3:$H$22,2,FALSE),\"\")","v":""}]
[" 01-09-12","01",null,"09",null,"12",null,null,null,{"$f":"IFERROR(VLOOKUP(I177,設定・基礎!$G$3:$H$22,2,FALSE),\"\")","v":""}]
[" 01-09-13","01",null,"09",null,"13",null,null,null,{"$f":"IFERROR(VLOOKUP(I178,設定・基礎!$G$3:$H$22,2,FALSE),\"\")","v":""}]
[" 01-09-14","01",null,"09",null,"14",null,null,null,{"$f":"IFERROR(VLOOKUP(I179,設定・基礎!$G$3:$H$22,2,FALSE),\"\")","v":""}]
[" 01-09-15","01",null,"09",null,"15",null,null,null,{"$f":"IFERROR(VLOOKUP(I180,設定・基礎!$G$3:$H$22,2,FALSE),\"\")","v":""}]
[" 01-09-16","01",null,"09",null,"16",null,null,null,{"$f":"IFERROR(VLOOKUP(I181,設定・基礎!$G$3:$H$22,2,FALSE),\"\")","v":""}]
[" 01-09-17","01",null,"09",null,"17",null,null,null,{"$f":"IFERROR(VLOOKUP(I182,設定・基礎!$G$3:$H$22,2,FALSE),\"\")","v":""}]
[" 01-09-18","01",null,"09",null,"18",null,null,null,{"$f":"IFERROR(VLOOKUP(I183,設定・基礎!$G$3:$H$22,2,FALSE),\"\")","v":""}]
[" 01-09-19","01",null,"09",null,"19",null,null,null,{"$f":"IFERROR(VLOOKUP(I184,設定・基礎!$G$3:$H$22,2,FALSE),\"\")","v":""}]
[" 01-09-20","01",null,"09",null,"20",null,null,null,{"$f":"IFERROR(VLOOKUP(I185,設定・基礎!$G$3:$H$22,2,FALSE),\"\")","v":""}]
[" 01-10-01","01",null,"10",null,"01",null,null,null,{"$f":"IFERROR(VLOOKUP(I186,設定・基礎!$G$3:$H$22,2,FALSE),\"\")","v":""}]
[" 01-10-02","01",null,"10",null,"02",null,null,null,{"$f":"IFERROR(VLOOKUP(I187,設定・基礎!$G$3:$H$22,2,FALSE),\"\")","v":""}]
[" 01-10-03","01",null,"10",null,"03",null,null,null,{"$f":"IFERROR(VLOOKUP(I188,設定・基礎!$G$3:$H$22,2,FALSE),\"\")","v":""}]
[" 01-10-04","01",null,"10",null,"04",null,null,null,{"$f":"IFERROR(VLOOKUP(I189,設定・基礎!$G$3:$H$22,2,FALSE),\"\")","v":""}]
[" 01-10-05","01",null,"10",null,"05",null,null,null,{"$f":"IFERROR(VLOOKUP(I190,設定・基礎!$G$3:$H$22,2,FALSE),\"\")","v":""}]
[" 01-10-06","01",null,"10",null,"06",null,null,null,{"$f":"IFERROR(VLOOKUP(I191,設定・基礎!$G$3:$H$22,2,FALSE),\"\")","v":""}]
[" 01-10-07","01",null,"10",null,"07",null,null,null,{"$f":"IFERROR(VLOOKUP(I192,設定・基礎!$G$3:$H$22,2,FALSE),\"\")","v":""}]
[" 01-10-08","01",null,"10",null,"08",null,null,null,{"$f":"IFERROR(VLOOKUP(I193,設定・基礎!$G$3:$H$22,2,FALSE),\"\")","v":""}]
[" 01-10-09","01",null,"10",null,"09",null,null,null,{"$f":"IFERROR(VLOOKUP(I194,設定・基礎!$G$3:$H$22,2,FALSE),\"\")","v":""}]
[" 01-10-10","01",null,"10",null,"10",null,null,null,{"$f":"IFERROR(VLOOKUP(I195,設定・基礎!$G$3:$H$22,2,FALSE),\"\")","v":""}]
[" 01-10-11","01",null,"10",null,"11",null,null,null,{"$f":"IFERROR(VLOOKUP(I196,設定・基礎!$G$3:$H$22,2,FALSE),\"\")","v":""}]
[" 01-10-12","01",null,"10",null,"12",null,null,null,{"$f":"IFERROR(VLOOKUP(I197,設定・基礎!$G$3:$H$22,2,FALSE),\"\")","v":""}]
[" 01-10-13","01",null,"10",null,"13",null,null,null,{"$f":"IFERROR(VLOOKUP(I198,設定・基礎!$G$3:$H$22,2,FALSE),\"\")","v":""}]
[" 01-10-14","01",null,"10",null,"14",null,null,null,{"$f":"IFERROR(VLOOKUP(I199,設定・基礎!$G$3:$H$22,2,FALSE),\"\")","v":""}]
[" 01-10-15","01",null,"10",null,"15",null,null,null,{"$f":"IFERROR(VLOOKUP(I200,設定・基礎!$G$3:$H$22,2,FALSE),\"\")","v":""}]
[" 01-10-16","01",null,"10",null,"16",null,null,null,{"$f":"IFERROR(VLOOKUP(I201,設定・基礎!$G$3:$H$22,2,FALSE),\"\")","v":""}]
[" 01-10-17","01",null,"10",null,"17",null,null,null,{"$f":"IFERROR(VLOOKUP(I202,設定・基礎!$G$3:$H$22,2,FALSE),\"\")","v":""}]
[" 01-10-18","01",null,"10",null,"18",null,null,null,{"$f":"IFERROR(VLOOKUP(I203,設定・基礎!$G$3:$H$22,2,FALSE),\"\")","v":""}]
[" 01-10-19","01",null,"10",null,"19",null,null,null,{"$f":"IFERROR(VLOOKUP(I204,設定・基礎!$G$3:$H$22,2,FALSE),\"\")","v":""}]
[" 01-10-20","01",null,"10",null,"20",null,null,null,{"$f":"IFERROR(VLOOKUP(I205,設定・基礎!$G$3:$H$22,2,FALSE),\"\")","v":""}]
[" 01-11-01","01",null,"11",null,"01",null,null,null,{"$f":"IFERROR(VLOOKUP(I206,設定・基礎!$G$3:$H$22,2,FALSE),\"\")","v":""}]
[" 01-11-02","01",null,"11",null,"02",null,null,null,{"$f":"IFERROR(VLOOKUP(I207,設定・基礎!$G$3:$H$22,2,FALSE),\"\")","v":""}]
[" 01-11-03","01",null,"11",null,"03",null,null,null,{"$f":"IFERROR(VLOOKUP(I208,設定・基礎!$G$3:$H$22,2,FALSE),\"\")","v":""}]
[" 01-11-04","01",null,"11",null,"04",null,null,null,{"$f":"IFERROR(VLOOKUP(I209,設定・基礎!$G$3:$H$22,2,FALSE),\"\")","v":""}]
[" 01-11-05","01",null,"11",null,"05",null,null,null,{"$f":"IFERROR(VLOOKUP(I210,設定・基礎!$G$3:$H$22,2,FALSE),\"\")","v":""}]
[" 01-11-06","01",null,"11",null,"06",null,null,null,{"$f":"IFERROR(VLOOKUP(I211,設定・基礎!$G$3:$H$22,2,FALSE),\"\")","v":""}]
[" 01-11-07","01",null,"11",null,"07",null,null,null,{"$f":"IFERROR(VLOOKUP(I212,設定・基礎!$G$3:$H$22,2,FALSE),\"\")","v":""}]
[" 01-11-08","01",null,"11",null,"08",null,null,null,{"$f":"IFERROR(VLOOKUP(I213,設定・基礎!$G$3:$H$22,2,FALSE),\"\")","v":""}]
[" 01-11-09","01",null,"11",null,"09",null,null,null,{"$f":"IFERROR(VLOOKUP(I214,設定・基礎!$G$3:$H$22,2,FALSE),\"\")","v":""}]
[" 01-11-10","01",null,"11",null,"10",null,null,null,{"$f":"IFERROR(VLOOKUP(I215,設定・基礎!$G$3:$H$22,2,FALSE),\"\")","v":""}]
[" 01-11-11","01",null,"11",null,"11",null,null,null,{"$f":"IFERROR(VLOOKUP(I216,設定・基礎!$G$3:$H$22,2,FALSE),\"\")","v":""}]
[" 01-11-12","01",null,"11",null,"12",null,null,null,{"$f":"IFERROR(VLOOKUP(I217,設定・基礎!$G$3:$H$22,2,FALSE),\"\")","v":""}]
[" 01-11-13","01",null,"11",null,"13",null,null,null,{"$f":"IFERROR(VLOOKUP(I218,設定・基礎!$G$3:$H$22,2,FALSE),\"\")","v":""}]
[" 01-11-14","01",null,"11",null,"14",null,null,null,{"$f":"IFERROR(VLOOKUP(I219,設定・基礎!$G$3:$H$22,2,FALSE),\"\")","v":""}]
[" 01-11-15","01",null,"11",null,"15",null,null,null,{"$f":"IFERROR(VLOOKUP(I220,設定・基礎!$G$3:$H$22,2,FALSE),\"\")","v":""}]
[" 01-11-16","01",null,"11",null,"16",null,null,null,{"$f":"IFERROR(VLOOKUP(I221,設定・基礎!$G$3:$H$22,2,FALSE),\"\")","v":""}]
[" 01-11-17","01",null,"11",null,"17",null,null,null,{"$f":"IFERROR(VLOOKUP(I222,設定・基礎!$G$3:$H$22,2,FALSE),\"\")","v":""}]
[" 01-11-18","01",null,"11",null,"18",null,null,null,{"$f":"IFERROR(VLOOKUP(I223,設定・基礎!$G$3:$H$22,2,FALSE),\"\")","v":""}]
[" 01-11-19","01",null,"11",null,"19",null,null,null,{"$f":"IFERROR(VLOOKUP(I224,設定・基礎!$G$3:$H$22,2,FALSE),\"\")","v":""}]
[" 01-11-20","01",null,"11",null,"20",null,null,null,{"$f":"IFERROR(VLOOKUP(I225,設定・基礎!$G$3:$H$22,2,FALSE),\"\")","v":""}]
[" 01-12-01","01",null,"12",null,"01",null,null,null,{"$f":"IFERROR(VLOOKUP(I226,設定・基礎!$G$3:$H$22,2,FALSE),\"\")","v":""}]
[" 01-12-02","01",null,"12",null,"02",null,null,null,{"$f":"IFERROR(VLOOKUP(I227,設定・基礎!$G$3:$H$22,2,FALSE),\"\")","v":""}]
[" 01-12-03","01",null,"12",null,"03",null,null,null,{"$f":"IFERROR(VLOOKUP(I228,設定・基礎!$G$3:$H$22,2,FALSE),\"\")","v":""}]
[" 01-12-04","01",null,"12",null,"04",null,null,null,{"$f":"IFERROR(VLOOKUP(I229,設定・基礎!$G$3:$H$22,2,FALSE),\"\")","v":""}]
[" 01-12-05","01",null,"12",null,"05",null,null,null,{"$f":"IFERROR(VLOOKUP(I230,設定・基礎!$G$3:$H$22,2,FALSE),\"\")","v":""}]
[" 01-12-06","01",null,"12",null,"06",null,null,null,{"$f":"IFERROR(VLOOKUP(I231,設定・基礎!$G$3:$H$22,2,FALSE),\"\")","v":""}]
[" 01-12-07","01",null,"12",null,"07",null,null,null,{"$f":"IFERROR(VLOOKUP(I232,設定・基礎!$G$3:$H$22,2,FALSE),\"\")","v":""}]
[" 01-12-08","01",null,"12",null,"08",null,null,null,{"$f":"IFERROR(VLOOKUP(I233,設定・基礎!$G$3:$H$22,2,FALSE),\"\")","v":""}]
[" 01-12-09","01",null,"12",null,"09",null,null,null,{"$f":"IFERROR(VLOOKUP(I234,設定・基礎!$G$3:$H$22,2,FALSE),\"\")","v":""}]
[" 01-12-10","01",null,"12",null,"10",null,null,null,{"$f":"IFERROR(VLOOKUP(I235,設定・基礎!$G$3:$H$22,2,FALSE),\"\")","v":""}]
[" 01-12-11","01",null,"12",null,"11",null,null,null,{"$f":"IFERROR(VLOOKUP(I236,設定・基礎!$G$3:$H$22,2,FALSE),\"\")","v":""}]
[" 01-12-12","01",null,"12",null,"12",null,null,null,{"$f":"IFERROR(VLOOKUP(I237,設定・基礎!$G$3:$H$22,2,FALSE),\"\")","v":""}]
[" 01-12-13","01",null,"12",null,"13",null,null,null,{"$f":"IFERROR(VLOOKUP(I238,設定・基礎!$G$3:$H$22,2,FALSE),\"\")","v":""}]
[" 01-12-14","01",null,"12",null,"14",null,null,null,{"$f":"IFERROR(VLOOKUP(I239,設定・基礎!$G$3:$H$22,2,FALSE),\"\")","v":""}]
[" 01-12-15","01",null,"12",null,"15",null,null,null,{"$f":"IFERROR(VLOOKUP(I240,設定・基礎!$G$3:$H$22,2,FALSE),\"\")","v":""}]
[" 01-12-16","01",null,"12",null,"16",null,null,null,{"$f":"IFERROR(VLOOKUP(I241,設定・基礎!$G$3:$H$22,2,FALSE),\"\")","v":""}]
[" 01-12-17","01",null,"12",null,"17",null,null,null,{"$f":"IFERROR(VLOOKUP(I242,設定・基礎!$G$3:$H$22,2,FALSE),\"\")","v":""}]
[" 01-12-18","01",null,"12",null,"18",null,null,null,{"$f":"IFERROR(VLOOKUP(I243,設定・基礎!$G$3:$H$22,2,FALSE),\"\")","v":""}]
[" 01-12-19","01",null,"12",null,"19",null,null,null,{"$f":"IFERROR(VLOOKUP(I244,設定・基礎!$G$3:$H$22,2,FALSE),\"\")","v":""}]
[" 01-12-20","01",null,"12",null,"20",null,null,null,{"$f":"IFERROR(VLOOKUP(I245,設定・基礎!$G$3:$H$22,2,FALSE),\"\")","v":""}]
[" 01-13-01","01",null,"13",null,"01",null,null,null,{"$f":"IFERROR(VLOOKUP(I246,設定・基礎!$G$3:$H$22,2,FALSE),\"\")","v":""}]
[" 01-13-02","01",null,"13",null,"02",null,null,null,{"$f":"IFERROR(VLOOKUP(I247,設定・基礎!$G$3:$H$22,2,FALSE),\"\")","v":""}]
[" 01-13-03","01",null,"13",null,"03",null,null,null,{"$f":"IFERROR(VLOOKUP(I248,設定・基礎!$G$3:$H$22,2,FALSE),\"\")","v":""}]
[" 01-13-04","01",null,"13",null,"04",null,null,null,{"$f":"IFERROR(VLOOKUP(I249,設定・基礎!$G$3:$H$22,2,FALSE),\"\")","v":""}]
[" 01-13-05","01",null,"13",null,"05",null,null,null,{"$f":"IFERROR(VLOOKUP(I250,設定・基礎!$G$3:$H$22,2,FALSE),\"\")","v":""}]
[" 01-13-06","01",null,"13",null,"06",null,null,null,{"$f":"IFERROR(VLOOKUP(I251,設定・基礎!$G$3:$H$22,2,FALSE),\"\")","v":""}]
[" 01-13-07","01",null,"13",null,"07",null,null,null,{"$f":"IFERROR(VLOOKUP(I252,設定・基礎!$G$3:$H$22,2,FALSE),\"\")","v":""}]
[" 01-13-08","01",null,"13",null,"08",null,null,null,{"$f":"IFERROR(VLOOKUP(I253,設定・基礎!$G$3:$H$22,2,FALSE),\"\")","v":""}]
[" 01-13-09","01",null,"13",null,"09",null,null,null,{"$f":"IFERROR(VLOOKUP(I254,設定・基礎!$G$3:$H$22,2,FALSE),\"\")","v":""}]
[" 01-13-10","01",null,"13",null,"10",null,null,null,{"$f":"IFERROR(VLOOKUP(I255,設定・基礎!$G$3:$H$22,2,FALSE),\"\")","v":""}]
[" 01-13-11","01",null,"13",null,"11",null,null,null,{"$f":"IFERROR(VLOOKUP(I256,設定・基礎!$G$3:$H$22,2,FALSE),\"\")","v":""}]
[" 01-13-12","01",null,"13",null,"12",null,null,null,{"$f":"IFERROR(VLOOKUP(I257,設定・基礎!$G$3:$H$22,2,FALSE),\"\")","v":""}]
[" 01-13-13","01",null,"13",null,"13",null,null,null,{"$f":"IFERROR(VLOOKUP(I258,設定・基礎!$G$3:$H$22,2,FALSE),\"\")","v":""}]
[" 01-13-14","01",null,"13",null,"14",null,null,null,{"$f":"IFERROR(VLOOKUP(I259,設定・基礎!$G$3:$H$22,2,FALSE),\"\")","v":""}]
[" 01-13-15","01",null,"13",null,"15",null,null,null,{"$f":"IFERROR(VLOOKUP(I260,設定・基礎!$G$3:$H$22,2,FALSE),\"\")","v":""}]
[" 01-13-16","01",null,"13",null,"16",null,null,null,{"$f":"IFERROR(VLOOKUP(I261,設定・基礎!$G$3:$H$22,2,FALSE),\"\")","v":""}]
[" 01-13-17","01",null,"13",null,"17",null,null,null,{"$f":"IFERROR(VLOOKUP(I262,設定・基礎!$G$3:$H$22,2,FALSE),\"\")","v":""}]
[" 01-13-18","01",null,"13",null,"18",null,null,null,{"$f":"IFERROR(VLOOKUP(I263,設定・基礎!$G$3:$H$22,2,FALSE),\"\")","v":""}]
[" 01-13-19","01",null,"13",null,"19",null,null,null,{"$f":"IFERROR(VLOOKUP(I264,設定・基礎!$G$3:$H$22,2,FALSE),\"\")","v":""}]
[" 01-13-20","01",null,"13",null,"20",null,null,null,{"$f":"IFERROR(VLOOKUP(I265,設定・基礎!$G$3:$H$22,2,FALSE),\"\")","v":""}]
[" 01-14-01","01",null,"14",null,"01",null,null,null,{"$f":"IFERROR(VLOOKUP(I266,設定・基礎!$G$3:$H$22,2,FALSE),\"\")","v":""}]
[" 01-14-02","01",null,"14",null,"02",null,null,null,{"$f":"IFERROR(VLOOKUP(I267,設定・基礎!$G$3:$H$22,2,FALSE),\"\")","v":""}]
[" 01-14-03","01",null,"14",null,"03",null,null,null,{"$f":"IFERROR(VLOOKUP(I268,設定・基礎!$G$3:$H$22,2,FALSE),\"\")","v":""}]
[" 01-14-04","01",null,"14",null,"04",null,null,null,{"$f":"IFERROR(VLOOKUP(I269,設定・基礎!$G$3:$H$22,2,FALSE),\"\")","v":""}]
[" 01-14-05","01",null,"14",null,"05",null,null,null,{"$f":"IFERROR(VLOOKUP(I270,設定・基礎!$G$3:$H$22,2,FALSE),\"\")","v":""}]
[" 01-14-06","01",null,"14",null,"06",null,null,null,{"$f":"IFERROR(VLOOKUP(I271,設定・基礎!$G$3:$H$22,2,FALSE),\"\")","v":""}]
[" 01-14-07","01",null,"14",null,"07",null,null,null,{"$f":"IFERROR(VLOOKUP(I272,設定・基礎!$G$3:$H$22,2,FALSE),\"\")","v":""}]
[" 01-14-08","01",null,"14",null,"08",null,null,null,{"$f":"IFERROR(VLOOKUP(I273,設定・基礎!$G$3:$H$22,2,FALSE),\"\")","v":""}]
[" 01-14-09","01",null,"14",null,"09",null,null,null,{"$f":"IFERROR(VLOOKUP(I274,設定・基礎!$G$3:$H$22,2,FALSE),\"\")","v":""}]
[" 01-14-10","01",null,"14",null,"10",null,null,null,{"$f":"IFERROR(VLOOKUP(I275,設定・基礎!$G$3:$H$22,2,FALSE),\"\")","v":""}]
[" 01-14-11","01",null,"14",null,"11",null,null,null,{"$f":"IFERROR(VLOOKUP(I276,設定・基礎!$G$3:$H$22,2,FALSE),\"\")","v":""}]
[" 01-14-12","01",null,"14",null,"12",null,null,null,{"$f":"IFERROR(VLOOKUP(I277,設定・基礎!$G$3:$H$22,2,FALSE),\"\")","v":""}]
[" 01-14-13","01",null,"14",null,"13",null,null,null,{"$f":"IFERROR(VLOOKUP(I278,設定・基礎!$G$3:$H$22,2,FALSE),\"\")","v":""}]
[" 01-14-14","01",null,"14",null,"14",null,null,null,{"$f":"IFERROR(VLOOKUP(I279,設定・基礎!$G$3:$H$22,2,FALSE),\"\")","v":""}]
[" 01-14-15","01",null,"14",null,"15",null,null,null,{"$f":"IFERROR(VLOOKUP(I280,設定・基礎!$G$3:$H$22,2,FALSE),\"\")","v":""}]
[" 01-14-16","01",null,"14",null,"16",null,null,null,{"$f":"IFERROR(VLOOKUP(I281,設定・基礎!$G$3:$H$22,2,FALSE),\"\")","v":""}]
[" 01-14-17","01",null,"14",null,"17",null,null,null,{"$f":"IFERROR(VLOOKUP(I282,設定・基礎!$G$3:$H$22,2,FALSE),\"\")","v":""}]
[" 01-14-18","01",null,"14",null,"18",null,null,null,{"$f":"IFERROR(VLOOKUP(I283,設定・基礎!$G$3:$H$22,2,FALSE),\"\")","v":""}]
[" 01-14-19","01",null,"14",null,"19",null,null,null,{"$f":"IFERROR(VLOOKUP(I284,設定・基礎!$G$3:$H$22,2,FALSE),\"\")","v":""}]
[" 01-14-20","01",null,"14",null,"20",null,null,null,{"$f":"IFERROR(VLOOKUP(I285,設定・基礎!$G$3:$H$22,2,FALSE),\"\")","v":""}]
[" 01-15-01","01",null,"15",null,"01",null,null,null,{"$f":"IFERROR(VLOOKUP(I286,設定・基礎!$G$3:$H$22,2,FALSE),\"\")","v":""}]
[" 01-15-02","01",null,"15",null,"02",null,null,null,{"$f":"IFERROR(VLOOKUP(I287,設定・基礎!$G$3:$H$22,2,FALSE),\"\")","v":""}]
[" 01-15-03","01",null,"15",null,"03",null,null,null,{"$f":"IFERROR(VLOOKUP(I288,設定・基礎!$G$3:$H$22,2,FALSE),\"\")","v":""}]
[" 01-15-04","01",null,"15",null,"04",null,null,null,{"$f":"IFERROR(VLOOKUP(I289,設定・基礎!$G$3:$H$22,2,FALSE),\"\")","v":""}]
[" 01-15-05","01",null,"15",null,"05",null,null,null,{"$f":"IFERROR(VLOOKUP(I290,設定・基礎!$G$3:$H$22,2,FALSE),\"\")","v":""}]
[" 01-15-06","01",null,"15",null,"06",null,null,null,{"$f":"IFERROR(VLOOKUP(I291,設定・基礎!$G$3:$H$22,2,FALSE),\"\")","v":""}]
[" 01-15-07","01",null,"15",null,"07",null,null,null,{"$f":"IFERROR(VLOOKUP(I292,設定・基礎!$G$3:$H$22,2,FALSE),\"\")","v":""}]
[" 01-15-08","01",null,"15",null,"08",null,null,null,{"$f":"IFERROR(VLOOKUP(I293,設定・基礎!$G$3:$H$22,2,FALSE),\"\")","v":""}]
[" 01-15-09","01",null,"15",null,"09",null,null,null,{"$f":"IFERROR(VLOOKUP(I294,設定・基礎!$G$3:$H$22,2,FALSE),\"\")","v":""}]
[" 01-15-10","01",null,"15",null,"10",null,null,null,{"$f":"IFERROR(VLOOKUP(I295,設定・基礎!$G$3:$H$22,2,FALSE),\"\")","v":""}]
[" 01-15-11","01",null,"15",null,"11",null,null,null,{"$f":"IFERROR(VLOOKUP(I296,設定・基礎!$G$3:$H$22,2,FALSE),\"\")","v":""}]
[" 01-15-12","01",null,"15",null,"12",null,null,null,{"$f":"IFERROR(VLOOKUP(I297,設定・基礎!$G$3:$H$22,2,FALSE),\"\")","v":""}]
[" 01-15-13","01",null,"15",null,"13",null,null,null,{"$f":"IFERROR(VLOOKUP(I298,設定・基礎!$G$3:$H$22,2,FALSE),\"\")","v":""}]
[" 01-15-14","01",null,"15",null,"14",null,null,null,{"$f":"IFERROR(VLOOKUP(I299,設定・基礎!$G$3:$H$22,2,FALSE),\"\")","v":""}]
[" 01-15-15","01",null,"15",null,"15",null,null,null,{"$f":"IFERROR(VLOOKUP(I300,設定・基礎!$G$3:$H$22,2,FALSE),\"\")","v":""}]
[" 01-15-16","01",null,"15",null,"16",null,null,null,{"$f":"IFERROR(VLOOKUP(I301,設定・基礎!$G$3:$H$22,2,FALSE),\"\")","v":""}]
[" 01-15-17","01",null,"15",null,"17",null,null,null,{"$f":"IFERROR(VLOOKUP(I302,設定・基礎!$G$3:$H$22,2,FALSE),\"\")","v":""}]
[" 01-15-18","01",null,"15",null,"18",null,null,null,{"$f":"IFERROR(VLOOKUP(I303,設定・基礎!$G$3:$H$22,2,FALSE),\"\")","v":""}]
[" 01-15-19","01",null,"15",null,"19",null,null,null,{"$f":"IFERROR(VLOOKUP(I304,設定・基礎!$G$3:$H$22,2,FALSE),\"\")","v":""}]
[" 01-15-20","01",null,"15",null,"20",null,null,null,{"$f":"IFERROR(VLOOKUP(I305,設定・基礎!$G$3:$H$22,2,FALSE),\"\")","v":""}]
[" 01-16-01","01",null,"16",null,"01",null,null,null,{"$f":"IFERROR(VLOOKUP(I306,設定・基礎!$G$3:$H$22,2,FALSE),\"\")","v":""}]
[" 01-16-02","01",null,"16",null,"02",null,null,null,{"$f":"IFERROR(VLOOKUP(I307,設定・基礎!$G$3:$H$22,2,FALSE),\"\")","v":""}]
[" 01-16-03","01",null,"16",null,"03",null,null,null,{"$f":"IFERROR(VLOOKUP(I308,設定・基礎!$G$3:$H$22,2,FALSE),\"\")","v":""}]
[" 01-16-04","01",null,"16",null,"04",null,null,null,{"$f":"IFERROR(VLOOKUP(I309,設定・基礎!$G$3:$H$22,2,FALSE),\"\")","v":""}]
[" 01-16-05","01",null,"16",null,"05",null,null,null,{"$f":"IFERROR(VLOOKUP(I310,設定・基礎!$G$3:$H$22,2,FALSE),\"\")","v":""}]
[" 01-16-06","01",null,"16",null,"06",null,null,null,{"$f":"IFERROR(VLOOKUP(I311,設定・基礎!$G$3:$H$22,2,FALSE),\"\")","v":""}]
[" 01-16-07","01",null,"16",null,"07",null,null,null,{"$f":"IFERROR(VLOOKUP(I312,設定・基礎!$G$3:$H$22,2,FALSE),\"\")","v":""}]
[" 01-16-08","01",null,"16",null,"08",null,null,null,{"$f":"IFERROR(VLOOKUP(I313,設定・基礎!$G$3:$H$22,2,FALSE),\"\")","v":""}]
[" 01-16-09","01",null,"16",null,"09",null,null,null,{"$f":"IFERROR(VLOOKUP(I314,設定・基礎!$G$3:$H$22,2,FALSE),\"\")","v":""}]
[" 01-16-10","01",null,"16",null,"10",null,null,null,{"$f":"IFERROR(VLOOKUP(I315,設定・基礎!$G$3:$H$22,2,FALSE),\"\")","v":""}]
[" 01-16-11","01",null,"16",null,"11",null,null,null,{"$f":"IFERROR(VLOOKUP(I316,設定・基礎!$G$3:$H$22,2,FALSE),\"\")","v":""}]
[" 01-16-12","01",null,"16",null,"12",null,null,null,{"$f":"IFERROR(VLOOKUP(I317,設定・基礎!$G$3:$H$22,2,FALSE),\"\")","v":""}]
[" 01-16-13","01",null,"16",null,"13",null,null,null,{"$f":"IFERROR(VLOOKUP(I318,設定・基礎!$G$3:$H$22,2,FALSE),\"\")","v":""}]
[" 01-16-14","01",null,"16",null,"14",null,null,null,{"$f":"IFERROR(VLOOKUP(I319,設定・基礎!$G$3:$H$22,2,FALSE),\"\")","v":""}]
[" 01-16-15","01",null,"16",null,"15",null,null,null,{"$f":"IFERROR(VLOOKUP(I320,設定・基礎!$G$3:$H$22,2,FALSE),\"\")","v":""}]
[" 01-16-16","01",null,"16",null,"16",null,null,null,{"$f":"IFERROR(VLOOKUP(I321,設定・基礎!$G$3:$H$22,2,FALSE),\"\")","v":""}]
[" 01-16-17","01",null,"16",null,"17",null,null,null,{"$f":"IFERROR(VLOOKUP(I322,設定・基礎!$G$3:$H$22,2,FALSE),\"\")","v":""}]
[" 01-16-18","01",null,"16",null,"18",null,null,null,{"$f":"IFERROR(VLOOKUP(I323,設定・基礎!$G$3:$H$22,2,FALSE),\"\")","v":""}]
[" 01-16-19","01",null,"16",null,"19",null,null,null,{"$f":"IFERROR(VLOOKUP(I324,設定・基礎!$G$3:$H$22,2,FALSE),\"\")","v":""}]
[" 01-16-20","01",null,"16",null,"20",null,null,null,{"$f":"IFERROR(VLOOKUP(I325,設定・基礎!$G$3:$H$22,2,FALSE),\"\")","v":""}]
[" 01-17-01","01",null,"17",null,"01",null,null,null,{"$f":"IFERROR(VLOOKUP(I326,設定・基礎!$G$3:$H$22,2,FALSE),\"\")","v":""}]
[" 01-17-02","01",null,"17",null,"02",null,null,null,{"$f":"IFERROR(VLOOKUP(I327,設定・基礎!$G$3:$H$22,2,FALSE),\"\")","v":""}]
[" 01-17-03","01",null,"17",null,"03",null,null,null,{"$f":"IFERROR(VLOOKUP(I328,設定・基礎!$G$3:$H$22,2,FALSE),\"\")","v":""}]
[" 01-17-04","01",null,"17",null,"04",null,null,null,{"$f":"IFERROR(VLOOKUP(I329,設定・基礎!$G$3:$H$22,2,FALSE),\"\")","v":""}]
[" 01-17-05","01",null,"17",null,"05",null,null,null,{"$f":"IFERROR(VLOOKUP(I330,設定・基礎!$G$3:$H$22,2,FALSE),\"\")","v":""}]
[" 01-17-06","01",null,"17",null,"06",null,null,null,{"$f":"IFERROR(VLOOKUP(I331,設定・基礎!$G$3:$H$22,2,FALSE),\"\")","v":""}]
[" 01-17-07","01",null,"17",null,"07",null,null,null,{"$f":"IFERROR(VLOOKUP(I332,設定・基礎!$G$3:$H$22,2,FALSE),\"\")","v":""}]
[" 01-17-08","01",null,"17",null,"08",null,null,null,{"$f":"IFERROR(VLOOKUP(I333,設定・基礎!$G$3:$H$22,2,FALSE),\"\")","v":""}]
[" 01-17-09","01",null,"17",null,"09",null,null,null,{"$f":"IFERROR(VLOOKUP(I334,設定・基礎!$G$3:$H$22,2,FALSE),\"\")","v":""}]
[" 01-17-10","01",null,"17",null,"10",null,null,null,{"$f":"IFERROR(VLOOKUP(I335,設定・基礎!$G$3:$H$22,2,FALSE),\"\")","v":""}]
[" 01-17-11","01",null,"17",null,"11",null,null,null,{"$f":"IFERROR(VLOOKUP(I336,設定・基礎!$G$3:$H$22,2,FALSE),\"\")","v":""}]
[" 01-17-12","01",null,"17",null,"12",null,null,null,{"$f":"IFERROR(VLOOKUP(I337,設定・基礎!$G$3:$H$22,2,FALSE),\"\")","v":""}]
[" 01-17-13","01",null,"17",null,"13",null,null,null,{"$f":"IFERROR(VLOOKUP(I338,設定・基礎!$G$3:$H$22,2,FALSE),\"\")","v":""}]
[" 01-17-14","01",null,"17",null,"14",null,null,null,{"$f":"IFERROR(VLOOKUP(I339,設定・基礎!$G$3:$H$22,2,FALSE),\"\")","v":""}]
[" 01-17-15","01",null,"17",null,"15",null,null,null,{"$f":"IFERROR(VLOOKUP(I340,設定・基礎!$G$3:$H$22,2,FALSE),\"\")","v":""}]
[" 01-17-16","01",null,"17",null,"16",null,null,null,{"$f":"IFERROR(VLOOKUP(I341,設定・基礎!$G$3:$H$22,2,FALSE),\"\")","v":""}]
[" 01-17-17","01",null,"17",null,"17",null,null,null,{"$f":"IFERROR(VLOOKUP(I342,設定・基礎!$G$3:$H$22,2,FALSE),\"\")","v":""}]
[" 01-17-18","01",null,"17",null,"18",null,null,null,{"$f":"IFERROR(VLOOKUP(I343,設定・基礎!$G$3:$H$22,2,FALSE),\"\")","v":""}]
[" 01-17-19","01",null,"17",null,"19",null,null,null,{"$f":"IFERROR(VLOOKUP(I344,設定・基礎!$G$3:$H$22,2,FALSE),\"\")","v":""}]
[" 01-17-20","01",null,"17",null,"20",null,null,null,{"$f":"IFERROR(VLOOKUP(I345,設定・基礎!$G$3:$H$22,2,FALSE),\"\")","v":""}]
[" 01-18-01","01",null,"18",null,"01",null,null,null,{"$f":"IFERROR(VLOOKUP(I346,設定・基礎!$G$3:$H$22,2,FALSE),\"\")","v":""}]
[" 01-18-02","01",null,"18",null,"02",null,null,null,{"$f":"IFERROR(VLOOKUP(I347,設定・基礎!$G$3:$H$22,2,FALSE),\"\")","v":""}]
[" 01-18-03","01",null,"18",null,"03",null,null,null,{"$f":"IFERROR(VLOOKUP(I348,設定・基礎!$G$3:$H$22,2,FALSE),\"\")","v":""}]
[" 01-18-04","01",null,"18",null,"04",null,null,null,{"$f":"IFERROR(VLOOKUP(I349,設定・基礎!$G$3:$H$22,2,FALSE),\"\")","v":""}]
[" 01-18-05","01",null,"18",null,"05",null,null,null,{"$f":"IFERROR(VLOOKUP(I350,設定・基礎!$G$3:$H$22,2,FALSE),\"\")","v":""}]
[" 01-18-06","01",null,"18",null,"06",null,null,null,{"$f":"IFERROR(VLOOKUP(I351,設定・基礎!$G$3:$H$22,2,FALSE),\"\")","v":""}]
[" 01-18-07","01",null,"18",null,"07",null,null,null,{"$f":"IFERROR(VLOOKUP(I352,設定・基礎!$G$3:$H$22,2,FALSE),\"\")","v":""}]
[" 01-18-08","01",null,"18",null,"08",null,null,null,{"$f":"IFERROR(VLOOKUP(I353,設定・基礎!$G$3:$H$22,2,FALSE),\"\")","v":""}]
[" 01-18-09","01",null,"18",null,"09",null,null,null,{"$f":"IFERROR(VLOOKUP(I354,設定・基礎!$G$3:$H$22,2,FALSE),\"\")","v":""}]
[" 01-18-10","01",null,"18",null,"10",null,null,null,{"$f":"IFERROR(VLOOKUP(I355,設定・基礎!$G$3:$H$22,2,FALSE),\"\")","v":""}]
[" 01-18-11","01",null,"18",null,"11",null,null,null,{"$f":"IFERROR(VLOOKUP(I356,設定・基礎!$G$3:$H$22,2,FALSE),\"\")","v":""}]
[" 01-18-12","01",null,"18",null,"12",null,null,null,{"$f":"IFERROR(VLOOKUP(I357,設定・基礎!$G$3:$H$22,2,FALSE),\"\")","v":""}]
[" 01-18-13","01",null,"18",null,"13",null,null,null,{"$f":"IFERROR(VLOOKUP(I358,設定・基礎!$G$3:$H$22,2,FALSE),\"\")","v":""}]
[" 01-18-14","01",null,"18",null,"14",null,null,null,{"$f":"IFERROR(VLOOKUP(I359,設定・基礎!$G$3:$H$22,2,FALSE),\"\")","v":""}]
[" 01-18-15","01",null,"18",null,"15",null,null,null,{"$f":"IFERROR(VLOOKUP(I360,設定・基礎!$G$3:$H$22,2,FALSE),\"\")","v":""}]
[" 01-18-16","01",null,"18",null,"16",null,null,null,{"$f":"IFERROR(VLOOKUP(I361,設定・基礎!$G$3:$H$22,2,FALSE),\"\")","v":""}]
[" 01-18-17","01",null,"18",null,"17",null,null,null,{"$f":"IFERROR(VLOOKUP(I362,設定・基礎!$G$3:$H$22,2,FALSE),\"\")","v":""}]
[" 01-18-18","01",null,"18",null,"18",null,null,null,{"$f":"IFERROR(VLOOKUP(I363,設定・基礎!$G$3:$H$22,2,FALSE),\"\")","v":""}]
[" 01-18-19","01",null,"18",null,"19",null,null,null,{"$f":"IFERROR(VLOOKUP(I364,設定・基礎!$G$3:$H$22,2,FALSE),\"\")","v":""}]
[" 01-18-20","01",null,"18",null,"20",null,null,null,{"$f":"IFERROR(VLOOKUP(I365,設定・基礎!$G$3:$H$22,2,FALSE),\"\")","v":""}]
[" 01-19-01","01",null,"19",null,"01",null,null,null,{"$f":"IFERROR(VLOOKUP(I366,設定・基礎!$G$3:$H$22,2,FALSE),\"\")","v":""}]
[" 01-19-02","01",null,"19",null,"02",null,null,null,{"$f":"IFERROR(VLOOKUP(I367,設定・基礎!$G$3:$H$22,2,FALSE),\"\")","v":""}]
[" 01-19-03","01",null,"19",null,"03",null,null,null,{"$f":"IFERROR(VLOOKUP(I368,設定・基礎!$G$3:$H$22,2,FALSE),\"\")","v":""}]
[" 01-19-04","01",null,"19",null,"04",null,null,null,{"$f":"IFERROR(VLOOKUP(I369,設定・基礎!$G$3:$H$22,2,FALSE),\"\")","v":""}]
[" 01-19-05","01",null,"19",null,"05",null,null,null,{"$f":"IFERROR(VLOOKUP(I370,設定・基礎!$G$3:$H$22,2,FALSE),\"\")","v":""}]
[" 01-19-06","01",null,"19",null,"06",null,null,null,{"$f":"IFERROR(VLOOKUP(I371,設定・基礎!$G$3:$H$22,2,FALSE),\"\")","v":""}]
[" 01-19-07","01",null,"19",null,"07",null,null,null,{"$f":"IFERROR(VLOOKUP(I372,設定・基礎!$G$3:$H$22,2,FALSE),\"\")","v":""}]
[" 01-19-08","01",null,"19",null,"08",null,null,null,{"$f":"IFERROR(VLOOKUP(I373,設定・基礎!$G$3:$H$22,2,FALSE),\"\")","v":""}]
[" 01-19-09","01",null,"19",null,"09",null,null,null,{"$f":"IFERROR(VLOOKUP(I374,設定・基礎!$G$3:$H$22,2,FALSE),\"\")","v":""}]
[" 01-19-10","01",null,"19",null,"10",null,null,null,{"$f":"IFERROR(VLOOKUP(I375,設定・基礎!$G$3:$H$22,2,FALSE),\"\")","v":""}]
[" 01-19-11","01",null,"19",null,"11",null,null,null,{"$f":"IFERROR(VLOOKUP(I376,設定・基礎!$G$3:$H$22,2,FALSE),\"\")","v":""}]
[" 01-19-12","01",null,"19",null,"12",null,null,null,{"$f":"IFERROR(VLOOKUP(I377,設定・基礎!$G$3:$H$22,2,FALSE),\"\")","v":""}]
[" 01-19-13","01",null,"19",null,"13",null,null,null,{"$f":"IFERROR(VLOOKUP(I378,設定・基礎!$G$3:$H$22,2,FALSE),\"\")","v":""}]
[" 01-19-14","01",null,"19",null,"14",null,null,null,{"$f":"IFERROR(VLOOKUP(I379,設定・基礎!$G$3:$H$22,2,FALSE),\"\")","v":""}]
[" 01-19-15","01",null,"19",null,"15",null,null,null,{"$f":"IFERROR(VLOOKUP(I380,設定・基礎!$G$3:$H$22,2,FALSE),\"\")","v":""}]
[" 01-19-16","01",null,"19",null,"16",null,null,null,{"$f":"IFERROR(VLOOKUP(I381,設定・基礎!$G$3:$H$22,2,FALSE),\"\")","v":""}]
[" 01-19-17","01",null,"19",null,"17",null,null,null,{"$f":"IFERROR(VLOOKUP(I382,設定・基礎!$G$3:$H$22,2,FALSE),\"\")","v":""}]
[" 01-19-18","01",null,"19",null,"18",null,null,null,{"$f":"IFERROR(VLOOKUP(I383,設定・基礎!$G$3:$H$22,2,FALSE),\"\")","v":""}]
[" 01-19-19","01",null,"19",null,"19",null,null,null,{"$f":"IFERROR(VLOOKUP(I384,設定・基礎!$G$3:$H$22,2,FALSE),\"\")","v":""}]
[" 01-19-20","01",null,"19",null,"20",null,null,null,{"$f":"IFERROR(VLOOKUP(I385,設定・基礎!$G$3:$H$22,2,FALSE),\"\")","v":""}]
[" 01-20-01","01",null,"20",null,"01",null,null,null,{"$f":"IFERROR(VLOOKUP(I386,設定・基礎!$G$3:$H$22,2,FALSE),\"\")","v":""}]
[" 01-20-02","01",null,"20",null,"02",null,null,null,{"$f":"IFERROR(VLOOKUP(I387,設定・基礎!$G$3:$H$22,2,FALSE),\"\")","v":""}]
[" 01-20-03","01",null,"20",null,"03",null,null,null,{"$f":"IFERROR(VLOOKUP(I388,設定・基礎!$G$3:$H$22,2,FALSE),\"\")","v":""}]
[" 01-20-04","01",null,"20",null,"04",null,null,null,{"$f":"IFERROR(VLOOKUP(I389,設定・基礎!$G$3:$H$22,2,FALSE),\"\")","v":""}]
[" 01-20-05","01",null,"20",null,"05",null,null,null,{"$f":"IFERROR(VLOOKUP(I390,設定・基礎!$G$3:$H$22,2,FALSE),\"\")","v":""}]
[" 01-20-06","01",null,"20",null,"06",null,null,null,{"$f":"IFERROR(VLOOKUP(I391,設定・基礎!$G$3:$H$22,2,FALSE),\"\")","v":""}]
[" 01-20-07","01",null,"20",null,"07",null,null,null,{"$f":"IFERROR(VLOOKUP(I392,設定・基礎!$G$3:$H$22,2,FALSE),\"\")","v":""}]
[" 01-20-08","01",null,"20",null,"08",null,null,null,{"$f":"IFERROR(VLOOKUP(I393,設定・基礎!$G$3:$H$22,2,FALSE),\"\")","v":""}]
[" 01-20-09","01",null,"20",null,"09",null,null,null,{"$f":"IFERROR(VLOOKUP(I394,設定・基礎!$G$3:$H$22,2,FALSE),\"\")","v":""}]
[" 01-20-10","01",null,"20",null,"10",null,null,null,{"$f":"IFERROR(VLOOKUP(I395,設定・基礎!$G$3:$H$22,2,FALSE),\"\")","v":""}]
[" 01-20-11","01",null,"20",null,"11",null,null,null,{"$f":"IFERROR(VLOOKUP(I396,設定・基礎!$G$3:$H$22,2,FALSE),\"\")","v":""}]
[" 01-20-12","01",null,"20",null,"12",null,null,null,{"$f":"IFERROR(VLOOKUP(I397,設定・基礎!$G$3:$H$22,2,FALSE),\"\")","v":""}]
[" 01-20-13","01",null,"20",null,"13",null,null,null,{"$f":"IFERROR(VLOOKUP(I398,設定・基礎!$G$3:$H$22,2,FALSE),\"\")","v":""}]
[" 01-20-14","01",null,"20",null,"14",null,null,null,{"$f":"IFERROR(VLOOKUP(I399,設定・基礎!$G$3:$H$22,2,FALSE),\"\")","v":""}]
[" 01-20-15","01",null,"20",null,"15",null,null,null,{"$f":"IFERROR(VLOOKUP(I400,設定・基礎!$G$3:$H$22,2,FALSE),\"\")","v":""}]
[" 01-20-16","01",null,"20",null,"16",null,null,null,{"$f":"IFERROR(VLOOKUP(I401,設定・基礎!$G$3:$H$22,2,FALSE),\"\")","v":""}]
[" 01-20-17","01",null,"20",null,"17",null,null,null,{"$f":"IFERROR(VLOOKUP(I402,設定・基礎!$G$3:$H$22,2,FALSE),\"\")","v":""}]
[" 01-20-18","01",null,"20",null,"18",null,null,null,{"$f":"IFERROR(VLOOKUP(I403,設定・基礎!$G$3:$H$22,2,FALSE),\"\")","v":""}]
[" 01-20-19","01",null,"20",null,"19",null,null,null,{"$f":"IFERROR(VLOOKUP(I404,設定・基礎!$G$3:$H$22,2,FALSE),\"\")","v":""}]
[" 01-20-20","01",null,"20",null,"20",null,null,null,{"$f":"IFERROR(VLOOKUP(I405,設定・基礎!$G$3:$H$22,2,FALSE),\"\")","v":""}]
[" 02-01-01","02","庶務・備品","01","課内庶務","01","◆課内庶務◆","◆課内庶務◆","３年",{"$f":"IFERROR(VLOOKUP(I406,設定・基礎!$G$3:$H$22,2,FALSE),\"\")","v":"③"}]
[" 02-01-02","02",null,"01",null,"02","資料","資料","３年",{"$f":"IFERROR(VLOOKUP(I407,設定・基礎!$G$3:$H$22,2,FALSE),\"\")","v":"③"}]
[" 02-01-03","02",null,"01",null,"03","名刺","名刺","３年",{"$f":"IFERROR(VLOOKUP(I408,設定・基礎!$G$3:$H$22,2,FALSE),\"\")","v":"③"}]
[" 02-01-04","02",null,"01",null,"04","超勤","超勤","３年",{"$f":"IFERROR(VLOOKUP(I409,設定・基礎!$G$3:$H$22,2,FALSE),\"\")","v":"③"}]
[" 02-01-05","02",null,"01",null,"05","動静表","動静表","３年",{"$f":"IFERROR(VLOOKUP(I410,設定・基礎!$G$3:$H$22,2,FALSE),\"\")","v":"③"}]
[" 02-01-06","02",null,"01",null,"06","監査資料","監査資料","10年",{"$f":"IFERROR(VLOOKUP(I411,設定・基礎!$G$3:$H$22,2,FALSE),\"\")","v":"⑩"}]
[" 02-01-07","02",null,"01",null,"07","予算","予算","10年",{"$f":"IFERROR(VLOOKUP(I412,設定・基礎!$G$3:$H$22,2,FALSE),\"\")","v":"⑩"}]
[" 02-01-08","02",null,"01",null,"08","課内消耗品調査","課内消耗品調査","１年",{"$f":"IFERROR(VLOOKUP(I413,設定・基礎!$G$3:$H$22,2,FALSE),\"\")","v":"①"}]
[" 02-01-09","02",null,"01",null,"09","ゆずりは通信","ゆずりは通信","３年",{"$f":"IFERROR(VLOOKUP(I414,設定・基礎!$G$3:$H$22,2,FALSE),\"\")","v":"③"}]
[" 02-01-10","02",null,"01",null,"10","配車願","配車願","３年",{"$f":"IFERROR(VLOOKUP(I415,設定・基礎!$G$3:$H$22,2,FALSE),\"\")","v":"③"}]
[" 02-01-11","02",null,"01",null,"11",null,null,null,{"$f":"IFERROR(VLOOKUP(I416,設定・基礎!$G$3:$H$22,2,FALSE),\"\")","v":""}]
[" 02-01-12","02",null,"01",null,"12",null,null,null,{"$f":"IFERROR(VLOOKUP(I417,設定・基礎!$G$3:$H$22,2,FALSE),\"\")","v":""}]
[" 02-01-13","02",null,"01",null,"13",null,null,null,{"$f":"IFERROR(VLOOKUP(I418,設定・基礎!$G$3:$H$22,2,FALSE),\"\")","v":""}]
[" 02-01-14","02",null,"01",null,"14",null,null,null,{"$f":"IFERROR(VLOOKUP(I419,設定・基礎!$G$3:$H$22,2,FALSE),\"\")","v":""}]
[" 02-01-15","02",null,"01",null,"15",null,null,null,{"$f":"IFERROR(VLOOKUP(I420,設定・基礎!$G$3:$H$22,2,FALSE),\"\")","v":""}]
[" 02-01-16","02",null,"01",null,"16",null,null,null,{"$f":"IFERROR(VLOOKUP(I421,設定・基礎!$G$3:$H$22,2,FALSE),\"\")","v":""}]
[" 02-01-17","02",null,"01",null,"17",null,null,null,{"$f":"IFERROR(VLOOKUP(I422,設定・基礎!$G$3:$H$22,2,FALSE),\"\")","v":""}]
[" 02-01-18","02",null,"01",null,"18",null,null,null,{"$f":"IFERROR(VLOOKUP(I423,設定・基礎!$G$3:$H$22,2,FALSE),\"\")","v":""}]
[" 02-01-19","02",null,"01",null,"19",null,null,null,{"$f":"IFERROR(VLOOKUP(I424,設定・基礎!$G$3:$H$22,2,FALSE),\"\")","v":""}]
[" 02-01-20","02",null,"01",null,"20",null,null,null,{"$f":"IFERROR(VLOOKUP(I425,設定・基礎!$G$3:$H$22,2,FALSE),\"\")","v":""}]
[" 02-02-01","02",null,"02","設備備品","01","◆設備・備品◆","◆設備・備品◆","３年",{"$f":"IFERROR(VLOOKUP(I426,設定・基礎!$G$3:$H$22,2,FALSE),\"\")","v":"③"}]
[" 02-02-02","02",null,"02",null,"02","物品購入要求書","物品購入要求書","３年",{"$f":"IFERROR(VLOOKUP(I427,設定・基礎!$G$3:$H$22,2,FALSE),\"\")","v":"③"}]
[" 02-02-03","02",null,"02",null,"03",null,null,null,{"$f":"IFERROR(VLOOKUP(I428,設定・基礎!$G$3:$H$22,2,FALSE),\"\")","v":""}]
[" 02-02-04","02",null,"02",null,"04",null,null,null,{"$f":"IFERROR(VLOOKUP(I429,設定・基礎!$G$3:$H$22,2,FALSE),\"\")","v":""}]
[" 02-02-05","02",null,"02",null,"05",null,null,null,{"$f":"IFERROR(VLOOKUP(I430,設定・基礎!$G$3:$H$22,2,FALSE),\"\")","v":""}]
[" 02-02-06","02",null,"02",null,"06",null,null,null,{"$f":"IFERROR(VLOOKUP(I431,設定・基礎!$G$3:$H$22,2,FALSE),\"\")","v":""}]
[" 02-02-07","02",null,"02",null,"07",null,null,null,{"$f":"IFERROR(VLOOKUP(I432,設定・基礎!$G$3:$H$22,2,FALSE),\"\")","v":""}]
[" 02-02-08","02",null,"02",null,"08",null,null,null,{"$f":"IFERROR(VLOOKUP(I433,設定・基礎!$G$3:$H$22,2,FALSE),\"\")","v":""}]
[" 02-02-09","02",null,"02",null,"09",null,null,null,{"$f":"IFERROR(VLOOKUP(I434,設定・基礎!$G$3:$H$22,2,FALSE),\"\")","v":""}]
[" 02-02-10","02",null,"02",null,"10",null,null,null,{"$f":"IFERROR(VLOOKUP(I435,設定・基礎!$G$3:$H$22,2,FALSE),\"\")","v":""}]
[" 02-02-11","02",null,"02",null,"11",null,null,null,{"$f":"IFERROR(VLOOKUP(I436,設定・基礎!$G$3:$H$22,2,FALSE),\"\")","v":""}]
[" 02-02-12","02",null,"02",null,"12",null,null,null,{"$f":"IFERROR(VLOOKUP(I437,設定・基礎!$G$3:$H$22,2,FALSE),\"\")","v":""}]
[" 02-02-13","02",null,"02",null,"13",null,null,null,{"$f":"IFERROR(VLOOKUP(I438,設定・基礎!$G$3:$H$22,2,FALSE),\"\")","v":""}]
[" 02-02-14","02",null,"02",null,"14",null,null,null,{"$f":"IFERROR(VLOOKUP(I439,設定・基礎!$G$3:$H$22,2,FALSE),\"\")","v":""}]
[" 02-02-15","02",null,"02",null,"15",null,null,null,{"$f":"IFERROR(VLOOKUP(I440,設定・基礎!$G$3:$H$22,2,FALSE),\"\")","v":""}]
[" 02-02-16","02",null,"02",null,"16",null,null,null,{"$f":"IFERROR(VLOOKUP(I441,設定・基礎!$G$3:$H$22,2,FALSE),\"\")","v":""}]
[" 02-02-17","02",null,"02",null,"17",null,null,null,{"$f":"IFERROR(VLOOKUP(I442,設定・基礎!$G$3:$H$22,2,FALSE),\"\")","v":""}]
[" 02-02-18","02",null,"02",null,"18",null,null,null,{"$f":"IFERROR(VLOOKUP(I443,設定・基礎!$G$3:$H$22,2,FALSE),\"\")","v":""}]
[" 02-02-19","02",null,"02",null,"19",null,null,null,{"$f":"IFERROR(VLOOKUP(I444,設定・基礎!$G$3:$H$22,2,FALSE),\"\")","v":""}]
[" 02-02-20","02",null,"02",null,"20",null,null,null,{"$f":"IFERROR(VLOOKUP(I445,設定・基礎!$G$3:$H$22,2,FALSE),\"\")","v":""}]
[" 02-03-01","02",null,"03",null,"01",null,null,null,{"$f":"IFERROR(VLOOKUP(I446,設定・基礎!$G$3:$H$22,2,FALSE),\"\")","v":""}]
[" 02-03-02","02",null,"03",null,"02",null,null,null,{"$f":"IFERROR(VLOOKUP(I447,設定・基礎!$G$3:$H$22,2,FALSE),\"\")","v":""}]
[" 02-03-03","02",null,"03",null,"03",null,null,null,{"$f":"IFERROR(VLOOKUP(I448,設定・基礎!$G$3:$H$22,2,FALSE),\"\")","v":""}]
[" 02-03-04","02",null,"03",null,"04",null,null,null,{"$f":"IFERROR(VLOOKUP(I449,設定・基礎!$G$3:$H$22,2,FALSE),\"\")","v":""}]
[" 02-03-05","02",null,"03",null,"05",null,null,null,{"$f":"IFERROR(VLOOKUP(I450,設定・基礎!$G$3:$H$22,2,FALSE),\"\")","v":""}]
[" 02-03-06","02",null,"03",null,"06",null,null,null,{"$f":"IFERROR(VLOOKUP(I451,設定・基礎!$G$3:$H$22,2,FALSE),\"\")","v":""}]
[" 02-03-07","02",null,"03",null,"07",null,null,null,{"$f":"IFERROR(VLOOKUP(I452,設定・基礎!$G$3:$H$22,2,FALSE),\"\")","v":""}]
[" 02-03-08","02",null,"03",null,"08",null,null,null,{"$f":"IFERROR(VLOOKUP(I453,設定・基礎!$G$3:$H$22,2,FALSE),\"\")","v":""}]
[" 02-03-09","02",null,"03",null,"09",null,null,null,{"$f":"IFERROR(VLOOKUP(I454,設定・基礎!$G$3:$H$22,2,FALSE),\"\")","v":""}]
[" 02-03-10","02",null,"03",null,"10",null,null,null,{"$f":"IFERROR(VLOOKUP(I455,設定・基礎!$G$3:$H$22,2,FALSE),\"\")","v":""}]
[" 02-03-11","02",null,"03",null,"11",null,null,null,{"$f":"IFERROR(VLOOKUP(I456,設定・基礎!$G$3:$H$22,2,FALSE),\"\")","v":""}]
[" 02-03-12","02",null,"03",null,"12",null,null,null,{"$f":"IFERROR(VLOOKUP(I457,設定・基礎!$G$3:$H$22,2,FALSE),\"\")","v":""}]
[" 02-03-13","02",null,"03",null,"13",null,null,null,{"$f":"IFERROR(VLOOKUP(I458,設定・基礎!$G$3:$H$22,2,FALSE),\"\")","v":""}]
[" 02-03-14","02",null,"03",null,"14",null,null,null,{"$f":"IFERROR(VLOOKUP(I459,設定・基礎!$G$3:$H$22,2,FALSE),\"\")","v":""}]
[" 02-03-15","02",null,"03",null,"15",null,null,null,{"$f":"IFERROR(VLOOKUP(I460,設定・基礎!$G$3:$H$22,2,FALSE),\"\")","v":""}]
[" 02-03-16","02",null,"03",null,"16",null,null,null,{"$f":"IFERROR(VLOOKUP(I461,設定・基礎!$G$3:$H$22,2,FALSE),\"\")","v":""}]
[" 02-03-17","02",null,"03",null,"17",null,null,null,{"$f":"IFERROR(VLOOKUP(I462,設定・基礎!$G$3:$H$22,2,FALSE),\"\")","v":""}]
[" 02-03-18","02",null,"03",null,"18",null,null,null,{"$f":"IFERROR(VLOOKUP(I463,設定・基礎!$G$3:$H$22,2,FALSE),\"\")","v":""}]
[" 02-03-19","02",null,"03",null,"19",null,null,null,{"$f":"IFERROR(VLOOKUP(I464,設定・基礎!$G$3:$H$22,2,FALSE),\"\")","v":""}]
[" 02-03-20","02",null,"03",null,"20",null,null,null,{"$f":"IFERROR(VLOOKUP(I465,設定・基礎!$G$3:$H$22,2,FALSE),\"\")","v":""}]
[" 02-04-01","02",null,"04",null,"01",null,null,null,{"$f":"IFERROR(VLOOKUP(I466,設定・基礎!$G$3:$H$22,2,FALSE),\"\")","v":""}]
[" 02-04-02","02",null,"04",null,"02",null,null,null,{"$f":"IFERROR(VLOOKUP(I467,設定・基礎!$G$3:$H$22,2,FALSE),\"\")","v":""}]
[" 02-04-03","02",null,"04",null,"03",null,null,null,{"$f":"IFERROR(VLOOKUP(I468,設定・基礎!$G$3:$H$22,2,FALSE),\"\")","v":""}]
[" 02-04-04","02",null,"04",null,"04",null,null,null,{"$f":"IFERROR(VLOOKUP(I469,設定・基礎!$G$3:$H$22,2,FALSE),\"\")","v":""}]
[" 02-04-05","02",null,"04",null,"05",null,null,null,{"$f":"IFERROR(VLOOKUP(I470,設定・基礎!$G$3:$H$22,2,FALSE),\"\")","v":""}]
[" 02-04-06","02",null,"04",null,"06",null,null,null,{"$f":"IFERROR(VLOOKUP(I471,設定・基礎!$G$3:$H$22,2,FALSE),\"\")","v":""}]
[" 02-04-07","02",null,"04",null,"07",null,null,null,{"$f":"IFERROR(VLOOKUP(I472,設定・基礎!$G$3:$H$22,2,FALSE),\"\")","v":""}]
[" 02-04-08","02",null,"04",null,"08",null,null,null,{"$f":"IFERROR(VLOOKUP(I473,設定・基礎!$G$3:$H$22,2,FALSE),\"\")","v":""}]
[" 02-04-09","02",null,"04",null,"09",null,null,null,{"$f":"IFERROR(VLOOKUP(I474,設定・基礎!$G$3:$H$22,2,FALSE),\"\")","v":""}]
[" 02-04-10","02",null,"04",null,"10",null,null,null,{"$f":"IFERROR(VLOOKUP(I475,設定・基礎!$G$3:$H$22,2,FALSE),\"\")","v":""}]
[" 02-04-11","02",null,"04",null,"11",null,null,null,{"$f":"IFERROR(VLOOKUP(I476,設定・基礎!$G$3:$H$22,2,FALSE),\"\")","v":""}]
[" 02-04-12","02",null,"04",null,"12",null,null,null,{"$f":"IFERROR(VLOOKUP(I477,設定・基礎!$G$3:$H$22,2,FALSE),\"\")","v":""}]
[" 02-04-13","02",null,"04",null,"13",null,null,null,{"$f":"IFERROR(VLOOKUP(I478,設定・基礎!$G$3:$H$22,2,FALSE),\"\")","v":""}]
[" 02-04-14","02",null,"04",null,"14",null,null,null,{"$f":"IFERROR(VLOOKUP(I479,設定・基礎!$G$3:$H$22,2,FALSE),\"\")","v":""}]
[" 02-04-15","02",null,"04",null,"15",null,null,null,{"$f":"IFERROR(VLOOKUP(I480,設定・基礎!$G$3:$H$22,2,FALSE),\"\")","v":""}]
[" 02-04-16","02",null,"04",null,"16",null,null,null,{"$f":"IFERROR(VLOOKUP(I481,設定・基礎!$G$3:$H$22,2,FALSE),\"\")","v":""}]
[" 02-04-17","02",null,"04",null,"17",null,null,null,{"$f":"IFERROR(VLOOKUP(I482,設定・基礎!$G$3:$H$22,2,FALSE),\"\")","v":""}]
[" 02-04-18","02",null,"04",null,"18",null,null,null,{"$f":"IFERROR(VLOOKUP(I483,設定・基礎!$G$3:$H$22,2,FALSE),\"\")","v":""}]
[" 02-04-19","02",null,"04",null,"19",null,null,null,{"$f":"IFERROR(VLOOKUP(I484,設定・基礎!$G$3:$H$22,2,FALSE),\"\")","v":""}]
[" 02-04-20","02",null,"04",null,"20",null,null,null,{"$f":"IFERROR(VLOOKUP(I485,設定・基礎!$G$3:$H$22,2,FALSE),\"\")","v":""}]
[" 02-05-01","02",null,"05",null,"01",null,null,null,{"$f":"IFERROR(VLOOKUP(I486,設定・基礎!$G$3:$H$22,2,FALSE),\"\")","v":""}]
[" 02-05-02","02",null,"05",null,"02",null,null,null,{"$f":"IFERROR(VLOOKUP(I487,設定・基礎!$G$3:$H$22,2,FALSE),\"\")","v":""}]
[" 02-05-03","02",null,"05",null,"03",null,null,null,{"$f":"IFERROR(VLOOKUP(I488,設定・基礎!$G$3:$H$22,2,FALSE),\"\")","v":""}]
[" 02-05-04","02",null,"05",null,"04",null,null,null,{"$f":"IFERROR(VLOOKUP(I489,設定・基礎!$G$3:$H$22,2,FALSE),\"\")","v":""}]
[" 02-05-05","02",null,"05",null,"05",null,null,null,{"$f":"IFERROR(VLOOKUP(I490,設定・基礎!$G$3:$H$22,2,FALSE),\"\")","v":""}]
[" 02-05-06","02",null,"05",null,"06",null,null,null,{"$f":"IFERROR(VLOOKUP(I491,設定・基礎!$G$3:$H$22,2,FALSE),\"\")","v":""}]
[" 02-05-07","02",null,"05",null,"07",null,null,null,{"$f":"IFERROR(VLOOKUP(I492,設定・基礎!$G$3:$H$22,2,FALSE),\"\")","v":""}]
[" 02-05-08","02",null,"05",null,"08",null,null,null,{"$f":"IFERROR(VLOOKUP(I493,設定・基礎!$G$3:$H$22,2,FALSE),\"\")","v":""}]
[" 02-05-09","02",null,"05",null,"09",null,null,null,{"$f":"IFERROR(VLOOKUP(I494,設定・基礎!$G$3:$H$22,2,FALSE),\"\")","v":""}]
[" 02-05-10","02",null,"05",null,"10",null,null,null,{"$f":"IFERROR(VLOOKUP(I495,設定・基礎!$G$3:$H$22,2,FALSE),\"\")","v":""}]
[" 02-05-11","02",null,"05",null,"11",null,null,null,{"$f":"IFERROR(VLOOKUP(I496,設定・基礎!$G$3:$H$22,2,FALSE),\"\")","v":""}]
[" 02-05-12","02",null,"05",null,"12",null,null,null,{"$f":"IFERROR(VLOOKUP(I497,設定・基礎!$G$3:$H$22,2,FALSE),\"\")","v":""}]
[" 02-05-13","02",null,"05",null,"13",null,null,null,{"$f":"IFERROR(VLOOKUP(I498,設定・基礎!$G$3:$H$22,2,FALSE),\"\")","v":""}]
[" 02-05-14","02",null,"05",null,"14",null,null,null,{"$f":"IFERROR(VLOOKUP(I499,設定・基礎!$G$3:$H$22,2,FALSE),\"\")","v":""}]
[" 02-05-15","02",null,"05",null,"15",null,null,null,{"$f":"IFERROR(VLOOKUP(I500,設定・基礎!$G$3:$H$22,2,FALSE),\"\")","v":""}]
[" 02-05-16","02",null,"05",null,"16",null,null,null,{"$f":"IFERROR(VLOOKUP(I501,設定・基礎!$G$3:$H$22,2,FALSE),\"\")","v":""}]
[" 02-05-17","02",null,"05",null,"17",null,null,null,{"$f":"IFERROR(VLOOKUP(I502,設定・基礎!$G$3:$H$22,2,FALSE),\"\")","v":""}]
[" 02-05-18","02",null,"05",null,"18",null,null,null,{"$f":"IFERROR(VLOOKUP(I503,設定・基礎!$G$3:$H$22,2,FALSE),\"\")","v":""}]
[" 02-05-19","02",null,"05",null,"19",null,null,null,{"$f":"IFERROR(VLOOKUP(I504,設定・基礎!$G$3:$H$22,2,FALSE),\"\")","v":""}]
[" 02-05-20","02",null,"05",null,"20",null,null,null,{"$f":"IFERROR(VLOOKUP(I505,設定・基礎!$G$3:$H$22,2,FALSE),\"\")","v":""}]
[" 02-06-01","02",null,"06",null,"01",null,null,null,{"$f":"IFERROR(VLOOKUP(I506,設定・基礎!$G$3:$H$22,2,FALSE),\"\")","v":""}]
[" 02-06-02","02",null,"06",null,"02",null,null,null,{"$f":"IFERROR(VLOOKUP(I507,設定・基礎!$G$3:$H$22,2,FALSE),\"\")","v":""}]
[" 02-06-03","02",null,"06",null,"03",null,null,null,{"$f":"IFERROR(VLOOKUP(I508,設定・基礎!$G$3:$H$22,2,FALSE),\"\")","v":""}]
[" 02-06-04","02",null,"06",null,"04",null,null,null,{"$f":"IFERROR(VLOOKUP(I509,設定・基礎!$G$3:$H$22,2,FALSE),\"\")","v":""}]
[" 02-06-05","02",null,"06",null,"05",null,null,null,{"$f":"IFERROR(VLOOKUP(I510,設定・基礎!$G$3:$H$22,2,FALSE),\"\")","v":""}]
[" 02-06-06","02",null,"06",null,"06",null,null,null,{"$f":"IFERROR(VLOOKUP(I511,設定・基礎!$G$3:$H$22,2,FALSE),\"\")","v":""}]
[" 02-06-07","02",null,"06",null,"07",null,null,null,{"$f":"IFERROR(VLOOKUP(I512,設定・基礎!$G$3:$H$22,2,FALSE),\"\")","v":""}]
[" 02-06-08","02",null,"06",null,"08",null,null,null,{"$f":"IFERROR(VLOOKUP(I513,設定・基礎!$G$3:$H$22,2,FALSE),\"\")","v":""}]
[" 02-06-09","02",null,"06",null,"09",null,null,null,{"$f":"IFERROR(VLOOKUP(I514,設定・基礎!$G$3:$H$22,2,FALSE),\"\")","v":""}]
[" 02-06-10","02",null,"06",null,"10",null,null,null,{"$f":"IFERROR(VLOOKUP(I515,設定・基礎!$G$3:$H$22,2,FALSE),\"\")","v":""}]
[" 02-06-11","02",null,"06",null,"11",null,null,null,{"$f":"IFERROR(VLOOKUP(I516,設定・基礎!$G$3:$H$22,2,FALSE),\"\")","v":""}]
[" 02-06-12","02",null,"06",null,"12",null,null,null,{"$f":"IFERROR(VLOOKUP(I517,設定・基礎!$G$3:$H$22,2,FALSE),\"\")","v":""}]
[" 02-06-13","02",null,"06",null,"13",null,null,null,{"$f":"IFERROR(VLOOKUP(I518,設定・基礎!$G$3:$H$22,2,FALSE),\"\")","v":""}]
[" 02-06-14","02",null,"06",null,"14",null,null,null,{"$f":"IFERROR(VLOOKUP(I519,設定・基礎!$G$3:$H$22,2,FALSE),\"\")","v":""}]
[" 02-06-15","02",null,"06",null,"15",null,null,null,{"$f":"IFERROR(VLOOKUP(I520,設定・基礎!$G$3:$H$22,2,FALSE),\"\")","v":""}]
[" 02-06-16","02",null,"06",null,"16",null,null,null,{"$f":"IFERROR(VLOOKUP(I521,設定・基礎!$G$3:$H$22,2,FALSE),\"\")","v":""}]
[" 02-06-17","02",null,"06",null,"17",null,null,null,{"$f":"IFERROR(VLOOKUP(I522,設定・基礎!$G$3:$H$22,2,FALSE),\"\")","v":""}]
[" 02-06-18","02",null,"06",null,"18",null,null,null,{"$f":"IFERROR(VLOOKUP(I523,設定・基礎!$G$3:$H$22,2,FALSE),\"\")","v":""}]
[" 02-06-19","02",null,"06",null,"19",null,null,null,{"$f":"IFERROR(VLOOKUP(I524,設定・基礎!$G$3:$H$22,2,FALSE),\"\")","v":""}]
[" 02-06-20","02",null,"06",null,"20",null,null,null,{"$f":"IFERROR(VLOOKUP(I525,設定・基礎!$G$3:$H$22,2,FALSE),\"\")","v":""}]
[" 02-07-01","02",null,"07",null,"01",null,null,null,{"$f":"IFERROR(VLOOKUP(I526,設定・基礎!$G$3:$H$22,2,FALSE),\"\")","v":""}]
[" 02-07-02","02",null,"07",null,"02",null,null,null,{"$f":"IFERROR(VLOOKUP(I527,設定・基礎!$G$3:$H$22,2,FALSE),\"\")","v":""}]
[" 02-07-03","02",null,"07",null,"03",null,null,null,{"$f":"IFERROR(VLOOKUP(I528,設定・基礎!$G$3:$H$22,2,FALSE),\"\")","v":""}]
[" 02-07-04","02",null,"07",null,"04",null,null,null,{"$f":"IFERROR(VLOOKUP(I529,設定・基礎!$G$3:$H$22,2,FALSE),\"\")","v":""}]
[" 02-07-05","02",null,"07",null,"05",null,null,null,{"$f":"IFERROR(VLOOKUP(I530,設定・基礎!$G$3:$H$22,2,FALSE),\"\")","v":""}]
[" 02-07-06","02",null,"07",null,"06",null,null,null,{"$f":"IFERROR(VLOOKUP(I531,設定・基礎!$G$3:$H$22,2,FALSE),\"\")","v":""}]
[" 02-07-07","02",null,"07",null,"07",null,null,null,{"$f":"IFERROR(VLOOKUP(I532,設定・基礎!$G$3:$H$22,2,FALSE),\"\")","v":""}]
[" 02-07-08","02",null,"07",null,"08",null,null,null,{"$f":"IFERROR(VLOOKUP(I533,設定・基礎!$G$3:$H$22,2,FALSE),\"\")","v":""}]
[" 02-07-09","02",null,"07",null,"09",null,null,null,{"$f":"IFERROR(VLOOKUP(I534,設定・基礎!$G$3:$H$22,2,FALSE),\"\")","v":""}]
[" 02-07-10","02",null,"07",null,"10",null,null,null,{"$f":"IFERROR(VLOOKUP(I535,設定・基礎!$G$3:$H$22,2,FALSE),\"\")","v":""}]
[" 02-07-11","02",null,"07",null,"11",null,null,null,{"$f":"IFERROR(VLOOKUP(I536,設定・基礎!$G$3:$H$22,2,FALSE),\"\")","v":""}]
[" 02-07-12","02",null,"07",null,"12",null,null,null,{"$f":"IFERROR(VLOOKUP(I537,設定・基礎!$G$3:$H$22,2,FALSE),\"\")","v":""}]
[" 02-07-13","02",null,"07",null,"13",null,null,null,{"$f":"IFERROR(VLOOKUP(I538,設定・基礎!$G$3:$H$22,2,FALSE),\"\")","v":""}]
[" 02-07-14","02",null,"07",null,"14",null,null,null,{"$f":"IFERROR(VLOOKUP(I539,設定・基礎!$G$3:$H$22,2,FALSE),\"\")","v":""}]
[" 02-07-15","02",null,"07",null,"15",null,null,null,{"$f":"IFERROR(VLOOKUP(I540,設定・基礎!$G$3:$H$22,2,FALSE),\"\")","v":""}]
[" 02-07-16","02",null,"07",null,"16",null,null,null,{"$f":"IFERROR(VLOOKUP(I541,設定・基礎!$G$3:$H$22,2,FALSE),\"\")","v":""}]
[" 02-07-17","02",null,"07",null,"17",null,null,null,{"$f":"IFERROR(VLOOKUP(I542,設定・基礎!$G$3:$H$22,2,FALSE),\"\")","v":""}]
[" 02-07-18","02",null,"07",null,"18",null,null,null,{"$f":"IFERROR(VLOOKUP(I543,設定・基礎!$G$3:$H$22,2,FALSE),\"\")","v":""}]
[" 02-07-19","02",null,"07",null,"19",null,null,null,{"$f":"IFERROR(VLOOKUP(I544,設定・基礎!$G$3:$H$22,2,FALSE),\"\")","v":""}]
[" 02-07-20","02",null,"07",null,"20",null,null,null,{"$f":"IFERROR(VLOOKUP(I545,設定・基礎!$G$3:$H$22,2,FALSE),\"\")","v":""}]
[" 02-08-01","02",null,"08",null,"01",null,null,null,{"$f":"IFERROR(VLOOKUP(I546,設定・基礎!$G$3:$H$22,2,FALSE),\"\")","v":""}]
[" 02-08-02","02",null,"08",null,"02",null,null,null,{"$f":"IFERROR(VLOOKUP(I547,設定・基礎!$G$3:$H$22,2,FALSE),\"\")","v":""}]
[" 02-08-03","02",null,"08",null,"03",null,null,null,{"$f":"IFERROR(VLOOKUP(I548,設定・基礎!$G$3:$H$22,2,FALSE),\"\")","v":""}]
[" 02-08-04","02",null,"08",null,"04",null,null,null,{"$f":"IFERROR(VLOOKUP(I549,設定・基礎!$G$3:$H$22,2,FALSE),\"\")","v":""}]
[" 02-08-05","02",null,"08",null,"05",null,null,null,{"$f":"IFERROR(VLOOKUP(I550,設定・基礎!$G$3:$H$22,2,FALSE),\"\")","v":""}]
[" 02-08-06","02",null,"08",null,"06",null,null,null,{"$f":"IFERROR(VLOOKUP(I551,設定・基礎!$G$3:$H$22,2,FALSE),\"\")","v":""}]
[" 02-08-07","02",null,"08",null,"07",null,null,null,{"$f":"IFERROR(VLOOKUP(I552,設定・基礎!$G$3:$H$22,2,FALSE),\"\")","v":""}]
[" 02-08-08","02",null,"08",null,"08",null,null,null,{"$f":"IFERROR(VLOOKUP(I553,設定・基礎!$G$3:$H$22,2,FALSE),\"\")","v":""}]
[" 02-08-09","02",null,"08",null,"09",null,null,null,{"$f":"IFERROR(VLOOKUP(I554,設定・基礎!$G$3:$H$22,2,FALSE),\"\")","v":""}]
[" 02-08-10","02",null,"08",null,"10",null,null,null,{"$f":"IFERROR(VLOOKUP(I555,設定・基礎!$G$3:$H$22,2,FALSE),\"\")","v":""}]
[" 02-08-11","02",null,"08",null,"11",null,null,null,{"$f":"IFERROR(VLOOKUP(I556,設定・基礎!$G$3:$H$22,2,FALSE),\"\")","v":""}]
[" 02-08-12","02",null,"08",null,"12",null,null,null,{"$f":"IFERROR(VLOOKUP(I557,設定・基礎!$G$3:$H$22,2,FALSE),\"\")","v":""}]
[" 02-08-13","02",null,"08",null,"13",null,null,null,{"$f":"IFERROR(VLOOKUP(I558,設定・基礎!$G$3:$H$22,2,FALSE),\"\")","v":""}]
[" 02-08-14","02",null,"08",null,"14",null,null,null,{"$f":"IFERROR(VLOOKUP(I559,設定・基礎!$G$3:$H$22,2,FALSE),\"\")","v":""}]
[" 02-08-15","02",null,"08",null,"15",null,null,null,{"$f":"IFERROR(VLOOKUP(I560,設定・基礎!$G$3:$H$22,2,FALSE),\"\")","v":""}]
[" 02-08-16","02",null,"08",null,"16",null,null,null,{"$f":"IFERROR(VLOOKUP(I561,設定・基礎!$G$3:$H$22,2,FALSE),\"\")","v":""}]
[" 02-08-17","02",null,"08",null,"17",null,null,null,{"$f":"IFERROR(VLOOKUP(I562,設定・基礎!$G$3:$H$22,2,FALSE),\"\")","v":""}]
[" 02-08-18","02",null,"08",null,"18",null,null,null,{"$f":"IFERROR(VLOOKUP(I563,設定・基礎!$G$3:$H$22,2,FALSE),\"\")","v":""}]
[" 02-08-19","02",null,"08",null,"19",null,null,null,{"$f":"IFERROR(VLOOKUP(I564,設定・基礎!$G$3:$H$22,2,FALSE),\"\")","v":""}]
[" 02-08-20","02",null,"08",null,"20",null,null,null,{"$f":"IFERROR(VLOOKUP(I565,設定・基礎!$G$3:$H$22,2,FALSE),\"\")","v":""}]
[" 02-09-01","02",null,"09",null,"01",null,null,null,{"$f":"IFERROR(VLOOKUP(I566,設定・基礎!$G$3:$H$22,2,FALSE),\"\")","v":""}]
[" 02-09-02","02",null,"09",null,"02",null,null,null,{"$f":"IFERROR(VLOOKUP(I567,設定・基礎!$G$3:$H$22,2,FALSE),\"\")","v":""}]
[" 02-09-03","02",null,"09",null,"03",null,null,null,{"$f":"IFERROR(VLOOKUP(I568,設定・基礎!$G$3:$H$22,2,FALSE),\"\")","v":""}]
[" 02-09-04","02",null,"09",null,"04",null,null,null,{"$f":"IFERROR(VLOOKUP(I569,設定・基礎!$G$3:$H$22,2,FALSE),\"\")","v":""}]
[" 02-09-05","02",null,"09",null,"05",null,null,null,{"$f":"IFERROR(VLOOKUP(I570,設定・基礎!$G$3:$H$22,2,FALSE),\"\")","v":""}]
[" 02-09-06","02",null,"09",null,"06",null,null,null,{"$f":"IFERROR(VLOOKUP(I571,設定・基礎!$G$3:$H$22,2,FALSE),\"\")","v":""}]
[" 02-09-07","02",null,"09",null,"07",null,null,null,{"$f":"IFERROR(VLOOKUP(I572,設定・基礎!$G$3:$H$22,2,FALSE),\"\")","v":""}]
[" 02-09-08","02",null,"09",null,"08",null,null,null,{"$f":"IFERROR(VLOOKUP(I573,設定・基礎!$G$3:$H$22,2,FALSE),\"\")","v":""}]
[" 02-09-09","02",null,"09",null,"09",null,null,null,{"$f":"IFERROR(VLOOKUP(I574,設定・基礎!$G$3:$H$22,2,FALSE),\"\")","v":""}]
[" 02-09-10","02",null,"09",null,"10",null,null,null,{"$f":"IFERROR(VLOOKUP(I575,設定・基礎!$G$3:$H$22,2,FALSE),\"\")","v":""}]
[" 02-09-11","02",null,"09",null,"11",null,null,null,{"$f":"IFERROR(VLOOKUP(I576,設定・基礎!$G$3:$H$22,2,FALSE),\"\")","v":""}]
[" 02-09-12","02",null,"09",null,"12",null,null,null,{"$f":"IFERROR(VLOOKUP(I577,設定・基礎!$G$3:$H$22,2,FALSE),\"\")","v":""}]
[" 02-09-13","02",null,"09",null,"13",null,null,null,{"$f":"IFERROR(VLOOKUP(I578,設定・基礎!$G$3:$H$22,2,FALSE),\"\")","v":""}]
[" 02-09-14","02",null,"09",null,"14",null,null,null,{"$f":"IFERROR(VLOOKUP(I579,設定・基礎!$G$3:$H$22,2,FALSE),\"\")","v":""}]
[" 02-09-15","02",null,"09",null,"15",null,null,null,{"$f":"IFERROR(VLOOKUP(I580,設定・基礎!$G$3:$H$22,2,FALSE),\"\")","v":""}]
[" 02-09-16","02",null,"09",null,"16",null,null,null,{"$f":"IFERROR(VLOOKUP(I581,設定・基礎!$G$3:$H$22,2,FALSE),\"\")","v":""}]
[" 02-09-17","02",null,"09",null,"17",null,null,null,{"$f":"IFERROR(VLOOKUP(I582,設定・基礎!$G$3:$H$22,2,FALSE),\"\")","v":""}]
[" 02-09-18","02",null,"09",null,"18",null,null,null,{"$f":"IFERROR(VLOOKUP(I583,設定・基礎!$G$3:$H$22,2,FALSE),\"\")","v":""}]
[" 02-09-19","02",null,"09",null,"19",null,null,null,{"$f":"IFERROR(VLOOKUP(I584,設定・基礎!$G$3:$H$22,2,FALSE),\"\")","v":""}]
[" 02-09-20","02",null,"09",null,"20",null,null,null,{"$f":"IFERROR(VLOOKUP(I585,設定・基礎!$G$3:$H$22,2,FALSE),\"\")","v":""}]
[" 02-10-01","02",null,"10",null,"01",null,null,null,{"$f":"IFERROR(VLOOKUP(I586,設定・基礎!$G$3:$H$22,2,FALSE),\"\")","v":""}]
[" 02-10-02","02",null,"10",null,"02",null,null,null,{"$f":"IFERROR(VLOOKUP(I587,設定・基礎!$G$3:$H$22,2,FALSE),\"\")","v":""}]
[" 02-10-03","02",null,"10",null,"03",null,null,null,{"$f":"IFERROR(VLOOKUP(I588,設定・基礎!$G$3:$H$22,2,FALSE),\"\")","v":""}]
[" 02-10-04","02",null,"10",null,"04",null,null,null,{"$f":"IFERROR(VLOOKUP(I589,設定・基礎!$G$3:$H$22,2,FALSE),\"\")","v":""}]
[" 02-10-05","02",null,"10",null,"05",null,null,null,{"$f":"IFERROR(VLOOKUP(I590,設定・基礎!$G$3:$H$22,2,FALSE),\"\")","v":""}]
[" 02-10-06","02",null,"10",null,"06",null,null,null,{"$f":"IFERROR(VLOOKUP(I591,設定・基礎!$G$3:$H$22,2,FALSE),\"\")","v":""}]
[" 02-10-07","02",null,"10",null,"07",null,null,null,{"$f":"IFERROR(VLOOKUP(I592,設定・基礎!$G$3:$H$22,2,FALSE),\"\")","v":""}]
[" 02-10-08","02",null,"10",null,"08",null,null,null,{"$f":"IFERROR(VLOOKUP(I593,設定・基礎!$G$3:$H$22,2,FALSE),\"\")","v":""}]
[" 02-10-09","02",null,"10",null,"09",null,null,null,{"$f":"IFERROR(VLOOKUP(I594,設定・基礎!$G$3:$H$22,2,FALSE),\"\")","v":""}]
[" 02-10-10","02",null,"10",null,"10",null,null,null,{"$f":"IFERROR(VLOOKUP(I595,設定・基礎!$G$3:$H$22,2,FALSE),\"\")","v":""}]
[" 02-10-11","02",null,"10",null,"11",null,null,null,{"$f":"IFERROR(VLOOKUP(I596,設定・基礎!$G$3:$H$22,2,FALSE),\"\")","v":""}]
[" 02-10-12","02",null,"10",null,"12",null,null,null,{"$f":"IFERROR(VLOOKUP(I597,設定・基礎!$G$3:$H$22,2,FALSE),\"\")","v":""}]
[" 02-10-13","02",null,"10",null,"13",null,null,null,{"$f":"IFERROR(VLOOKUP(I598,設定・基礎!$G$3:$H$22,2,FALSE),\"\")","v":""}]
[" 02-10-14","02",null,"10",null,"14",null,null,null,{"$f":"IFERROR(VLOOKUP(I599,設定・基礎!$G$3:$H$22,2,FALSE),\"\")","v":""}]
[" 02-10-15","02",null,"10",null,"15",null,null,null,{"$f":"IFERROR(VLOOKUP(I600,設定・基礎!$G$3:$H$22,2,FALSE),\"\")","v":""}]
[" 02-10-16","02",null,"10",null,"16",null,null,null,{"$f":"IFERROR(VLOOKUP(I601,設定・基礎!$G$3:$H$22,2,FALSE),\"\")","v":""}]
[" 02-10-17","02",null,"10",null,"17",null,null,null,{"$f":"IFERROR(VLOOKUP(I602,設定・基礎!$G$3:$H$22,2,FALSE),\"\")","v":""}]
[" 02-10-18","02",null,"10",null,"18",null,null,null,{"$f":"IFERROR(VLOOKUP(I603,設定・基礎!$G$3:$H$22,2,FALSE),\"\")","v":""}]
[" 02-10-19","02",null,"10",null,"19",null,null,null,{"$f":"IFERROR(VLOOKUP(I604,設定・基礎!$G$3:$H$22,2,FALSE),\"\")","v":""}]
[" 02-10-20","02",null,"10",null,"20",null,null,null,{"$f":"IFERROR(VLOOKUP(I605,設定・基礎!$G$3:$H$22,2,FALSE),\"\")","v":""}]
[" 02-11-01","02",null,"11",null,"01",null,null,null,{"$f":"IFERROR(VLOOKUP(I606,設定・基礎!$G$3:$H$22,2,FALSE),\"\")","v":""}]
[" 02-11-02","02",null,"11",null,"02",null,null,null,{"$f":"IFERROR(VLOOKUP(I607,設定・基礎!$G$3:$H$22,2,FALSE),\"\")","v":""}]
[" 02-11-03","02",null,"11",null,"03",null,null,null,{"$f":"IFERROR(VLOOKUP(I608,設定・基礎!$G$3:$H$22,2,FALSE),\"\")","v":""}]
[" 02-11-04","02",null,"11",null,"04",null,null,null,{"$f":"IFERROR(VLOOKUP(I609,設定・基礎!$G$3:$H$22,2,FALSE),\"\")","v":""}]
[" 02-11-05","02",null,"11",null,"05",null,null,null,{"$f":"IFERROR(VLOOKUP(I610,設定・基礎!$G$3:$H$22,2,FALSE),\"\")","v":""}]
[" 02-11-06","02",null,"11",null,"06",null,null,null,{"$f":"IFERROR(VLOOKUP(I611,設定・基礎!$G$3:$H$22,2,FALSE),\"\")","v":""}]
[" 02-11-07","02",null,"11",null,"07",null,null,null,{"$f":"IFERROR(VLOOKUP(I612,設定・基礎!$G$3:$H$22,2,FALSE),\"\")","v":""}]
[" 02-11-08","02",null,"11",null,"08",null,null,null,{"$f":"IFERROR(VLOOKUP(I613,設定・基礎!$G$3:$H$22,2,FALSE),\"\")","v":""}]
[" 02-11-09","02",null,"11",null,"09",null,null,null,{"$f":"IFERROR(VLOOKUP(I614,設定・基礎!$G$3:$H$22,2,FALSE),\"\")","v":""}]
[" 02-11-10","02",null,"11",null,"10",null,null,null,{"$f":"IFERROR(VLOOKUP(I615,設定・基礎!$G$3:$H$22,2,FALSE),\"\")","v":""}]
[" 02-11-11","02",null,"11",null,"11",null,null,null,{"$f":"IFERROR(VLOOKUP(I616,設定・基礎!$G$3:$H$22,2,FALSE),\"\")","v":""}]
[" 02-11-12","02",null,"11",null,"12",null,null,null,{"$f":"IFERROR(VLOOKUP(I617,設定・基礎!$G$3:$H$22,2,FALSE),\"\")","v":""}]
[" 02-11-13","02",null,"11",null,"13",null,null,null,{"$f":"IFERROR(VLOOKUP(I618,設定・基礎!$G$3:$H$22,2,FALSE),\"\")","v":""}]
[" 02-11-14","02",null,"11",null,"14",null,null,null,{"$f":"IFERROR(VLOOKUP(I619,設定・基礎!$G$3:$H$22,2,FALSE),\"\")","v":""}]
[" 02-11-15","02",null,"11",null,"15",null,null,null,{"$f":"IFERROR(VLOOKUP(I620,設定・基礎!$G$3:$H$22,2,FALSE),\"\")","v":""}]
[" 02-11-16","02",null,"11",null,"16",null,null,null,{"$f":"IFERROR(VLOOKUP(I621,設定・基礎!$G$3:$H$22,2,FALSE),\"\")","v":""}]
[" 02-11-17","02",null,"11",null,"17",null,null,null,{"$f":"IFERROR(VLOOKUP(I622,設定・基礎!$G$3:$H$22,2,FALSE),\"\")","v":""}]
[" 02-11-18","02",null,"11",null,"18",null,null,null,{"$f":"IFERROR(VLOOKUP(I623,設定・基礎!$G$3:$H$22,2,FALSE),\"\")","v":""}]
[" 02-11-19","02",null,"11",null,"19",null,null,null,{"$f":"IFERROR(VLOOKUP(I624,設定・基礎!$G$3:$H$22,2,FALSE),\"\")","v":""}]
[" 02-11-20","02",null,"11",null,"20",null,null,null,{"$f":"IFERROR(VLOOKUP(I625,設定・基礎!$G$3:$H$22,2,FALSE),\"\")","v":""}]
[" 02-12-01","02",null,"12",null,"01",null,null,null,{"$f":"IFERROR(VLOOKUP(I626,設定・基礎!$G$3:$H$22,2,FALSE),\"\")","v":""}]
[" 02-12-02","02",null,"12",null,"02",null,null,null,{"$f":"IFERROR(VLOOKUP(I627,設定・基礎!$G$3:$H$22,2,FALSE),\"\")","v":""}]
[" 02-12-03","02",null,"12",null,"03",null,null,null,{"$f":"IFERROR(VLOOKUP(I628,設定・基礎!$G$3:$H$22,2,FALSE),\"\")","v":""}]
[" 02-12-04","02",null,"12",null,"04",null,null,null,{"$f":"IFERROR(VLOOKUP(I629,設定・基礎!$G$3:$H$22,2,FALSE),\"\")","v":""}]
[" 02-12-05","02",null,"12",null,"05",null,null,null,{"$f":"IFERROR(VLOOKUP(I630,設定・基礎!$G$3:$H$22,2,FALSE),\"\")","v":""}]
[" 02-12-06","02",null,"12",null,"06",null,null,null,{"$f":"IFERROR(VLOOKUP(I631,設定・基礎!$G$3:$H$22,2,FALSE),\"\")","v":""}]
[" 02-12-07","02",null,"12",null,"07",null,null,null,{"$f":"IFERROR(VLOOKUP(I632,設定・基礎!$G$3:$H$22,2,FALSE),\"\")","v":""}]
[" 02-12-08","02",null,"12",null,"08",null,null,null,{"$f":"IFERROR(VLOOKUP(I633,設定・基礎!$G$3:$H$22,2,FALSE),\"\")","v":""}]
[" 02-12-09","02",null,"12",null,"09",null,null,null,{"$f":"IFERROR(VLOOKUP(I634,設定・基礎!$G$3:$H$22,2,FALSE),\"\")","v":""}]
[" 02-12-10","02",null,"12",null,"10",null,null,null,{"$f":"IFERROR(VLOOKUP(I635,設定・基礎!$G$3:$H$22,2,FALSE),\"\")","v":""}]
[" 02-12-11","02",null,"12",null,"11",null,null,null,{"$f":"IFERROR(VLOOKUP(I636,設定・基礎!$G$3:$H$22,2,FALSE),\"\")","v":""}]
[" 02-12-12","02",null,"12",null,"12",null,null,null,{"$f":"IFERROR(VLOOKUP(I637,設定・基礎!$G$3:$H$22,2,FALSE),\"\")","v":""}]
[" 02-12-13","02",null,"12",null,"13",null,null,null,{"$f":"IFERROR(VLOOKUP(I638,設定・基礎!$G$3:$H$22,2,FALSE),\"\")","v":""}]
[" 02-12-14","02",null,"12",null,"14",null,null,null,{"$f":"IFERROR(VLOOKUP(I639,設定・基礎!$G$3:$H$22,2,FALSE),\"\")","v":""}]
[" 02-12-15","02",null,"12",null,"15",null,null,null,{"$f":"IFERROR(VLOOKUP(I640,設定・基礎!$G$3:$H$22,2,FALSE),\"\")","v":""}]
[" 02-12-16","02",null,"12",null,"16",null,null,null,{"$f":"IFERROR(VLOOKUP(I641,設定・基礎!$G$3:$H$22,2,FALSE),\"\")","v":""}]
[" 02-12-17","02",null,"12",null,"17",null,null,null,{"$f":"IFERROR(VLOOKUP(I642,設定・基礎!$G$3:$H$22,2,FALSE),\"\")","v":""}]
[" 02-12-18","02",null,"12",null,"18",null,null,null,{"$f":"IFERROR(VLOOKUP(I643,設定・基礎!$G$3:$H$22,2,FALSE),\"\")","v":""}]
[" 02-12-19","02",null,"12",null,"19",null,null,null,{"$f":"IFERROR(VLOOKUP(I644,設定・基礎!$G$3:$H$22,2,FALSE),\"\")","v":""}]
[" 02-12-20","02",null,"12",null,"20",null,null,null,{"$f":"IFERROR(VLOOKUP(I645,設定・基礎!$G$3:$H$22,2,FALSE),\"\")","v":""}]
[" 02-13-01","02",null,"13",null,"01",null,null,null,{"$f":"IFERROR(VLOOKUP(I646,設定・基礎!$G$3:$H$22,2,FALSE),\"\")","v":""}]
[" 02-13-02","02",null,"13",null,"02",null,null,null,{"$f":"IFERROR(VLOOKUP(I647,設定・基礎!$G$3:$H$22,2,FALSE),\"\")","v":""}]
[" 02-13-03","02",null,"13",null,"03",null,null,null,{"$f":"IFERROR(VLOOKUP(I648,設定・基礎!$G$3:$H$22,2,FALSE),\"\")","v":""}]
[" 02-13-04","02",null,"13",null,"04",null,null,null,{"$f":"IFERROR(VLOOKUP(I649,設定・基礎!$G$3:$H$22,2,FALSE),\"\")","v":""}]
[" 02-13-05","02",null,"13",null,"05",null,null,null,{"$f":"IFERROR(VLOOKUP(I650,設定・基礎!$G$3:$H$22,2,FALSE),\"\")","v":""}]
[" 02-13-06","02",null,"13",null,"06",null,null,null,{"$f":"IFERROR(VLOOKUP(I651,設定・基礎!$G$3:$H$22,2,FALSE),\"\")","v":""}]
[" 02-13-07","02",null,"13",null,"07",null,null,null,{"$f":"IFERROR(VLOOKUP(I652,設定・基礎!$G$3:$H$22,2,FALSE),\"\")","v":""}]
[" 02-13-08","02",null,"13",null,"08",null,null,null,{"$f":"IFERROR(VLOOKUP(I653,設定・基礎!$G$3:$H$22,2,FALSE),\"\")","v":""}]
[" 02-13-09","02",null,"13",null,"09",null,null,null,{"$f":"IFERROR(VLOOKUP(I654,設定・基礎!$G$3:$H$22,2,FALSE),\"\")","v":""}]
[" 02-13-10","02",null,"13",null,"10",null,null,null,{"$f":"IFERROR(VLOOKUP(I655,設定・基礎!$G$3:$H$22,2,FALSE),\"\")","v":""}]
[" 02-13-11","02",null,"13",null,"11",null,null,null,{"$f":"IFERROR(VLOOKUP(I656,設定・基礎!$G$3:$H$22,2,FALSE),\"\")","v":""}]
[" 02-13-12","02",null,"13",null,"12",null,null,null,{"$f":"IFERROR(VLOOKUP(I657,設定・基礎!$G$3:$H$22,2,FALSE),\"\")","v":""}]
[" 02-13-13","02",null,"13",null,"13",null,null,null,{"$f":"IFERROR(VLOOKUP(I658,設定・基礎!$G$3:$H$22,2,FALSE),\"\")","v":""}]
[" 02-13-14","02",null,"13",null,"14",null,null,null,{"$f":"IFERROR(VLOOKUP(I659,設定・基礎!$G$3:$H$22,2,FALSE),\"\")","v":""}]
[" 02-13-15","02",null,"13",null,"15",null,null,null,{"$f":"IFERROR(VLOOKUP(I660,設定・基礎!$G$3:$H$22,2,FALSE),\"\")","v":""}]
[" 02-13-16","02",null,"13",null,"16",null,null,null,{"$f":"IFERROR(VLOOKUP(I661,設定・基礎!$G$3:$H$22,2,FALSE),\"\")","v":""}]
[" 02-13-17","02",null,"13",null,"17",null,null,null,{"$f":"IFERROR(VLOOKUP(I662,設定・基礎!$G$3:$H$22,2,FALSE),\"\")","v":""}]
[" 02-13-18","02",null,"13",null,"18",null,null,null,{"$f":"IFERROR(VLOOKUP(I663,設定・基礎!$G$3:$H$22,2,FALSE),\"\")","v":""}]
[" 02-13-19","02",null,"13",null,"19",null,null,null,{"$f":"IFERROR(VLOOKUP(I664,設定・基礎!$G$3:$H$22,2,FALSE),\"\")","v":""}]
[" 02-13-20","02",null,"13",null,"20",null,null,null,{"$f":"IFERROR(VLOOKUP(I665,設定・基礎!$G$3:$H$22,2,FALSE),\"\")","v":""}]
[" 02-14-01","02",null,"14",null,"01",null,null,null,{"$f":"IFERROR(VLOOKUP(I666,設定・基礎!$G$3:$H$22,2,FALSE),\"\")","v":""}]
[" 02-14-02","02",null,"14",null,"02",null,null,null,{"$f":"IFERROR(VLOOKUP(I667,設定・基礎!$G$3:$H$22,2,FALSE),\"\")","v":""}]
[" 02-14-03","02",null,"14",null,"03",null,null,null,{"$f":"IFERROR(VLOOKUP(I668,設定・基礎!$G$3:$H$22,2,FALSE),\"\")","v":""}]
[" 02-14-04","02",null,"14",null,"04",null,null,null,{"$f":"IFERROR(VLOOKUP(I669,設定・基礎!$G$3:$H$22,2,FALSE),\"\")","v":""}]
[" 02-14-05","02",null,"14",null,"05",null,null,null,{"$f":"IFERROR(VLOOKUP(I670,設定・基礎!$G$3:$H$22,2,FALSE),\"\")","v":""}]
[" 02-14-06","02",null,"14",null,"06",null,null,null,{"$f":"IFERROR(VLOOKUP(I671,設定・基礎!$G$3:$H$22,2,FALSE),\"\")","v":""}]
[" 02-14-07","02",null,"14",null,"07",null,null,null,{"$f":"IFERROR(VLOOKUP(I672,設定・基礎!$G$3:$H$22,2,FALSE),\"\")","v":""}]
[" 02-14-08","02",null,"14",null,"08",null,null,null,{"$f":"IFERROR(VLOOKUP(I673,設定・基礎!$G$3:$H$22,2,FALSE),\"\")","v":""}]
[" 02-14-09","02",null,"14",null,"09",null,null,null,{"$f":"IFERROR(VLOOKUP(I674,設定・基礎!$G$3:$H$22,2,FALSE),\"\")","v":""}]
[" 02-14-10","02",null,"14",null,"10",null,null,null,{"$f":"IFERROR(VLOOKUP(I675,設定・基礎!$G$3:$H$22,2,FALSE),\"\")","v":""}]
[" 02-14-11","02",null,"14",null,"11",null,null,null,{"$f":"IFERROR(VLOOKUP(I676,設定・基礎!$G$3:$H$22,2,FALSE),\"\")","v":""}]
[" 02-14-12","02",null,"14",null,"12",null,null,null,{"$f":"IFERROR(VLOOKUP(I677,設定・基礎!$G$3:$H$22,2,FALSE),\"\")","v":""}]
[" 02-14-13","02",null,"14",null,"13",null,null,null,{"$f":"IFERROR(VLOOKUP(I678,設定・基礎!$G$3:$H$22,2,FALSE),\"\")","v":""}]
[" 02-14-14","02",null,"14",null,"14",null,null,null,{"$f":"IFERROR(VLOOKUP(I679,設定・基礎!$G$3:$H$22,2,FALSE),\"\")","v":""}]
[" 02-14-15","02",null,"14",null,"15",null,null,null,{"$f":"IFERROR(VLOOKUP(I680,設定・基礎!$G$3:$H$22,2,FALSE),\"\")","v":""}]
[" 02-14-16","02",null,"14",null,"16",null,null,null,{"$f":"IFERROR(VLOOKUP(I681,設定・基礎!$G$3:$H$22,2,FALSE),\"\")","v":""}]
[" 02-14-17","02",null,"14",null,"17",null,null,null,{"$f":"IFERROR(VLOOKUP(I682,設定・基礎!$G$3:$H$22,2,FALSE),\"\")","v":""}]
[" 02-14-18","02",null,"14",null,"18",null,null,null,{"$f":"IFERROR(VLOOKUP(I683,設定・基礎!$G$3:$H$22,2,FALSE),\"\")","v":""}]
[" 02-14-19","02",null,"14",null,"19",null,null,null,{"$f":"IFERROR(VLOOKUP(I684,設定・基礎!$G$3:$H$22,2,FALSE),\"\")","v":""}]
[" 02-14-20","02",null,"14",null,"20",null,null,null,{"$f":"IFERROR(VLOOKUP(I685,設定・基礎!$G$3:$H$22,2,FALSE),\"\")","v":""}]
[" 02-15-01","02",null,"15",null,"01",null,null,null,{"$f":"IFERROR(VLOOKUP(I686,設定・基礎!$G$3:$H$22,2,FALSE),\"\")","v":""}]
[" 02-15-02","02",null,"15",null,"02",null,null,null,{"$f":"IFERROR(VLOOKUP(I687,設定・基礎!$G$3:$H$22,2,FALSE),\"\")","v":""}]
[" 02-15-03","02",null,"15",null,"03",null,null,null,{"$f":"IFERROR(VLOOKUP(I688,設定・基礎!$G$3:$H$22,2,FALSE),\"\")","v":""}]
[" 02-15-04","02",null,"15",null,"04",null,null,null,{"$f":"IFERROR(VLOOKUP(I689,設定・基礎!$G$3:$H$22,2,FALSE),\"\")","v":""}]
[" 02-15-05","02",null,"15",null,"05",null,null,null,{"$f":"IFERROR(VLOOKUP(I690,設定・基礎!$G$3:$H$22,2,FALSE),\"\")","v":""}]
[" 02-15-06","02",null,"15",null,"06",null,null,null,{"$f":"IFERROR(VLOOKUP(I691,設定・基礎!$G$3:$H$22,2,FALSE),\"\")","v":""}]
[" 02-15-07","02",null,"15",null,"07",null,null,null,{"$f":"IFERROR(VLOOKUP(I692,設定・基礎!$G$3:$H$22,2,FALSE),\"\")","v":""}]
[" 02-15-08","02",null,"15",null,"08",null,null,null,{"$f":"IFERROR(VLOOKUP(I693,設定・基礎!$G$3:$H$22,2,FALSE),\"\")","v":""}]
[" 02-15-09","02",null,"15",null,"09",null,null,null,{"$f":"IFERROR(VLOOKUP(I694,設定・基礎!$G$3:$H$22,2,FALSE),\"\")","v":""}]
[" 02-15-10","02",null,"15",null,"10",null,null,null,{"$f":"IFERROR(VLOOKUP(I695,設定・基礎!$G$3:$H$22,2,FALSE),\"\")","v":""}]
[" 02-15-11","02",null,"15",null,"11",null,null,null,{"$f":"IFERROR(VLOOKUP(I696,設定・基礎!$G$3:$H$22,2,FALSE),\"\")","v":""}]
[" 02-15-12","02",null,"15",null,"12",null,null,null,{"$f":"IFERROR(VLOOKUP(I697,設定・基礎!$G$3:$H$22,2,FALSE),\"\")","v":""}]
[" 02-15-13","02",null,"15",null,"13",null,null,null,{"$f":"IFERROR(VLOOKUP(I698,設定・基礎!$G$3:$H$22,2,FALSE),\"\")","v":""}]
[" 02-15-14","02",null,"15",null,"14",null,null,null,{"$f":"IFERROR(VLOOKUP(I699,設定・基礎!$G$3:$H$22,2,FALSE),\"\")","v":""}]
[" 02-15-15","02",null,"15",null,"15",null,null,null,{"$f":"IFERROR(VLOOKUP(I700,設定・基礎!$G$3:$H$22,2,FALSE),\"\")","v":""}]
[" 02-15-16","02",null,"15",null,"16",null,null,null,{"$f":"IFERROR(VLOOKUP(I701,設定・基礎!$G$3:$H$22,2,FALSE),\"\")","v":""}]
[" 02-15-17","02",null,"15",null,"17",null,null,null,{"$f":"IFERROR(VLOOKUP(I702,設定・基礎!$G$3:$H$22,2,FALSE),\"\")","v":""}]
[" 02-15-18","02",null,"15",null,"18",null,null,null,{"$f":"IFERROR(VLOOKUP(I703,設定・基礎!$G$3:$H$22,2,FALSE),\"\")","v":""}]
[" 02-15-19","02",null,"15",null,"19",null,null,null,{"$f":"IFERROR(VLOOKUP(I704,設定・基礎!$G$3:$H$22,2,FALSE),\"\")","v":""}]
[" 02-15-20","02",null,"15",null,"20",null,null,null,{"$f":"IFERROR(VLOOKUP(I705,設定・基礎!$G$3:$H$22,2,FALSE),\"\")","v":""}]
[" 02-16-01","02",null,"16",null,"01",null,null,null,{"$f":"IFERROR(VLOOKUP(I706,設定・基礎!$G$3:$H$22,2,FALSE),\"\")","v":""}]
[" 02-16-02","02",null,"16",null,"02",null,null,null,{"$f":"IFERROR(VLOOKUP(I707,設定・基礎!$G$3:$H$22,2,FALSE),\"\")","v":""}]
[" 02-16-03","02",null,"16",null,"03",null,null,null,{"$f":"IFERROR(VLOOKUP(I708,設定・基礎!$G$3:$H$22,2,FALSE),\"\")","v":""}]
[" 02-16-04","02",null,"16",null,"04",null,null,null,{"$f":"IFERROR(VLOOKUP(I709,設定・基礎!$G$3:$H$22,2,FALSE),\"\")","v":""}]
[" 02-16-05","02",null,"16",null,"05",null,null,null,{"$f":"IFERROR(VLOOKUP(I710,設定・基礎!$G$3:$H$22,2,FALSE),\"\")","v":""}]
[" 02-16-06","02",null,"16",null,"06",null,null,null,{"$f":"IFERROR(VLOOKUP(I711,設定・基礎!$G$3:$H$22,2,FALSE),\"\")","v":""}]
[" 02-16-07","02",null,"16",null,"07",null,null,null,{"$f":"IFERROR(VLOOKUP(I712,設定・基礎!$G$3:$H$22,2,FALSE),\"\")","v":""}]
[" 02-16-08","02",null,"16",null,"08",null,null,null,{"$f":"IFERROR(VLOOKUP(I713,設定・基礎!$G$3:$H$22,2,FALSE),\"\")","v":""}]
[" 02-16-09","02",null,"16",null,"09",null,null,null,{"$f":"IFERROR(VLOOKUP(I714,設定・基礎!$G$3:$H$22,2,FALSE),\"\")","v":""}]
[" 02-16-10","02",null,"16",null,"10",null,null,null,{"$f":"IFERROR(VLOOKUP(I715,設定・基礎!$G$3:$H$22,2,FALSE),\"\")","v":""}]
[" 02-16-11","02",null,"16",null,"11",null,null,null,{"$f":"IFERROR(VLOOKUP(I716,設定・基礎!$G$3:$H$22,2,FALSE),\"\")","v":""}]
[" 02-16-12","02",null,"16",null,"12",null,null,null,{"$f":"IFERROR(VLOOKUP(I717,設定・基礎!$G$3:$H$22,2,FALSE),\"\")","v":""}]
[" 02-16-13","02",null,"16",null,"13",null,null,null,{"$f":"IFERROR(VLOOKUP(I718,設定・基礎!$G$3:$H$22,2,FALSE),\"\")","v":""}]
[" 02-16-14","02",null,"16",null,"14",null,null,null,{"$f":"IFERROR(VLOOKUP(I719,設定・基礎!$G$3:$H$22,2,FALSE),\"\")","v":""}]
[" 02-16-15","02",null,"16",null,"15",null,null,null,{"$f":"IFERROR(VLOOKUP(I720,設定・基礎!$G$3:$H$22,2,FALSE),\"\")","v":""}]
[" 02-16-16","02",null,"16",null,"16",null,null,null,{"$f":"IFERROR(VLOOKUP(I721,設定・基礎!$G$3:$H$22,2,FALSE),\"\")","v":""}]
[" 02-16-17","02",null,"16",null,"17",null,null,null,{"$f":"IFERROR(VLOOKUP(I722,設定・基礎!$G$3:$H$22,2,FALSE),\"\")","v":""}]
[" 02-16-18","02",null,"16",null,"18",null,null,null,{"$f":"IFERROR(VLOOKUP(I723,設定・基礎!$G$3:$H$22,2,FALSE),\"\")","v":""}]
[" 02-16-19","02",null,"16",null,"19",null,null,null,{"$f":"IFERROR(VLOOKUP(I724,設定・基礎!$G$3:$H$22,2,FALSE),\"\")","v":""}]
[" 02-16-20","02",null,"16",null,"20",null,null,null,{"$f":"IFERROR(VLOOKUP(I725,設定・基礎!$G$3:$H$22,2,FALSE),\"\")","v":""}]
[" 02-17-01","02",null,"17",null,"01",null,null,null,{"$f":"IFERROR(VLOOKUP(I726,設定・基礎!$G$3:$H$22,2,FALSE),\"\")","v":""}]
[" 02-17-02","02",null,"17",null,"02",null,null,null,{"$f":"IFERROR(VLOOKUP(I727,設定・基礎!$G$3:$H$22,2,FALSE),\"\")","v":""}]
[" 02-17-03","02",null,"17",null,"03",null,null,null,{"$f":"IFERROR(VLOOKUP(I728,設定・基礎!$G$3:$H$22,2,FALSE),\"\")","v":""}]
[" 02-17-04","02",null,"17",null,"04",null,null,null,{"$f":"IFERROR(VLOOKUP(I729,設定・基礎!$G$3:$H$22,2,FALSE),\"\")","v":""}]
[" 02-17-05","02",null,"17",null,"05",null,null,null,{"$f":"IFERROR(VLOOKUP(I730,設定・基礎!$G$3:$H$22,2,FALSE),\"\")","v":""}]
[" 02-17-06","02",null,"17",null,"06",null,null,null,{"$f":"IFERROR(VLOOKUP(I731,設定・基礎!$G$3:$H$22,2,FALSE),\"\")","v":""}]
[" 02-17-07","02",null,"17",null,"07",null,null,null,{"$f":"IFERROR(VLOOKUP(I732,設定・基礎!$G$3:$H$22,2,FALSE),\"\")","v":""}]
[" 02-17-08","02",null,"17",null,"08",null,null,null,{"$f":"IFERROR(VLOOKUP(I733,設定・基礎!$G$3:$H$22,2,FALSE),\"\")","v":""}]
[" 02-17-09","02",null,"17",null,"09",null,null,null,{"$f":"IFERROR(VLOOKUP(I734,設定・基礎!$G$3:$H$22,2,FALSE),\"\")","v":""}]
[" 02-17-10","02",null,"17",null,"10",null,null,null,{"$f":"IFERROR(VLOOKUP(I735,設定・基礎!$G$3:$H$22,2,FALSE),\"\")","v":""}]
[" 02-17-11","02",null,"17",null,"11",null,null,null,{"$f":"IFERROR(VLOOKUP(I736,設定・基礎!$G$3:$H$22,2,FALSE),\"\")","v":""}]
[" 02-17-12","02",null,"17",null,"12",null,null,null,{"$f":"IFERROR(VLOOKUP(I737,設定・基礎!$G$3:$H$22,2,FALSE),\"\")","v":""}]
[" 02-17-13","02",null,"17",null,"13",null,null,null,{"$f":"IFERROR(VLOOKUP(I738,設定・基礎!$G$3:$H$22,2,FALSE),\"\")","v":""}]
[" 02-17-14","02",null,"17",null,"14",null,null,null,{"$f":"IFERROR(VLOOKUP(I739,設定・基礎!$G$3:$H$22,2,FALSE),\"\")","v":""}]
[" 02-17-15","02",null,"17",null,"15",null,null,null,{"$f":"IFERROR(VLOOKUP(I740,設定・基礎!$G$3:$H$22,2,FALSE),\"\")","v":""}]
[" 02-17-16","02",null,"17",null,"16",null,null,null,{"$f":"IFERROR(VLOOKUP(I741,設定・基礎!$G$3:$H$22,2,FALSE),\"\")","v":""}]
[" 02-17-17","02",null,"17",null,"17",null,null,null,{"$f":"IFERROR(VLOOKUP(I742,設定・基礎!$G$3:$H$22,2,FALSE),\"\")","v":""}]
[" 02-17-18","02",null,"17",null,"18",null,null,null,{"$f":"IFERROR(VLOOKUP(I743,設定・基礎!$G$3:$H$22,2,FALSE),\"\")","v":""}]
[" 02-17-19","02",null,"17",null,"19",null,null,null,{"$f":"IFERROR(VLOOKUP(I744,設定・基礎!$G$3:$H$22,2,FALSE),\"\")","v":""}]
[" 02-17-20","02",null,"17",null,"20",null,null,null,{"$f":"IFERROR(VLOOKUP(I745,設定・基礎!$G$3:$H$22,2,FALSE),\"\")","v":""}]
[" 02-18-01","02",null,"18",null,"01",null,null,null,{"$f":"IFERROR(VLOOKUP(I746,設定・基礎!$G$3:$H$22,2,FALSE),\"\")","v":""}]
[" 02-18-02","02",null,"18",null,"02",null,null,null,{"$f":"IFERROR(VLOOKUP(I747,設定・基礎!$G$3:$H$22,2,FALSE),\"\")","v":""}]
[" 02-18-03","02",null,"18",null,"03",null,null,null,{"$f":"IFERROR(VLOOKUP(I748,設定・基礎!$G$3:$H$22,2,FALSE),\"\")","v":""}]
[" 02-18-04","02",null,"18",null,"04",null,null,null,{"$f":"IFERROR(VLOOKUP(I749,設定・基礎!$G$3:$H$22,2,FALSE),\"\")","v":""}]
[" 02-18-05","02",null,"18",null,"05",null,null,null,{"$f":"IFERROR(VLOOKUP(I750,設定・基礎!$G$3:$H$22,2,FALSE),\"\")","v":""}]
[" 02-18-06","02",null,"18",null,"06",null,null,null,{"$f":"IFERROR(VLOOKUP(I751,設定・基礎!$G$3:$H$22,2,FALSE),\"\")","v":""}]
[" 02-18-07","02",null,"18",null,"07",null,null,null,{"$f":"IFERROR(VLOOKUP(I752,設定・基礎!$G$3:$H$22,2,FALSE),\"\")","v":""}]
[" 02-18-08","02",null,"18",null,"08",null,null,null,{"$f":"IFERROR(VLOOKUP(I753,設定・基礎!$G$3:$H$22,2,FALSE),\"\")","v":""}]
[" 02-18-09","02",null,"18",null,"09",null,null,null,{"$f":"IFERROR(VLOOKUP(I754,設定・基礎!$G$3:$H$22,2,FALSE),\"\")","v":""}]
[" 02-18-10","02",null,"18",null,"10",null,null,null,{"$f":"IFERROR(VLOOKUP(I755,設定・基礎!$G$3:$H$22,2,FALSE),\"\")","v":""}]
[" 02-18-11","02",null,"18",null,"11",null,null,null,{"$f":"IFERROR(VLOOKUP(I756,設定・基礎!$G$3:$H$22,2,FALSE),\"\")","v":""}]
[" 02-18-12","02",null,"18",null,"12",null,null,null,{"$f":"IFERROR(VLOOKUP(I757,設定・基礎!$G$3:$H$22,2,FALSE),\"\")","v":""}]
[" 02-18-13","02",null,"18",null,"13",null,null,null,{"$f":"IFERROR(VLOOKUP(I758,設定・基礎!$G$3:$H$22,2,FALSE),\"\")","v":""}]
[" 02-18-14","02",null,"18",null,"14",null,null,null,{"$f":"IFERROR(VLOOKUP(I759,設定・基礎!$G$3:$H$22,2,FALSE),\"\")","v":""}]
[" 02-18-15","02",null,"18",null,"15",null,null,null,{"$f":"IFERROR(VLOOKUP(I760,設定・基礎!$G$3:$H$22,2,FALSE),\"\")","v":""}]
[" 02-18-16","02",null,"18",null,"16",null,null,null,{"$f":"IFERROR(VLOOKUP(I761,設定・基礎!$G$3:$H$22,2,FALSE),\"\")","v":""}]
[" 02-18-17","02",null,"18",null,"17",null,null,null,{"$f":"IFERROR(VLOOKUP(I762,設定・基礎!$G$3:$H$22,2,FALSE),\"\")","v":""}]
[" 02-18-18","02",null,"18",null,"18",null,null,null,{"$f":"IFERROR(VLOOKUP(I763,設定・基礎!$G$3:$H$22,2,FALSE),\"\")","v":""}]
[" 02-18-19","02",null,"18",null,"19",null,null,null,{"$f":"IFERROR(VLOOKUP(I764,設定・基礎!$G$3:$H$22,2,FALSE),\"\")","v":""}]
[" 02-18-20","02",null,"18",null,"20",null,null,null,{"$f":"IFERROR(VLOOKUP(I765,設定・基礎!$G$3:$H$22,2,FALSE),\"\")","v":""}]
[" 02-19-01","02",null,"19",null,"01",null,null,null,{"$f":"IFERROR(VLOOKUP(I766,設定・基礎!$G$3:$H$22,2,FALSE),\"\")","v":""}]
[" 02-19-02","02",null,"19",null,"02",null,null,null,{"$f":"IFERROR(VLOOKUP(I767,設定・基礎!$G$3:$H$22,2,FALSE),\"\")","v":""}]
[" 02-19-03","02",null,"19",null,"03",null,null,null,{"$f":"IFERROR(VLOOKUP(I768,設定・基礎!$G$3:$H$22,2,FALSE),\"\")","v":""}]
[" 02-19-04","02",null,"19",null,"04",null,null,null,{"$f":"IFERROR(VLOOKUP(I769,設定・基礎!$G$3:$H$22,2,FALSE),\"\")","v":""}]
[" 02-19-05","02",null,"19",null,"05",null,null,null,{"$f":"IFERROR(VLOOKUP(I770,設定・基礎!$G$3:$H$22,2,FALSE),\"\")","v":""}]
[" 02-19-06","02",null,"19",null,"06",null,null,null,{"$f":"IFERROR(VLOOKUP(I771,設定・基礎!$G$3:$H$22,2,FALSE),\"\")","v":""}]
[" 02-19-07","02",null,"19",null,"07",null,null,null,{"$f":"IFERROR(VLOOKUP(I772,設定・基礎!$G$3:$H$22,2,FALSE),\"\")","v":""}]
[" 02-19-08","02",null,"19",null,"08",null,null,null,{"$f":"IFERROR(VLOOKUP(I773,設定・基礎!$G$3:$H$22,2,FALSE),\"\")","v":""}]
[" 02-19-09","02",null,"19",null,"09",null,null,null,{"$f":"IFERROR(VLOOKUP(I774,設定・基礎!$G$3:$H$22,2,FALSE),\"\")","v":""}]
[" 02-19-10","02",null,"19",null,"10",null,null,null,{"$f":"IFERROR(VLOOKUP(I775,設定・基礎!$G$3:$H$22,2,FALSE),\"\")","v":""}]
[" 02-19-11","02",null,"19",null,"11",null,null,null,{"$f":"IFERROR(VLOOKUP(I776,設定・基礎!$G$3:$H$22,2,FALSE),\"\")","v":""}]
[" 02-19-12","02",null,"19",null,"12",null,null,null,{"$f":"IFERROR(VLOOKUP(I777,設定・基礎!$G$3:$H$22,2,FALSE),\"\")","v":""}]
[" 02-19-13","02",null,"19",null,"13",null,null,null,{"$f":"IFERROR(VLOOKUP(I778,設定・基礎!$G$3:$H$22,2,FALSE),\"\")","v":""}]
[" 02-19-14","02",null,"19",null,"14",null,null,null,{"$f":"IFERROR(VLOOKUP(I779,設定・基礎!$G$3:$H$22,2,FALSE),\"\")","v":""}]
[" 02-19-15","02",null,"19",null,"15",null,null,null,{"$f":"IFERROR(VLOOKUP(I780,設定・基礎!$G$3:$H$22,2,FALSE),\"\")","v":""}]
[" 02-19-16","02",null,"19",null,"16",null,null,null,{"$f":"IFERROR(VLOOKUP(I781,設定・基礎!$G$3:$H$22,2,FALSE),\"\")","v":""}]
[" 02-19-17","02",null,"19",null,"17",null,null,null,{"$f":"IFERROR(VLOOKUP(I782,設定・基礎!$G$3:$H$22,2,FALSE),\"\")","v":""}]
[" 02-19-18","02",null,"19",null,"18",null,null,null,{"$f":"IFERROR(VLOOKUP(I783,設定・基礎!$G$3:$H$22,2,FALSE),\"\")","v":""}]
[" 02-19-19","02",null,"19",null,"19",null,null,null,{"$f":"IFERROR(VLOOKUP(I784,設定・基礎!$G$3:$H$22,2,FALSE),\"\")","v":""}]
[" 02-19-20","02",null,"19",null,"20",null,null,null,{"$f":"IFERROR(VLOOKUP(I785,設定・基礎!$G$3:$H$22,2,FALSE),\"\")","v":""}]
[" 02-20-01","02",null,"20",null,"01",null,null,null,{"$f":"IFERROR(VLOOKUP(I786,設定・基礎!$G$3:$H$22,2,FALSE),\"\")","v":""}]
[" 02-20-02","02",null,"20",null,"02",null,null,null,{"$f":"IFERROR(VLOOKUP(I787,設定・基礎!$G$3:$H$22,2,FALSE),\"\")","v":""}]
[" 02-20-03","02",null,"20",null,"03",null,null,null,{"$f":"IFERROR(VLOOKUP(I788,設定・基礎!$G$3:$H$22,2,FALSE),\"\")","v":""}]
[" 02-20-04","02",null,"20",null,"04",null,null,null,{"$f":"IFERROR(VLOOKUP(I789,設定・基礎!$G$3:$H$22,2,FALSE),\"\")","v":""}]
[" 02-20-05","02",null,"20",null,"05",null,null,null,{"$f":"IFERROR(VLOOKUP(I790,設定・基礎!$G$3:$H$22,2,FALSE),\"\")","v":""}]
[" 02-20-06","02",null,"20",null,"06",null,null,null,{"$f":"IFERROR(VLOOKUP(I791,設定・基礎!$G$3:$H$22,2,FALSE),\"\")","v":""}]
[" 02-20-07","02",null,"20",null,"07",null,null,null,{"$f":"IFERROR(VLOOKUP(I792,設定・基礎!$G$3:$H$22,2,FALSE),\"\")","v":""}]
[" 02-20-08","02",null,"20",null,"08",null,null,null,{"$f":"IFERROR(VLOOKUP(I793,設定・基礎!$G$3:$H$22,2,FALSE),\"\")","v":""}]
[" 02-20-09","02",null,"20",null,"09",null,null,null,{"$f":"IFERROR(VLOOKUP(I794,設定・基礎!$G$3:$H$22,2,FALSE),\"\")","v":""}]
[" 02-20-10","02",null,"20",null,"10",null,null,null,{"$f":"IFERROR(VLOOKUP(I795,設定・基礎!$G$3:$H$22,2,FALSE),\"\")","v":""}]
[" 02-20-11","02",null,"20",null,"11",null,null,null,{"$f":"IFERROR(VLOOKUP(I796,設定・基礎!$G$3:$H$22,2,FALSE),\"\")","v":""}]
[" 02-20-12","02",null,"20",null,"12",null,null,null,{"$f":"IFERROR(VLOOKUP(I797,設定・基礎!$G$3:$H$22,2,FALSE),\"\")","v":""}]
[" 02-20-13","02",null,"20",null,"13",null,null,null,{"$f":"IFERROR(VLOOKUP(I798,設定・基礎!$G$3:$H$22,2,FALSE),\"\")","v":""}]
[" 02-20-14","02",null,"20",null,"14",null,null,null,{"$f":"IFERROR(VLOOKUP(I799,設定・基礎!$G$3:$H$22,2,FALSE),\"\")","v":""}]
[" 02-20-15","02",null,"20",null,"15",null,null,null,{"$f":"IFERROR(VLOOKUP(I800,設定・基礎!$G$3:$H$22,2,FALSE),\"\")","v":""}]
[" 02-20-16","02",null,"20",null,"16",null,null,null,{"$f":"IFERROR(VLOOKUP(I801,設定・基礎!$G$3:$H$22,2,FALSE),\"\")","v":""}]
[" 02-20-17","02",null,"20",null,"17",null,null,null,{"$f":"IFERROR(VLOOKUP(I802,設定・基礎!$G$3:$H$22,2,FALSE),\"\")","v":""}]
[" 02-20-18","02",null,"20",null,"18",null,null,null,{"$f":"IFERROR(VLOOKUP(I803,設定・基礎!$G$3:$H$22,2,FALSE),\"\")","v":""}]
[" 02-20-19","02",null,"20",null,"19",null,null,null,{"$f":"IFERROR(VLOOKUP(I804,設定・基礎!$G$3:$H$22,2,FALSE),\"\")","v":""}]
[" 02-20-20","02",null,"20",null,"20",null,null,null,{"$f":"IFERROR(VLOOKUP(I805,設定・基礎!$G$3:$H$22,2,FALSE),\"\")","v":""}]
[" 03-01-01","03","研修事務Ⅰ","01","研修事務","01","◆研修Ⅰ◆","◆研修Ⅰ◆","５年",{"$f":"IFERROR(VLOOKUP(I806,設定・基礎!$G$3:$H$22,2,FALSE),\"\")","v":"⑤"}]
[" 03-01-02","03",null,"01",null,"02","研修事務システム設定（受講願等）","研修ｼｽﾃﾑ設定","５年",{"$f":"IFERROR(VLOOKUP(I807,設定・基礎!$G$3:$H$22,2,FALSE),\"\")","v":"⑤"}]
[" 03-01-03","03",null,"01",null,"03","研修事務要領（冊子・様式集）","研修事務要領","５年",{"$f":"IFERROR(VLOOKUP(I808,設定・基礎!$G$3:$H$22,2,FALSE),\"\")","v":"⑤"}]
[" 03-01-04","03",null,"01",null,"04","研修事務担当者会（教育事務所）","研修担当者会（所外）","５年",{"$f":"IFERROR(VLOOKUP(I809,設定・基礎!$G$3:$H$22,2,FALSE),\"\")","v":"⑤"}]
[" 03-01-05","03",null,"01",null,"05","研修事務担当者会（所内）・所員説明会","研修担当者会（所内）","５年",{"$f":"IFERROR(VLOOKUP(I810,設定・基礎!$G$3:$H$22,2,FALSE),\"\")","v":"⑤"}]
[" 03-01-06","03",null,"01",null,"06","研修室の使用計画","研修室使用計画","５年",{"$f":"IFERROR(VLOOKUP(I811,設定・基礎!$G$3:$H$22,2,FALSE),\"\")","v":"⑤"}]
[" 03-01-07","03",null,"01",null,"07","講師依頼（教育事務所分）小・中教員等","講師依頼（教育事務所分）","５年",{"$f":"IFERROR(VLOOKUP(I812,設定・基礎!$G$3:$H$22,2,FALSE),\"\")","v":"⑤"}]
[" 03-01-08","03",null,"01",null,"08","貸館","貸館","５年",{"$f":"IFERROR(VLOOKUP(I813,設定・基礎!$G$3:$H$22,2,FALSE),\"\")","v":"⑤"}]
[" 03-01-09","03",null,"01",null,"09","駐車場相互利用","駐車場","５年",{"$f":"IFERROR(VLOOKUP(I814,設定・基礎!$G$3:$H$22,2,FALSE),\"\")","v":"⑤"}]
[" 03-01-10","03",null,"01",null,"10","修了者台帳","修了者台帳","20年",{"$f":"IFERROR(VLOOKUP(I815,設定・基礎!$G$3:$H$22,2,FALSE),\"\")","v":"⑳"}]
[" 03-01-11","03",null,"01",null,"11",null,null,null,{"$f":"IFERROR(VLOOKUP(I816,設定・基礎!$G$3:$H$22,2,FALSE),\"\")","v":""}]
[" 03-01-12","03",null,"01",null,"12",null,null,null,{"$f":"IFERROR(VLOOKUP(I817,設定・基礎!$G$3:$H$22,2,FALSE),\"\")","v":""}]
[" 03-01-13","03",null,"01",null,"13",null,null,null,{"$f":"IFERROR(VLOOKUP(I818,設定・基礎!$G$3:$H$22,2,FALSE),\"\")","v":""}]
[" 03-01-14","03",null,"01",null,"14",null,null,null,{"$f":"IFERROR(VLOOKUP(I819,設定・基礎!$G$3:$H$22,2,FALSE),\"\")","v":""}]
[" 03-01-15","03",null,"01",null,"15",null,null,null,{"$f":"IFERROR(VLOOKUP(I820,設定・基礎!$G$3:$H$22,2,FALSE),\"\")","v":""}]
[" 03-01-16","03",null,"01",null,"16",null,null,null,{"$f":"IFERROR(VLOOKUP(I821,設定・基礎!$G$3:$H$22,2,FALSE),\"\")","v":""}]
[" 03-01-17","03",null,"01",null,"17",null,null,null,{"$f":"IFERROR(VLOOKUP(I822,設定・基礎!$G$3:$H$22,2,FALSE),\"\")","v":""}]
[" 03-01-18","03",null,"01",null,"18",null,null,null,{"$f":"IFERROR(VLOOKUP(I823,設定・基礎!$G$3:$H$22,2,FALSE),\"\")","v":""}]
[" 03-01-19","03",null,"01",null,"19",null,null,null,{"$f":"IFERROR(VLOOKUP(I824,設定・基礎!$G$3:$H$22,2,FALSE),\"\")","v":""}]
[" 03-01-20","03",null,"01",null,"20",null,null,null,{"$f":"IFERROR(VLOOKUP(I825,設定・基礎!$G$3:$H$22,2,FALSE),\"\")","v":""}]
[" 03-02-01","03",null,"02","受講決定","01","◆受講決定◆","◆受講決定◆","１年",{"$f":"IFERROR(VLOOKUP(I826,設定・基礎!$G$3:$H$22,2,FALSE),\"\")","v":"①"}]
[" 03-02-02","03",null,"02",null,"02","受講決定通知文　起案・施行","受講決定通知文","１年",{"$f":"IFERROR(VLOOKUP(I827,設定・基礎!$G$3:$H$22,2,FALSE),\"\")","v":"①"}]
[" 03-02-03","03",null,"02",null,"03","受講人数一覧表","受講人数一覧表","１年",{"$f":"IFERROR(VLOOKUP(I828,設定・基礎!$G$3:$H$22,2,FALSE),\"\")","v":"①"}]
[" 03-02-04","03",null,"02",null,"04","受講決定①　募集期間","受講決定①募集期間","１年",{"$f":"IFERROR(VLOOKUP(I829,設定・基礎!$G$3:$H$22,2,FALSE),\"\")","v":"①"}]
[" 03-02-05","03",null,"02",null,"05","受講決定②　追加募集６月①","受講決定②追加６月","１年",{"$f":"IFERROR(VLOOKUP(I830,設定・基礎!$G$3:$H$22,2,FALSE),\"\")","v":"①"}]
[" 03-02-06","03",null,"02",null,"06","受講決定③　追加募集６月②","受講決定③追加６月","１年",{"$f":"IFERROR(VLOOKUP(I831,設定・基礎!$G$3:$H$22,2,FALSE),\"\")","v":"①"}]
[" 03-02-07","03",null,"02",null,"07","受講決定④　追加募集６月③","受講決定④追加6月","１年",{"$f":"IFERROR(VLOOKUP(I832,設定・基礎!$G$3:$H$22,2,FALSE),\"\")","v":"①"}]
[" 03-02-08","03",null,"02",null,"08","受講決定⑤　追加募集７月①","受講決定⑤追加6月","１年",{"$f":"IFERROR(VLOOKUP(I833,設定・基礎!$G$3:$H$22,2,FALSE),\"\")","v":"①"}]
[" 03-02-09","03",null,"02",null,"09","受講決定⑥　追加募集７月②","受講決定⑥追加７月","１年",{"$f":"IFERROR(VLOOKUP(I834,設定・基礎!$G$3:$H$22,2,FALSE),\"\")","v":"①"}]
[" 03-02-10","03",null,"02",null,"10","受講決定⑦　追加募集８月①","受講決定⑦追加８月","１年",{"$f":"IFERROR(VLOOKUP(I835,設定・基礎!$G$3:$H$22,2,FALSE),\"\")","v":"①"}]
[" 03-02-11","03",null,"02",null,"11","受講決定⑧　追加募集８月②","受講決定⑧追加８月","１年",{"$f":"IFERROR(VLOOKUP(I836,設定・基礎!$G$3:$H$22,2,FALSE),\"\")","v":"①"}]
[" 03-02-12","03",null,"02",null,"12","受講決定⑨　追加募集９月①","受講決定⑨追加９月","１年",{"$f":"IFERROR(VLOOKUP(I837,設定・基礎!$G$3:$H$22,2,FALSE),\"\")","v":"①"}]
[" 03-02-13","03",null,"02",null,"13","受講決定⑩　追加募集９月②","受講決定⑩追加９月","１年",{"$f":"IFERROR(VLOOKUP(I838,設定・基礎!$G$3:$H$22,2,FALSE),\"\")","v":"①"}]
[" 03-02-14","03",null,"02",null,"14","受講決定⑪　追加募集10月①","受講決定⑪追加１０月","１年",{"$f":"IFERROR(VLOOKUP(I839,設定・基礎!$G$3:$H$22,2,FALSE),\"\")","v":"①"}]
[" 03-02-15","03",null,"02",null,"15","受講決定⑫　追加募集１１・１２・1月","受講決定⑫追加11・12・１月","１年",{"$f":"IFERROR(VLOOKUP(I840,設定・基礎!$G$3:$H$22,2,FALSE),\"\")","v":"①"}]
[" 03-02-16","03",null,"02",null,"16",null,null,null,{"$f":"IFERROR(VLOOKUP(I841,設定・基礎!$G$3:$H$22,2,FALSE),\"\")","v":""}]
[" 03-02-17","03",null,"02",null,"17",null,null,null,{"$f":"IFERROR(VLOOKUP(I842,設定・基礎!$G$3:$H$22,2,FALSE),\"\")","v":""}]
[" 03-02-18","03",null,"02",null,"18",null,null,null,{"$f":"IFERROR(VLOOKUP(I843,設定・基礎!$G$3:$H$22,2,FALSE),\"\")","v":""}]
[" 03-02-19","03",null,"02",null,"19",null,null,null,{"$f":"IFERROR(VLOOKUP(I844,設定・基礎!$G$3:$H$22,2,FALSE),\"\")","v":""}]
[" 03-02-20","03",null,"02",null,"20",null,null,null,{"$f":"IFERROR(VLOOKUP(I845,設定・基礎!$G$3:$H$22,2,FALSE),\"\")","v":""}]
[" 03-03-01","03",null,"03","受講願控","01","◆受講願控◆","◆受講願控◆","１年",{"$f":"IFERROR(VLOOKUP(I846,設定・基礎!$G$3:$H$22,2,FALSE),\"\")","v":"①"}]
[" 03-03-02","03",null,"03",null,"02","受講願控①　募集期間","受講願控①募集","１年",{"$f":"IFERROR(VLOOKUP(I847,設定・基礎!$G$3:$H$22,2,FALSE),\"\")","v":"①"}]
[" 03-03-03","03",null,"03",null,"03","受講願控②　追加募集","受講願控②追加","１年",{"$f":"IFERROR(VLOOKUP(I848,設定・基礎!$G$3:$H$22,2,FALSE),\"\")","v":"①"}]
[" 03-03-04","03",null,"03",null,"04",null,null,null,{"$f":"IFERROR(VLOOKUP(I849,設定・基礎!$G$3:$H$22,2,FALSE),\"\")","v":""}]
[" 03-03-05","03",null,"03",null,"05",null,null,null,{"$f":"IFERROR(VLOOKUP(I850,設定・基礎!$G$3:$H$22,2,FALSE),\"\")","v":""}]
[" 03-03-06","03",null,"03",null,"06",null,null,null,{"$f":"IFERROR(VLOOKUP(I851,設定・基礎!$G$3:$H$22,2,FALSE),\"\")","v":""}]
[" 03-03-07","03",null,"03",null,"07",null,null,null,{"$f":"IFERROR(VLOOKUP(I852,設定・基礎!$G$3:$H$22,2,FALSE),\"\")","v":""}]
[" 03-03-08","03",null,"03",null,"08",null,null,null,{"$f":"IFERROR(VLOOKUP(I853,設定・基礎!$G$3:$H$22,2,FALSE),\"\")","v":""}]
[" 03-03-09","03",null,"03",null,"09",null,null,null,{"$f":"IFERROR(VLOOKUP(I854,設定・基礎!$G$3:$H$22,2,FALSE),\"\")","v":""}]
[" 03-03-10","03",null,"03",null,"10",null,null,null,{"$f":"IFERROR(VLOOKUP(I855,設定・基礎!$G$3:$H$22,2,FALSE),\"\")","v":""}]
[" 03-03-11","03",null,"03",null,"11",null,null,null,{"$f":"IFERROR(VLOOKUP(I856,設定・基礎!$G$3:$H$22,2,FALSE),\"\")","v":""}]
[" 03-03-12","03",null,"03",null,"12",null,null,null,{"$f":"IFERROR(VLOOKUP(I857,設定・基礎!$G$3:$H$22,2,FALSE),\"\")","v":""}]
[" 03-03-13","03",null,"03",null,"13",null,null,null,{"$f":"IFERROR(VLOOKUP(I858,設定・基礎!$G$3:$H$22,2,FALSE),\"\")","v":""}]
[" 03-03-14","03",null,"03",null,"14",null,null,null,{"$f":"IFERROR(VLOOKUP(I859,設定・基礎!$G$3:$H$22,2,FALSE),\"\")","v":""}]
[" 03-03-15","03",null,"03",null,"15",null,null,null,{"$f":"IFERROR(VLOOKUP(I860,設定・基礎!$G$3:$H$22,2,FALSE),\"\")","v":""}]
[" 03-03-16","03",null,"03",null,"16",null,null,null,{"$f":"IFERROR(VLOOKUP(I861,設定・基礎!$G$3:$H$22,2,FALSE),\"\")","v":""}]
[" 03-03-17","03",null,"03",null,"17",null,null,null,{"$f":"IFERROR(VLOOKUP(I862,設定・基礎!$G$3:$H$22,2,FALSE),\"\")","v":""}]
[" 03-03-18","03",null,"03",null,"18",null,null,null,{"$f":"IFERROR(VLOOKUP(I863,設定・基礎!$G$3:$H$22,2,FALSE),\"\")","v":""}]
[" 03-03-19","03",null,"03",null,"19",null,null,null,{"$f":"IFERROR(VLOOKUP(I864,設定・基礎!$G$3:$H$22,2,FALSE),\"\")","v":""}]
[" 03-03-20","03",null,"03",null,"20",null,null,null,{"$f":"IFERROR(VLOOKUP(I865,設定・基礎!$G$3:$H$22,2,FALSE),\"\")","v":""}]
[" 03-04-01","03",null,"04","実施要項","01","◆実施要項◆","◆実施要項◆","５年",{"$f":"IFERROR(VLOOKUP(I866,設定・基礎!$G$3:$H$22,2,FALSE),\"\")","v":"⑤"}]
[" 03-04-02","03",null,"04",null,"02","実施要項①（選択2000～）","実施要項①（2000～）","５年",{"$f":"IFERROR(VLOOKUP(I867,設定・基礎!$G$3:$H$22,2,FALSE),\"\")","v":"⑤"}]
[" 03-04-03","03",null,"04",null,"03","実施要項②（選択3000～5000）","実施要項②（3000～）","５年",{"$f":"IFERROR(VLOOKUP(I868,設定・基礎!$G$3:$H$22,2,FALSE),\"\")","v":"⑤"}]
[" 03-04-04","03",null,"04",null,"04","実施要項③（選択6000～7000）","実施要項③（6000～）","５年",{"$f":"IFERROR(VLOOKUP(I869,設定・基礎!$G$3:$H$22,2,FALSE),\"\")","v":"⑤"}]
[" 03-04-05","03",null,"04",null,"05","実施要項④（年次8000～8200）","実施要項④（8000～）","５年",{"$f":"IFERROR(VLOOKUP(I870,設定・基礎!$G$3:$H$22,2,FALSE),\"\")","v":"⑤"}]
[" 03-04-06","03",null,"04",null,"06","実施要項⑤（年次8300～8900）","実施要項⑤（8300～）","５年",{"$f":"IFERROR(VLOOKUP(I871,設定・基礎!$G$3:$H$22,2,FALSE),\"\")","v":"⑤"}]
[" 03-04-07","03",null,"04",null,"07","実施要項⑥（その他）","実施要項⑥（その他）","５年",{"$f":"IFERROR(VLOOKUP(I872,設定・基礎!$G$3:$H$22,2,FALSE),\"\")","v":"⑤"}]
[" 03-04-08","03",null,"04",null,"08","初任研、中堅研修等手引書①義務","研修手引書①義務","５年",{"$f":"IFERROR(VLOOKUP(I873,設定・基礎!$G$3:$H$22,2,FALSE),\"\")","v":"⑤"}]
[" 03-04-09","03",null,"04",null,"09","初任研、中堅研修等手引書②高校","研修手引書②高校","５年",{"$f":"IFERROR(VLOOKUP(I874,設定・基礎!$G$3:$H$22,2,FALSE),\"\")","v":"⑤"}]
[" 03-04-10","03",null,"04",null,"10","初任研、中堅研修等手引書③特支","研修手引書③特支他","５年",{"$f":"IFERROR(VLOOKUP(I875,設定・基礎!$G$3:$H$22,2,FALSE),\"\")","v":"⑤"}]
[" 03-04-11","03",null,"04",null,"11","校長・教頭・部長会等資料","校長・部長会等","５年",{"$f":"IFERROR(VLOOKUP(I876,設定・基礎!$G$3:$H$22,2,FALSE),\"\")","v":"⑤"}]
[" 03-04-12","03",null,"04",null,"12",null,null,null,{"$f":"IFERROR(VLOOKUP(I877,設定・基礎!$G$3:$H$22,2,FALSE),\"\")","v":""}]
[" 03-04-13","03",null,"04",null,"13",null,null,null,{"$f":"IFERROR(VLOOKUP(I878,設定・基礎!$G$3:$H$22,2,FALSE),\"\")","v":""}]
[" 03-04-14","03",null,"04",null,"14",null,null,null,{"$f":"IFERROR(VLOOKUP(I879,設定・基礎!$G$3:$H$22,2,FALSE),\"\")","v":""}]
[" 03-04-15","03",null,"04",null,"15",null,null,null,{"$f":"IFERROR(VLOOKUP(I880,設定・基礎!$G$3:$H$22,2,FALSE),\"\")","v":""}]
[" 03-04-16","03",null,"04",null,"16",null,null,null,{"$f":"IFERROR(VLOOKUP(I881,設定・基礎!$G$3:$H$22,2,FALSE),\"\")","v":""}]
[" 03-04-17","03",null,"04",null,"17",null,null,null,{"$f":"IFERROR(VLOOKUP(I882,設定・基礎!$G$3:$H$22,2,FALSE),\"\")","v":""}]
[" 03-04-18","03",null,"04",null,"18",null,null,null,{"$f":"IFERROR(VLOOKUP(I883,設定・基礎!$G$3:$H$22,2,FALSE),\"\")","v":""}]
[" 03-04-19","03",null,"04",null,"19",null,null,null,{"$f":"IFERROR(VLOOKUP(I884,設定・基礎!$G$3:$H$22,2,FALSE),\"\")","v":""}]
[" 03-04-20","03",null,"04",null,"20",null,null,null,{"$f":"IFERROR(VLOOKUP(I885,設定・基礎!$G$3:$H$22,2,FALSE),\"\")","v":""}]
[" 03-05-01","03",null,"05","出前研修","01","◆出前研修◆","◆出前研修◆","５年",{"$f":"IFERROR(VLOOKUP(I886,設定・基礎!$G$3:$H$22,2,FALSE),\"\")","v":"⑤"}]
[" 03-05-02","03",null,"05",null,"02","出前研修①　依頼書・報告書","出前研修①依頼報告書","５年",{"$f":"IFERROR(VLOOKUP(I887,設定・基礎!$G$3:$H$22,2,FALSE),\"\")","v":"⑤"}]
[" 03-05-03","03",null,"05",null,"03",null,null,null,{"$f":"IFERROR(VLOOKUP(I888,設定・基礎!$G$3:$H$22,2,FALSE),\"\")","v":""}]
[" 03-05-04","03",null,"05",null,"04",null,null,null,{"$f":"IFERROR(VLOOKUP(I889,設定・基礎!$G$3:$H$22,2,FALSE),\"\")","v":""}]
[" 03-05-05","03",null,"05",null,"05",null,null,null,{"$f":"IFERROR(VLOOKUP(I890,設定・基礎!$G$3:$H$22,2,FALSE),\"\")","v":""}]
[" 03-05-06","03",null,"05",null,"06",null,null,null,{"$f":"IFERROR(VLOOKUP(I891,設定・基礎!$G$3:$H$22,2,FALSE),\"\")","v":""}]
[" 03-05-07","03",null,"05",null,"07",null,null,null,{"$f":"IFERROR(VLOOKUP(I892,設定・基礎!$G$3:$H$22,2,FALSE),\"\")","v":""}]
[" 03-05-08","03",null,"05",null,"08",null,null,null,{"$f":"IFERROR(VLOOKUP(I893,設定・基礎!$G$3:$H$22,2,FALSE),\"\")","v":""}]
[" 03-05-09","03",null,"05",null,"09",null,null,null,{"$f":"IFERROR(VLOOKUP(I894,設定・基礎!$G$3:$H$22,2,FALSE),\"\")","v":""}]
[" 03-05-10","03",null,"05",null,"10",null,null,null,{"$f":"IFERROR(VLOOKUP(I895,設定・基礎!$G$3:$H$22,2,FALSE),\"\")","v":""}]
[" 03-05-11","03",null,"05",null,"11",null,null,null,{"$f":"IFERROR(VLOOKUP(I896,設定・基礎!$G$3:$H$22,2,FALSE),\"\")","v":""}]
[" 03-05-12","03",null,"05",null,"12",null,null,null,{"$f":"IFERROR(VLOOKUP(I897,設定・基礎!$G$3:$H$22,2,FALSE),\"\")","v":""}]
[" 03-05-13","03",null,"05",null,"13",null,null,null,{"$f":"IFERROR(VLOOKUP(I898,設定・基礎!$G$3:$H$22,2,FALSE),\"\")","v":""}]
[" 03-05-14","03",null,"05",null,"14",null,null,null,{"$f":"IFERROR(VLOOKUP(I899,設定・基礎!$G$3:$H$22,2,FALSE),\"\")","v":""}]
[" 03-05-15","03",null,"05",null,"15",null,null,null,{"$f":"IFERROR(VLOOKUP(I900,設定・基礎!$G$3:$H$22,2,FALSE),\"\")","v":""}]
[" 03-05-16","03",null,"05",null,"16",null,null,null,{"$f":"IFERROR(VLOOKUP(I901,設定・基礎!$G$3:$H$22,2,FALSE),\"\")","v":""}]
[" 03-05-17","03",null,"05",null,"17",null,null,null,{"$f":"IFERROR(VLOOKUP(I902,設定・基礎!$G$3:$H$22,2,FALSE),\"\")","v":""}]
[" 03-05-18","03",null,"05",null,"18",null,null,null,{"$f":"IFERROR(VLOOKUP(I903,設定・基礎!$G$3:$H$22,2,FALSE),\"\")","v":""}]
[" 03-05-19","03",null,"05",null,"19",null,null,null,{"$f":"IFERROR(VLOOKUP(I904,設定・基礎!$G$3:$H$22,2,FALSE),\"\")","v":""}]
[" 03-05-20","03",null,"05",null,"20",null,null,null,{"$f":"IFERROR(VLOOKUP(I905,設定・基礎!$G$3:$H$22,2,FALSE),\"\")","v":""}]
[" 03-06-01","03",null,"06","講師派遣","01","◆講師派遣◆","◆講師派遣◆","５年",{"$f":"IFERROR(VLOOKUP(I906,設定・基礎!$G$3:$H$22,2,FALSE),\"\")","v":"⑤"}]
[" 03-06-02","03",null,"06",null,"02","講師派遣①　起案・報告・一覧","講師派遣①起案報告","５年",{"$f":"IFERROR(VLOOKUP(I907,設定・基礎!$G$3:$H$22,2,FALSE),\"\")","v":"⑤"}]
[" 03-06-03","03",null,"06",null,"03",null,null,null,{"$f":"IFERROR(VLOOKUP(I908,設定・基礎!$G$3:$H$22,2,FALSE),\"\")","v":""}]
[" 03-06-04","03",null,"06",null,"04",null,null,null,{"$f":"IFERROR(VLOOKUP(I909,設定・基礎!$G$3:$H$22,2,FALSE),\"\")","v":""}]
[" 03-06-05","03",null,"06",null,"05",null,null,null,{"$f":"IFERROR(VLOOKUP(I910,設定・基礎!$G$3:$H$22,2,FALSE),\"\")","v":""}]
[" 03-06-06","03",null,"06",null,"06",null,null,null,{"$f":"IFERROR(VLOOKUP(I911,設定・基礎!$G$3:$H$22,2,FALSE),\"\")","v":""}]
[" 03-06-07","03",null,"06",null,"07",null,null,null,{"$f":"IFERROR(VLOOKUP(I912,設定・基礎!$G$3:$H$22,2,FALSE),\"\")","v":""}]
[" 03-06-08","03",null,"06",null,"08",null,null,null,{"$f":"IFERROR(VLOOKUP(I913,設定・基礎!$G$3:$H$22,2,FALSE),\"\")","v":""}]
[" 03-06-09","03",null,"06",null,"09",null,null,null,{"$f":"IFERROR(VLOOKUP(I914,設定・基礎!$G$3:$H$22,2,FALSE),\"\")","v":""}]
[" 03-06-10","03",null,"06",null,"10",null,null,null,{"$f":"IFERROR(VLOOKUP(I915,設定・基礎!$G$3:$H$22,2,FALSE),\"\")","v":""}]
[" 03-06-11","03",null,"06",null,"11",null,null,null,{"$f":"IFERROR(VLOOKUP(I916,設定・基礎!$G$3:$H$22,2,FALSE),\"\")","v":""}]
[" 03-06-12","03",null,"06",null,"12",null,null,null,{"$f":"IFERROR(VLOOKUP(I917,設定・基礎!$G$3:$H$22,2,FALSE),\"\")","v":""}]
[" 03-06-13","03",null,"06",null,"13",null,null,null,{"$f":"IFERROR(VLOOKUP(I918,設定・基礎!$G$3:$H$22,2,FALSE),\"\")","v":""}]
[" 03-06-14","03",null,"06",null,"14",null,null,null,{"$f":"IFERROR(VLOOKUP(I919,設定・基礎!$G$3:$H$22,2,FALSE),\"\")","v":""}]
[" 03-06-15","03",null,"06",null,"15",null,null,null,{"$f":"IFERROR(VLOOKUP(I920,設定・基礎!$G$3:$H$22,2,FALSE),\"\")","v":""}]
[" 03-06-16","03",null,"06",null,"16",null,null,null,{"$f":"IFERROR(VLOOKUP(I921,設定・基礎!$G$3:$H$22,2,FALSE),\"\")","v":""}]
[" 03-06-17","03",null,"06",null,"17",null,null,null,{"$f":"IFERROR(VLOOKUP(I922,設定・基礎!$G$3:$H$22,2,FALSE),\"\")","v":""}]
[" 03-06-18","03",null,"06",null,"18",null,null,null,{"$f":"IFERROR(VLOOKUP(I923,設定・基礎!$G$3:$H$22,2,FALSE),\"\")","v":""}]
[" 03-06-19","03",null,"06",null,"19",null,null,null,{"$f":"IFERROR(VLOOKUP(I924,設定・基礎!$G$3:$H$22,2,FALSE),\"\")","v":""}]
[" 03-06-20","03",null,"06",null,"20",null,null,null,{"$f":"IFERROR(VLOOKUP(I925,設定・基礎!$G$3:$H$22,2,FALSE),\"\")","v":""}]
[" 03-07-01","03",null,"07","自由研修","01","◆自由研修◆","◆自由研修◆","５年",{"$f":"IFERROR(VLOOKUP(I926,設定・基礎!$G$3:$H$22,2,FALSE),\"\")","v":"⑤"}]
[" 03-07-02","03",null,"07",null,"02","自由研修①　私学への案内・しおり発送","自由研修①私学案内","５年",{"$f":"IFERROR(VLOOKUP(I927,設定・基礎!$G$3:$H$22,2,FALSE),\"\")","v":"⑤"}]
[" 03-07-03","03",null,"07",null,"03","自由研修②　起案・承認通知・報告書","自由研修②承認","５年",{"$f":"IFERROR(VLOOKUP(I928,設定・基礎!$G$3:$H$22,2,FALSE),\"\")","v":"⑤"}]
[" 03-07-04","03",null,"07",null,"04",null,null,null,{"$f":"IFERROR(VLOOKUP(I929,設定・基礎!$G$3:$H$22,2,FALSE),\"\")","v":""}]
[" 03-07-05","03",null,"07",null,"05",null,null,null,{"$f":"IFERROR(VLOOKUP(I930,設定・基礎!$G$3:$H$22,2,FALSE),\"\")","v":""}]
[" 03-07-06","03",null,"07",null,"06",null,null,null,{"$f":"IFERROR(VLOOKUP(I931,設定・基礎!$G$3:$H$22,2,FALSE),\"\")","v":""}]
[" 03-07-07","03",null,"07",null,"07",null,null,null,{"$f":"IFERROR(VLOOKUP(I932,設定・基礎!$G$3:$H$22,2,FALSE),\"\")","v":""}]
[" 03-07-08","03",null,"07",null,"08",null,null,null,{"$f":"IFERROR(VLOOKUP(I933,設定・基礎!$G$3:$H$22,2,FALSE),\"\")","v":""}]
[" 03-07-09","03",null,"07",null,"09",null,null,null,{"$f":"IFERROR(VLOOKUP(I934,設定・基礎!$G$3:$H$22,2,FALSE),\"\")","v":""}]
[" 03-07-10","03",null,"07",null,"10",null,null,null,{"$f":"IFERROR(VLOOKUP(I935,設定・基礎!$G$3:$H$22,2,FALSE),\"\")","v":""}]
[" 03-07-11","03",null,"07",null,"11",null,null,null,{"$f":"IFERROR(VLOOKUP(I936,設定・基礎!$G$3:$H$22,2,FALSE),\"\")","v":""}]
[" 03-07-12","03",null,"07",null,"12",null,null,null,{"$f":"IFERROR(VLOOKUP(I937,設定・基礎!$G$3:$H$22,2,FALSE),\"\")","v":""}]
[" 03-07-13","03",null,"07",null,"13",null,null,null,{"$f":"IFERROR(VLOOKUP(I938,設定・基礎!$G$3:$H$22,2,FALSE),\"\")","v":""}]
[" 03-07-14","03",null,"07",null,"14",null,null,null,{"$f":"IFERROR(VLOOKUP(I939,設定・基礎!$G$3:$H$22,2,FALSE),\"\")","v":""}]
[" 03-07-15","03",null,"07",null,"15",null,null,null,{"$f":"IFERROR(VLOOKUP(I940,設定・基礎!$G$3:$H$22,2,FALSE),\"\")","v":""}]
[" 03-07-16","03",null,"07",null,"16",null,null,null,{"$f":"IFERROR(VLOOKUP(I941,設定・基礎!$G$3:$H$22,2,FALSE),\"\")","v":""}]
[" 03-07-17","03",null,"07",null,"17",null,null,null,{"$f":"IFERROR(VLOOKUP(I942,設定・基礎!$G$3:$H$22,2,FALSE),\"\")","v":""}]
[" 03-07-18","03",null,"07",null,"18",null,null,null,{"$f":"IFERROR(VLOOKUP(I943,設定・基礎!$G$3:$H$22,2,FALSE),\"\")","v":""}]
[" 03-07-19","03",null,"07",null,"19",null,null,null,{"$f":"IFERROR(VLOOKUP(I944,設定・基礎!$G$3:$H$22,2,FALSE),\"\")","v":""}]
[" 03-07-20","03",null,"07",null,"20",null,null,null,{"$f":"IFERROR(VLOOKUP(I945,設定・基礎!$G$3:$H$22,2,FALSE),\"\")","v":""}]
[" 03-08-01","03",null,"08","公開講座","01","◆公開講座◆","◆公開講座◆","５年",{"$f":"IFERROR(VLOOKUP(I946,設定・基礎!$G$3:$H$22,2,FALSE),\"\")","v":"⑤"}]
[" 03-08-02","03",null,"08",null,"02","公開講座①　年度当初事務、連絡先等","公開講座①年初事務","５年",{"$f":"IFERROR(VLOOKUP(I947,設定・基礎!$G$3:$H$22,2,FALSE),\"\")","v":"⑤"}]
[" 03-08-03","03",null,"08",null,"03","公開講座②　起案(案内)","公開講座②案内","５年",{"$f":"IFERROR(VLOOKUP(I948,設定・基礎!$G$3:$H$22,2,FALSE),\"\")","v":"⑤"}]
[" 03-08-04","03",null,"08",null,"04","公開講座③　受付・当日資料・名簿","公開講座③受付資料名簿","５年",{"$f":"IFERROR(VLOOKUP(I949,設定・基礎!$G$3:$H$22,2,FALSE),\"\")","v":"⑤"}]
[" 03-08-05","03",null,"08",null,"05",null,null,null,{"$f":"IFERROR(VLOOKUP(I950,設定・基礎!$G$3:$H$22,2,FALSE),\"\")","v":""}]
[" 03-08-06","03",null,"08",null,"06",null,null,null,{"$f":"IFERROR(VLOOKUP(I951,設定・基礎!$G$3:$H$22,2,FALSE),\"\")","v":""}]
[" 03-08-07","03",null,"08",null,"07",null,null,null,{"$f":"IFERROR(VLOOKUP(I952,設定・基礎!$G$3:$H$22,2,FALSE),\"\")","v":""}]
[" 03-08-08","03",null,"08",null,"08",null,null,null,{"$f":"IFERROR(VLOOKUP(I953,設定・基礎!$G$3:$H$22,2,FALSE),\"\")","v":""}]
[" 03-08-09","03",null,"08",null,"09",null,null,null,{"$f":"IFERROR(VLOOKUP(I954,設定・基礎!$G$3:$H$22,2,FALSE),\"\")","v":""}]
[" 03-08-10","03",null,"08",null,"10",null,null,null,{"$f":"IFERROR(VLOOKUP(I955,設定・基礎!$G$3:$H$22,2,FALSE),\"\")","v":""}]
[" 03-08-11","03",null,"08",null,"11",null,null,null,{"$f":"IFERROR(VLOOKUP(I956,設定・基礎!$G$3:$H$22,2,FALSE),\"\")","v":""}]
[" 03-08-12","03",null,"08",null,"12",null,null,null,{"$f":"IFERROR(VLOOKUP(I957,設定・基礎!$G$3:$H$22,2,FALSE),\"\")","v":""}]
[" 03-08-13","03",null,"08",null,"13",null,null,null,{"$f":"IFERROR(VLOOKUP(I958,設定・基礎!$G$3:$H$22,2,FALSE),\"\")","v":""}]
[" 03-08-14","03",null,"08",null,"14",null,null,null,{"$f":"IFERROR(VLOOKUP(I959,設定・基礎!$G$3:$H$22,2,FALSE),\"\")","v":""}]
[" 03-08-15","03",null,"08",null,"15",null,null,null,{"$f":"IFERROR(VLOOKUP(I960,設定・基礎!$G$3:$H$22,2,FALSE),\"\")","v":""}]
[" 03-08-16","03",null,"08",null,"16",null,null,null,{"$f":"IFERROR(VLOOKUP(I961,設定・基礎!$G$3:$H$22,2,FALSE),\"\")","v":""}]
[" 03-08-17","03",null,"08",null,"17",null,null,null,{"$f":"IFERROR(VLOOKUP(I962,設定・基礎!$G$3:$H$22,2,FALSE),\"\")","v":""}]
[" 03-08-18","03",null,"08",null,"18",null,null,null,{"$f":"IFERROR(VLOOKUP(I963,設定・基礎!$G$3:$H$22,2,FALSE),\"\")","v":""}]
[" 03-08-19","03",null,"08",null,"19",null,null,null,{"$f":"IFERROR(VLOOKUP(I964,設定・基礎!$G$3:$H$22,2,FALSE),\"\")","v":""}]
[" 03-08-20","03",null,"08",null,"20",null,null,null,{"$f":"IFERROR(VLOOKUP(I965,設定・基礎!$G$3:$H$22,2,FALSE),\"\")","v":""}]
[" 03-09-01","03",null,"09","大学公開","01","◆大学公開◆","◆大学公開◆","５年",{"$f":"IFERROR(VLOOKUP(I966,設定・基礎!$G$3:$H$22,2,FALSE),\"\")","v":"⑤"}]
[" 03-09-02","03",null,"09",null,"02","大学等の公開講座情報収集・公開","大学公開講座","５年",{"$f":"IFERROR(VLOOKUP(I967,設定・基礎!$G$3:$H$22,2,FALSE),\"\")","v":"⑤"}]
[" 03-09-03","03",null,"09",null,"03",null,null,null,{"$f":"IFERROR(VLOOKUP(I968,設定・基礎!$G$3:$H$22,2,FALSE),\"\")","v":""}]
[" 03-09-04","03",null,"09",null,"04",null,null,null,{"$f":"IFERROR(VLOOKUP(I969,設定・基礎!$G$3:$H$22,2,FALSE),\"\")","v":""}]
[" 03-09-05","03",null,"09",null,"05",null,null,null,{"$f":"IFERROR(VLOOKUP(I970,設定・基礎!$G$3:$H$22,2,FALSE),\"\")","v":""}]
[" 03-09-06","03",null,"09",null,"06",null,null,null,{"$f":"IFERROR(VLOOKUP(I971,設定・基礎!$G$3:$H$22,2,FALSE),\"\")","v":""}]
[" 03-09-07","03",null,"09",null,"07",null,null,null,{"$f":"IFERROR(VLOOKUP(I972,設定・基礎!$G$3:$H$22,2,FALSE),\"\")","v":""}]
[" 03-09-08","03",null,"09",null,"08",null,null,null,{"$f":"IFERROR(VLOOKUP(I973,設定・基礎!$G$3:$H$22,2,FALSE),\"\")","v":""}]
[" 03-09-09","03",null,"09",null,"09",null,null,null,{"$f":"IFERROR(VLOOKUP(I974,設定・基礎!$G$3:$H$22,2,FALSE),\"\")","v":""}]
[" 03-09-10","03",null,"09",null,"10",null,null,null,{"$f":"IFERROR(VLOOKUP(I975,設定・基礎!$G$3:$H$22,2,FALSE),\"\")","v":""}]
[" 03-09-11","03",null,"09",null,"11",null,null,null,{"$f":"IFERROR(VLOOKUP(I976,設定・基礎!$G$3:$H$22,2,FALSE),\"\")","v":""}]
[" 03-09-12","03",null,"09",null,"12",null,null,null,{"$f":"IFERROR(VLOOKUP(I977,設定・基礎!$G$3:$H$22,2,FALSE),\"\")","v":""}]
[" 03-09-13","03",null,"09",null,"13",null,null,null,{"$f":"IFERROR(VLOOKUP(I978,設定・基礎!$G$3:$H$22,2,FALSE),\"\")","v":""}]
[" 03-09-14","03",null,"09",null,"14",null,null,null,{"$f":"IFERROR(VLOOKUP(I979,設定・基礎!$G$3:$H$22,2,FALSE),\"\")","v":""}]
[" 03-09-15","03",null,"09",null,"15",null,null,null,{"$f":"IFERROR(VLOOKUP(I980,設定・基礎!$G$3:$H$22,2,FALSE),\"\")","v":""}]
[" 03-09-16","03",null,"09",null,"16",null,null,null,{"$f":"IFERROR(VLOOKUP(I981,設定・基礎!$G$3:$H$22,2,FALSE),\"\")","v":""}]
[" 03-09-17","03",null,"09",null,"17",null,null,null,{"$f":"IFERROR(VLOOKUP(I982,設定・基礎!$G$3:$H$22,2,FALSE),\"\")","v":""}]
[" 03-09-18","03",null,"09",null,"18",null,null,null,{"$f":"IFERROR(VLOOKUP(I983,設定・基礎!$G$3:$H$22,2,FALSE),\"\")","v":""}]
[" 03-09-19","03",null,"09",null,"19",null,null,null,{"$f":"IFERROR(VLOOKUP(I984,設定・基礎!$G$3:$H$22,2,FALSE),\"\")","v":""}]
[" 03-09-20","03",null,"09",null,"20",null,null,null,{"$f":"IFERROR(VLOOKUP(I985,設定・基礎!$G$3:$H$22,2,FALSE),\"\")","v":""}]
[" 03-10-01","03",null,"10",null,"01",null,null,null,{"$f":"IFERROR(VLOOKUP(I986,設定・基礎!$G$3:$H$22,2,FALSE),\"\")","v":""}]
[" 03-10-02","03",null,"10",null,"02",null,null,null,{"$f":"IFERROR(VLOOKUP(I987,設定・基礎!$G$3:$H$22,2,FALSE),\"\")","v":""}]
[" 03-10-03","03",null,"10",null,"03",null,null,null,{"$f":"IFERROR(VLOOKUP(I988,設定・基礎!$G$3:$H$22,2,FALSE),\"\")","v":""}]
[" 03-10-04","03",null,"10",null,"04",null,null,null,{"$f":"IFERROR(VLOOKUP(I989,設定・基礎!$G$3:$H$22,2,FALSE),\"\")","v":""}]
[" 03-10-05","03",null,"10",null,"05",null,null,null,{"$f":"IFERROR(VLOOKUP(I990,設定・基礎!$G$3:$H$22,2,FALSE),\"\")","v":""}]
[" 03-10-06","03",null,"10",null,"06",null,null,null,{"$f":"IFERROR(VLOOKUP(I991,設定・基礎!$G$3:$H$22,2,FALSE),\"\")","v":""}]
[" 03-10-07","03",null,"10",null,"07",null,null,null,{"$f":"IFERROR(VLOOKUP(I992,設定・基礎!$G$3:$H$22,2,FALSE),\"\")","v":""}]
[" 03-10-08","03",null,"10",null,"08",null,null,null,{"$f":"IFERROR(VLOOKUP(I993,設定・基礎!$G$3:$H$22,2,FALSE),\"\")","v":""}]
[" 03-10-09","03",null,"10",null,"09",null,null,null,{"$f":"IFERROR(VLOOKUP(I994,設定・基礎!$G$3:$H$22,2,FALSE),\"\")","v":""}]
[" 03-10-10","03",null,"10",null,"10",null,null,null,{"$f":"IFERROR(VLOOKUP(I995,設定・基礎!$G$3:$H$22,2,FALSE),\"\")","v":""}]
[" 03-10-11","03",null,"10",null,"11",null,null,null,{"$f":"IFERROR(VLOOKUP(I996,設定・基礎!$G$3:$H$22,2,FALSE),\"\")","v":""}]
[" 03-10-12","03",null,"10",null,"12",null,null,null,{"$f":"IFERROR(VLOOKUP(I997,設定・基礎!$G$3:$H$22,2,FALSE),\"\")","v":""}]
[" 03-10-13","03",null,"10",null,"13",null,null,null,{"$f":"IFERROR(VLOOKUP(I998,設定・基礎!$G$3:$H$22,2,FALSE),\"\")","v":""}]
[" 03-10-14","03",null,"10",null,"14",null,null,null,{"$f":"IFERROR(VLOOKUP(I999,設定・基礎!$G$3:$H$22,2,FALSE),\"\")","v":""}]
[" 03-10-15","03",null,"10",null,"15",null,null,null,{"$f":"IFERROR(VLOOKUP(I1000,設定・基礎!$G$3:$H$22,2,FALSE),\"\")","v":""}]
[" 03-10-16","03",null,"10",null,"16",null,null,null,{"$f":"IFERROR(VLOOKUP(I1001,設定・基礎!$G$3:$H$22,2,FALSE),\"\")","v":""}]
[" 03-10-17","03",null,"10",null,"17",null,null,null,{"$f":"IFERROR(VLOOKUP(I1002,設定・基礎!$G$3:$H$22,2,FALSE),\"\")","v":""}]
[" 03-10-18","03",null,"10",null,"18",null,null,null,{"$f":"IFERROR(VLOOKUP(I1003,設定・基礎!$G$3:$H$22,2,FALSE),\"\")","v":""}]
[" 03-10-19","03",null,"10",null,"19",null,null,null,{"$f":"IFERROR(VLOOKUP(I1004,設定・基礎!$G$3:$H$22,2,FALSE),\"\")","v":""}]
[" 03-10-20","03",null,"10",null,"20",null,null,null,{"$f":"IFERROR(VLOOKUP(I1005,設定・基礎!$G$3:$H$22,2,FALSE),\"\")","v":""}]
[" 03-11-01","03",null,"11",null,"01",null,null,null,{"$f":"IFERROR(VLOOKUP(I1006,設定・基礎!$G$3:$H$22,2,FALSE),\"\")","v":""}]
[" 03-11-02","03",null,"11",null,"02",null,null,null,{"$f":"IFERROR(VLOOKUP(I1007,設定・基礎!$G$3:$H$22,2,FALSE),\"\")","v":""}]
[" 03-11-03","03",null,"11",null,"03",null,null,null,{"$f":"IFERROR(VLOOKUP(I1008,設定・基礎!$G$3:$H$22,2,FALSE),\"\")","v":""}]
[" 03-11-04","03",null,"11",null,"04",null,null,null,{"$f":"IFERROR(VLOOKUP(I1009,設定・基礎!$G$3:$H$22,2,FALSE),\"\")","v":""}]
[" 03-11-05","03",null,"11",null,"05",null,null,null,{"$f":"IFERROR(VLOOKUP(I1010,設定・基礎!$G$3:$H$22,2,FALSE),\"\")","v":""}]
[" 03-11-06","03",null,"11",null,"06",null,null,null,{"$f":"IFERROR(VLOOKUP(I1011,設定・基礎!$G$3:$H$22,2,FALSE),\"\")","v":""}]
[" 03-11-07","03",null,"11",null,"07",null,null,null,{"$f":"IFERROR(VLOOKUP(I1012,設定・基礎!$G$3:$H$22,2,FALSE),\"\")","v":""}]
[" 03-11-08","03",null,"11",null,"08",null,null,null,{"$f":"IFERROR(VLOOKUP(I1013,設定・基礎!$G$3:$H$22,2,FALSE),\"\")","v":""}]
[" 03-11-09","03",null,"11",null,"09",null,null,null,{"$f":"IFERROR(VLOOKUP(I1014,設定・基礎!$G$3:$H$22,2,FALSE),\"\")","v":""}]
[" 03-11-10","03",null,"11",null,"10",null,null,null,{"$f":"IFERROR(VLOOKUP(I1015,設定・基礎!$G$3:$H$22,2,FALSE),\"\")","v":""}]
[" 03-11-11","03",null,"11",null,"11",null,null,null,{"$f":"IFERROR(VLOOKUP(I1016,設定・基礎!$G$3:$H$22,2,FALSE),\"\")","v":""}]
[" 03-11-12","03",null,"11",null,"12",null,null,null,{"$f":"IFERROR(VLOOKUP(I1017,設定・基礎!$G$3:$H$22,2,FALSE),\"\")","v":""}]
[" 03-11-13","03",null,"11",null,"13",null,null,null,{"$f":"IFERROR(VLOOKUP(I1018,設定・基礎!$G$3:$H$22,2,FALSE),\"\")","v":""}]
[" 03-11-14","03",null,"11",null,"14",null,null,null,{"$f":"IFERROR(VLOOKUP(I1019,設定・基礎!$G$3:$H$22,2,FALSE),\"\")","v":""}]
[" 03-11-15","03",null,"11",null,"15",null,null,null,{"$f":"IFERROR(VLOOKUP(I1020,設定・基礎!$G$3:$H$22,2,FALSE),\"\")","v":""}]
[" 03-11-16","03",null,"11",null,"16",null,null,null,{"$f":"IFERROR(VLOOKUP(I1021,設定・基礎!$G$3:$H$22,2,FALSE),\"\")","v":""}]
[" 03-11-17","03",null,"11",null,"17",null,null,null,{"$f":"IFERROR(VLOOKUP(I1022,設定・基礎!$G$3:$H$22,2,FALSE),\"\")","v":""}]
[" 03-11-18","03",null,"11",null,"18",null,null,null,{"$f":"IFERROR(VLOOKUP(I1023,設定・基礎!$G$3:$H$22,2,FALSE),\"\")","v":""}]
[" 03-11-19","03",null,"11",null,"19",null,null,null,{"$f":"IFERROR(VLOOKUP(I1024,設定・基礎!$G$3:$H$22,2,FALSE),\"\")","v":""}]
[" 03-11-20","03",null,"11",null,"20",null,null,null,{"$f":"IFERROR(VLOOKUP(I1025,設定・基礎!$G$3:$H$22,2,FALSE),\"\")","v":""}]
[" 03-12-01","03",null,"12",null,"01",null,null,null,{"$f":"IFERROR(VLOOKUP(I1026,設定・基礎!$G$3:$H$22,2,FALSE),\"\")","v":""}]
[" 03-12-02","03",null,"12",null,"02",null,null,null,{"$f":"IFERROR(VLOOKUP(I1027,設定・基礎!$G$3:$H$22,2,FALSE),\"\")","v":""}]
[" 03-12-03","03",null,"12",null,"03",null,null,null,{"$f":"IFERROR(VLOOKUP(I1028,設定・基礎!$G$3:$H$22,2,FALSE),\"\")","v":""}]
[" 03-12-04","03",null,"12",null,"04",null,null,null,{"$f":"IFERROR(VLOOKUP(I1029,設定・基礎!$G$3:$H$22,2,FALSE),\"\")","v":""}]
[" 03-12-05","03",null,"12",null,"05",null,null,null,{"$f":"IFERROR(VLOOKUP(I1030,設定・基礎!$G$3:$H$22,2,FALSE),\"\")","v":""}]
[" 03-12-06","03",null,"12",null,"06",null,null,null,{"$f":"IFERROR(VLOOKUP(I1031,設定・基礎!$G$3:$H$22,2,FALSE),\"\")","v":""}]
[" 03-12-07","03",null,"12",null,"07",null,null,null,{"$f":"IFERROR(VLOOKUP(I1032,設定・基礎!$G$3:$H$22,2,FALSE),\"\")","v":""}]
[" 03-12-08","03",null,"12",null,"08",null,null,null,{"$f":"IFERROR(VLOOKUP(I1033,設定・基礎!$G$3:$H$22,2,FALSE),\"\")","v":""}]
[" 03-12-09","03",null,"12",null,"09",null,null,null,{"$f":"IFERROR(VLOOKUP(I1034,設定・基礎!$G$3:$H$22,2,FALSE),\"\")","v":""}]
[" 03-12-10","03",null,"12",null,"10",null,null,null,{"$f":"IFERROR(VLOOKUP(I1035,設定・基礎!$G$3:$H$22,2,FALSE),\"\")","v":""}]
[" 03-12-11","03",null,"12",null,"11",null,null,null,{"$f":"IFERROR(VLOOKUP(I1036,設定・基礎!$G$3:$H$22,2,FALSE),\"\")","v":""}]
[" 03-12-12","03",null,"12",null,"12",null,null,null,{"$f":"IFERROR(VLOOKUP(I1037,設定・基礎!$G$3:$H$22,2,FALSE),\"\")","v":""}]
[" 03-12-13","03",null,"12",null,"13",null,null,null,{"$f":"IFERROR(VLOOKUP(I1038,設定・基礎!$G$3:$H$22,2,FALSE),\"\")","v":""}]
[" 03-12-14","03",null,"12",null,"14",null,null,null,{"$f":"IFERROR(VLOOKUP(I1039,設定・基礎!$G$3:$H$22,2,FALSE),\"\")","v":""}]
[" 03-12-15","03",null,"12",null,"15",null,null,null,{"$f":"IFERROR(VLOOKUP(I1040,設定・基礎!$G$3:$H$22,2,FALSE),\"\")","v":""}]
[" 03-12-16","03",null,"12",null,"16",null,null,null,{"$f":"IFERROR(VLOOKUP(I1041,設定・基礎!$G$3:$H$22,2,FALSE),\"\")","v":""}]
[" 03-12-17","03",null,"12",null,"17",null,null,null,{"$f":"IFERROR(VLOOKUP(I1042,設定・基礎!$G$3:$H$22,2,FALSE),\"\")","v":""}]
[" 03-12-18","03",null,"12",null,"18",null,null,null,{"$f":"IFERROR(VLOOKUP(I1043,設定・基礎!$G$3:$H$22,2,FALSE),\"\")","v":""}]
[" 03-12-19","03",null,"12",null,"19",null,null,null,{"$f":"IFERROR(VLOOKUP(I1044,設定・基礎!$G$3:$H$22,2,FALSE),\"\")","v":""}]
[" 03-12-20","03",null,"12",null,"20",null,null,null,{"$f":"IFERROR(VLOOKUP(I1045,設定・基礎!$G$3:$H$22,2,FALSE),\"\")","v":""}]
[" 03-13-01","03",null,"13",null,"01",null,null,null,{"$f":"IFERROR(VLOOKUP(I1046,設定・基礎!$G$3:$H$22,2,FALSE),\"\")","v":""}]
[" 03-13-02","03",null,"13",null,"02",null,null,null,{"$f":"IFERROR(VLOOKUP(I1047,設定・基礎!$G$3:$H$22,2,FALSE),\"\")","v":""}]
[" 03-13-03","03",null,"13",null,"03",null,null,null,{"$f":"IFERROR(VLOOKUP(I1048,設定・基礎!$G$3:$H$22,2,FALSE),\"\")","v":""}]
[" 03-13-04","03",null,"13",null,"04",null,null,null,{"$f":"IFERROR(VLOOKUP(I1049,設定・基礎!$G$3:$H$22,2,FALSE),\"\")","v":""}]
[" 03-13-05","03",null,"13",null,"05",null,null,null,{"$f":"IFERROR(VLOOKUP(I1050,設定・基礎!$G$3:$H$22,2,FALSE),\"\")","v":""}]
[" 03-13-06","03",null,"13",null,"06",null,null,null,{"$f":"IFERROR(VLOOKUP(I1051,設定・基礎!$G$3:$H$22,2,FALSE),\"\")","v":""}]
[" 03-13-07","03",null,"13",null,"07",null,null,null,{"$f":"IFERROR(VLOOKUP(I1052,設定・基礎!$G$3:$H$22,2,FALSE),\"\")","v":""}]
[" 03-13-08","03",null,"13",null,"08",null,null,null,{"$f":"IFERROR(VLOOKUP(I1053,設定・基礎!$G$3:$H$22,2,FALSE),\"\")","v":""}]
[" 03-13-09","03",null,"13",null,"09",null,null,null,{"$f":"IFERROR(VLOOKUP(I1054,設定・基礎!$G$3:$H$22,2,FALSE),\"\")","v":""}]
[" 03-13-10","03",null,"13",null,"10",null,null,null,{"$f":"IFERROR(VLOOKUP(I1055,設定・基礎!$G$3:$H$22,2,FALSE),\"\")","v":""}]
[" 03-13-11","03",null,"13",null,"11",null,null,null,{"$f":"IFERROR(VLOOKUP(I1056,設定・基礎!$G$3:$H$22,2,FALSE),\"\")","v":""}]
[" 03-13-12","03",null,"13",null,"12",null,null,null,{"$f":"IFERROR(VLOOKUP(I1057,設定・基礎!$G$3:$H$22,2,FALSE),\"\")","v":""}]
[" 03-13-13","03",null,"13",null,"13",null,null,null,{"$f":"IFERROR(VLOOKUP(I1058,設定・基礎!$G$3:$H$22,2,FALSE),\"\")","v":""}]
[" 03-13-14","03",null,"13",null,"14",null,null,null,{"$f":"IFERROR(VLOOKUP(I1059,設定・基礎!$G$3:$H$22,2,FALSE),\"\")","v":""}]
[" 03-13-15","03",null,"13",null,"15",null,null,null,{"$f":"IFERROR(VLOOKUP(I1060,設定・基礎!$G$3:$H$22,2,FALSE),\"\")","v":""}]
[" 03-13-16","03",null,"13",null,"16",null,null,null,{"$f":"IFERROR(VLOOKUP(I1061,設定・基礎!$G$3:$H$22,2,FALSE),\"\")","v":""}]
[" 03-13-17","03",null,"13",null,"17",null,null,null,{"$f":"IFERROR(VLOOKUP(I1062,設定・基礎!$G$3:$H$22,2,FALSE),\"\")","v":""}]
[" 03-13-18","03",null,"13",null,"18",null,null,null,{"$f":"IFERROR(VLOOKUP(I1063,設定・基礎!$G$3:$H$22,2,FALSE),\"\")","v":""}]
[" 03-13-19","03",null,"13",null,"19",null,null,null,{"$f":"IFERROR(VLOOKUP(I1064,設定・基礎!$G$3:$H$22,2,FALSE),\"\")","v":""}]
[" 03-13-20","03",null,"13",null,"20",null,null,null,{"$f":"IFERROR(VLOOKUP(I1065,設定・基礎!$G$3:$H$22,2,FALSE),\"\")","v":""}]
[" 03-14-01","03",null,"14",null,"01",null,null,null,{"$f":"IFERROR(VLOOKUP(I1066,設定・基礎!$G$3:$H$22,2,FALSE),\"\")","v":""}]
[" 03-14-02","03",null,"14",null,"02",null,null,null,{"$f":"IFERROR(VLOOKUP(I1067,設定・基礎!$G$3:$H$22,2,FALSE),\"\")","v":""}]
[" 03-14-03","03",null,"14",null,"03",null,null,null,{"$f":"IFERROR(VLOOKUP(I1068,設定・基礎!$G$3:$H$22,2,FALSE),\"\")","v":""}]
[" 03-14-04","03",null,"14",null,"04",null,null,null,{"$f":"IFERROR(VLOOKUP(I1069,設定・基礎!$G$3:$H$22,2,FALSE),\"\")","v":""}]
[" 03-14-05","03",null,"14",null,"05",null,null,null,{"$f":"IFERROR(VLOOKUP(I1070,設定・基礎!$G$3:$H$22,2,FALSE),\"\")","v":""}]
[" 03-14-06","03",null,"14",null,"06",null,null,null,{"$f":"IFERROR(VLOOKUP(I1071,設定・基礎!$G$3:$H$22,2,FALSE),\"\")","v":""}]
[" 03-14-07","03",null,"14",null,"07",null,null,null,{"$f":"IFERROR(VLOOKUP(I1072,設定・基礎!$G$3:$H$22,2,FALSE),\"\")","v":""}]
[" 03-14-08","03",null,"14",null,"08",null,null,null,{"$f":"IFERROR(VLOOKUP(I1073,設定・基礎!$G$3:$H$22,2,FALSE),\"\")","v":""}]
[" 03-14-09","03",null,"14",null,"09",null,null,null,{"$f":"IFERROR(VLOOKUP(I1074,設定・基礎!$G$3:$H$22,2,FALSE),\"\")","v":""}]
[" 03-14-10","03",null,"14",null,"10",null,null,null,{"$f":"IFERROR(VLOOKUP(I1075,設定・基礎!$G$3:$H$22,2,FALSE),\"\")","v":""}]
[" 03-14-11","03",null,"14",null,"11",null,null,null,{"$f":"IFERROR(VLOOKUP(I1076,設定・基礎!$G$3:$H$22,2,FALSE),\"\")","v":""}]
[" 03-14-12","03",null,"14",null,"12",null,null,null,{"$f":"IFERROR(VLOOKUP(I1077,設定・基礎!$G$3:$H$22,2,FALSE),\"\")","v":""}]
[" 03-14-13","03",null,"14",null,"13",null,null,null,{"$f":"IFERROR(VLOOKUP(I1078,設定・基礎!$G$3:$H$22,2,FALSE),\"\")","v":""}]
[" 03-14-14","03",null,"14",null,"14",null,null,null,{"$f":"IFERROR(VLOOKUP(I1079,設定・基礎!$G$3:$H$22,2,FALSE),\"\")","v":""}]
[" 03-14-15","03",null,"14",null,"15",null,null,null,{"$f":"IFERROR(VLOOKUP(I1080,設定・基礎!$G$3:$H$22,2,FALSE),\"\")","v":""}]
[" 03-14-16","03",null,"14",null,"16",null,null,null,{"$f":"IFERROR(VLOOKUP(I1081,設定・基礎!$G$3:$H$22,2,FALSE),\"\")","v":""}]
[" 03-14-17","03",null,"14",null,"17",null,null,null,{"$f":"IFERROR(VLOOKUP(I1082,設定・基礎!$G$3:$H$22,2,FALSE),\"\")","v":""}]
[" 03-14-18","03",null,"14",null,"18",null,null,null,{"$f":"IFERROR(VLOOKUP(I1083,設定・基礎!$G$3:$H$22,2,FALSE),\"\")","v":""}]
[" 03-14-19","03",null,"14",null,"19",null,null,null,{"$f":"IFERROR(VLOOKUP(I1084,設定・基礎!$G$3:$H$22,2,FALSE),\"\")","v":""}]
[" 03-14-20","03",null,"14",null,"20",null,null,null,{"$f":"IFERROR(VLOOKUP(I1085,設定・基礎!$G$3:$H$22,2,FALSE),\"\")","v":""}]
[" 03-15-01","03",null,"15",null,"01",null,null,null,{"$f":"IFERROR(VLOOKUP(I1086,設定・基礎!$G$3:$H$22,2,FALSE),\"\")","v":""}]
[" 03-15-02","03",null,"15",null,"02",null,null,null,{"$f":"IFERROR(VLOOKUP(I1087,設定・基礎!$G$3:$H$22,2,FALSE),\"\")","v":""}]
[" 03-15-03","03",null,"15",null,"03",null,null,null,{"$f":"IFERROR(VLOOKUP(I1088,設定・基礎!$G$3:$H$22,2,FALSE),\"\")","v":""}]
[" 03-15-04","03",null,"15",null,"04",null,null,null,{"$f":"IFERROR(VLOOKUP(I1089,設定・基礎!$G$3:$H$22,2,FALSE),\"\")","v":""}]
[" 03-15-05","03",null,"15",null,"05",null,null,null,{"$f":"IFERROR(VLOOKUP(I1090,設定・基礎!$G$3:$H$22,2,FALSE),\"\")","v":""}]
[" 03-15-06","03",null,"15",null,"06",null,null,null,{"$f":"IFERROR(VLOOKUP(I1091,設定・基礎!$G$3:$H$22,2,FALSE),\"\")","v":""}]
[" 03-15-07","03",null,"15",null,"07",null,null,null,{"$f":"IFERROR(VLOOKUP(I1092,設定・基礎!$G$3:$H$22,2,FALSE),\"\")","v":""}]
[" 03-15-08","03",null,"15",null,"08",null,null,null,{"$f":"IFERROR(VLOOKUP(I1093,設定・基礎!$G$3:$H$22,2,FALSE),\"\")","v":""}]
[" 03-15-09","03",null,"15",null,"09",null,null,null,{"$f":"IFERROR(VLOOKUP(I1094,設定・基礎!$G$3:$H$22,2,FALSE),\"\")","v":""}]
[" 03-15-10","03",null,"15",null,"10",null,null,null,{"$f":"IFERROR(VLOOKUP(I1095,設定・基礎!$G$3:$H$22,2,FALSE),\"\")","v":""}]
[" 03-15-11","03",null,"15",null,"11",null,null,null,{"$f":"IFERROR(VLOOKUP(I1096,設定・基礎!$G$3:$H$22,2,FALSE),\"\")","v":""}]
[" 03-15-12","03",null,"15",null,"12",null,null,null,{"$f":"IFERROR(VLOOKUP(I1097,設定・基礎!$G$3:$H$22,2,FALSE),\"\")","v":""}]
[" 03-15-13","03",null,"15",null,"13",null,null,null,{"$f":"IFERROR(VLOOKUP(I1098,設定・基礎!$G$3:$H$22,2,FALSE),\"\")","v":""}]
[" 03-15-14","03",null,"15",null,"14",null,null,null,{"$f":"IFERROR(VLOOKUP(I1099,設定・基礎!$G$3:$H$22,2,FALSE),\"\")","v":""}]
[" 03-15-15","03",null,"15",null,"15",null,null,null,{"$f":"IFERROR(VLOOKUP(I1100,設定・基礎!$G$3:$H$22,2,FALSE),\"\")","v":""}]
[" 03-15-16","03",null,"15",null,"16",null,null,null,{"$f":"IFERROR(VLOOKUP(I1101,設定・基礎!$G$3:$H$22,2,FALSE),\"\")","v":""}]
[" 03-15-17","03",null,"15",null,"17",null,null,null,{"$f":"IFERROR(VLOOKUP(I1102,設定・基礎!$G$3:$H$22,2,FALSE),\"\")","v":""}]
[" 03-15-18","03",null,"15",null,"18",null,null,null,{"$f":"IFERROR(VLOOKUP(I1103,設定・基礎!$G$3:$H$22,2,FALSE),\"\")","v":""}]
[" 03-15-19","03",null,"15",null,"19",null,null,null,{"$f":"IFERROR(VLOOKUP(I1104,設定・基礎!$G$3:$H$22,2,FALSE),\"\")","v":""}]
[" 03-15-20","03",null,"15",null,"20",null,null,null,{"$f":"IFERROR(VLOOKUP(I1105,設定・基礎!$G$3:$H$22,2,FALSE),\"\")","v":""}]
[" 03-16-01","03",null,"16",null,"01",null,null,null,{"$f":"IFERROR(VLOOKUP(I1106,設定・基礎!$G$3:$H$22,2,FALSE),\"\")","v":""}]
[" 03-16-02","03",null,"16",null,"02",null,null,null,{"$f":"IFERROR(VLOOKUP(I1107,設定・基礎!$G$3:$H$22,2,FALSE),\"\")","v":""}]
[" 03-16-03","03",null,"16",null,"03",null,null,null,{"$f":"IFERROR(VLOOKUP(I1108,設定・基礎!$G$3:$H$22,2,FALSE),\"\")","v":""}]
[" 03-16-04","03",null,"16",null,"04",null,null,null,{"$f":"IFERROR(VLOOKUP(I1109,設定・基礎!$G$3:$H$22,2,FALSE),\"\")","v":""}]
[" 03-16-05","03",null,"16",null,"05",null,null,null,{"$f":"IFERROR(VLOOKUP(I1110,設定・基礎!$G$3:$H$22,2,FALSE),\"\")","v":""}]
[" 03-16-06","03",null,"16",null,"06",null,null,null,{"$f":"IFERROR(VLOOKUP(I1111,設定・基礎!$G$3:$H$22,2,FALSE),\"\")","v":""}]
[" 03-16-07","03",null,"16",null,"07",null,null,null,{"$f":"IFERROR(VLOOKUP(I1112,設定・基礎!$G$3:$H$22,2,FALSE),\"\")","v":""}]
[" 03-16-08","03",null,"16",null,"08",null,null,null,{"$f":"IFERROR(VLOOKUP(I1113,設定・基礎!$G$3:$H$22,2,FALSE),\"\")","v":""}]
[" 03-16-09","03",null,"16",null,"09",null,null,null,{"$f":"IFERROR(VLOOKUP(I1114,設定・基礎!$G$3:$H$22,2,FALSE),\"\")","v":""}]
[" 03-16-10","03",null,"16",null,"10",null,null,null,{"$f":"IFERROR(VLOOKUP(I1115,設定・基礎!$G$3:$H$22,2,FALSE),\"\")","v":""}]
[" 03-16-11","03",null,"16",null,"11",null,null,null,{"$f":"IFERROR(VLOOKUP(I1116,設定・基礎!$G$3:$H$22,2,FALSE),\"\")","v":""}]
[" 03-16-12","03",null,"16",null,"12",null,null,null,{"$f":"IFERROR(VLOOKUP(I1117,設定・基礎!$G$3:$H$22,2,FALSE),\"\")","v":""}]
[" 03-16-13","03",null,"16",null,"13",null,null,null,{"$f":"IFERROR(VLOOKUP(I1118,設定・基礎!$G$3:$H$22,2,FALSE),\"\")","v":""}]
[" 03-16-14","03",null,"16",null,"14",null,null,null,{"$f":"IFERROR(VLOOKUP(I1119,設定・基礎!$G$3:$H$22,2,FALSE),\"\")","v":""}]
[" 03-16-15","03",null,"16",null,"15",null,null,null,{"$f":"IFERROR(VLOOKUP(I1120,設定・基礎!$G$3:$H$22,2,FALSE),\"\")","v":""}]
[" 03-16-16","03",null,"16",null,"16",null,null,null,{"$f":"IFERROR(VLOOKUP(I1121,設定・基礎!$G$3:$H$22,2,FALSE),\"\")","v":""}]
[" 03-16-17","03",null,"16",null,"17",null,null,null,{"$f":"IFERROR(VLOOKUP(I1122,設定・基礎!$G$3:$H$22,2,FALSE),\"\")","v":""}]
[" 03-16-18","03",null,"16",null,"18",null,null,null,{"$f":"IFERROR(VLOOKUP(I1123,設定・基礎!$G$3:$H$22,2,FALSE),\"\")","v":""}]
[" 03-16-19","03",null,"16",null,"19",null,null,null,{"$f":"IFERROR(VLOOKUP(I1124,設定・基礎!$G$3:$H$22,2,FALSE),\"\")","v":""}]
[" 03-16-20","03",null,"16",null,"20",null,null,null,{"$f":"IFERROR(VLOOKUP(I1125,設定・基礎!$G$3:$H$22,2,FALSE),\"\")","v":""}]
[" 03-17-01","03",null,"17",null,"01",null,null,null,{"$f":"IFERROR(VLOOKUP(I1126,設定・基礎!$G$3:$H$22,2,FALSE),\"\")","v":""}]
[" 03-17-02","03",null,"17",null,"02",null,null,null,{"$f":"IFERROR(VLOOKUP(I1127,設定・基礎!$G$3:$H$22,2,FALSE),\"\")","v":""}]
[" 03-17-03","03",null,"17",null,"03",null,null,null,{"$f":"IFERROR(VLOOKUP(I1128,設定・基礎!$G$3:$H$22,2,FALSE),\"\")","v":""}]
[" 03-17-04","03",null,"17",null,"04",null,null,null,{"$f":"IFERROR(VLOOKUP(I1129,設定・基礎!$G$3:$H$22,2,FALSE),\"\")","v":""}]
[" 03-17-05","03",null,"17",null,"05",null,null,null,{"$f":"IFERROR(VLOOKUP(I1130,設定・基礎!$G$3:$H$22,2,FALSE),\"\")","v":""}]
[" 03-17-06","03",null,"17",null,"06",null,null,null,{"$f":"IFERROR(VLOOKUP(I1131,設定・基礎!$G$3:$H$22,2,FALSE),\"\")","v":""}]
[" 03-17-07","03",null,"17",null,"07",null,null,null,{"$f":"IFERROR(VLOOKUP(I1132,設定・基礎!$G$3:$H$22,2,FALSE),\"\")","v":""}]
[" 03-17-08","03",null,"17",null,"08",null,null,null,{"$f":"IFERROR(VLOOKUP(I1133,設定・基礎!$G$3:$H$22,2,FALSE),\"\")","v":""}]
[" 03-17-09","03",null,"17",null,"09",null,null,null,{"$f":"IFERROR(VLOOKUP(I1134,設定・基礎!$G$3:$H$22,2,FALSE),\"\")","v":""}]
[" 03-17-10","03",null,"17",null,"10",null,null,null,{"$f":"IFERROR(VLOOKUP(I1135,設定・基礎!$G$3:$H$22,2,FALSE),\"\")","v":""}]
[" 03-17-11","03",null,"17",null,"11",null,null,null,{"$f":"IFERROR(VLOOKUP(I1136,設定・基礎!$G$3:$H$22,2,FALSE),\"\")","v":""}]
[" 03-17-12","03",null,"17",null,"12",null,null,null,{"$f":"IFERROR(VLOOKUP(I1137,設定・基礎!$G$3:$H$22,2,FALSE),\"\")","v":""}]
[" 03-17-13","03",null,"17",null,"13",null,null,null,{"$f":"IFERROR(VLOOKUP(I1138,設定・基礎!$G$3:$H$22,2,FALSE),\"\")","v":""}]
[" 03-17-14","03",null,"17",null,"14",null,null,null,{"$f":"IFERROR(VLOOKUP(I1139,設定・基礎!$G$3:$H$22,2,FALSE),\"\")","v":""}]
[" 03-17-15","03",null,"17",null,"15",null,null,null,{"$f":"IFERROR(VLOOKUP(I1140,設定・基礎!$G$3:$H$22,2,FALSE),\"\")","v":""}]
[" 03-17-16","03",null,"17",null,"16",null,null,null,{"$f":"IFERROR(VLOOKUP(I1141,設定・基礎!$G$3:$H$22,2,FALSE),\"\")","v":""}]
[" 03-17-17","03",null,"17",null,"17",null,null,null,{"$f":"IFERROR(VLOOKUP(I1142,設定・基礎!$G$3:$H$22,2,FALSE),\"\")","v":""}]
[" 03-17-18","03",null,"17",null,"18",null,null,null,{"$f":"IFERROR(VLOOKUP(I1143,設定・基礎!$G$3:$H$22,2,FALSE),\"\")","v":""}]
[" 03-17-19","03",null,"17",null,"19",null,null,null,{"$f":"IFERROR(VLOOKUP(I1144,設定・基礎!$G$3:$H$22,2,FALSE),\"\")","v":""}]
[" 03-17-20","03",null,"17",null,"20",null,null,null,{"$f":"IFERROR(VLOOKUP(I1145,設定・基礎!$G$3:$H$22,2,FALSE),\"\")","v":""}]
[" 03-18-01","03",null,"18",null,"01",null,null,null,{"$f":"IFERROR(VLOOKUP(I1146,設定・基礎!$G$3:$H$22,2,FALSE),\"\")","v":""}]
[" 03-18-02","03",null,"18",null,"02",null,null,null,{"$f":"IFERROR(VLOOKUP(I1147,設定・基礎!$G$3:$H$22,2,FALSE),\"\")","v":""}]
[" 03-18-03","03",null,"18",null,"03",null,null,null,{"$f":"IFERROR(VLOOKUP(I1148,設定・基礎!$G$3:$H$22,2,FALSE),\"\")","v":""}]
[" 03-18-04","03",null,"18",null,"04",null,null,null,{"$f":"IFERROR(VLOOKUP(I1149,設定・基礎!$G$3:$H$22,2,FALSE),\"\")","v":""}]
[" 03-18-05","03",null,"18",null,"05",null,null,null,{"$f":"IFERROR(VLOOKUP(I1150,設定・基礎!$G$3:$H$22,2,FALSE),\"\")","v":""}]
[" 03-18-06","03",null,"18",null,"06",null,null,null,{"$f":"IFERROR(VLOOKUP(I1151,設定・基礎!$G$3:$H$22,2,FALSE),\"\")","v":""}]
[" 03-18-07","03",null,"18",null,"07",null,null,null,{"$f":"IFERROR(VLOOKUP(I1152,設定・基礎!$G$3:$H$22,2,FALSE),\"\")","v":""}]
[" 03-18-08","03",null,"18",null,"08",null,null,null,{"$f":"IFERROR(VLOOKUP(I1153,設定・基礎!$G$3:$H$22,2,FALSE),\"\")","v":""}]
[" 03-18-09","03",null,"18",null,"09",null,null,null,{"$f":"IFERROR(VLOOKUP(I1154,設定・基礎!$G$3:$H$22,2,FALSE),\"\")","v":""}]
[" 03-18-10","03",null,"18",null,"10",null,null,null,{"$f":"IFERROR(VLOOKUP(I1155,設定・基礎!$G$3:$H$22,2,FALSE),\"\")","v":""}]
[" 03-18-11","03",null,"18",null,"11",null,null,null,{"$f":"IFERROR(VLOOKUP(I1156,設定・基礎!$G$3:$H$22,2,FALSE),\"\")","v":""}]
[" 03-18-12","03",null,"18",null,"12",null,null,null,{"$f":"IFERROR(VLOOKUP(I1157,設定・基礎!$G$3:$H$22,2,FALSE),\"\")","v":""}]
[" 03-18-13","03",null,"18",null,"13",null,null,null,{"$f":"IFERROR(VLOOKUP(I1158,設定・基礎!$G$3:$H$22,2,FALSE),\"\")","v":""}]
[" 03-18-14","03",null,"18",null,"14",null,null,null,{"$f":"IFERROR(VLOOKUP(I1159,設定・基礎!$G$3:$H$22,2,FALSE),\"\")","v":""}]
[" 03-18-15","03",null,"18",null,"15",null,null,null,{"$f":"IFERROR(VLOOKUP(I1160,設定・基礎!$G$3:$H$22,2,FALSE),\"\")","v":""}]
[" 03-18-16","03",null,"18",null,"16",null,null,null,{"$f":"IFERROR(VLOOKUP(I1161,設定・基礎!$G$3:$H$22,2,FALSE),\"\")","v":""}]
[" 03-18-17","03",null,"18",null,"17",null,null,null,{"$f":"IFERROR(VLOOKUP(I1162,設定・基礎!$G$3:$H$22,2,FALSE),\"\")","v":""}]
[" 03-18-18","03",null,"18",null,"18",null,null,null,{"$f":"IFERROR(VLOOKUP(I1163,設定・基礎!$G$3:$H$22,2,FALSE),\"\")","v":""}]
[" 03-18-19","03",null,"18",null,"19",null,null,null,{"$f":"IFERROR(VLOOKUP(I1164,設定・基礎!$G$3:$H$22,2,FALSE),\"\")","v":""}]
[" 03-18-20","03",null,"18",null,"20",null,null,null,{"$f":"IFERROR(VLOOKUP(I1165,設定・基礎!$G$3:$H$22,2,FALSE),\"\")","v":""}]
[" 03-19-01","03",null,"19",null,"01",null,null,null,{"$f":"IFERROR(VLOOKUP(I1166,設定・基礎!$G$3:$H$22,2,FALSE),\"\")","v":""}]
[" 03-19-02","03",null,"19",null,"02",null,null,null,{"$f":"IFERROR(VLOOKUP(I1167,設定・基礎!$G$3:$H$22,2,FALSE),\"\")","v":""}]
[" 03-19-03","03",null,"19",null,"03",null,null,null,{"$f":"IFERROR(VLOOKUP(I1168,設定・基礎!$G$3:$H$22,2,FALSE),\"\")","v":""}]
[" 03-19-04","03",null,"19",null,"04",null,null,null,{"$f":"IFERROR(VLOOKUP(I1169,設定・基礎!$G$3:$H$22,2,FALSE),\"\")","v":""}]
[" 03-19-05","03",null,"19",null,"05",null,null,null,{"$f":"IFERROR(VLOOKUP(I1170,設定・基礎!$G$3:$H$22,2,FALSE),\"\")","v":""}]
[" 03-19-06","03",null,"19",null,"06",null,null,null,{"$f":"IFERROR(VLOOKUP(I1171,設定・基礎!$G$3:$H$22,2,FALSE),\"\")","v":""}]
[" 03-19-07","03",null,"19",null,"07",null,null,null,{"$f":"IFERROR(VLOOKUP(I1172,設定・基礎!$G$3:$H$22,2,FALSE),\"\")","v":""}]
[" 03-19-08","03",null,"19",null,"08",null,null,null,{"$f":"IFERROR(VLOOKUP(I1173,設定・基礎!$G$3:$H$22,2,FALSE),\"\")","v":""}]
[" 03-19-09","03",null,"19",null,"09",null,null,null,{"$f":"IFERROR(VLOOKUP(I1174,設定・基礎!$G$3:$H$22,2,FALSE),\"\")","v":""}]
[" 03-19-10","03",null,"19",null,"10",null,null,null,{"$f":"IFERROR(VLOOKUP(I1175,設定・基礎!$G$3:$H$22,2,FALSE),\"\")","v":""}]
[" 03-19-11","03",null,"19",null,"11",null,null,null,{"$f":"IFERROR(VLOOKUP(I1176,設定・基礎!$G$3:$H$22,2,FALSE),\"\")","v":""}]
[" 03-19-12","03",null,"19",null,"12",null,null,null,{"$f":"IFERROR(VLOOKUP(I1177,設定・基礎!$G$3:$H$22,2,FALSE),\"\")","v":""}]
[" 03-19-13","03",null,"19",null,"13",null,null,null,{"$f":"IFERROR(VLOOKUP(I1178,設定・基礎!$G$3:$H$22,2,FALSE),\"\")","v":""}]
[" 03-19-14","03",null,"19",null,"14",null,null,null,{"$f":"IFERROR(VLOOKUP(I1179,設定・基礎!$G$3:$H$22,2,FALSE),\"\")","v":""}]
[" 03-19-15","03",null,"19",null,"15",null,null,null,{"$f":"IFERROR(VLOOKUP(I1180,設定・基礎!$G$3:$H$22,2,FALSE),\"\")","v":""}]
[" 03-19-16","03",null,"19",null,"16",null,null,null,{"$f":"IFERROR(VLOOKUP(I1181,設定・基礎!$G$3:$H$22,2,FALSE),\"\")","v":""}]
[" 03-19-17","03",null,"19",null,"17",null,null,null,{"$f":"IFERROR(VLOOKUP(I1182,設定・基礎!$G$3:$H$22,2,FALSE),\"\")","v":""}]
[" 03-19-18","03",null,"19",null,"18",null,null,null,{"$f":"IFERROR(VLOOKUP(I1183,設定・基礎!$G$3:$H$22,2,FALSE),\"\")","v":""}]
[" 03-19-19","03",null,"19",null,"19",null,null,null,{"$f":"IFERROR(VLOOKUP(I1184,設定・基礎!$G$3:$H$22,2,FALSE),\"\")","v":""}]
[" 03-19-20","03",null,"19",null,"20",null,null,null,{"$f":"IFERROR(VLOOKUP(I1185,設定・基礎!$G$3:$H$22,2,FALSE),\"\")","v":""}]
[" 03-20-01","03",null,"20",null,"01",null,null,null,{"$f":"IFERROR(VLOOKUP(I1186,設定・基礎!$G$3:$H$22,2,FALSE),\"\")","v":""}]
[" 03-20-02","03",null,"20",null,"02",null,null,null,{"$f":"IFERROR(VLOOKUP(I1187,設定・基礎!$G$3:$H$22,2,FALSE),\"\")","v":""}]
[" 03-20-03","03",null,"20",null,"03",null,null,null,{"$f":"IFERROR(VLOOKUP(I1188,設定・基礎!$G$3:$H$22,2,FALSE),\"\")","v":""}]
[" 03-20-04","03",null,"20",null,"04",null,null,null,{"$f":"IFERROR(VLOOKUP(I1189,設定・基礎!$G$3:$H$22,2,FALSE),\"\")","v":""}]
[" 03-20-05","03",null,"20",null,"05",null,null,null,{"$f":"IFERROR(VLOOKUP(I1190,設定・基礎!$G$3:$H$22,2,FALSE),\"\")","v":""}]
[" 03-20-06","03",null,"20",null,"06",null,null,null,{"$f":"IFERROR(VLOOKUP(I1191,設定・基礎!$G$3:$H$22,2,FALSE),\"\")","v":""}]
[" 03-20-07","03",null,"20",null,"07",null,null,null,{"$f":"IFERROR(VLOOKUP(I1192,設定・基礎!$G$3:$H$22,2,FALSE),\"\")","v":""}]
[" 03-20-08","03",null,"20",null,"08",null,null,null,{"$f":"IFERROR(VLOOKUP(I1193,設定・基礎!$G$3:$H$22,2,FALSE),\"\")","v":""}]
[" 03-20-09","03",null,"20",null,"09",null,null,null,{"$f":"IFERROR(VLOOKUP(I1194,設定・基礎!$G$3:$H$22,2,FALSE),\"\")","v":""}]
[" 03-20-10","03",null,"20",null,"10",null,null,null,{"$f":"IFERROR(VLOOKUP(I1195,設定・基礎!$G$3:$H$22,2,FALSE),\"\")","v":""}]
[" 03-20-11","03",null,"20",null,"11",null,null,null,{"$f":"IFERROR(VLOOKUP(I1196,設定・基礎!$G$3:$H$22,2,FALSE),\"\")","v":""}]
[" 03-20-12","03",null,"20",null,"12",null,null,null,{"$f":"IFERROR(VLOOKUP(I1197,設定・基礎!$G$3:$H$22,2,FALSE),\"\")","v":""}]
[" 03-20-13","03",null,"20",null,"13",null,null,null,{"$f":"IFERROR(VLOOKUP(I1198,設定・基礎!$G$3:$H$22,2,FALSE),\"\")","v":""}]
[" 03-20-14","03",null,"20",null,"14",null,null,null,{"$f":"IFERROR(VLOOKUP(I1199,設定・基礎!$G$3:$H$22,2,FALSE),\"\")","v":""}]
[" 03-20-15","03",null,"20",null,"15",null,null,null,{"$f":"IFERROR(VLOOKUP(I1200,設定・基礎!$G$3:$H$22,2,FALSE),\"\")","v":""}]
[" 03-20-16","03",null,"20",null,"16",null,null,null,{"$f":"IFERROR(VLOOKUP(I1201,設定・基礎!$G$3:$H$22,2,FALSE),\"\")","v":""}]
[" 03-20-17","03",null,"20",null,"17",null,null,null,{"$f":"IFERROR(VLOOKUP(I1202,設定・基礎!$G$3:$H$22,2,FALSE),\"\")","v":""}]
[" 03-20-18","03",null,"20",null,"18",null,null,null,{"$f":"IFERROR(VLOOKUP(I1203,設定・基礎!$G$3:$H$22,2,FALSE),\"\")","v":""}]
[" 03-20-19","03",null,"20",null,"19",null,null,null,{"$f":"IFERROR(VLOOKUP(I1204,設定・基礎!$G$3:$H$22,2,FALSE),\"\")","v":""}]
[" 03-20-20","03",null,"20",null,"20",null,null,null,{"$f":"IFERROR(VLOOKUP(I1205,設定・基礎!$G$3:$H$22,2,FALSE),\"\")","v":""}]
[" 04-01-01","04","研修事務Ⅱ","01","研修統計","01","◆研修統計◆","◆研修統計◆","５年",{"$f":"IFERROR(VLOOKUP(I1206,設定・基礎!$G$3:$H$22,2,FALSE),\"\")","v":"⑤"}]
[" 04-01-02","04",null,"01",null,"02","実施報告書①選択研修１","実施報告書①一般研修１","５年",{"$f":"IFERROR(VLOOKUP(I1207,設定・基礎!$G$3:$H$22,2,FALSE),\"\")","v":"⑤"}]
[" 04-01-03","04",null,"01",null,"03","実施報告書②選択研修２","実施報告書②一般研修２","５年",{"$f":"IFERROR(VLOOKUP(I1208,設定・基礎!$G$3:$H$22,2,FALSE),\"\")","v":"⑤"}]
[" 04-01-04","04",null,"01",null,"04","実施報告書③年次職務１","実施報告書③職務研修１","５年",{"$f":"IFERROR(VLOOKUP(I1209,設定・基礎!$G$3:$H$22,2,FALSE),\"\")","v":"⑤"}]
[" 04-01-05","04",null,"01",null,"05","実施報告書④年次職務２","実施報告書④職務研修２","５年",{"$f":"IFERROR(VLOOKUP(I1210,設定・基礎!$G$3:$H$22,2,FALSE),\"\")","v":"⑤"}]
[" 04-01-06","04",null,"01",null,"06","欠席届・遅刻・早退届（選択研修）","欠席届（一般）","１年",{"$f":"IFERROR(VLOOKUP(I1211,設定・基礎!$G$3:$H$22,2,FALSE),\"\")","v":"①"}]
[" 04-01-07","04",null,"01",null,"07",null,null,null,{"$f":"IFERROR(VLOOKUP(I1212,設定・基礎!$G$3:$H$22,2,FALSE),\"\")","v":""}]
[" 04-01-08","04",null,"01",null,"08",null,null,null,{"$f":"IFERROR(VLOOKUP(I1213,設定・基礎!$G$3:$H$22,2,FALSE),\"\")","v":""}]
[" 04-01-09","04",null,"01",null,"09",null,null,null,{"$f":"IFERROR(VLOOKUP(I1214,設定・基礎!$G$3:$H$22,2,FALSE),\"\")","v":""}]
[" 04-01-10","04",null,"01",null,"10",null,null,null,{"$f":"IFERROR(VLOOKUP(I1215,設定・基礎!$G$3:$H$22,2,FALSE),\"\")","v":""}]
[" 04-01-11","04",null,"01",null,"11",null,null,null,{"$f":"IFERROR(VLOOKUP(I1216,設定・基礎!$G$3:$H$22,2,FALSE),\"\")","v":""}]
[" 04-01-12","04",null,"01",null,"12",null,null,null,{"$f":"IFERROR(VLOOKUP(I1217,設定・基礎!$G$3:$H$22,2,FALSE),\"\")","v":""}]
[" 04-01-13","04",null,"01",null,"13",null,null,null,{"$f":"IFERROR(VLOOKUP(I1218,設定・基礎!$G$3:$H$22,2,FALSE),\"\")","v":""}]
[" 04-01-14","04",null,"01",null,"14",null,null,null,{"$f":"IFERROR(VLOOKUP(I1219,設定・基礎!$G$3:$H$22,2,FALSE),\"\")","v":""}]
[" 04-01-15","04",null,"01",null,"15",null,null,null,{"$f":"IFERROR(VLOOKUP(I1220,設定・基礎!$G$3:$H$22,2,FALSE),\"\")","v":""}]
[" 04-01-16","04",null,"01",null,"16",null,null,null,{"$f":"IFERROR(VLOOKUP(I1221,設定・基礎!$G$3:$H$22,2,FALSE),\"\")","v":""}]
[" 04-01-17","04",null,"01",null,"17",null,null,null,{"$f":"IFERROR(VLOOKUP(I1222,設定・基礎!$G$3:$H$22,2,FALSE),\"\")","v":""}]
[" 04-01-18","04",null,"01",null,"18",null,null,null,{"$f":"IFERROR(VLOOKUP(I1223,設定・基礎!$G$3:$H$22,2,FALSE),\"\")","v":""}]
[" 04-01-19","04",null,"01",null,"19",null,null,null,{"$f":"IFERROR(VLOOKUP(I1224,設定・基礎!$G$3:$H$22,2,FALSE),\"\")","v":""}]
[" 04-01-20","04",null,"01",null,"20",null,null,null,{"$f":"IFERROR(VLOOKUP(I1225,設定・基礎!$G$3:$H$22,2,FALSE),\"\")","v":""}]
[" 04-02-01","04",null,"02","研修評価","01","◆研修評価◆","◆研修評価◆","５年",{"$f":"IFERROR(VLOOKUP(I1226,設定・基礎!$G$3:$H$22,2,FALSE),\"\")","v":"⑤"}]
[" 04-02-02","04",null,"02",null,"02","講座評価①一覧（選択研修）","講座評価①一覧","５年",{"$f":"IFERROR(VLOOKUP(I1227,設定・基礎!$G$3:$H$22,2,FALSE),\"\")","v":"⑤"}]
[" 04-02-03","04",null,"02",null,"03","講座評価②選択研修","講座評価②選択","５年",{"$f":"IFERROR(VLOOKUP(I1228,設定・基礎!$G$3:$H$22,2,FALSE),\"\")","v":"⑤"}]
[" 04-02-04","04",null,"02",null,"04","講座評価③年次職務研修","講座評価③職務","５年",{"$f":"IFERROR(VLOOKUP(I1229,設定・基礎!$G$3:$H$22,2,FALSE),\"\")","v":"⑤"}]
[" 04-02-05","04",null,"02",null,"05",null,null,null,{"$f":"IFERROR(VLOOKUP(I1230,設定・基礎!$G$3:$H$22,2,FALSE),\"\")","v":""}]
[" 04-02-06","04",null,"02",null,"06",null,null,null,{"$f":"IFERROR(VLOOKUP(I1231,設定・基礎!$G$3:$H$22,2,FALSE),\"\")","v":""}]
[" 04-02-07","04",null,"02",null,"07",null,null,null,{"$f":"IFERROR(VLOOKUP(I1232,設定・基礎!$G$3:$H$22,2,FALSE),\"\")","v":""}]
[" 04-02-08","04",null,"02",null,"08",null,null,null,{"$f":"IFERROR(VLOOKUP(I1233,設定・基礎!$G$3:$H$22,2,FALSE),\"\")","v":""}]
[" 04-02-09","04",null,"02",null,"09",null,null,null,{"$f":"IFERROR(VLOOKUP(I1234,設定・基礎!$G$3:$H$22,2,FALSE),\"\")","v":""}]
[" 04-02-10","04",null,"02",null,"10",null,null,null,{"$f":"IFERROR(VLOOKUP(I1235,設定・基礎!$G$3:$H$22,2,FALSE),\"\")","v":""}]
[" 04-02-11","04",null,"02",null,"11",null,null,null,{"$f":"IFERROR(VLOOKUP(I1236,設定・基礎!$G$3:$H$22,2,FALSE),\"\")","v":""}]
[" 04-02-12","04",null,"02",null,"12",null,null,null,{"$f":"IFERROR(VLOOKUP(I1237,設定・基礎!$G$3:$H$22,2,FALSE),\"\")","v":""}]
[" 04-02-13","04",null,"02",null,"13",null,null,null,{"$f":"IFERROR(VLOOKUP(I1238,設定・基礎!$G$3:$H$22,2,FALSE),\"\")","v":""}]
[" 04-02-14","04",null,"02",null,"14",null,null,null,{"$f":"IFERROR(VLOOKUP(I1239,設定・基礎!$G$3:$H$22,2,FALSE),\"\")","v":""}]
[" 04-02-15","04",null,"02",null,"15",null,null,null,{"$f":"IFERROR(VLOOKUP(I1240,設定・基礎!$G$3:$H$22,2,FALSE),\"\")","v":""}]
[" 04-02-16","04",null,"02",null,"16",null,null,null,{"$f":"IFERROR(VLOOKUP(I1241,設定・基礎!$G$3:$H$22,2,FALSE),\"\")","v":""}]
[" 04-02-17","04",null,"02",null,"17",null,null,null,{"$f":"IFERROR(VLOOKUP(I1242,設定・基礎!$G$3:$H$22,2,FALSE),\"\")","v":""}]
[" 04-02-18","04",null,"02",null,"18",null,null,null,{"$f":"IFERROR(VLOOKUP(I1243,設定・基礎!$G$3:$H$22,2,FALSE),\"\")","v":""}]
[" 04-02-19","04",null,"02",null,"19",null,null,null,{"$f":"IFERROR(VLOOKUP(I1244,設定・基礎!$G$3:$H$22,2,FALSE),\"\")","v":""}]
[" 04-02-20","04",null,"02",null,"20",null,null,null,{"$f":"IFERROR(VLOOKUP(I1245,設定・基礎!$G$3:$H$22,2,FALSE),\"\")","v":""}]
[" 04-03-01","04",null,"03","講座編成","01","◆講座編成◆","◆講座編成◆","５年",{"$f":"IFERROR(VLOOKUP(I1246,設定・基礎!$G$3:$H$22,2,FALSE),\"\")","v":"⑤"}]
[" 04-03-02","04",null,"03",null,"02","講座設定様式","講座設定様式","５年",{"$f":"IFERROR(VLOOKUP(I1247,設定・基礎!$G$3:$H$22,2,FALSE),\"\")","v":"⑤"}]
[" 04-03-03","04",null,"03",null,"03","講座編成方針・日程・重点的な取り組み","講座編成　方針日程重点","５年",{"$f":"IFERROR(VLOOKUP(I1248,設定・基礎!$G$3:$H$22,2,FALSE),\"\")","v":"⑤"}]
[" 04-03-04","04",null,"03",null,"04","講座編成会議①","講座編成会議①","５年",{"$f":"IFERROR(VLOOKUP(I1249,設定・基礎!$G$3:$H$22,2,FALSE),\"\")","v":"⑤"}]
[" 04-03-05","04",null,"03",null,"05","講座編成会議②","講座編成会議②","５年",{"$f":"IFERROR(VLOOKUP(I1250,設定・基礎!$G$3:$H$22,2,FALSE),\"\")","v":"⑤"}]
[" 04-03-06","04",null,"03",null,"06","講座編成会議③","講座編成会議③","５年",{"$f":"IFERROR(VLOOKUP(I1251,設定・基礎!$G$3:$H$22,2,FALSE),\"\")","v":"⑤"}]
[" 04-03-07","04",null,"03",null,"07","講座編成会議④","講座編成会議④","５年",{"$f":"IFERROR(VLOOKUP(I1252,設定・基礎!$G$3:$H$22,2,FALSE),\"\")","v":"⑤"}]
[" 04-03-08","04",null,"03",null,"08","講座編成会議⑤","講座編成会議⑤","５年",{"$f":"IFERROR(VLOOKUP(I1253,設定・基礎!$G$3:$H$22,2,FALSE),\"\")","v":"⑤"}]
[" 04-03-09","04",null,"03",null,"09","講座日程調整①（本庁各課）","講座日程調整①（本庁各課）","５年",{"$f":"IFERROR(VLOOKUP(I1254,設定・基礎!$G$3:$H$22,2,FALSE),\"\")","v":"⑤"}]
[" 04-03-10","04",null,"03",null,"10","講座日程調整②（所内日程・使用室）","講座日程調整②（日程・部屋）","５年",{"$f":"IFERROR(VLOOKUP(I1255,設定・基礎!$G$3:$H$22,2,FALSE),\"\")","v":"⑤"}]
[" 04-03-11","04",null,"03",null,"11",null,null,null,{"$f":"IFERROR(VLOOKUP(I1256,設定・基礎!$G$3:$H$22,2,FALSE),\"\")","v":""}]
[" 04-03-12","04",null,"03",null,"12",null,null,null,{"$f":"IFERROR(VLOOKUP(I1257,設定・基礎!$G$3:$H$22,2,FALSE),\"\")","v":""}]
[" 04-03-13","04",null,"03",null,"13",null,null,null,{"$f":"IFERROR(VLOOKUP(I1258,設定・基礎!$G$3:$H$22,2,FALSE),\"\")","v":""}]
[" 04-03-14","04",null,"03",null,"14",null,null,null,{"$f":"IFERROR(VLOOKUP(I1259,設定・基礎!$G$3:$H$22,2,FALSE),\"\")","v":""}]
[" 04-03-15","04",null,"03",null,"15",null,null,null,{"$f":"IFERROR(VLOOKUP(I1260,設定・基礎!$G$3:$H$22,2,FALSE),\"\")","v":""}]
[" 04-03-16","04",null,"03",null,"16",null,null,null,{"$f":"IFERROR(VLOOKUP(I1261,設定・基礎!$G$3:$H$22,2,FALSE),\"\")","v":""}]
[" 04-03-17","04",null,"03",null,"17",null,null,null,{"$f":"IFERROR(VLOOKUP(I1262,設定・基礎!$G$3:$H$22,2,FALSE),\"\")","v":""}]
[" 04-03-18","04",null,"03",null,"18",null,null,null,{"$f":"IFERROR(VLOOKUP(I1263,設定・基礎!$G$3:$H$22,2,FALSE),\"\")","v":""}]
[" 04-03-19","04",null,"03",null,"19",null,null,null,{"$f":"IFERROR(VLOOKUP(I1264,設定・基礎!$G$3:$H$22,2,FALSE),\"\")","v":""}]
[" 04-03-20","04",null,"03",null,"20",null,null,null,{"$f":"IFERROR(VLOOKUP(I1265,設定・基礎!$G$3:$H$22,2,FALSE),\"\")","v":""}]
[" 04-04-01","04",null,"04","しおり・P","01","◆しおり・P◆","◆しおり・P◆","５年",{"$f":"IFERROR(VLOOKUP(I1266,設定・基礎!$G$3:$H$22,2,FALSE),\"\")","v":"⑤"}]
[" 04-04-02","04",null,"04",null,"02","しおり作成事務①日程・仕様・業者対応","しおり作成①日程・仕様・業者","５年",{"$f":"IFERROR(VLOOKUP(I1267,設定・基礎!$G$3:$H$22,2,FALSE),\"\")","v":"⑤"}]
[" 04-04-03","04",null,"04",null,"03","しおり作成事務②発送用ラベル作成","しおり作成②発送用ﾗﾍﾞﾙ","５年",{"$f":"IFERROR(VLOOKUP(I1268,設定・基礎!$G$3:$H$22,2,FALSE),\"\")","v":"⑤"}]
[" 04-04-04","04",null,"04",null,"04","しおり・ポスター原稿","しおり・P原稿","５年",{"$f":"IFERROR(VLOOKUP(I1269,設定・基礎!$G$3:$H$22,2,FALSE),\"\")","v":"⑤"}]
[" 04-04-05","04",null,"04",null,"05",null,null,null,{"$f":"IFERROR(VLOOKUP(I1270,設定・基礎!$G$3:$H$22,2,FALSE),\"\")","v":""}]
[" 04-04-06","04",null,"04",null,"06",null,null,null,{"$f":"IFERROR(VLOOKUP(I1271,設定・基礎!$G$3:$H$22,2,FALSE),\"\")","v":""}]
[" 04-04-07","04",null,"04",null,"07",null,null,null,{"$f":"IFERROR(VLOOKUP(I1272,設定・基礎!$G$3:$H$22,2,FALSE),\"\")","v":""}]
[" 04-04-08","04",null,"04",null,"08",null,null,null,{"$f":"IFERROR(VLOOKUP(I1273,設定・基礎!$G$3:$H$22,2,FALSE),\"\")","v":""}]
[" 04-04-09","04",null,"04",null,"09",null,null,null,{"$f":"IFERROR(VLOOKUP(I1274,設定・基礎!$G$3:$H$22,2,FALSE),\"\")","v":""}]
[" 04-04-10","04",null,"04",null,"10",null,null,null,{"$f":"IFERROR(VLOOKUP(I1275,設定・基礎!$G$3:$H$22,2,FALSE),\"\")","v":""}]
[" 04-04-11","04",null,"04",null,"11",null,null,null,{"$f":"IFERROR(VLOOKUP(I1276,設定・基礎!$G$3:$H$22,2,FALSE),\"\")","v":""}]
[" 04-04-12","04",null,"04",null,"12",null,null,null,{"$f":"IFERROR(VLOOKUP(I1277,設定・基礎!$G$3:$H$22,2,FALSE),\"\")","v":""}]
[" 04-04-13","04",null,"04",null,"13",null,null,null,{"$f":"IFERROR(VLOOKUP(I1278,設定・基礎!$G$3:$H$22,2,FALSE),\"\")","v":""}]
[" 04-04-14","04",null,"04",null,"14",null,null,null,{"$f":"IFERROR(VLOOKUP(I1279,設定・基礎!$G$3:$H$22,2,FALSE),\"\")","v":""}]
[" 04-04-15","04",null,"04",null,"15",null,null,null,{"$f":"IFERROR(VLOOKUP(I1280,設定・基礎!$G$3:$H$22,2,FALSE),\"\")","v":""}]
[" 04-04-16","04",null,"04",null,"16",null,null,null,{"$f":"IFERROR(VLOOKUP(I1281,設定・基礎!$G$3:$H$22,2,FALSE),\"\")","v":""}]
[" 04-04-17","04",null,"04",null,"17",null,null,null,{"$f":"IFERROR(VLOOKUP(I1282,設定・基礎!$G$3:$H$22,2,FALSE),\"\")","v":""}]
[" 04-04-18","04",null,"04",null,"18",null,null,null,{"$f":"IFERROR(VLOOKUP(I1283,設定・基礎!$G$3:$H$22,2,FALSE),\"\")","v":""}]
[" 04-04-19","04",null,"04",null,"19",null,null,null,{"$f":"IFERROR(VLOOKUP(I1284,設定・基礎!$G$3:$H$22,2,FALSE),\"\")","v":""}]
[" 04-04-20","04",null,"04",null,"20",null,null,null,{"$f":"IFERROR(VLOOKUP(I1285,設定・基礎!$G$3:$H$22,2,FALSE),\"\")","v":""}]
[" 04-05-01","04",null,"05",null,"01",null,null,null,{"$f":"IFERROR(VLOOKUP(I1286,設定・基礎!$G$3:$H$22,2,FALSE),\"\")","v":""}]
[" 04-05-02","04",null,"05",null,"02",null,null,null,{"$f":"IFERROR(VLOOKUP(I1287,設定・基礎!$G$3:$H$22,2,FALSE),\"\")","v":""}]
[" 04-05-03","04",null,"05",null,"03",null,null,null,{"$f":"IFERROR(VLOOKUP(I1288,設定・基礎!$G$3:$H$22,2,FALSE),\"\")","v":""}]
[" 04-05-04","04",null,"05",null,"04",null,null,null,{"$f":"IFERROR(VLOOKUP(I1289,設定・基礎!$G$3:$H$22,2,FALSE),\"\")","v":""}]
[" 04-05-05","04",null,"05",null,"05",null,null,null,{"$f":"IFERROR(VLOOKUP(I1290,設定・基礎!$G$3:$H$22,2,FALSE),\"\")","v":""}]
[" 04-05-06","04",null,"05",null,"06",null,null,null,{"$f":"IFERROR(VLOOKUP(I1291,設定・基礎!$G$3:$H$22,2,FALSE),\"\")","v":""}]
[" 04-05-07","04",null,"05",null,"07",null,null,null,{"$f":"IFERROR(VLOOKUP(I1292,設定・基礎!$G$3:$H$22,2,FALSE),\"\")","v":""}]
[" 04-05-08","04",null,"05",null,"08",null,null,null,{"$f":"IFERROR(VLOOKUP(I1293,設定・基礎!$G$3:$H$22,2,FALSE),\"\")","v":""}]
[" 04-05-09","04",null,"05",null,"09",null,null,null,{"$f":"IFERROR(VLOOKUP(I1294,設定・基礎!$G$3:$H$22,2,FALSE),\"\")","v":""}]
[" 04-05-10","04",null,"05",null,"10",null,null,null,{"$f":"IFERROR(VLOOKUP(I1295,設定・基礎!$G$3:$H$22,2,FALSE),\"\")","v":""}]
[" 04-05-11","04",null,"05",null,"11",null,null,null,{"$f":"IFERROR(VLOOKUP(I1296,設定・基礎!$G$3:$H$22,2,FALSE),\"\")","v":""}]
[" 04-05-12","04",null,"05",null,"12",null,null,null,{"$f":"IFERROR(VLOOKUP(I1297,設定・基礎!$G$3:$H$22,2,FALSE),\"\")","v":""}]
[" 04-05-13","04",null,"05",null,"13",null,null,null,{"$f":"IFERROR(VLOOKUP(I1298,設定・基礎!$G$3:$H$22,2,FALSE),\"\")","v":""}]
[" 04-05-14","04",null,"05",null,"14",null,null,null,{"$f":"IFERROR(VLOOKUP(I1299,設定・基礎!$G$3:$H$22,2,FALSE),\"\")","v":""}]
[" 04-05-15","04",null,"05",null,"15",null,null,null,{"$f":"IFERROR(VLOOKUP(I1300,設定・基礎!$G$3:$H$22,2,FALSE),\"\")","v":""}]
[" 04-05-16","04",null,"05",null,"16",null,null,null,{"$f":"IFERROR(VLOOKUP(I1301,設定・基礎!$G$3:$H$22,2,FALSE),\"\")","v":""}]
[" 04-05-17","04",null,"05",null,"17",null,null,null,{"$f":"IFERROR(VLOOKUP(I1302,設定・基礎!$G$3:$H$22,2,FALSE),\"\")","v":""}]
[" 04-05-18","04",null,"05",null,"18",null,null,null,{"$f":"IFERROR(VLOOKUP(I1303,設定・基礎!$G$3:$H$22,2,FALSE),\"\")","v":""}]
[" 04-05-19","04",null,"05",null,"19",null,null,null,{"$f":"IFERROR(VLOOKUP(I1304,設定・基礎!$G$3:$H$22,2,FALSE),\"\")","v":""}]
[" 04-05-20","04",null,"05",null,"20",null,null,null,{"$f":"IFERROR(VLOOKUP(I1305,設定・基礎!$G$3:$H$22,2,FALSE),\"\")","v":""}]
[" 04-06-01","04",null,"06",null,"01",null,null,null,{"$f":"IFERROR(VLOOKUP(I1306,設定・基礎!$G$3:$H$22,2,FALSE),\"\")","v":""}]
[" 04-06-02","04",null,"06",null,"02",null,null,null,{"$f":"IFERROR(VLOOKUP(I1307,設定・基礎!$G$3:$H$22,2,FALSE),\"\")","v":""}]
[" 04-06-03","04",null,"06",null,"03",null,null,null,{"$f":"IFERROR(VLOOKUP(I1308,設定・基礎!$G$3:$H$22,2,FALSE),\"\")","v":""}]
[" 04-06-04","04",null,"06",null,"04",null,null,null,{"$f":"IFERROR(VLOOKUP(I1309,設定・基礎!$G$3:$H$22,2,FALSE),\"\")","v":""}]
[" 04-06-05","04",null,"06",null,"05",null,null,null,{"$f":"IFERROR(VLOOKUP(I1310,設定・基礎!$G$3:$H$22,2,FALSE),\"\")","v":""}]
[" 04-06-06","04",null,"06",null,"06",null,null,null,{"$f":"IFERROR(VLOOKUP(I1311,設定・基礎!$G$3:$H$22,2,FALSE),\"\")","v":""}]
[" 04-06-07","04",null,"06",null,"07",null,null,null,{"$f":"IFERROR(VLOOKUP(I1312,設定・基礎!$G$3:$H$22,2,FALSE),\"\")","v":""}]
[" 04-06-08","04",null,"06",null,"08",null,null,null,{"$f":"IFERROR(VLOOKUP(I1313,設定・基礎!$G$3:$H$22,2,FALSE),\"\")","v":""}]
[" 04-06-09","04",null,"06",null,"09",null,null,null,{"$f":"IFERROR(VLOOKUP(I1314,設定・基礎!$G$3:$H$22,2,FALSE),\"\")","v":""}]
[" 04-06-10","04",null,"06",null,"10",null,null,null,{"$f":"IFERROR(VLOOKUP(I1315,設定・基礎!$G$3:$H$22,2,FALSE),\"\")","v":""}]
[" 04-06-11","04",null,"06",null,"11",null,null,null,{"$f":"IFERROR(VLOOKUP(I1316,設定・基礎!$G$3:$H$22,2,FALSE),\"\")","v":""}]
[" 04-06-12","04",null,"06",null,"12",null,null,null,{"$f":"IFERROR(VLOOKUP(I1317,設定・基礎!$G$3:$H$22,2,FALSE),\"\")","v":""}]
[" 04-06-13","04",null,"06",null,"13",null,null,null,{"$f":"IFERROR(VLOOKUP(I1318,設定・基礎!$G$3:$H$22,2,FALSE),\"\")","v":""}]
[" 04-06-14","04",null,"06",null,"14",null,null,null,{"$f":"IFERROR(VLOOKUP(I1319,設定・基礎!$G$3:$H$22,2,FALSE),\"\")","v":""}]
[" 04-06-15","04",null,"06",null,"15",null,null,null,{"$f":"IFERROR(VLOOKUP(I1320,設定・基礎!$G$3:$H$22,2,FALSE),\"\")","v":""}]
[" 04-06-16","04",null,"06",null,"16",null,null,null,{"$f":"IFERROR(VLOOKUP(I1321,設定・基礎!$G$3:$H$22,2,FALSE),\"\")","v":""}]
[" 04-06-17","04",null,"06",null,"17",null,null,null,{"$f":"IFERROR(VLOOKUP(I1322,設定・基礎!$G$3:$H$22,2,FALSE),\"\")","v":""}]
[" 04-06-18","04",null,"06",null,"18",null,null,null,{"$f":"IFERROR(VLOOKUP(I1323,設定・基礎!$G$3:$H$22,2,FALSE),\"\")","v":""}]
[" 04-06-19","04",null,"06",null,"19",null,null,null,{"$f":"IFERROR(VLOOKUP(I1324,設定・基礎!$G$3:$H$22,2,FALSE),\"\")","v":""}]
[" 04-06-20","04",null,"06",null,"20",null,null,null,{"$f":"IFERROR(VLOOKUP(I1325,設定・基礎!$G$3:$H$22,2,FALSE),\"\")","v":""}]
[" 04-07-01","04",null,"07",null,"01",null,null,null,{"$f":"IFERROR(VLOOKUP(I1326,設定・基礎!$G$3:$H$22,2,FALSE),\"\")","v":""}]
[" 04-07-02","04",null,"07",null,"02",null,null,null,{"$f":"IFERROR(VLOOKUP(I1327,設定・基礎!$G$3:$H$22,2,FALSE),\"\")","v":""}]
[" 04-07-03","04",null,"07",null,"03",null,null,null,{"$f":"IFERROR(VLOOKUP(I1328,設定・基礎!$G$3:$H$22,2,FALSE),\"\")","v":""}]
[" 04-07-04","04",null,"07",null,"04",null,null,null,{"$f":"IFERROR(VLOOKUP(I1329,設定・基礎!$G$3:$H$22,2,FALSE),\"\")","v":""}]
[" 04-07-05","04",null,"07",null,"05",null,null,null,{"$f":"IFERROR(VLOOKUP(I1330,設定・基礎!$G$3:$H$22,2,FALSE),\"\")","v":""}]
[" 04-07-06","04",null,"07",null,"06",null,null,null,{"$f":"IFERROR(VLOOKUP(I1331,設定・基礎!$G$3:$H$22,2,FALSE),\"\")","v":""}]
[" 04-07-07","04",null,"07",null,"07",null,null,null,{"$f":"IFERROR(VLOOKUP(I1332,設定・基礎!$G$3:$H$22,2,FALSE),\"\")","v":""}]
[" 04-07-08","04",null,"07",null,"08",null,null,null,{"$f":"IFERROR(VLOOKUP(I1333,設定・基礎!$G$3:$H$22,2,FALSE),\"\")","v":""}]
[" 04-07-09","04",null,"07",null,"09",null,null,null,{"$f":"IFERROR(VLOOKUP(I1334,設定・基礎!$G$3:$H$22,2,FALSE),\"\")","v":""}]
[" 04-07-10","04",null,"07",null,"10",null,null,null,{"$f":"IFERROR(VLOOKUP(I1335,設定・基礎!$G$3:$H$22,2,FALSE),\"\")","v":""}]
[" 04-07-11","04",null,"07",null,"11",null,null,null,{"$f":"IFERROR(VLOOKUP(I1336,設定・基礎!$G$3:$H$22,2,FALSE),\"\")","v":""}]
[" 04-07-12","04",null,"07",null,"12",null,null,null,{"$f":"IFERROR(VLOOKUP(I1337,設定・基礎!$G$3:$H$22,2,FALSE),\"\")","v":""}]
[" 04-07-13","04",null,"07",null,"13",null,null,null,{"$f":"IFERROR(VLOOKUP(I1338,設定・基礎!$G$3:$H$22,2,FALSE),\"\")","v":""}]
[" 04-07-14","04",null,"07",null,"14",null,null,null,{"$f":"IFERROR(VLOOKUP(I1339,設定・基礎!$G$3:$H$22,2,FALSE),\"\")","v":""}]
[" 04-07-15","04",null,"07",null,"15",null,null,null,{"$f":"IFERROR(VLOOKUP(I1340,設定・基礎!$G$3:$H$22,2,FALSE),\"\")","v":""}]
[" 04-07-16","04",null,"07",null,"16",null,null,null,{"$f":"IFERROR(VLOOKUP(I1341,設定・基礎!$G$3:$H$22,2,FALSE),\"\")","v":""}]
[" 04-07-17","04",null,"07",null,"17",null,null,null,{"$f":"IFERROR(VLOOKUP(I1342,設定・基礎!$G$3:$H$22,2,FALSE),\"\")","v":""}]
[" 04-07-18","04",null,"07",null,"18",null,null,null,{"$f":"IFERROR(VLOOKUP(I1343,設定・基礎!$G$3:$H$22,2,FALSE),\"\")","v":""}]
[" 04-07-19","04",null,"07",null,"19",null,null,null,{"$f":"IFERROR(VLOOKUP(I1344,設定・基礎!$G$3:$H$22,2,FALSE),\"\")","v":""}]
[" 04-07-20","04",null,"07",null,"20",null,null,null,{"$f":"IFERROR(VLOOKUP(I1345,設定・基礎!$G$3:$H$22,2,FALSE),\"\")","v":""}]
[" 04-08-01","04",null,"08",null,"01",null,null,null,{"$f":"IFERROR(VLOOKUP(I1346,設定・基礎!$G$3:$H$22,2,FALSE),\"\")","v":""}]
[" 04-08-02","04",null,"08",null,"02",null,null,null,{"$f":"IFERROR(VLOOKUP(I1347,設定・基礎!$G$3:$H$22,2,FALSE),\"\")","v":""}]
[" 04-08-03","04",null,"08",null,"03",null,null,null,{"$f":"IFERROR(VLOOKUP(I1348,設定・基礎!$G$3:$H$22,2,FALSE),\"\")","v":""}]
[" 04-08-04","04",null,"08",null,"04",null,null,null,{"$f":"IFERROR(VLOOKUP(I1349,設定・基礎!$G$3:$H$22,2,FALSE),\"\")","v":""}]
[" 04-08-05","04",null,"08",null,"05",null,null,null,{"$f":"IFERROR(VLOOKUP(I1350,設定・基礎!$G$3:$H$22,2,FALSE),\"\")","v":""}]
[" 04-08-06","04",null,"08",null,"06",null,null,null,{"$f":"IFERROR(VLOOKUP(I1351,設定・基礎!$G$3:$H$22,2,FALSE),\"\")","v":""}]
[" 04-08-07","04",null,"08",null,"07",null,null,null,{"$f":"IFERROR(VLOOKUP(I1352,設定・基礎!$G$3:$H$22,2,FALSE),\"\")","v":""}]
[" 04-08-08","04",null,"08",null,"08",null,null,null,{"$f":"IFERROR(VLOOKUP(I1353,設定・基礎!$G$3:$H$22,2,FALSE),\"\")","v":""}]
[" 04-08-09","04",null,"08",null,"09",null,null,null,{"$f":"IFERROR(VLOOKUP(I1354,設定・基礎!$G$3:$H$22,2,FALSE),\"\")","v":""}]
[" 04-08-10","04",null,"08",null,"10",null,null,null,{"$f":"IFERROR(VLOOKUP(I1355,設定・基礎!$G$3:$H$22,2,FALSE),\"\")","v":""}]
[" 04-08-11","04",null,"08",null,"11",null,null,null,{"$f":"IFERROR(VLOOKUP(I1356,設定・基礎!$G$3:$H$22,2,FALSE),\"\")","v":""}]
[" 04-08-12","04",null,"08",null,"12",null,null,null,{"$f":"IFERROR(VLOOKUP(I1357,設定・基礎!$G$3:$H$22,2,FALSE),\"\")","v":""}]
[" 04-08-13","04",null,"08",null,"13",null,null,null,{"$f":"IFERROR(VLOOKUP(I1358,設定・基礎!$G$3:$H$22,2,FALSE),\"\")","v":""}]
[" 04-08-14","04",null,"08",null,"14",null,null,null,{"$f":"IFERROR(VLOOKUP(I1359,設定・基礎!$G$3:$H$22,2,FALSE),\"\")","v":""}]
[" 04-08-15","04",null,"08",null,"15",null,null,null,{"$f":"IFERROR(VLOOKUP(I1360,設定・基礎!$G$3:$H$22,2,FALSE),\"\")","v":""}]
[" 04-08-16","04",null,"08",null,"16",null,null,null,{"$f":"IFERROR(VLOOKUP(I1361,設定・基礎!$G$3:$H$22,2,FALSE),\"\")","v":""}]
[" 04-08-17","04",null,"08",null,"17",null,null,null,{"$f":"IFERROR(VLOOKUP(I1362,設定・基礎!$G$3:$H$22,2,FALSE),\"\")","v":""}]
[" 04-08-18","04",null,"08",null,"18",null,null,null,{"$f":"IFERROR(VLOOKUP(I1363,設定・基礎!$G$3:$H$22,2,FALSE),\"\")","v":""}]
[" 04-08-19","04",null,"08",null,"19",null,null,null,{"$f":"IFERROR(VLOOKUP(I1364,設定・基礎!$G$3:$H$22,2,FALSE),\"\")","v":""}]
[" 04-08-20","04",null,"08",null,"20",null,null,null,{"$f":"IFERROR(VLOOKUP(I1365,設定・基礎!$G$3:$H$22,2,FALSE),\"\")","v":""}]
[" 04-09-01","04",null,"09",null,"01",null,null,null,{"$f":"IFERROR(VLOOKUP(I1366,設定・基礎!$G$3:$H$22,2,FALSE),\"\")","v":""}]
[" 04-09-02","04",null,"09",null,"02",null,null,null,{"$f":"IFERROR(VLOOKUP(I1367,設定・基礎!$G$3:$H$22,2,FALSE),\"\")","v":""}]
[" 04-09-03","04",null,"09",null,"03",null,null,null,{"$f":"IFERROR(VLOOKUP(I1368,設定・基礎!$G$3:$H$22,2,FALSE),\"\")","v":""}]
[" 04-09-04","04",null,"09",null,"04",null,null,null,{"$f":"IFERROR(VLOOKUP(I1369,設定・基礎!$G$3:$H$22,2,FALSE),\"\")","v":""}]
[" 04-09-05","04",null,"09",null,"05",null,null,null,{"$f":"IFERROR(VLOOKUP(I1370,設定・基礎!$G$3:$H$22,2,FALSE),\"\")","v":""}]
[" 04-09-06","04",null,"09",null,"06",null,null,null,{"$f":"IFERROR(VLOOKUP(I1371,設定・基礎!$G$3:$H$22,2,FALSE),\"\")","v":""}]
[" 04-09-07","04",null,"09",null,"07",null,null,null,{"$f":"IFERROR(VLOOKUP(I1372,設定・基礎!$G$3:$H$22,2,FALSE),\"\")","v":""}]
[" 04-09-08","04",null,"09",null,"08",null,null,null,{"$f":"IFERROR(VLOOKUP(I1373,設定・基礎!$G$3:$H$22,2,FALSE),\"\")","v":""}]
[" 04-09-09","04",null,"09",null,"09",null,null,null,{"$f":"IFERROR(VLOOKUP(I1374,設定・基礎!$G$3:$H$22,2,FALSE),\"\")","v":""}]
[" 04-09-10","04",null,"09",null,"10",null,null,null,{"$f":"IFERROR(VLOOKUP(I1375,設定・基礎!$G$3:$H$22,2,FALSE),\"\")","v":""}]
[" 04-09-11","04",null,"09",null,"11",null,null,null,{"$f":"IFERROR(VLOOKUP(I1376,設定・基礎!$G$3:$H$22,2,FALSE),\"\")","v":""}]
[" 04-09-12","04",null,"09",null,"12",null,null,null,{"$f":"IFERROR(VLOOKUP(I1377,設定・基礎!$G$3:$H$22,2,FALSE),\"\")","v":""}]
[" 04-09-13","04",null,"09",null,"13",null,null,null,{"$f":"IFERROR(VLOOKUP(I1378,設定・基礎!$G$3:$H$22,2,FALSE),\"\")","v":""}]
[" 04-09-14","04",null,"09",null,"14",null,null,null,{"$f":"IFERROR(VLOOKUP(I1379,設定・基礎!$G$3:$H$22,2,FALSE),\"\")","v":""}]
[" 04-09-15","04",null,"09",null,"15",null,null,null,{"$f":"IFERROR(VLOOKUP(I1380,設定・基礎!$G$3:$H$22,2,FALSE),\"\")","v":""}]
[" 04-09-16","04",null,"09",null,"16",null,null,null,{"$f":"IFERROR(VLOOKUP(I1381,設定・基礎!$G$3:$H$22,2,FALSE),\"\")","v":""}]
[" 04-09-17","04",null,"09",null,"17",null,null,null,{"$f":"IFERROR(VLOOKUP(I1382,設定・基礎!$G$3:$H$22,2,FALSE),\"\")","v":""}]
[" 04-09-18","04",null,"09",null,"18",null,null,null,{"$f":"IFERROR(VLOOKUP(I1383,設定・基礎!$G$3:$H$22,2,FALSE),\"\")","v":""}]
[" 04-09-19","04",null,"09",null,"19",null,null,null,{"$f":"IFERROR(VLOOKUP(I1384,設定・基礎!$G$3:$H$22,2,FALSE),\"\")","v":""}]
[" 04-09-20","04",null,"09",null,"20",null,null,null,{"$f":"IFERROR(VLOOKUP(I1385,設定・基礎!$G$3:$H$22,2,FALSE),\"\")","v":""}]
[" 04-10-01","04",null,"10",null,"01",null,null,null,{"$f":"IFERROR(VLOOKUP(I1386,設定・基礎!$G$3:$H$22,2,FALSE),\"\")","v":""}]
[" 04-10-02","04",null,"10",null,"02",null,null,null,{"$f":"IFERROR(VLOOKUP(I1387,設定・基礎!$G$3:$H$22,2,FALSE),\"\")","v":""}]
[" 04-10-03","04",null,"10",null,"03",null,null,null,{"$f":"IFERROR(VLOOKUP(I1388,設定・基礎!$G$3:$H$22,2,FALSE),\"\")","v":""}]
[" 04-10-04","04",null,"10",null,"04",null,null,null,{"$f":"IFERROR(VLOOKUP(I1389,設定・基礎!$G$3:$H$22,2,FALSE),\"\")","v":""}]
[" 04-10-05","04",null,"10",null,"05",null,null,null,{"$f":"IFERROR(VLOOKUP(I1390,設定・基礎!$G$3:$H$22,2,FALSE),\"\")","v":""}]
[" 04-10-06","04",null,"10",null,"06",null,null,null,{"$f":"IFERROR(VLOOKUP(I1391,設定・基礎!$G$3:$H$22,2,FALSE),\"\")","v":""}]
[" 04-10-07","04",null,"10",null,"07",null,null,null,{"$f":"IFERROR(VLOOKUP(I1392,設定・基礎!$G$3:$H$22,2,FALSE),\"\")","v":""}]
[" 04-10-08","04",null,"10",null,"08",null,null,null,{"$f":"IFERROR(VLOOKUP(I1393,設定・基礎!$G$3:$H$22,2,FALSE),\"\")","v":""}]
[" 04-10-09","04",null,"10",null,"09",null,null,null,{"$f":"IFERROR(VLOOKUP(I1394,設定・基礎!$G$3:$H$22,2,FALSE),\"\")","v":""}]
[" 04-10-10","04",null,"10",null,"10",null,null,null,{"$f":"IFERROR(VLOOKUP(I1395,設定・基礎!$G$3:$H$22,2,FALSE),\"\")","v":""}]
[" 04-10-11","04",null,"10",null,"11",null,null,null,{"$f":"IFERROR(VLOOKUP(I1396,設定・基礎!$G$3:$H$22,2,FALSE),\"\")","v":""}]
[" 04-10-12","04",null,"10",null,"12",null,null,null,{"$f":"IFERROR(VLOOKUP(I1397,設定・基礎!$G$3:$H$22,2,FALSE),\"\")","v":""}]
[" 04-10-13","04",null,"10",null,"13",null,null,null,{"$f":"IFERROR(VLOOKUP(I1398,設定・基礎!$G$3:$H$22,2,FALSE),\"\")","v":""}]
[" 04-10-14","04",null,"10",null,"14",null,null,null,{"$f":"IFERROR(VLOOKUP(I1399,設定・基礎!$G$3:$H$22,2,FALSE),\"\")","v":""}]
[" 04-10-15","04",null,"10",null,"15",null,null,null,{"$f":"IFERROR(VLOOKUP(I1400,設定・基礎!$G$3:$H$22,2,FALSE),\"\")","v":""}]
[" 04-10-16","04",null,"10",null,"16",null,null,null,{"$f":"IFERROR(VLOOKUP(I1401,設定・基礎!$G$3:$H$22,2,FALSE),\"\")","v":""}]
[" 04-10-17","04",null,"10",null,"17",null,null,null,{"$f":"IFERROR(VLOOKUP(I1402,設定・基礎!$G$3:$H$22,2,FALSE),\"\")","v":""}]
[" 04-10-18","04",null,"10",null,"18",null,null,null,{"$f":"IFERROR(VLOOKUP(I1403,設定・基礎!$G$3:$H$22,2,FALSE),\"\")","v":""}]
[" 04-10-19","04",null,"10",null,"19",null,null,null,{"$f":"IFERROR(VLOOKUP(I1404,設定・基礎!$G$3:$H$22,2,FALSE),\"\")","v":""}]
[" 04-10-20","04",null,"10",null,"20",null,null,null,{"$f":"IFERROR(VLOOKUP(I1405,設定・基礎!$G$3:$H$22,2,FALSE),\"\")","v":""}]
[" 04-11-01","04",null,"11",null,"01",null,null,null,{"$f":"IFERROR(VLOOKUP(I1406,設定・基礎!$G$3:$H$22,2,FALSE),\"\")","v":""}]
[" 04-11-02","04",null,"11",null,"02",null,null,null,{"$f":"IFERROR(VLOOKUP(I1407,設定・基礎!$G$3:$H$22,2,FALSE),\"\")","v":""}]
[" 04-11-03","04",null,"11",null,"03",null,null,null,{"$f":"IFERROR(VLOOKUP(I1408,設定・基礎!$G$3:$H$22,2,FALSE),\"\")","v":""}]
[" 04-11-04","04",null,"11",null,"04",null,null,null,{"$f":"IFERROR(VLOOKUP(I1409,設定・基礎!$G$3:$H$22,2,FALSE),\"\")","v":""}]
[" 04-11-05","04",null,"11",null,"05",null,null,null,{"$f":"IFERROR(VLOOKUP(I1410,設定・基礎!$G$3:$H$22,2,FALSE),\"\")","v":""}]
[" 04-11-06","04",null,"11",null,"06",null,null,null,{"$f":"IFERROR(VLOOKUP(I1411,設定・基礎!$G$3:$H$22,2,FALSE),\"\")","v":""}]
[" 04-11-07","04",null,"11",null,"07",null,null,null,{"$f":"IFERROR(VLOOKUP(I1412,設定・基礎!$G$3:$H$22,2,FALSE),\"\")","v":""}]
[" 04-11-08","04",null,"11",null,"08",null,null,null,{"$f":"IFERROR(VLOOKUP(I1413,設定・基礎!$G$3:$H$22,2,FALSE),\"\")","v":""}]
[" 04-11-09","04",null,"11",null,"09",null,null,null,{"$f":"IFERROR(VLOOKUP(I1414,設定・基礎!$G$3:$H$22,2,FALSE),\"\")","v":""}]
[" 04-11-10","04",null,"11",null,"10",null,null,null,{"$f":"IFERROR(VLOOKUP(I1415,設定・基礎!$G$3:$H$22,2,FALSE),\"\")","v":""}]
[" 04-11-11","04",null,"11",null,"11",null,null,null,{"$f":"IFERROR(VLOOKUP(I1416,設定・基礎!$G$3:$H$22,2,FALSE),\"\")","v":""}]
[" 04-11-12","04",null,"11",null,"12",null,null,null,{"$f":"IFERROR(VLOOKUP(I1417,設定・基礎!$G$3:$H$22,2,FALSE),\"\")","v":""}]
[" 04-11-13","04",null,"11",null,"13",null,null,null,{"$f":"IFERROR(VLOOKUP(I1418,設定・基礎!$G$3:$H$22,2,FALSE),\"\")","v":""}]
[" 04-11-14","04",null,"11",null,"14",null,null,null,{"$f":"IFERROR(VLOOKUP(I1419,設定・基礎!$G$3:$H$22,2,FALSE),\"\")","v":""}]
[" 04-11-15","04",null,"11",null,"15",null,null,null,{"$f":"IFERROR(VLOOKUP(I1420,設定・基礎!$G$3:$H$22,2,FALSE),\"\")","v":""}]
[" 04-11-16","04",null,"11",null,"16",null,null,null,{"$f":"IFERROR(VLOOKUP(I1421,設定・基礎!$G$3:$H$22,2,FALSE),\"\")","v":""}]
[" 04-11-17","04",null,"11",null,"17",null,null,null,{"$f":"IFERROR(VLOOKUP(I1422,設定・基礎!$G$3:$H$22,2,FALSE),\"\")","v":""}]
[" 04-11-18","04",null,"11",null,"18",null,null,null,{"$f":"IFERROR(VLOOKUP(I1423,設定・基礎!$G$3:$H$22,2,FALSE),\"\")","v":""}]
[" 04-11-19","04",null,"11",null,"19",null,null,null,{"$f":"IFERROR(VLOOKUP(I1424,設定・基礎!$G$3:$H$22,2,FALSE),\"\")","v":""}]
[" 04-11-20","04",null,"11",null,"20",null,null,null,{"$f":"IFERROR(VLOOKUP(I1425,設定・基礎!$G$3:$H$22,2,FALSE),\"\")","v":""}]
[" 04-12-01","04",null,"12",null,"01",null,null,null,{"$f":"IFERROR(VLOOKUP(I1426,設定・基礎!$G$3:$H$22,2,FALSE),\"\")","v":""}]
[" 04-12-02","04",null,"12",null,"02",null,null,null,{"$f":"IFERROR(VLOOKUP(I1427,設定・基礎!$G$3:$H$22,2,FALSE),\"\")","v":""}]
[" 04-12-03","04",null,"12",null,"03",null,null,null,{"$f":"IFERROR(VLOOKUP(I1428,設定・基礎!$G$3:$H$22,2,FALSE),\"\")","v":""}]
[" 04-12-04","04",null,"12",null,"04",null,null,null,{"$f":"IFERROR(VLOOKUP(I1429,設定・基礎!$G$3:$H$22,2,FALSE),\"\")","v":""}]
[" 04-12-05","04",null,"12",null,"05",null,null,null,{"$f":"IFERROR(VLOOKUP(I1430,設定・基礎!$G$3:$H$22,2,FALSE),\"\")","v":""}]
[" 04-12-06","04",null,"12",null,"06",null,null,null,{"$f":"IFERROR(VLOOKUP(I1431,設定・基礎!$G$3:$H$22,2,FALSE),\"\")","v":""}]
[" 04-12-07","04",null,"12",null,"07",null,null,null,{"$f":"IFERROR(VLOOKUP(I1432,設定・基礎!$G$3:$H$22,2,FALSE),\"\")","v":""}]
[" 04-12-08","04",null,"12",null,"08",null,null,null,{"$f":"IFERROR(VLOOKUP(I1433,設定・基礎!$G$3:$H$22,2,FALSE),\"\")","v":""}]
[" 04-12-09","04",null,"12",null,"09",null,null,null,{"$f":"IFERROR(VLOOKUP(I1434,設定・基礎!$G$3:$H$22,2,FALSE),\"\")","v":""}]
[" 04-12-10","04",null,"12",null,"10",null,null,null,{"$f":"IFERROR(VLOOKUP(I1435,設定・基礎!$G$3:$H$22,2,FALSE),\"\")","v":""}]
[" 04-12-11","04",null,"12",null,"11",null,null,null,{"$f":"IFERROR(VLOOKUP(I1436,設定・基礎!$G$3:$H$22,2,FALSE),\"\")","v":""}]
[" 04-12-12","04",null,"12",null,"12",null,null,null,{"$f":"IFERROR(VLOOKUP(I1437,設定・基礎!$G$3:$H$22,2,FALSE),\"\")","v":""}]
[" 04-12-13","04",null,"12",null,"13",null,null,null,{"$f":"IFERROR(VLOOKUP(I1438,設定・基礎!$G$3:$H$22,2,FALSE),\"\")","v":""}]
[" 04-12-14","04",null,"12",null,"14",null,null,null,{"$f":"IFERROR(VLOOKUP(I1439,設定・基礎!$G$3:$H$22,2,FALSE),\"\")","v":""}]
[" 04-12-15","04",null,"12",null,"15",null,null,null,{"$f":"IFERROR(VLOOKUP(I1440,設定・基礎!$G$3:$H$22,2,FALSE),\"\")","v":""}]
[" 04-12-16","04",null,"12",null,"16",null,null,null,{"$f":"IFERROR(VLOOKUP(I1441,設定・基礎!$G$3:$H$22,2,FALSE),\"\")","v":""}]
[" 04-12-17","04",null,"12",null,"17",null,null,null,{"$f":"IFERROR(VLOOKUP(I1442,設定・基礎!$G$3:$H$22,2,FALSE),\"\")","v":""}]
[" 04-12-18","04",null,"12",null,"18",null,null,null,{"$f":"IFERROR(VLOOKUP(I1443,設定・基礎!$G$3:$H$22,2,FALSE),\"\")","v":""}]
[" 04-12-19","04",null,"12",null,"19",null,null,null,{"$f":"IFERROR(VLOOKUP(I1444,設定・基礎!$G$3:$H$22,2,FALSE),\"\")","v":""}]
[" 04-12-20","04",null,"12",null,"20",null,null,null,{"$f":"IFERROR(VLOOKUP(I1445,設定・基礎!$G$3:$H$22,2,FALSE),\"\")","v":""}]
[" 04-13-01","04",null,"13",null,"01",null,null,null,{"$f":"IFERROR(VLOOKUP(I1446,設定・基礎!$G$3:$H$22,2,FALSE),\"\")","v":""}]
[" 04-13-02","04",null,"13",null,"02",null,null,null,{"$f":"IFERROR(VLOOKUP(I1447,設定・基礎!$G$3:$H$22,2,FALSE),\"\")","v":""}]
[" 04-13-03","04",null,"13",null,"03",null,null,null,{"$f":"IFERROR(VLOOKUP(I1448,設定・基礎!$G$3:$H$22,2,FALSE),\"\")","v":""}]
[" 04-13-04","04",null,"13",null,"04",null,null,null,{"$f":"IFERROR(VLOOKUP(I1449,設定・基礎!$G$3:$H$22,2,FALSE),\"\")","v":""}]
[" 04-13-05","04",null,"13",null,"05",null,null,null,{"$f":"IFERROR(VLOOKUP(I1450,設定・基礎!$G$3:$H$22,2,FALSE),\"\")","v":""}]
[" 04-13-06","04",null,"13",null,"06",null,null,null,{"$f":"IFERROR(VLOOKUP(I1451,設定・基礎!$G$3:$H$22,2,FALSE),\"\")","v":""}]
[" 04-13-07","04",null,"13",null,"07",null,null,null,{"$f":"IFERROR(VLOOKUP(I1452,設定・基礎!$G$3:$H$22,2,FALSE),\"\")","v":""}]
[" 04-13-08","04",null,"13",null,"08",null,null,null,{"$f":"IFERROR(VLOOKUP(I1453,設定・基礎!$G$3:$H$22,2,FALSE),\"\")","v":""}]
[" 04-13-09","04",null,"13",null,"09",null,null,null,{"$f":"IFERROR(VLOOKUP(I1454,設定・基礎!$G$3:$H$22,2,FALSE),\"\")","v":""}]
[" 04-13-10","04",null,"13",null,"10",null,null,null,{"$f":"IFERROR(VLOOKUP(I1455,設定・基礎!$G$3:$H$22,2,FALSE),\"\")","v":""}]
[" 04-13-11","04",null,"13",null,"11",null,null,null,{"$f":"IFERROR(VLOOKUP(I1456,設定・基礎!$G$3:$H$22,2,FALSE),\"\")","v":""}]
[" 04-13-12","04",null,"13",null,"12",null,null,null,{"$f":"IFERROR(VLOOKUP(I1457,設定・基礎!$G$3:$H$22,2,FALSE),\"\")","v":""}]
[" 04-13-13","04",null,"13",null,"13",null,null,null,{"$f":"IFERROR(VLOOKUP(I1458,設定・基礎!$G$3:$H$22,2,FALSE),\"\")","v":""}]
[" 04-13-14","04",null,"13",null,"14",null,null,null,{"$f":"IFERROR(VLOOKUP(I1459,設定・基礎!$G$3:$H$22,2,FALSE),\"\")","v":""}]
[" 04-13-15","04",null,"13",null,"15",null,null,null,{"$f":"IFERROR(VLOOKUP(I1460,設定・基礎!$G$3:$H$22,2,FALSE),\"\")","v":""}]
[" 04-13-16","04",null,"13",null,"16",null,null,null,{"$f":"IFERROR(VLOOKUP(I1461,設定・基礎!$G$3:$H$22,2,FALSE),\"\")","v":""}]
[" 04-13-17","04",null,"13",null,"17",null,null,null,{"$f":"IFERROR(VLOOKUP(I1462,設定・基礎!$G$3:$H$22,2,FALSE),\"\")","v":""}]
[" 04-13-18","04",null,"13",null,"18",null,null,null,{"$f":"IFERROR(VLOOKUP(I1463,設定・基礎!$G$3:$H$22,2,FALSE),\"\")","v":""}]
[" 04-13-19","04",null,"13",null,"19",null,null,null,{"$f":"IFERROR(VLOOKUP(I1464,設定・基礎!$G$3:$H$22,2,FALSE),\"\")","v":""}]
[" 04-13-20","04",null,"13",null,"20",null,null,null,{"$f":"IFERROR(VLOOKUP(I1465,設定・基礎!$G$3:$H$22,2,FALSE),\"\")","v":""}]
[" 04-14-01","04",null,"14",null,"01",null,null,null,{"$f":"IFERROR(VLOOKUP(I1466,設定・基礎!$G$3:$H$22,2,FALSE),\"\")","v":""}]
[" 04-14-02","04",null,"14",null,"02",null,null,null,{"$f":"IFERROR(VLOOKUP(I1467,設定・基礎!$G$3:$H$22,2,FALSE),\"\")","v":""}]
[" 04-14-03","04",null,"14",null,"03",null,null,null,{"$f":"IFERROR(VLOOKUP(I1468,設定・基礎!$G$3:$H$22,2,FALSE),\"\")","v":""}]
[" 04-14-04","04",null,"14",null,"04",null,null,null,{"$f":"IFERROR(VLOOKUP(I1469,設定・基礎!$G$3:$H$22,2,FALSE),\"\")","v":""}]
[" 04-14-05","04",null,"14",null,"05",null,null,null,{"$f":"IFERROR(VLOOKUP(I1470,設定・基礎!$G$3:$H$22,2,FALSE),\"\")","v":""}]
[" 04-14-06","04",null,"14",null,"06",null,null,null,{"$f":"IFERROR(VLOOKUP(I1471,設定・基礎!$G$3:$H$22,2,FALSE),\"\")","v":""}]
[" 04-14-07","04",null,"14",null,"07",null,null,null,{"$f":"IFERROR(VLOOKUP(I1472,設定・基礎!$G$3:$H$22,2,FALSE),\"\")","v":""}]
[" 04-14-08","04",null,"14",null,"08",null,null,null,{"$f":"IFERROR(VLOOKUP(I1473,設定・基礎!$G$3:$H$22,2,FALSE),\"\")","v":""}]
[" 04-14-09","04",null,"14",null,"09",null,null,null,{"$f":"IFERROR(VLOOKUP(I1474,設定・基礎!$G$3:$H$22,2,FALSE),\"\")","v":""}]
[" 04-14-10","04",null,"14",null,"10",null,null,null,{"$f":"IFERROR(VLOOKUP(I1475,設定・基礎!$G$3:$H$22,2,FALSE),\"\")","v":""}]
[" 04-14-11","04",null,"14",null,"11",null,null,null,{"$f":"IFERROR(VLOOKUP(I1476,設定・基礎!$G$3:$H$22,2,FALSE),\"\")","v":""}]
[" 04-14-12","04",null,"14",null,"12",null,null,null,{"$f":"IFERROR(VLOOKUP(I1477,設定・基礎!$G$3:$H$22,2,FALSE),\"\")","v":""}]
[" 04-14-13","04",null,"14",null,"13",null,null,null,{"$f":"IFERROR(VLOOKUP(I1478,設定・基礎!$G$3:$H$22,2,FALSE),\"\")","v":""}]
[" 04-14-14","04",null,"14",null,"14",null,null,null,{"$f":"IFERROR(VLOOKUP(I1479,設定・基礎!$G$3:$H$22,2,FALSE),\"\")","v":""}]
[" 04-14-15","04",null,"14",null,"15",null,null,null,{"$f":"IFERROR(VLOOKUP(I1480,設定・基礎!$G$3:$H$22,2,FALSE),\"\")","v":""}]
[" 04-14-16","04",null,"14",null,"16",null,null,null,{"$f":"IFERROR(VLOOKUP(I1481,設定・基礎!$G$3:$H$22,2,FALSE),\"\")","v":""}]
[" 04-14-17","04",null,"14",null,"17",null,null,null,{"$f":"IFERROR(VLOOKUP(I1482,設定・基礎!$G$3:$H$22,2,FALSE),\"\")","v":""}]
[" 04-14-18","04",null,"14",null,"18",null,null,null,{"$f":"IFERROR(VLOOKUP(I1483,設定・基礎!$G$3:$H$22,2,FALSE),\"\")","v":""}]
[" 04-14-19","04",null,"14",null,"19",null,null,null,{"$f":"IFERROR(VLOOKUP(I1484,設定・基礎!$G$3:$H$22,2,FALSE),\"\")","v":""}]
[" 04-14-20","04",null,"14",null,"20",null,null,null,{"$f":"IFERROR(VLOOKUP(I1485,設定・基礎!$G$3:$H$22,2,FALSE),\"\")","v":""}]
[" 04-15-01","04",null,"15",null,"01",null,null,null,{"$f":"IFERROR(VLOOKUP(I1486,設定・基礎!$G$3:$H$22,2,FALSE),\"\")","v":""}]
[" 04-15-02","04",null,"15",null,"02",null,null,null,{"$f":"IFERROR(VLOOKUP(I1487,設定・基礎!$G$3:$H$22,2,FALSE),\"\")","v":""}]
[" 04-15-03","04",null,"15",null,"03",null,null,null,{"$f":"IFERROR(VLOOKUP(I1488,設定・基礎!$G$3:$H$22,2,FALSE),\"\")","v":""}]
[" 04-15-04","04",null,"15",null,"04",null,null,null,{"$f":"IFERROR(VLOOKUP(I1489,設定・基礎!$G$3:$H$22,2,FALSE),\"\")","v":""}]
[" 04-15-05","04",null,"15",null,"05",null,null,null,{"$f":"IFERROR(VLOOKUP(I1490,設定・基礎!$G$3:$H$22,2,FALSE),\"\")","v":""}]
[" 04-15-06","04",null,"15",null,"06",null,null,null,{"$f":"IFERROR(VLOOKUP(I1491,設定・基礎!$G$3:$H$22,2,FALSE),\"\")","v":""}]
[" 04-15-07","04",null,"15",null,"07",null,null,null,{"$f":"IFERROR(VLOOKUP(I1492,設定・基礎!$G$3:$H$22,2,FALSE),\"\")","v":""}]
[" 04-15-08","04",null,"15",null,"08",null,null,null,{"$f":"IFERROR(VLOOKUP(I1493,設定・基礎!$G$3:$H$22,2,FALSE),\"\")","v":""}]
[" 04-15-09","04",null,"15",null,"09",null,null,null,{"$f":"IFERROR(VLOOKUP(I1494,設定・基礎!$G$3:$H$22,2,FALSE),\"\")","v":""}]
[" 04-15-10","04",null,"15",null,"10",null,null,null,{"$f":"IFERROR(VLOOKUP(I1495,設定・基礎!$G$3:$H$22,2,FALSE),\"\")","v":""}]
[" 04-15-11","04",null,"15",null,"11",null,null,null,{"$f":"IFERROR(VLOOKUP(I1496,設定・基礎!$G$3:$H$22,2,FALSE),\"\")","v":""}]
[" 04-15-12","04",null,"15",null,"12",null,null,null,{"$f":"IFERROR(VLOOKUP(I1497,設定・基礎!$G$3:$H$22,2,FALSE),\"\")","v":""}]
[" 04-15-13","04",null,"15",null,"13",null,null,null,{"$f":"IFERROR(VLOOKUP(I1498,設定・基礎!$G$3:$H$22,2,FALSE),\"\")","v":""}]
[" 04-15-14","04",null,"15",null,"14",null,null,null,{"$f":"IFERROR(VLOOKUP(I1499,設定・基礎!$G$3:$H$22,2,FALSE),\"\")","v":""}]
[" 04-15-15","04",null,"15",null,"15",null,null,null,{"$f":"IFERROR(VLOOKUP(I1500,設定・基礎!$G$3:$H$22,2,FALSE),\"\")","v":""}]
[" 04-15-16","04",null,"15",null,"16",null,null,null,{"$f":"IFERROR(VLOOKUP(I1501,設定・基礎!$G$3:$H$22,2,FALSE),\"\")","v":""}]
[" 04-15-17","04",null,"15",null,"17",null,null,null,{"$f":"IFERROR(VLOOKUP(I1502,設定・基礎!$G$3:$H$22,2,FALSE),\"\")","v":""}]
[" 04-15-18","04",null,"15",null,"18",null,null,null,{"$f":"IFERROR(VLOOKUP(I1503,設定・基礎!$G$3:$H$22,2,FALSE),\"\")","v":""}]
[" 04-15-19","04",null,"15",null,"19",null,null,null,{"$f":"IFERROR(VLOOKUP(I1504,設定・基礎!$G$3:$H$22,2,FALSE),\"\")","v":""}]
[" 04-15-20","04",null,"15",null,"20",null,null,null,{"$f":"IFERROR(VLOOKUP(I1505,設定・基礎!$G$3:$H$22,2,FALSE),\"\")","v":""}]
[" 04-16-01","04",null,"16",null,"01",null,null,null,{"$f":"IFERROR(VLOOKUP(I1506,設定・基礎!$G$3:$H$22,2,FALSE),\"\")","v":""}]
[" 04-16-02","04",null,"16",null,"02",null,null,null,{"$f":"IFERROR(VLOOKUP(I1507,設定・基礎!$G$3:$H$22,2,FALSE),\"\")","v":""}]
[" 04-16-03","04",null,"16",null,"03",null,null,null,{"$f":"IFERROR(VLOOKUP(I1508,設定・基礎!$G$3:$H$22,2,FALSE),\"\")","v":""}]
[" 04-16-04","04",null,"16",null,"04",null,null,null,{"$f":"IFERROR(VLOOKUP(I1509,設定・基礎!$G$3:$H$22,2,FALSE),\"\")","v":""}]
[" 04-16-05","04",null,"16",null,"05",null,null,null,{"$f":"IFERROR(VLOOKUP(I1510,設定・基礎!$G$3:$H$22,2,FALSE),\"\")","v":""}]
[" 04-16-06","04",null,"16",null,"06",null,null,null,{"$f":"IFERROR(VLOOKUP(I1511,設定・基礎!$G$3:$H$22,2,FALSE),\"\")","v":""}]
[" 04-16-07","04",null,"16",null,"07",null,null,null,{"$f":"IFERROR(VLOOKUP(I1512,設定・基礎!$G$3:$H$22,2,FALSE),\"\")","v":""}]
[" 04-16-08","04",null,"16",null,"08",null,null,null,{"$f":"IFERROR(VLOOKUP(I1513,設定・基礎!$G$3:$H$22,2,FALSE),\"\")","v":""}]
[" 04-16-09","04",null,"16",null,"09",null,null,null,{"$f":"IFERROR(VLOOKUP(I1514,設定・基礎!$G$3:$H$22,2,FALSE),\"\")","v":""}]
[" 04-16-10","04",null,"16",null,"10",null,null,null,{"$f":"IFERROR(VLOOKUP(I1515,設定・基礎!$G$3:$H$22,2,FALSE),\"\")","v":""}]
[" 04-16-11","04",null,"16",null,"11",null,null,null,{"$f":"IFERROR(VLOOKUP(I1516,設定・基礎!$G$3:$H$22,2,FALSE),\"\")","v":""}]
[" 04-16-12","04",null,"16",null,"12",null,null,null,{"$f":"IFERROR(VLOOKUP(I1517,設定・基礎!$G$3:$H$22,2,FALSE),\"\")","v":""}]
[" 04-16-13","04",null,"16",null,"13",null,null,null,{"$f":"IFERROR(VLOOKUP(I1518,設定・基礎!$G$3:$H$22,2,FALSE),\"\")","v":""}]
[" 04-16-14","04",null,"16",null,"14",null,null,null,{"$f":"IFERROR(VLOOKUP(I1519,設定・基礎!$G$3:$H$22,2,FALSE),\"\")","v":""}]
[" 04-16-15","04",null,"16",null,"15",null,null,null,{"$f":"IFERROR(VLOOKUP(I1520,設定・基礎!$G$3:$H$22,2,FALSE),\"\")","v":""}]
[" 04-16-16","04",null,"16",null,"16",null,null,null,{"$f":"IFERROR(VLOOKUP(I1521,設定・基礎!$G$3:$H$22,2,FALSE),\"\")","v":""}]
[" 04-16-17","04",null,"16",null,"17",null,null,null,{"$f":"IFERROR(VLOOKUP(I1522,設定・基礎!$G$3:$H$22,2,FALSE),\"\")","v":""}]
[" 04-16-18","04",null,"16",null,"18",null,null,null,{"$f":"IFERROR(VLOOKUP(I1523,設定・基礎!$G$3:$H$22,2,FALSE),\"\")","v":""}]
[" 04-16-19","04",null,"16",null,"19",null,null,null,{"$f":"IFERROR(VLOOKUP(I1524,設定・基礎!$G$3:$H$22,2,FALSE),\"\")","v":""}]
[" 04-16-20","04",null,"16",null,"20",null,null,null,{"$f":"IFERROR(VLOOKUP(I1525,設定・基礎!$G$3:$H$22,2,FALSE),\"\")","v":""}]
[" 04-17-01","04",null,"17",null,"01",null,null,null,{"$f":"IFERROR(VLOOKUP(I1526,設定・基礎!$G$3:$H$22,2,FALSE),\"\")","v":""}]
[" 04-17-02","04",null,"17",null,"02",null,null,null,{"$f":"IFERROR(VLOOKUP(I1527,設定・基礎!$G$3:$H$22,2,FALSE),\"\")","v":""}]
[" 04-17-03","04",null,"17",null,"03",null,null,null,{"$f":"IFERROR(VLOOKUP(I1528,設定・基礎!$G$3:$H$22,2,FALSE),\"\")","v":""}]
[" 04-17-04","04",null,"17",null,"04",null,null,null,{"$f":"IFERROR(VLOOKUP(I1529,設定・基礎!$G$3:$H$22,2,FALSE),\"\")","v":""}]
[" 04-17-05","04",null,"17",null,"05",null,null,null,{"$f":"IFERROR(VLOOKUP(I1530,設定・基礎!$G$3:$H$22,2,FALSE),\"\")","v":""}]
[" 04-17-06","04",null,"17",null,"06",null,null,null,{"$f":"IFERROR(VLOOKUP(I1531,設定・基礎!$G$3:$H$22,2,FALSE),\"\")","v":""}]
[" 04-17-07","04",null,"17",null,"07",null,null,null,{"$f":"IFERROR(VLOOKUP(I1532,設定・基礎!$G$3:$H$22,2,FALSE),\"\")","v":""}]
[" 04-17-08","04",null,"17",null,"08",null,null,null,{"$f":"IFERROR(VLOOKUP(I1533,設定・基礎!$G$3:$H$22,2,FALSE),\"\")","v":""}]
[" 04-17-09","04",null,"17",null,"09",null,null,null,{"$f":"IFERROR(VLOOKUP(I1534,設定・基礎!$G$3:$H$22,2,FALSE),\"\")","v":""}]
[" 04-17-10","04",null,"17",null,"10",null,null,null,{"$f":"IFERROR(VLOOKUP(I1535,設定・基礎!$G$3:$H$22,2,FALSE),\"\")","v":""}]
[" 04-17-11","04",null,"17",null,"11",null,null,null,{"$f":"IFERROR(VLOOKUP(I1536,設定・基礎!$G$3:$H$22,2,FALSE),\"\")","v":""}]
[" 04-17-12","04",null,"17",null,"12",null,null,null,{"$f":"IFERROR(VLOOKUP(I1537,設定・基礎!$G$3:$H$22,2,FALSE),\"\")","v":""}]
[" 04-17-13","04",null,"17",null,"13",null,null,null,{"$f":"IFERROR(VLOOKUP(I1538,設定・基礎!$G$3:$H$22,2,FALSE),\"\")","v":""}]
[" 04-17-14","04",null,"17",null,"14",null,null,null,{"$f":"IFERROR(VLOOKUP(I1539,設定・基礎!$G$3:$H$22,2,FALSE),\"\")","v":""}]
[" 04-17-15","04",null,"17",null,"15",null,null,null,{"$f":"IFERROR(VLOOKUP(I1540,設定・基礎!$G$3:$H$22,2,FALSE),\"\")","v":""}]
[" 04-17-16","04",null,"17",null,"16",null,null,null,{"$f":"IFERROR(VLOOKUP(I1541,設定・基礎!$G$3:$H$22,2,FALSE),\"\")","v":""}]
[" 04-17-17","04",null,"17",null,"17",null,null,null,{"$f":"IFERROR(VLOOKUP(I1542,設定・基礎!$G$3:$H$22,2,FALSE),\"\")","v":""}]
[" 04-17-18","04",null,"17",null,"18",null,null,null,{"$f":"IFERROR(VLOOKUP(I1543,設定・基礎!$G$3:$H$22,2,FALSE),\"\")","v":""}]
[" 04-17-19","04",null,"17",null,"19",null,null,null,{"$f":"IFERROR(VLOOKUP(I1544,設定・基礎!$G$3:$H$22,2,FALSE),\"\")","v":""}]
[" 04-17-20","04",null,"17",null,"20",null,null,null,{"$f":"IFERROR(VLOOKUP(I1545,設定・基礎!$G$3:$H$22,2,FALSE),\"\")","v":""}]
[" 04-18-01","04",null,"18",null,"01",null,null,null,{"$f":"IFERROR(VLOOKUP(I1546,設定・基礎!$G$3:$H$22,2,FALSE),\"\")","v":""}]
[" 04-18-02","04",null,"18",null,"02",null,null,null,{"$f":"IFERROR(VLOOKUP(I1547,設定・基礎!$G$3:$H$22,2,FALSE),\"\")","v":""}]
[" 04-18-03","04",null,"18",null,"03",null,null,null,{"$f":"IFERROR(VLOOKUP(I1548,設定・基礎!$G$3:$H$22,2,FALSE),\"\")","v":""}]
[" 04-18-04","04",null,"18",null,"04",null,null,null,{"$f":"IFERROR(VLOOKUP(I1549,設定・基礎!$G$3:$H$22,2,FALSE),\"\")","v":""}]
[" 04-18-05","04",null,"18",null,"05",null,null,null,{"$f":"IFERROR(VLOOKUP(I1550,設定・基礎!$G$3:$H$22,2,FALSE),\"\")","v":""}]
[" 04-18-06","04",null,"18",null,"06",null,null,null,{"$f":"IFERROR(VLOOKUP(I1551,設定・基礎!$G$3:$H$22,2,FALSE),\"\")","v":""}]
[" 04-18-07","04",null,"18",null,"07",null,null,null,{"$f":"IFERROR(VLOOKUP(I1552,設定・基礎!$G$3:$H$22,2,FALSE),\"\")","v":""}]
[" 04-18-08","04",null,"18",null,"08",null,null,null,{"$f":"IFERROR(VLOOKUP(I1553,設定・基礎!$G$3:$H$22,2,FALSE),\"\")","v":""}]
[" 04-18-09","04",null,"18",null,"09",null,null,null,{"$f":"IFERROR(VLOOKUP(I1554,設定・基礎!$G$3:$H$22,2,FALSE),\"\")","v":""}]
[" 04-18-10","04",null,"18",null,"10",null,null,null,{"$f":"IFERROR(VLOOKUP(I1555,設定・基礎!$G$3:$H$22,2,FALSE),\"\")","v":""}]
[" 04-18-11","04",null,"18",null,"11",null,null,null,{"$f":"IFERROR(VLOOKUP(I1556,設定・基礎!$G$3:$H$22,2,FALSE),\"\")","v":""}]
[" 04-18-12","04",null,"18",null,"12",null,null,null,{"$f":"IFERROR(VLOOKUP(I1557,設定・基礎!$G$3:$H$22,2,FALSE),\"\")","v":""}]
[" 04-18-13","04",null,"18",null,"13",null,null,null,{"$f":"IFERROR(VLOOKUP(I1558,設定・基礎!$G$3:$H$22,2,FALSE),\"\")","v":""}]
[" 04-18-14","04",null,"18",null,"14",null,null,null,{"$f":"IFERROR(VLOOKUP(I1559,設定・基礎!$G$3:$H$22,2,FALSE),\"\")","v":""}]
[" 04-18-15","04",null,"18",null,"15",null,null,null,{"$f":"IFERROR(VLOOKUP(I1560,設定・基礎!$G$3:$H$22,2,FALSE),\"\")","v":""}]
[" 04-18-16","04",null,"18",null,"16",null,null,null,{"$f":"IFERROR(VLOOKUP(I1561,設定・基礎!$G$3:$H$22,2,FALSE),\"\")","v":""}]
[" 04-18-17","04",null,"18",null,"17",null,null,null,{"$f":"IFERROR(VLOOKUP(I1562,設定・基礎!$G$3:$H$22,2,FALSE),\"\")","v":""}]
[" 04-18-18","04",null,"18",null,"18",null,null,null,{"$f":"IFERROR(VLOOKUP(I1563,設定・基礎!$G$3:$H$22,2,FALSE),\"\")","v":""}]
[" 04-18-19","04",null,"18",null,"19",null,null,null,{"$f":"IFERROR(VLOOKUP(I1564,設定・基礎!$G$3:$H$22,2,FALSE),\"\")","v":""}]
[" 04-18-20","04",null,"18",null,"20",null,null,null,{"$f":"IFERROR(VLOOKUP(I1565,設定・基礎!$G$3:$H$22,2,FALSE),\"\")","v":""}]
[" 04-19-01","04",null,"19",null,"01",null,null,null,{"$f":"IFERROR(VLOOKUP(I1566,設定・基礎!$G$3:$H$22,2,FALSE),\"\")","v":""}]
[" 04-19-02","04",null,"19",null,"02",null,null,null,{"$f":"IFERROR(VLOOKUP(I1567,設定・基礎!$G$3:$H$22,2,FALSE),\"\")","v":""}]
[" 04-19-03","04",null,"19",null,"03",null,null,null,{"$f":"IFERROR(VLOOKUP(I1568,設定・基礎!$G$3:$H$22,2,FALSE),\"\")","v":""}]
[" 04-19-04","04",null,"19",null,"04",null,null,null,{"$f":"IFERROR(VLOOKUP(I1569,設定・基礎!$G$3:$H$22,2,FALSE),\"\")","v":""}]
[" 04-19-05","04",null,"19",null,"05",null,null,null,{"$f":"IFERROR(VLOOKUP(I1570,設定・基礎!$G$3:$H$22,2,FALSE),\"\")","v":""}]
[" 04-19-06","04",null,"19",null,"06",null,null,null,{"$f":"IFERROR(VLOOKUP(I1571,設定・基礎!$G$3:$H$22,2,FALSE),\"\")","v":""}]
[" 04-19-07","04",null,"19",null,"07",null,null,null,{"$f":"IFERROR(VLOOKUP(I1572,設定・基礎!$G$3:$H$22,2,FALSE),\"\")","v":""}]
[" 04-19-08","04",null,"19",null,"08",null,null,null,{"$f":"IFERROR(VLOOKUP(I1573,設定・基礎!$G$3:$H$22,2,FALSE),\"\")","v":""}]
[" 04-19-09","04",null,"19",null,"09",null,null,null,{"$f":"IFERROR(VLOOKUP(I1574,設定・基礎!$G$3:$H$22,2,FALSE),\"\")","v":""}]
[" 04-19-10","04",null,"19",null,"10",null,null,null,{"$f":"IFERROR(VLOOKUP(I1575,設定・基礎!$G$3:$H$22,2,FALSE),\"\")","v":""}]
[" 04-19-11","04",null,"19",null,"11",null,null,null,{"$f":"IFERROR(VLOOKUP(I1576,設定・基礎!$G$3:$H$22,2,FALSE),\"\")","v":""}]
[" 04-19-12","04",null,"19",null,"12",null,null,null,{"$f":"IFERROR(VLOOKUP(I1577,設定・基礎!$G$3:$H$22,2,FALSE),\"\")","v":""}]
[" 04-19-13","04",null,"19",null,"13",null,null,null,{"$f":"IFERROR(VLOOKUP(I1578,設定・基礎!$G$3:$H$22,2,FALSE),\"\")","v":""}]
[" 04-19-14","04",null,"19",null,"14",null,null,null,{"$f":"IFERROR(VLOOKUP(I1579,設定・基礎!$G$3:$H$22,2,FALSE),\"\")","v":""}]
[" 04-19-15","04",null,"19",null,"15",null,null,null,{"$f":"IFERROR(VLOOKUP(I1580,設定・基礎!$G$3:$H$22,2,FALSE),\"\")","v":""}]
[" 04-19-16","04",null,"19",null,"16",null,null,null,{"$f":"IFERROR(VLOOKUP(I1581,設定・基礎!$G$3:$H$22,2,FALSE),\"\")","v":""}]
[" 04-19-17","04",null,"19",null,"17",null,null,null,{"$f":"IFERROR(VLOOKUP(I1582,設定・基礎!$G$3:$H$22,2,FALSE),\"\")","v":""}]
[" 04-19-18","04",null,"19",null,"18",null,null,null,{"$f":"IFERROR(VLOOKUP(I1583,設定・基礎!$G$3:$H$22,2,FALSE),\"\")","v":""}]
[" 04-19-19","04",null,"19",null,"19",null,null,null,{"$f":"IFERROR(VLOOKUP(I1584,設定・基礎!$G$3:$H$22,2,FALSE),\"\")","v":""}]
[" 04-19-20","04",null,"19",null,"20",null,null,null,{"$f":"IFERROR(VLOOKUP(I1585,設定・基礎!$G$3:$H$22,2,FALSE),\"\")","v":""}]
[" 04-20-01","04",null,"20",null,"01",null,null,null,{"$f":"IFERROR(VLOOKUP(I1586,設定・基礎!$G$3:$H$22,2,FALSE),\"\")","v":""}]
[" 04-20-02","04",null,"20",null,"02",null,null,null,{"$f":"IFERROR(VLOOKUP(I1587,設定・基礎!$G$3:$H$22,2,FALSE),\"\")","v":""}]
[" 04-20-03","04",null,"20",null,"03",null,null,null,{"$f":"IFERROR(VLOOKUP(I1588,設定・基礎!$G$3:$H$22,2,FALSE),\"\")","v":""}]
[" 04-20-04","04",null,"20",null,"04",null,null,null,{"$f":"IFERROR(VLOOKUP(I1589,設定・基礎!$G$3:$H$22,2,FALSE),\"\")","v":""}]
[" 04-20-05","04",null,"20",null,"05",null,null,null,{"$f":"IFERROR(VLOOKUP(I1590,設定・基礎!$G$3:$H$22,2,FALSE),\"\")","v":""}]
[" 04-20-06","04",null,"20",null,"06",null,null,null,{"$f":"IFERROR(VLOOKUP(I1591,設定・基礎!$G$3:$H$22,2,FALSE),\"\")","v":""}]
[" 04-20-07","04",null,"20",null,"07",null,null,null,{"$f":"IFERROR(VLOOKUP(I1592,設定・基礎!$G$3:$H$22,2,FALSE),\"\")","v":""}]
[" 04-20-08","04",null,"20",null,"08",null,null,null,{"$f":"IFERROR(VLOOKUP(I1593,設定・基礎!$G$3:$H$22,2,FALSE),\"\")","v":""}]
[" 04-20-09","04",null,"20",null,"09",null,null,null,{"$f":"IFERROR(VLOOKUP(I1594,設定・基礎!$G$3:$H$22,2,FALSE),\"\")","v":""}]
[" 04-20-10","04",null,"20",null,"10",null,null,null,{"$f":"IFERROR(VLOOKUP(I1595,設定・基礎!$G$3:$H$22,2,FALSE),\"\")","v":""}]
[" 04-20-11","04",null,"20",null,"11",null,null,null,{"$f":"IFERROR(VLOOKUP(I1596,設定・基礎!$G$3:$H$22,2,FALSE),\"\")","v":""}]
[" 04-20-12","04",null,"20",null,"12",null,null,null,{"$f":"IFERROR(VLOOKUP(I1597,設定・基礎!$G$3:$H$22,2,FALSE),\"\")","v":""}]
[" 04-20-13","04",null,"20",null,"13",null,null,null,{"$f":"IFERROR(VLOOKUP(I1598,設定・基礎!$G$3:$H$22,2,FALSE),\"\")","v":""}]
[" 04-20-14","04",null,"20",null,"14",null,null,null,{"$f":"IFERROR(VLOOKUP(I1599,設定・基礎!$G$3:$H$22,2,FALSE),\"\")","v":""}]
[" 04-20-15","04",null,"20",null,"15",null,null,null,{"$f":"IFERROR(VLOOKUP(I1600,設定・基礎!$G$3:$H$22,2,FALSE),\"\")","v":""}]
[" 04-20-16","04",null,"20",null,"16",null,null,null,{"$f":"IFERROR(VLOOKUP(I1601,設定・基礎!$G$3:$H$22,2,FALSE),\"\")","v":""}]
[" 04-20-17","04",null,"20",null,"17",null,null,null,{"$f":"IFERROR(VLOOKUP(I1602,設定・基礎!$G$3:$H$22,2,FALSE),\"\")","v":""}]
[" 04-20-18","04",null,"20",null,"18",null,null,null,{"$f":"IFERROR(VLOOKUP(I1603,設定・基礎!$G$3:$H$22,2,FALSE),\"\")","v":""}]
[" 04-20-19","04",null,"20",null,"19",null,null,null,{"$f":"IFERROR(VLOOKUP(I1604,設定・基礎!$G$3:$H$22,2,FALSE),\"\")","v":""}]
[" 04-20-20","04",null,"20",null,"20",null,null,null,{"$f":"IFERROR(VLOOKUP(I1605,設定・基礎!$G$3:$H$22,2,FALSE),\"\")","v":""}]
[" 05-01-01","05","研究事業","01","研究推進","01","◆研究推進◆","◆研究推進◆","５年",{"$f":"IFERROR(VLOOKUP(I1606,設定・基礎!$G$3:$H$22,2,FALSE),\"\")","v":"⑤"}]
[" 05-01-02","05",null,"01",null,"02","研究推進計画　担当者会・課長会","研究推進計画担当者会課長会","５年",{"$f":"IFERROR(VLOOKUP(I1607,設定・基礎!$G$3:$H$22,2,FALSE),\"\")","v":"⑤"}]
[" 05-01-03","05",null,"01",null,"03","研究部長ヒア①","研究部長ﾋｱ①","５年",{"$f":"IFERROR(VLOOKUP(I1608,設定・基礎!$G$3:$H$22,2,FALSE),\"\")","v":"⑤"}]
[" 05-01-04","05",null,"01",null,"04","研究部長ヒア②","研究部長ﾋｱ②","５年",{"$f":"IFERROR(VLOOKUP(I1609,設定・基礎!$G$3:$H$22,2,FALSE),\"\")","v":"⑤"}]
[" 05-01-05","05",null,"01",null,"05","研究部長ヒア③","研究部長ﾋｱ③","５年",{"$f":"IFERROR(VLOOKUP(I1610,設定・基礎!$G$3:$H$22,2,FALSE),\"\")","v":"⑤"}]
[" 05-01-06","05",null,"01",null,"06","研究中間発表","研究中間発表","５年",{"$f":"IFERROR(VLOOKUP(I1611,設定・基礎!$G$3:$H$22,2,FALSE),\"\")","v":"⑤"}]
[" 05-01-07","05",null,"01",null,"07","研究所長ヒア①","研究所長ﾋｱ①","５年",{"$f":"IFERROR(VLOOKUP(I1612,設定・基礎!$G$3:$H$22,2,FALSE),\"\")","v":"⑤"}]
[" 05-01-08","05",null,"01",null,"08","研究所長ヒア②","研究所長ﾋｱ②","５年",{"$f":"IFERROR(VLOOKUP(I1613,設定・基礎!$G$3:$H$22,2,FALSE),\"\")","v":"⑤"}]
[" 05-01-09","05",null,"01",null,"09",null,null,null,{"$f":"IFERROR(VLOOKUP(I1614,設定・基礎!$G$3:$H$22,2,FALSE),\"\")","v":""}]
[" 05-01-10","05",null,"01",null,"10",null,null,null,{"$f":"IFERROR(VLOOKUP(I1615,設定・基礎!$G$3:$H$22,2,FALSE),\"\")","v":""}]
[" 05-01-11","05",null,"01",null,"11",null,null,null,{"$f":"IFERROR(VLOOKUP(I1616,設定・基礎!$G$3:$H$22,2,FALSE),\"\")","v":""}]
[" 05-01-12","05",null,"01",null,"12",null,null,null,{"$f":"IFERROR(VLOOKUP(I1617,設定・基礎!$G$3:$H$22,2,FALSE),\"\")","v":""}]
[" 05-01-13","05",null,"01",null,"13",null,null,null,{"$f":"IFERROR(VLOOKUP(I1618,設定・基礎!$G$3:$H$22,2,FALSE),\"\")","v":""}]
[" 05-01-14","05",null,"01",null,"14",null,null,null,{"$f":"IFERROR(VLOOKUP(I1619,設定・基礎!$G$3:$H$22,2,FALSE),\"\")","v":""}]
[" 05-01-15","05",null,"01",null,"15",null,null,null,{"$f":"IFERROR(VLOOKUP(I1620,設定・基礎!$G$3:$H$22,2,FALSE),\"\")","v":""}]
[" 05-01-16","05",null,"01",null,"16",null,null,null,{"$f":"IFERROR(VLOOKUP(I1621,設定・基礎!$G$3:$H$22,2,FALSE),\"\")","v":""}]
[" 05-01-17","05",null,"01",null,"17",null,null,null,{"$f":"IFERROR(VLOOKUP(I1622,設定・基礎!$G$3:$H$22,2,FALSE),\"\")","v":""}]
[" 05-01-18","05",null,"01",null,"18",null,null,null,{"$f":"IFERROR(VLOOKUP(I1623,設定・基礎!$G$3:$H$22,2,FALSE),\"\")","v":""}]
[" 05-01-19","05",null,"01",null,"19",null,null,null,{"$f":"IFERROR(VLOOKUP(I1624,設定・基礎!$G$3:$H$22,2,FALSE),\"\")","v":""}]
[" 05-01-20","05",null,"01",null,"20",null,null,null,{"$f":"IFERROR(VLOOKUP(I1625,設定・基礎!$G$3:$H$22,2,FALSE),\"\")","v":""}]
[" 05-02-01","05",null,"02","研究紀要","01","◆研究紀要◆","◆研究紀要◆","10年",{"$f":"IFERROR(VLOOKUP(I1626,設定・基礎!$G$3:$H$22,2,FALSE),\"\")","v":"⑩"}]
[" 05-02-02","05",null,"02",null,"02","研究紀要発行事務①仕様書・業者・配付","研究紀要事務①仕様・打合せ","10年",{"$f":"IFERROR(VLOOKUP(I1627,設定・基礎!$G$3:$H$22,2,FALSE),\"\")","v":"⑩"}]
[" 05-02-03","05",null,"02",null,"03","研究紀要発行事務②原稿作成・発送","研究紀要事務②原稿作成・発送","10年",{"$f":"IFERROR(VLOOKUP(I1628,設定・基礎!$G$3:$H$22,2,FALSE),\"\")","v":"⑩"}]
[" 05-02-04","05",null,"02",null,"04","研究発表会①案内（実施要領）・プレゼン","研究発表会①案内・ﾌﾟﾚｾﾞﾝ","10年",{"$f":"IFERROR(VLOOKUP(I1629,設定・基礎!$G$3:$H$22,2,FALSE),\"\")","v":"⑩"}]
[" 05-02-05","05",null,"02",null,"05","研究発表会②参加者","研究発表会②参加者","10年",{"$f":"IFERROR(VLOOKUP(I1630,設定・基礎!$G$3:$H$22,2,FALSE),\"\")","v":"⑩"}]
[" 05-02-06","05",null,"02",null,"06","研究発表会③運営","研究発表会③運営","10年",{"$f":"IFERROR(VLOOKUP(I1631,設定・基礎!$G$3:$H$22,2,FALSE),\"\")","v":"⑩"}]
[" 05-02-07","05",null,"02",null,"07","研究紀要校正","研究紀要校正","10年",{"$f":"IFERROR(VLOOKUP(I1632,設定・基礎!$G$3:$H$22,2,FALSE),\"\")","v":"⑩"}]
[" 05-02-08","05",null,"02",null,"08",null,null,null,{"$f":"IFERROR(VLOOKUP(I1633,設定・基礎!$G$3:$H$22,2,FALSE),\"\")","v":""}]
[" 05-02-09","05",null,"02",null,"09",null,null,null,{"$f":"IFERROR(VLOOKUP(I1634,設定・基礎!$G$3:$H$22,2,FALSE),\"\")","v":""}]
[" 05-02-10","05",null,"02",null,"10",null,null,null,{"$f":"IFERROR(VLOOKUP(I1635,設定・基礎!$G$3:$H$22,2,FALSE),\"\")","v":""}]
[" 05-02-11","05",null,"02",null,"11",null,null,null,{"$f":"IFERROR(VLOOKUP(I1636,設定・基礎!$G$3:$H$22,2,FALSE),\"\")","v":""}]
[" 05-02-12","05",null,"02",null,"12",null,null,null,{"$f":"IFERROR(VLOOKUP(I1637,設定・基礎!$G$3:$H$22,2,FALSE),\"\")","v":""}]
[" 05-02-13","05",null,"02",null,"13",null,null,null,{"$f":"IFERROR(VLOOKUP(I1638,設定・基礎!$G$3:$H$22,2,FALSE),\"\")","v":""}]
[" 05-02-14","05",null,"02",null,"14",null,null,null,{"$f":"IFERROR(VLOOKUP(I1639,設定・基礎!$G$3:$H$22,2,FALSE),\"\")","v":""}]
[" 05-02-15","05",null,"02",null,"15",null,null,null,{"$f":"IFERROR(VLOOKUP(I1640,設定・基礎!$G$3:$H$22,2,FALSE),\"\")","v":""}]
[" 05-02-16","05",null,"02",null,"16",null,null,null,{"$f":"IFERROR(VLOOKUP(I1641,設定・基礎!$G$3:$H$22,2,FALSE),\"\")","v":""}]
[" 05-02-17","05",null,"02",null,"17",null,null,null,{"$f":"IFERROR(VLOOKUP(I1642,設定・基礎!$G$3:$H$22,2,FALSE),\"\")","v":""}]
[" 05-02-18","05",null,"02",null,"18",null,null,null,{"$f":"IFERROR(VLOOKUP(I1643,設定・基礎!$G$3:$H$22,2,FALSE),\"\")","v":""}]
[" 05-02-19","05",null,"02",null,"19",null,null,null,{"$f":"IFERROR(VLOOKUP(I1644,設定・基礎!$G$3:$H$22,2,FALSE),\"\")","v":""}]
[" 05-02-20","05",null,"02",null,"20",null,null,null,{"$f":"IFERROR(VLOOKUP(I1645,設定・基礎!$G$3:$H$22,2,FALSE),\"\")","v":""}]
[" 05-03-01","05",null,"03","所内研修","01","◆所内研修◆","◆所内研修◆","３年",{"$f":"IFERROR(VLOOKUP(I1646,設定・基礎!$G$3:$H$22,2,FALSE),\"\")","v":"③"}]
[" 05-03-02","05",null,"03",null,"02","所内研修①（部長講話、各課事業概要）","所内研修①部長講話、概要","３年",{"$f":"IFERROR(VLOOKUP(I1647,設定・基礎!$G$3:$H$22,2,FALSE),\"\")","v":"③"}]
[" 05-03-03","05",null,"03",null,"03",null,null,null,{"$f":"IFERROR(VLOOKUP(I1648,設定・基礎!$G$3:$H$22,2,FALSE),\"\")","v":""}]
[" 05-03-04","05",null,"03",null,"04",null,null,null,{"$f":"IFERROR(VLOOKUP(I1649,設定・基礎!$G$3:$H$22,2,FALSE),\"\")","v":""}]
[" 05-03-05","05",null,"03",null,"05",null,null,null,{"$f":"IFERROR(VLOOKUP(I1650,設定・基礎!$G$3:$H$22,2,FALSE),\"\")","v":""}]
[" 05-03-06","05",null,"03",null,"06",null,null,null,{"$f":"IFERROR(VLOOKUP(I1651,設定・基礎!$G$3:$H$22,2,FALSE),\"\")","v":""}]
[" 05-03-07","05",null,"03",null,"07",null,null,null,{"$f":"IFERROR(VLOOKUP(I1652,設定・基礎!$G$3:$H$22,2,FALSE),\"\")","v":""}]
[" 05-03-08","05",null,"03",null,"08",null,null,null,{"$f":"IFERROR(VLOOKUP(I1653,設定・基礎!$G$3:$H$22,2,FALSE),\"\")","v":""}]
[" 05-03-09","05",null,"03",null,"09",null,null,null,{"$f":"IFERROR(VLOOKUP(I1654,設定・基礎!$G$3:$H$22,2,FALSE),\"\")","v":""}]
[" 05-03-10","05",null,"03",null,"10",null,null,null,{"$f":"IFERROR(VLOOKUP(I1655,設定・基礎!$G$3:$H$22,2,FALSE),\"\")","v":""}]
[" 05-03-11","05",null,"03",null,"11",null,null,null,{"$f":"IFERROR(VLOOKUP(I1656,設定・基礎!$G$3:$H$22,2,FALSE),\"\")","v":""}]
[" 05-03-12","05",null,"03",null,"12",null,null,null,{"$f":"IFERROR(VLOOKUP(I1657,設定・基礎!$G$3:$H$22,2,FALSE),\"\")","v":""}]
[" 05-03-13","05",null,"03",null,"13",null,null,null,{"$f":"IFERROR(VLOOKUP(I1658,設定・基礎!$G$3:$H$22,2,FALSE),\"\")","v":""}]
[" 05-03-14","05",null,"03",null,"14",null,null,null,{"$f":"IFERROR(VLOOKUP(I1659,設定・基礎!$G$3:$H$22,2,FALSE),\"\")","v":""}]
[" 05-03-15","05",null,"03",null,"15",null,null,null,{"$f":"IFERROR(VLOOKUP(I1660,設定・基礎!$G$3:$H$22,2,FALSE),\"\")","v":""}]
[" 05-03-16","05",null,"03",null,"16",null,null,null,{"$f":"IFERROR(VLOOKUP(I1661,設定・基礎!$G$3:$H$22,2,FALSE),\"\")","v":""}]
[" 05-03-17","05",null,"03",null,"17",null,null,null,{"$f":"IFERROR(VLOOKUP(I1662,設定・基礎!$G$3:$H$22,2,FALSE),\"\")","v":""}]
[" 05-03-18","05",null,"03",null,"18",null,null,null,{"$f":"IFERROR(VLOOKUP(I1663,設定・基礎!$G$3:$H$22,2,FALSE),\"\")","v":""}]
[" 05-03-19","05",null,"03",null,"19",null,null,null,{"$f":"IFERROR(VLOOKUP(I1664,設定・基礎!$G$3:$H$22,2,FALSE),\"\")","v":""}]
[" 05-03-20","05",null,"03",null,"20",null,null,null,{"$f":"IFERROR(VLOOKUP(I1665,設定・基礎!$G$3:$H$22,2,FALSE),\"\")","v":""}]
[" 05-04-01","05",null,"04",null,"01",null,null,null,{"$f":"IFERROR(VLOOKUP(I1666,設定・基礎!$G$3:$H$22,2,FALSE),\"\")","v":""}]
[" 05-04-02","05",null,"04",null,"02",null,null,null,{"$f":"IFERROR(VLOOKUP(I1667,設定・基礎!$G$3:$H$22,2,FALSE),\"\")","v":""}]
[" 05-04-03","05",null,"04",null,"03",null,null,null,{"$f":"IFERROR(VLOOKUP(I1668,設定・基礎!$G$3:$H$22,2,FALSE),\"\")","v":""}]
[" 05-04-04","05",null,"04",null,"04",null,null,null,{"$f":"IFERROR(VLOOKUP(I1669,設定・基礎!$G$3:$H$22,2,FALSE),\"\")","v":""}]
[" 05-04-05","05",null,"04",null,"05",null,null,null,{"$f":"IFERROR(VLOOKUP(I1670,設定・基礎!$G$3:$H$22,2,FALSE),\"\")","v":""}]
[" 05-04-06","05",null,"04",null,"06",null,null,null,{"$f":"IFERROR(VLOOKUP(I1671,設定・基礎!$G$3:$H$22,2,FALSE),\"\")","v":""}]
[" 05-04-07","05",null,"04",null,"07",null,null,null,{"$f":"IFERROR(VLOOKUP(I1672,設定・基礎!$G$3:$H$22,2,FALSE),\"\")","v":""}]
[" 05-04-08","05",null,"04",null,"08",null,null,null,{"$f":"IFERROR(VLOOKUP(I1673,設定・基礎!$G$3:$H$22,2,FALSE),\"\")","v":""}]
[" 05-04-09","05",null,"04",null,"09",null,null,null,{"$f":"IFERROR(VLOOKUP(I1674,設定・基礎!$G$3:$H$22,2,FALSE),\"\")","v":""}]
[" 05-04-10","05",null,"04",null,"10",null,null,null,{"$f":"IFERROR(VLOOKUP(I1675,設定・基礎!$G$3:$H$22,2,FALSE),\"\")","v":""}]
[" 05-04-11","05",null,"04",null,"11",null,null,null,{"$f":"IFERROR(VLOOKUP(I1676,設定・基礎!$G$3:$H$22,2,FALSE),\"\")","v":""}]
[" 05-04-12","05",null,"04",null,"12",null,null,null,{"$f":"IFERROR(VLOOKUP(I1677,設定・基礎!$G$3:$H$22,2,FALSE),\"\")","v":""}]
[" 05-04-13","05",null,"04",null,"13",null,null,null,{"$f":"IFERROR(VLOOKUP(I1678,設定・基礎!$G$3:$H$22,2,FALSE),\"\")","v":""}]
[" 05-04-14","05",null,"04",null,"14",null,null,null,{"$f":"IFERROR(VLOOKUP(I1679,設定・基礎!$G$3:$H$22,2,FALSE),\"\")","v":""}]
[" 05-04-15","05",null,"04",null,"15",null,null,null,{"$f":"IFERROR(VLOOKUP(I1680,設定・基礎!$G$3:$H$22,2,FALSE),\"\")","v":""}]
[" 05-04-16","05",null,"04",null,"16",null,null,null,{"$f":"IFERROR(VLOOKUP(I1681,設定・基礎!$G$3:$H$22,2,FALSE),\"\")","v":""}]
[" 05-04-17","05",null,"04",null,"17",null,null,null,{"$f":"IFERROR(VLOOKUP(I1682,設定・基礎!$G$3:$H$22,2,FALSE),\"\")","v":""}]
[" 05-04-18","05",null,"04",null,"18",null,null,null,{"$f":"IFERROR(VLOOKUP(I1683,設定・基礎!$G$3:$H$22,2,FALSE),\"\")","v":""}]
[" 05-04-19","05",null,"04",null,"19",null,null,null,{"$f":"IFERROR(VLOOKUP(I1684,設定・基礎!$G$3:$H$22,2,FALSE),\"\")","v":""}]
[" 05-04-20","05",null,"04",null,"20",null,null,null,{"$f":"IFERROR(VLOOKUP(I1685,設定・基礎!$G$3:$H$22,2,FALSE),\"\")","v":""}]
[" 05-05-01","05",null,"05",null,"01",null,null,null,{"$f":"IFERROR(VLOOKUP(I1686,設定・基礎!$G$3:$H$22,2,FALSE),\"\")","v":""}]
[" 05-05-02","05",null,"05",null,"02",null,null,null,{"$f":"IFERROR(VLOOKUP(I1687,設定・基礎!$G$3:$H$22,2,FALSE),\"\")","v":""}]
[" 05-05-03","05",null,"05",null,"03",null,null,null,{"$f":"IFERROR(VLOOKUP(I1688,設定・基礎!$G$3:$H$22,2,FALSE),\"\")","v":""}]
[" 05-05-04","05",null,"05",null,"04",null,null,null,{"$f":"IFERROR(VLOOKUP(I1689,設定・基礎!$G$3:$H$22,2,FALSE),\"\")","v":""}]
[" 05-05-05","05",null,"05",null,"05",null,null,null,{"$f":"IFERROR(VLOOKUP(I1690,設定・基礎!$G$3:$H$22,2,FALSE),\"\")","v":""}]
[" 05-05-06","05",null,"05",null,"06",null,null,null,{"$f":"IFERROR(VLOOKUP(I1691,設定・基礎!$G$3:$H$22,2,FALSE),\"\")","v":""}]
[" 05-05-07","05",null,"05",null,"07",null,null,null,{"$f":"IFERROR(VLOOKUP(I1692,設定・基礎!$G$3:$H$22,2,FALSE),\"\")","v":""}]
[" 05-05-08","05",null,"05",null,"08",null,null,null,{"$f":"IFERROR(VLOOKUP(I1693,設定・基礎!$G$3:$H$22,2,FALSE),\"\")","v":""}]
[" 05-05-09","05",null,"05",null,"09",null,null,null,{"$f":"IFERROR(VLOOKUP(I1694,設定・基礎!$G$3:$H$22,2,FALSE),\"\")","v":""}]
[" 05-05-10","05",null,"05",null,"10",null,null,null,{"$f":"IFERROR(VLOOKUP(I1695,設定・基礎!$G$3:$H$22,2,FALSE),\"\")","v":""}]
[" 05-05-11","05",null,"05",null,"11",null,null,null,{"$f":"IFERROR(VLOOKUP(I1696,設定・基礎!$G$3:$H$22,2,FALSE),\"\")","v":""}]
[" 05-05-12","05",null,"05",null,"12",null,null,null,{"$f":"IFERROR(VLOOKUP(I1697,設定・基礎!$G$3:$H$22,2,FALSE),\"\")","v":""}]
[" 05-05-13","05",null,"05",null,"13",null,null,null,{"$f":"IFERROR(VLOOKUP(I1698,設定・基礎!$G$3:$H$22,2,FALSE),\"\")","v":""}]
[" 05-05-14","05",null,"05",null,"14",null,null,null,{"$f":"IFERROR(VLOOKUP(I1699,設定・基礎!$G$3:$H$22,2,FALSE),\"\")","v":""}]
[" 05-05-15","05",null,"05",null,"15",null,null,null,{"$f":"IFERROR(VLOOKUP(I1700,設定・基礎!$G$3:$H$22,2,FALSE),\"\")","v":""}]
[" 05-05-16","05",null,"05",null,"16",null,null,null,{"$f":"IFERROR(VLOOKUP(I1701,設定・基礎!$G$3:$H$22,2,FALSE),\"\")","v":""}]
[" 05-05-17","05",null,"05",null,"17",null,null,null,{"$f":"IFERROR(VLOOKUP(I1702,設定・基礎!$G$3:$H$22,2,FALSE),\"\")","v":""}]
[" 05-05-18","05",null,"05",null,"18",null,null,null,{"$f":"IFERROR(VLOOKUP(I1703,設定・基礎!$G$3:$H$22,2,FALSE),\"\")","v":""}]
[" 05-05-19","05",null,"05",null,"19",null,null,null,{"$f":"IFERROR(VLOOKUP(I1704,設定・基礎!$G$3:$H$22,2,FALSE),\"\")","v":""}]
[" 05-05-20","05",null,"05",null,"20",null,null,null,{"$f":"IFERROR(VLOOKUP(I1705,設定・基礎!$G$3:$H$22,2,FALSE),\"\")","v":""}]
[" 05-06-01","05",null,"06",null,"01",null,null,null,{"$f":"IFERROR(VLOOKUP(I1706,設定・基礎!$G$3:$H$22,2,FALSE),\"\")","v":""}]
[" 05-06-02","05",null,"06",null,"02",null,null,null,{"$f":"IFERROR(VLOOKUP(I1707,設定・基礎!$G$3:$H$22,2,FALSE),\"\")","v":""}]
[" 05-06-03","05",null,"06",null,"03",null,null,null,{"$f":"IFERROR(VLOOKUP(I1708,設定・基礎!$G$3:$H$22,2,FALSE),\"\")","v":""}]
[" 05-06-04","05",null,"06",null,"04",null,null,null,{"$f":"IFERROR(VLOOKUP(I1709,設定・基礎!$G$3:$H$22,2,FALSE),\"\")","v":""}]
[" 05-06-05","05",null,"06",null,"05",null,null,null,{"$f":"IFERROR(VLOOKUP(I1710,設定・基礎!$G$3:$H$22,2,FALSE),\"\")","v":""}]
[" 05-06-06","05",null,"06",null,"06",null,null,null,{"$f":"IFERROR(VLOOKUP(I1711,設定・基礎!$G$3:$H$22,2,FALSE),\"\")","v":""}]
[" 05-06-07","05",null,"06",null,"07",null,null,null,{"$f":"IFERROR(VLOOKUP(I1712,設定・基礎!$G$3:$H$22,2,FALSE),\"\")","v":""}]
[" 05-06-08","05",null,"06",null,"08",null,null,null,{"$f":"IFERROR(VLOOKUP(I1713,設定・基礎!$G$3:$H$22,2,FALSE),\"\")","v":""}]
[" 05-06-09","05",null,"06",null,"09",null,null,null,{"$f":"IFERROR(VLOOKUP(I1714,設定・基礎!$G$3:$H$22,2,FALSE),\"\")","v":""}]
[" 05-06-10","05",null,"06",null,"10",null,null,null,{"$f":"IFERROR(VLOOKUP(I1715,設定・基礎!$G$3:$H$22,2,FALSE),\"\")","v":""}]
[" 05-06-11","05",null,"06",null,"11",null,null,null,{"$f":"IFERROR(VLOOKUP(I1716,設定・基礎!$G$3:$H$22,2,FALSE),\"\")","v":""}]
[" 05-06-12","05",null,"06",null,"12",null,null,null,{"$f":"IFERROR(VLOOKUP(I1717,設定・基礎!$G$3:$H$22,2,FALSE),\"\")","v":""}]
[" 05-06-13","05",null,"06",null,"13",null,null,null,{"$f":"IFERROR(VLOOKUP(I1718,設定・基礎!$G$3:$H$22,2,FALSE),\"\")","v":""}]
[" 05-06-14","05",null,"06",null,"14",null,null,null,{"$f":"IFERROR(VLOOKUP(I1719,設定・基礎!$G$3:$H$22,2,FALSE),\"\")","v":""}]
[" 05-06-15","05",null,"06",null,"15",null,null,null,{"$f":"IFERROR(VLOOKUP(I1720,設定・基礎!$G$3:$H$22,2,FALSE),\"\")","v":""}]
[" 05-06-16","05",null,"06",null,"16",null,null,null,{"$f":"IFERROR(VLOOKUP(I1721,設定・基礎!$G$3:$H$22,2,FALSE),\"\")","v":""}]
[" 05-06-17","05",null,"06",null,"17",null,null,null,{"$f":"IFERROR(VLOOKUP(I1722,設定・基礎!$G$3:$H$22,2,FALSE),\"\")","v":""}]
[" 05-06-18","05",null,"06",null,"18",null,null,null,{"$f":"IFERROR(VLOOKUP(I1723,設定・基礎!$G$3:$H$22,2,FALSE),\"\")","v":""}]
[" 05-06-19","05",null,"06",null,"19",null,null,null,{"$f":"IFERROR(VLOOKUP(I1724,設定・基礎!$G$3:$H$22,2,FALSE),\"\")","v":""}]
[" 05-06-20","05",null,"06",null,"20",null,null,null,{"$f":"IFERROR(VLOOKUP(I1725,設定・基礎!$G$3:$H$22,2,FALSE),\"\")","v":""}]
[" 05-07-01","05",null,"07",null,"01",null,null,null,{"$f":"IFERROR(VLOOKUP(I1726,設定・基礎!$G$3:$H$22,2,FALSE),\"\")","v":""}]
[" 05-07-02","05",null,"07",null,"02",null,null,null,{"$f":"IFERROR(VLOOKUP(I1727,設定・基礎!$G$3:$H$22,2,FALSE),\"\")","v":""}]
[" 05-07-03","05",null,"07",null,"03",null,null,null,{"$f":"IFERROR(VLOOKUP(I1728,設定・基礎!$G$3:$H$22,2,FALSE),\"\")","v":""}]
[" 05-07-04","05",null,"07",null,"04",null,null,null,{"$f":"IFERROR(VLOOKUP(I1729,設定・基礎!$G$3:$H$22,2,FALSE),\"\")","v":""}]
[" 05-07-05","05",null,"07",null,"05",null,null,null,{"$f":"IFERROR(VLOOKUP(I1730,設定・基礎!$G$3:$H$22,2,FALSE),\"\")","v":""}]
[" 05-07-06","05",null,"07",null,"06",null,null,null,{"$f":"IFERROR(VLOOKUP(I1731,設定・基礎!$G$3:$H$22,2,FALSE),\"\")","v":""}]
[" 05-07-07","05",null,"07",null,"07",null,null,null,{"$f":"IFERROR(VLOOKUP(I1732,設定・基礎!$G$3:$H$22,2,FALSE),\"\")","v":""}]
[" 05-07-08","05",null,"07",null,"08",null,null,null,{"$f":"IFERROR(VLOOKUP(I1733,設定・基礎!$G$3:$H$22,2,FALSE),\"\")","v":""}]
[" 05-07-09","05",null,"07",null,"09",null,null,null,{"$f":"IFERROR(VLOOKUP(I1734,設定・基礎!$G$3:$H$22,2,FALSE),\"\")","v":""}]
[" 05-07-10","05",null,"07",null,"10",null,null,null,{"$f":"IFERROR(VLOOKUP(I1735,設定・基礎!$G$3:$H$22,2,FALSE),\"\")","v":""}]
[" 05-07-11","05",null,"07",null,"11",null,null,null,{"$f":"IFERROR(VLOOKUP(I1736,設定・基礎!$G$3:$H$22,2,FALSE),\"\")","v":""}]
[" 05-07-12","05",null,"07",null,"12",null,null,null,{"$f":"IFERROR(VLOOKUP(I1737,設定・基礎!$G$3:$H$22,2,FALSE),\"\")","v":""}]
[" 05-07-13","05",null,"07",null,"13",null,null,null,{"$f":"IFERROR(VLOOKUP(I1738,設定・基礎!$G$3:$H$22,2,FALSE),\"\")","v":""}]
[" 05-07-14","05",null,"07",null,"14",null,null,null,{"$f":"IFERROR(VLOOKUP(I1739,設定・基礎!$G$3:$H$22,2,FALSE),\"\")","v":""}]
[" 05-07-15","05",null,"07",null,"15",null,null,null,{"$f":"IFERROR(VLOOKUP(I1740,設定・基礎!$G$3:$H$22,2,FALSE),\"\")","v":""}]
[" 05-07-16","05",null,"07",null,"16",null,null,null,{"$f":"IFERROR(VLOOKUP(I1741,設定・基礎!$G$3:$H$22,2,FALSE),\"\")","v":""}]
[" 05-07-17","05",null,"07",null,"17",null,null,null,{"$f":"IFERROR(VLOOKUP(I1742,設定・基礎!$G$3:$H$22,2,FALSE),\"\")","v":""}]
[" 05-07-18","05",null,"07",null,"18",null,null,null,{"$f":"IFERROR(VLOOKUP(I1743,設定・基礎!$G$3:$H$22,2,FALSE),\"\")","v":""}]
[" 05-07-19","05",null,"07",null,"19",null,null,null,{"$f":"IFERROR(VLOOKUP(I1744,設定・基礎!$G$3:$H$22,2,FALSE),\"\")","v":""}]
[" 05-07-20","05",null,"07",null,"20",null,null,null,{"$f":"IFERROR(VLOOKUP(I1745,設定・基礎!$G$3:$H$22,2,FALSE),\"\")","v":""}]
[" 05-08-01","05",null,"08",null,"01",null,null,null,{"$f":"IFERROR(VLOOKUP(I1746,設定・基礎!$G$3:$H$22,2,FALSE),\"\")","v":""}]
[" 05-08-02","05",null,"08",null,"02",null,null,null,{"$f":"IFERROR(VLOOKUP(I1747,設定・基礎!$G$3:$H$22,2,FALSE),\"\")","v":""}]
[" 05-08-03","05",null,"08",null,"03",null,null,null,{"$f":"IFERROR(VLOOKUP(I1748,設定・基礎!$G$3:$H$22,2,FALSE),\"\")","v":""}]
[" 05-08-04","05",null,"08",null,"04",null,null,null,{"$f":"IFERROR(VLOOKUP(I1749,設定・基礎!$G$3:$H$22,2,FALSE),\"\")","v":""}]
[" 05-08-05","05",null,"08",null,"05",null,null,null,{"$f":"IFERROR(VLOOKUP(I1750,設定・基礎!$G$3:$H$22,2,FALSE),\"\")","v":""}]
[" 05-08-06","05",null,"08",null,"06",null,null,null,{"$f":"IFERROR(VLOOKUP(I1751,設定・基礎!$G$3:$H$22,2,FALSE),\"\")","v":""}]
[" 05-08-07","05",null,"08",null,"07",null,null,null,{"$f":"IFERROR(VLOOKUP(I1752,設定・基礎!$G$3:$H$22,2,FALSE),\"\")","v":""}]
[" 05-08-08","05",null,"08",null,"08",null,null,null,{"$f":"IFERROR(VLOOKUP(I1753,設定・基礎!$G$3:$H$22,2,FALSE),\"\")","v":""}]
[" 05-08-09","05",null,"08",null,"09",null,null,null,{"$f":"IFERROR(VLOOKUP(I1754,設定・基礎!$G$3:$H$22,2,FALSE),\"\")","v":""}]
[" 05-08-10","05",null,"08",null,"10",null,null,null,{"$f":"IFERROR(VLOOKUP(I1755,設定・基礎!$G$3:$H$22,2,FALSE),\"\")","v":""}]
[" 05-08-11","05",null,"08",null,"11",null,null,null,{"$f":"IFERROR(VLOOKUP(I1756,設定・基礎!$G$3:$H$22,2,FALSE),\"\")","v":""}]
[" 05-08-12","05",null,"08",null,"12",null,null,null,{"$f":"IFERROR(VLOOKUP(I1757,設定・基礎!$G$3:$H$22,2,FALSE),\"\")","v":""}]
[" 05-08-13","05",null,"08",null,"13",null,null,null,{"$f":"IFERROR(VLOOKUP(I1758,設定・基礎!$G$3:$H$22,2,FALSE),\"\")","v":""}]
[" 05-08-14","05",null,"08",null,"14",null,null,null,{"$f":"IFERROR(VLOOKUP(I1759,設定・基礎!$G$3:$H$22,2,FALSE),\"\")","v":""}]
[" 05-08-15","05",null,"08",null,"15",null,null,null,{"$f":"IFERROR(VLOOKUP(I1760,設定・基礎!$G$3:$H$22,2,FALSE),\"\")","v":""}]
[" 05-08-16","05",null,"08",null,"16",null,null,null,{"$f":"IFERROR(VLOOKUP(I1761,設定・基礎!$G$3:$H$22,2,FALSE),\"\")","v":""}]
[" 05-08-17","05",null,"08",null,"17",null,null,null,{"$f":"IFERROR(VLOOKUP(I1762,設定・基礎!$G$3:$H$22,2,FALSE),\"\")","v":""}]
[" 05-08-18","05",null,"08",null,"18",null,null,null,{"$f":"IFERROR(VLOOKUP(I1763,設定・基礎!$G$3:$H$22,2,FALSE),\"\")","v":""}]
[" 05-08-19","05",null,"08",null,"19",null,null,null,{"$f":"IFERROR(VLOOKUP(I1764,設定・基礎!$G$3:$H$22,2,FALSE),\"\")","v":""}]
[" 05-08-20","05",null,"08",null,"20",null,null,null,{"$f":"IFERROR(VLOOKUP(I1765,設定・基礎!$G$3:$H$22,2,FALSE),\"\")","v":""}]
[" 05-09-01","05",null,"09",null,"01",null,null,null,{"$f":"IFERROR(VLOOKUP(I1766,設定・基礎!$G$3:$H$22,2,FALSE),\"\")","v":""}]
[" 05-09-02","05",null,"09",null,"02",null,null,null,{"$f":"IFERROR(VLOOKUP(I1767,設定・基礎!$G$3:$H$22,2,FALSE),\"\")","v":""}]
[" 05-09-03","05",null,"09",null,"03",null,null,null,{"$f":"IFERROR(VLOOKUP(I1768,設定・基礎!$G$3:$H$22,2,FALSE),\"\")","v":""}]
[" 05-09-04","05",null,"09",null,"04",null,null,null,{"$f":"IFERROR(VLOOKUP(I1769,設定・基礎!$G$3:$H$22,2,FALSE),\"\")","v":""}]
[" 05-09-05","05",null,"09",null,"05",null,null,null,{"$f":"IFERROR(VLOOKUP(I1770,設定・基礎!$G$3:$H$22,2,FALSE),\"\")","v":""}]
[" 05-09-06","05",null,"09",null,"06",null,null,null,{"$f":"IFERROR(VLOOKUP(I1771,設定・基礎!$G$3:$H$22,2,FALSE),\"\")","v":""}]
[" 05-09-07","05",null,"09",null,"07",null,null,null,{"$f":"IFERROR(VLOOKUP(I1772,設定・基礎!$G$3:$H$22,2,FALSE),\"\")","v":""}]
[" 05-09-08","05",null,"09",null,"08",null,null,null,{"$f":"IFERROR(VLOOKUP(I1773,設定・基礎!$G$3:$H$22,2,FALSE),\"\")","v":""}]
[" 05-09-09","05",null,"09",null,"09",null,null,null,{"$f":"IFERROR(VLOOKUP(I1774,設定・基礎!$G$3:$H$22,2,FALSE),\"\")","v":""}]
[" 05-09-10","05",null,"09",null,"10",null,null,null,{"$f":"IFERROR(VLOOKUP(I1775,設定・基礎!$G$3:$H$22,2,FALSE),\"\")","v":""}]
[" 05-09-11","05",null,"09",null,"11",null,null,null,{"$f":"IFERROR(VLOOKUP(I1776,設定・基礎!$G$3:$H$22,2,FALSE),\"\")","v":""}]
[" 05-09-12","05",null,"09",null,"12",null,null,null,{"$f":"IFERROR(VLOOKUP(I1777,設定・基礎!$G$3:$H$22,2,FALSE),\"\")","v":""}]
[" 05-09-13","05",null,"09",null,"13",null,null,null,{"$f":"IFERROR(VLOOKUP(I1778,設定・基礎!$G$3:$H$22,2,FALSE),\"\")","v":""}]
[" 05-09-14","05",null,"09",null,"14",null,null,null,{"$f":"IFERROR(VLOOKUP(I1779,設定・基礎!$G$3:$H$22,2,FALSE),\"\")","v":""}]
[" 05-09-15","05",null,"09",null,"15",null,null,null,{"$f":"IFERROR(VLOOKUP(I1780,設定・基礎!$G$3:$H$22,2,FALSE),\"\")","v":""}]
[" 05-09-16","05",null,"09",null,"16",null,null,null,{"$f":"IFERROR(VLOOKUP(I1781,設定・基礎!$G$3:$H$22,2,FALSE),\"\")","v":""}]
[" 05-09-17","05",null,"09",null,"17",null,null,null,{"$f":"IFERROR(VLOOKUP(I1782,設定・基礎!$G$3:$H$22,2,FALSE),\"\")","v":""}]
[" 05-09-18","05",null,"09",null,"18",null,null,null,{"$f":"IFERROR(VLOOKUP(I1783,設定・基礎!$G$3:$H$22,2,FALSE),\"\")","v":""}]
[" 05-09-19","05",null,"09",null,"19",null,null,null,{"$f":"IFERROR(VLOOKUP(I1784,設定・基礎!$G$3:$H$22,2,FALSE),\"\")","v":""}]
[" 05-09-20","05",null,"09",null,"20",null,null,null,{"$f":"IFERROR(VLOOKUP(I1785,設定・基礎!$G$3:$H$22,2,FALSE),\"\")","v":""}]
[" 05-10-01","05",null,"10",null,"01",null,null,null,{"$f":"IFERROR(VLOOKUP(I1786,設定・基礎!$G$3:$H$22,2,FALSE),\"\")","v":""}]
[" 05-10-02","05",null,"10",null,"02",null,null,null,{"$f":"IFERROR(VLOOKUP(I1787,設定・基礎!$G$3:$H$22,2,FALSE),\"\")","v":""}]
[" 05-10-03","05",null,"10",null,"03",null,null,null,{"$f":"IFERROR(VLOOKUP(I1788,設定・基礎!$G$3:$H$22,2,FALSE),\"\")","v":""}]
[" 05-10-04","05",null,"10",null,"04",null,null,null,{"$f":"IFERROR(VLOOKUP(I1789,設定・基礎!$G$3:$H$22,2,FALSE),\"\")","v":""}]
[" 05-10-05","05",null,"10",null,"05",null,null,null,{"$f":"IFERROR(VLOOKUP(I1790,設定・基礎!$G$3:$H$22,2,FALSE),\"\")","v":""}]
[" 05-10-06","05",null,"10",null,"06",null,null,null,{"$f":"IFERROR(VLOOKUP(I1791,設定・基礎!$G$3:$H$22,2,FALSE),\"\")","v":""}]
[" 05-10-07","05",null,"10",null,"07",null,null,null,{"$f":"IFERROR(VLOOKUP(I1792,設定・基礎!$G$3:$H$22,2,FALSE),\"\")","v":""}]
[" 05-10-08","05",null,"10",null,"08",null,null,null,{"$f":"IFERROR(VLOOKUP(I1793,設定・基礎!$G$3:$H$22,2,FALSE),\"\")","v":""}]
[" 05-10-09","05",null,"10",null,"09",null,null,null,{"$f":"IFERROR(VLOOKUP(I1794,設定・基礎!$G$3:$H$22,2,FALSE),\"\")","v":""}]
[" 05-10-10","05",null,"10",null,"10",null,null,null,{"$f":"IFERROR(VLOOKUP(I1795,設定・基礎!$G$3:$H$22,2,FALSE),\"\")","v":""}]
[" 05-10-11","05",null,"10",null,"11",null,null,null,{"$f":"IFERROR(VLOOKUP(I1796,設定・基礎!$G$3:$H$22,2,FALSE),\"\")","v":""}]
[" 05-10-12","05",null,"10",null,"12",null,null,null,{"$f":"IFERROR(VLOOKUP(I1797,設定・基礎!$G$3:$H$22,2,FALSE),\"\")","v":""}]
[" 05-10-13","05",null,"10",null,"13",null,null,null,{"$f":"IFERROR(VLOOKUP(I1798,設定・基礎!$G$3:$H$22,2,FALSE),\"\")","v":""}]
[" 05-10-14","05",null,"10",null,"14",null,null,null,{"$f":"IFERROR(VLOOKUP(I1799,設定・基礎!$G$3:$H$22,2,FALSE),\"\")","v":""}]
[" 05-10-15","05",null,"10",null,"15",null,null,null,{"$f":"IFERROR(VLOOKUP(I1800,設定・基礎!$G$3:$H$22,2,FALSE),\"\")","v":""}]
[" 05-10-16","05",null,"10",null,"16",null,null,null,{"$f":"IFERROR(VLOOKUP(I1801,設定・基礎!$G$3:$H$22,2,FALSE),\"\")","v":""}]
[" 05-10-17","05",null,"10",null,"17",null,null,null,{"$f":"IFERROR(VLOOKUP(I1802,設定・基礎!$G$3:$H$22,2,FALSE),\"\")","v":""}]
[" 05-10-18","05",null,"10",null,"18",null,null,null,{"$f":"IFERROR(VLOOKUP(I1803,設定・基礎!$G$3:$H$22,2,FALSE),\"\")","v":""}]
[" 05-10-19","05",null,"10",null,"19",null,null,null,{"$f":"IFERROR(VLOOKUP(I1804,設定・基礎!$G$3:$H$22,2,FALSE),\"\")","v":""}]
[" 05-10-20","05",null,"10",null,"20",null,null,null,{"$f":"IFERROR(VLOOKUP(I1805,設定・基礎!$G$3:$H$22,2,FALSE),\"\")","v":""}]
[" 05-11-01","05",null,"11",null,"01",null,null,null,{"$f":"IFERROR(VLOOKUP(I1806,設定・基礎!$G$3:$H$22,2,FALSE),\"\")","v":""}]
[" 05-11-02","05",null,"11",null,"02",null,null,null,{"$f":"IFERROR(VLOOKUP(I1807,設定・基礎!$G$3:$H$22,2,FALSE),\"\")","v":""}]
[" 05-11-03","05",null,"11",null,"03",null,null,null,{"$f":"IFERROR(VLOOKUP(I1808,設定・基礎!$G$3:$H$22,2,FALSE),\"\")","v":""}]
[" 05-11-04","05",null,"11",null,"04",null,null,null,{"$f":"IFERROR(VLOOKUP(I1809,設定・基礎!$G$3:$H$22,2,FALSE),\"\")","v":""}]
[" 05-11-05","05",null,"11",null,"05",null,null,null,{"$f":"IFERROR(VLOOKUP(I1810,設定・基礎!$G$3:$H$22,2,FALSE),\"\")","v":""}]
[" 05-11-06","05",null,"11",null,"06",null,null,null,{"$f":"IFERROR(VLOOKUP(I1811,設定・基礎!$G$3:$H$22,2,FALSE),\"\")","v":""}]
[" 05-11-07","05",null,"11",null,"07",null,null,null,{"$f":"IFERROR(VLOOKUP(I1812,設定・基礎!$G$3:$H$22,2,FALSE),\"\")","v":""}]
[" 05-11-08","05",null,"11",null,"08",null,null,null,{"$f":"IFERROR(VLOOKUP(I1813,設定・基礎!$G$3:$H$22,2,FALSE),\"\")","v":""}]
[" 05-11-09","05",null,"11",null,"09",null,null,null,{"$f":"IFERROR(VLOOKUP(I1814,設定・基礎!$G$3:$H$22,2,FALSE),\"\")","v":""}]
[" 05-11-10","05",null,"11",null,"10",null,null,null,{"$f":"IFERROR(VLOOKUP(I1815,設定・基礎!$G$3:$H$22,2,FALSE),\"\")","v":""}]
[" 05-11-11","05",null,"11",null,"11",null,null,null,{"$f":"IFERROR(VLOOKUP(I1816,設定・基礎!$G$3:$H$22,2,FALSE),\"\")","v":""}]
[" 05-11-12","05",null,"11",null,"12",null,null,null,{"$f":"IFERROR(VLOOKUP(I1817,設定・基礎!$G$3:$H$22,2,FALSE),\"\")","v":""}]
[" 05-11-13","05",null,"11",null,"13",null,null,null,{"$f":"IFERROR(VLOOKUP(I1818,設定・基礎!$G$3:$H$22,2,FALSE),\"\")","v":""}]
[" 05-11-14","05",null,"11",null,"14",null,null,null,{"$f":"IFERROR(VLOOKUP(I1819,設定・基礎!$G$3:$H$22,2,FALSE),\"\")","v":""}]
[" 05-11-15","05",null,"11",null,"15",null,null,null,{"$f":"IFERROR(VLOOKUP(I1820,設定・基礎!$G$3:$H$22,2,FALSE),\"\")","v":""}]
[" 05-11-16","05",null,"11",null,"16",null,null,null,{"$f":"IFERROR(VLOOKUP(I1821,設定・基礎!$G$3:$H$22,2,FALSE),\"\")","v":""}]
[" 05-11-17","05",null,"11",null,"17",null,null,null,{"$f":"IFERROR(VLOOKUP(I1822,設定・基礎!$G$3:$H$22,2,FALSE),\"\")","v":""}]
[" 05-11-18","05",null,"11",null,"18",null,null,null,{"$f":"IFERROR(VLOOKUP(I1823,設定・基礎!$G$3:$H$22,2,FALSE),\"\")","v":""}]
[" 05-11-19","05",null,"11",null,"19",null,null,null,{"$f":"IFERROR(VLOOKUP(I1824,設定・基礎!$G$3:$H$22,2,FALSE),\"\")","v":""}]
[" 05-11-20","05",null,"11",null,"20",null,null,null,{"$f":"IFERROR(VLOOKUP(I1825,設定・基礎!$G$3:$H$22,2,FALSE),\"\")","v":""}]
[" 05-12-01","05",null,"12",null,"01",null,null,null,{"$f":"IFERROR(VLOOKUP(I1826,設定・基礎!$G$3:$H$22,2,FALSE),\"\")","v":""}]
[" 05-12-02","05",null,"12",null,"02",null,null,null,{"$f":"IFERROR(VLOOKUP(I1827,設定・基礎!$G$3:$H$22,2,FALSE),\"\")","v":""}]
[" 05-12-03","05",null,"12",null,"03",null,null,null,{"$f":"IFERROR(VLOOKUP(I1828,設定・基礎!$G$3:$H$22,2,FALSE),\"\")","v":""}]
[" 05-12-04","05",null,"12",null,"04",null,null,null,{"$f":"IFERROR(VLOOKUP(I1829,設定・基礎!$G$3:$H$22,2,FALSE),\"\")","v":""}]
[" 05-12-05","05",null,"12",null,"05",null,null,null,{"$f":"IFERROR(VLOOKUP(I1830,設定・基礎!$G$3:$H$22,2,FALSE),\"\")","v":""}]
[" 05-12-06","05",null,"12",null,"06",null,null,null,{"$f":"IFERROR(VLOOKUP(I1831,設定・基礎!$G$3:$H$22,2,FALSE),\"\")","v":""}]
[" 05-12-07","05",null,"12",null,"07",null,null,null,{"$f":"IFERROR(VLOOKUP(I1832,設定・基礎!$G$3:$H$22,2,FALSE),\"\")","v":""}]
[" 05-12-08","05",null,"12",null,"08",null,null,null,{"$f":"IFERROR(VLOOKUP(I1833,設定・基礎!$G$3:$H$22,2,FALSE),\"\")","v":""}]
[" 05-12-09","05",null,"12",null,"09",null,null,null,{"$f":"IFERROR(VLOOKUP(I1834,設定・基礎!$G$3:$H$22,2,FALSE),\"\")","v":""}]
[" 05-12-10","05",null,"12",null,"10",null,null,null,{"$f":"IFERROR(VLOOKUP(I1835,設定・基礎!$G$3:$H$22,2,FALSE),\"\")","v":""}]
[" 05-12-11","05",null,"12",null,"11",null,null,null,{"$f":"IFERROR(VLOOKUP(I1836,設定・基礎!$G$3:$H$22,2,FALSE),\"\")","v":""}]
[" 05-12-12","05",null,"12",null,"12",null,null,null,{"$f":"IFERROR(VLOOKUP(I1837,設定・基礎!$G$3:$H$22,2,FALSE),\"\")","v":""}]
[" 05-12-13","05",null,"12",null,"13",null,null,null,{"$f":"IFERROR(VLOOKUP(I1838,設定・基礎!$G$3:$H$22,2,FALSE),\"\")","v":""}]
[" 05-12-14","05",null,"12",null,"14",null,null,null,{"$f":"IFERROR(VLOOKUP(I1839,設定・基礎!$G$3:$H$22,2,FALSE),\"\")","v":""}]
[" 05-12-15","05",null,"12",null,"15",null,null,null,{"$f":"IFERROR(VLOOKUP(I1840,設定・基礎!$G$3:$H$22,2,FALSE),\"\")","v":""}]
[" 05-12-16","05",null,"12",null,"16",null,null,null,{"$f":"IFERROR(VLOOKUP(I1841,設定・基礎!$G$3:$H$22,2,FALSE),\"\")","v":""}]
[" 05-12-17","05",null,"12",null,"17",null,null,null,{"$f":"IFERROR(VLOOKUP(I1842,設定・基礎!$G$3:$H$22,2,FALSE),\"\")","v":""}]
[" 05-12-18","05",null,"12",null,"18",null,null,null,{"$f":"IFERROR(VLOOKUP(I1843,設定・基礎!$G$3:$H$22,2,FALSE),\"\")","v":""}]
[" 05-12-19","05",null,"12",null,"19",null,null,null,{"$f":"IFERROR(VLOOKUP(I1844,設定・基礎!$G$3:$H$22,2,FALSE),\"\")","v":""}]
[" 05-12-20","05",null,"12",null,"20",null,null,null,{"$f":"IFERROR(VLOOKUP(I1845,設定・基礎!$G$3:$H$22,2,FALSE),\"\")","v":""}]
[" 05-13-01","05",null,"13",null,"01",null,null,null,{"$f":"IFERROR(VLOOKUP(I1846,設定・基礎!$G$3:$H$22,2,FALSE),\"\")","v":""}]
[" 05-13-02","05",null,"13",null,"02",null,null,null,{"$f":"IFERROR(VLOOKUP(I1847,設定・基礎!$G$3:$H$22,2,FALSE),\"\")","v":""}]
[" 05-13-03","05",null,"13",null,"03",null,null,null,{"$f":"IFERROR(VLOOKUP(I1848,設定・基礎!$G$3:$H$22,2,FALSE),\"\")","v":""}]
[" 05-13-04","05",null,"13",null,"04",null,null,null,{"$f":"IFERROR(VLOOKUP(I1849,設定・基礎!$G$3:$H$22,2,FALSE),\"\")","v":""}]
[" 05-13-05","05",null,"13",null,"05",null,null,null,{"$f":"IFERROR(VLOOKUP(I1850,設定・基礎!$G$3:$H$22,2,FALSE),\"\")","v":""}]
[" 05-13-06","05",null,"13",null,"06",null,null,null,{"$f":"IFERROR(VLOOKUP(I1851,設定・基礎!$G$3:$H$22,2,FALSE),\"\")","v":""}]
[" 05-13-07","05",null,"13",null,"07",null,null,null,{"$f":"IFERROR(VLOOKUP(I1852,設定・基礎!$G$3:$H$22,2,FALSE),\"\")","v":""}]
[" 05-13-08","05",null,"13",null,"08",null,null,null,{"$f":"IFERROR(VLOOKUP(I1853,設定・基礎!$G$3:$H$22,2,FALSE),\"\")","v":""}]
[" 05-13-09","05",null,"13",null,"09",null,null,null,{"$f":"IFERROR(VLOOKUP(I1854,設定・基礎!$G$3:$H$22,2,FALSE),\"\")","v":""}]
[" 05-13-10","05",null,"13",null,"10",null,null,null,{"$f":"IFERROR(VLOOKUP(I1855,設定・基礎!$G$3:$H$22,2,FALSE),\"\")","v":""}]
[" 05-13-11","05",null,"13",null,"11",null,null,null,{"$f":"IFERROR(VLOOKUP(I1856,設定・基礎!$G$3:$H$22,2,FALSE),\"\")","v":""}]
[" 05-13-12","05",null,"13",null,"12",null,null,null,{"$f":"IFERROR(VLOOKUP(I1857,設定・基礎!$G$3:$H$22,2,FALSE),\"\")","v":""}]
[" 05-13-13","05",null,"13",null,"13",null,null,null,{"$f":"IFERROR(VLOOKUP(I1858,設定・基礎!$G$3:$H$22,2,FALSE),\"\")","v":""}]
[" 05-13-14","05",null,"13",null,"14",null,null,null,{"$f":"IFERROR(VLOOKUP(I1859,設定・基礎!$G$3:$H$22,2,FALSE),\"\")","v":""}]
[" 05-13-15","05",null,"13",null,"15",null,null,null,{"$f":"IFERROR(VLOOKUP(I1860,設定・基礎!$G$3:$H$22,2,FALSE),\"\")","v":""}]
[" 05-13-16","05",null,"13",null,"16",null,null,null,{"$f":"IFERROR(VLOOKUP(I1861,設定・基礎!$G$3:$H$22,2,FALSE),\"\")","v":""}]
[" 05-13-17","05",null,"13",null,"17",null,null,null,{"$f":"IFERROR(VLOOKUP(I1862,設定・基礎!$G$3:$H$22,2,FALSE),\"\")","v":""}]
[" 05-13-18","05",null,"13",null,"18",null,null,null,{"$f":"IFERROR(VLOOKUP(I1863,設定・基礎!$G$3:$H$22,2,FALSE),\"\")","v":""}]
[" 05-13-19","05",null,"13",null,"19",null,null,null,{"$f":"IFERROR(VLOOKUP(I1864,設定・基礎!$G$3:$H$22,2,FALSE),\"\")","v":""}]
[" 05-13-20","05",null,"13",null,"20",null,null,null,{"$f":"IFERROR(VLOOKUP(I1865,設定・基礎!$G$3:$H$22,2,FALSE),\"\")","v":""}]
[" 05-14-01","05",null,"14",null,"01",null,null,null,{"$f":"IFERROR(VLOOKUP(I1866,設定・基礎!$G$3:$H$22,2,FALSE),\"\")","v":""}]
[" 05-14-02","05",null,"14",null,"02",null,null,null,{"$f":"IFERROR(VLOOKUP(I1867,設定・基礎!$G$3:$H$22,2,FALSE),\"\")","v":""}]
[" 05-14-03","05",null,"14",null,"03",null,null,null,{"$f":"IFERROR(VLOOKUP(I1868,設定・基礎!$G$3:$H$22,2,FALSE),\"\")","v":""}]
[" 05-14-04","05",null,"14",null,"04",null,null,null,{"$f":"IFERROR(VLOOKUP(I1869,設定・基礎!$G$3:$H$22,2,FALSE),\"\")","v":""}]
[" 05-14-05","05",null,"14",null,"05",null,null,null,{"$f":"IFERROR(VLOOKUP(I1870,設定・基礎!$G$3:$H$22,2,FALSE),\"\")","v":""}]
[" 05-14-06","05",null,"14",null,"06",null,null,null,{"$f":"IFERROR(VLOOKUP(I1871,設定・基礎!$G$3:$H$22,2,FALSE),\"\")","v":""}]
[" 05-14-07","05",null,"14",null,"07",null,null,null,{"$f":"IFERROR(VLOOKUP(I1872,設定・基礎!$G$3:$H$22,2,FALSE),\"\")","v":""}]
[" 05-14-08","05",null,"14",null,"08",null,null,null,{"$f":"IFERROR(VLOOKUP(I1873,設定・基礎!$G$3:$H$22,2,FALSE),\"\")","v":""}]
[" 05-14-09","05",null,"14",null,"09",null,null,null,{"$f":"IFERROR(VLOOKUP(I1874,設定・基礎!$G$3:$H$22,2,FALSE),\"\")","v":""}]
[" 05-14-10","05",null,"14",null,"10",null,null,null,{"$f":"IFERROR(VLOOKUP(I1875,設定・基礎!$G$3:$H$22,2,FALSE),\"\")","v":""}]
[" 05-14-11","05",null,"14",null,"11",null,null,null,{"$f":"IFERROR(VLOOKUP(I1876,設定・基礎!$G$3:$H$22,2,FALSE),\"\")","v":""}]
[" 05-14-12","05",null,"14",null,"12",null,null,null,{"$f":"IFERROR(VLOOKUP(I1877,設定・基礎!$G$3:$H$22,2,FALSE),\"\")","v":""}]
[" 05-14-13","05",null,"14",null,"13",null,null,null,{"$f":"IFERROR(VLOOKUP(I1878,設定・基礎!$G$3:$H$22,2,FALSE),\"\")","v":""}]
[" 05-14-14","05",null,"14",null,"14",null,null,null,{"$f":"IFERROR(VLOOKUP(I1879,設定・基礎!$G$3:$H$22,2,FALSE),\"\")","v":""}]
[" 05-14-15","05",null,"14",null,"15",null,null,null,{"$f":"IFERROR(VLOOKUP(I1880,設定・基礎!$G$3:$H$22,2,FALSE),\"\")","v":""}]
[" 05-14-16","05",null,"14",null,"16",null,null,null,{"$f":"IFERROR(VLOOKUP(I1881,設定・基礎!$G$3:$H$22,2,FALSE),\"\")","v":""}]
[" 05-14-17","05",null,"14",null,"17",null,null,null,{"$f":"IFERROR(VLOOKUP(I1882,設定・基礎!$G$3:$H$22,2,FALSE),\"\")","v":""}]
[" 05-14-18","05",null,"14",null,"18",null,null,null,{"$f":"IFERROR(VLOOKUP(I1883,設定・基礎!$G$3:$H$22,2,FALSE),\"\")","v":""}]
[" 05-14-19","05",null,"14",null,"19",null,null,null,{"$f":"IFERROR(VLOOKUP(I1884,設定・基礎!$G$3:$H$22,2,FALSE),\"\")","v":""}]
[" 05-14-20","05",null,"14",null,"20",null,null,null,{"$f":"IFERROR(VLOOKUP(I1885,設定・基礎!$G$3:$H$22,2,FALSE),\"\")","v":""}]
[" 05-15-01","05",null,"15",null,"01",null,null,null,{"$f":"IFERROR(VLOOKUP(I1886,設定・基礎!$G$3:$H$22,2,FALSE),\"\")","v":""}]
[" 05-15-02","05",null,"15",null,"02",null,null,null,{"$f":"IFERROR(VLOOKUP(I1887,設定・基礎!$G$3:$H$22,2,FALSE),\"\")","v":""}]
[" 05-15-03","05",null,"15",null,"03",null,null,null,{"$f":"IFERROR(VLOOKUP(I1888,設定・基礎!$G$3:$H$22,2,FALSE),\"\")","v":""}]
[" 05-15-04","05",null,"15",null,"04",null,null,null,{"$f":"IFERROR(VLOOKUP(I1889,設定・基礎!$G$3:$H$22,2,FALSE),\"\")","v":""}]
[" 05-15-05","05",null,"15",null,"05",null,null,null,{"$f":"IFERROR(VLOOKUP(I1890,設定・基礎!$G$3:$H$22,2,FALSE),\"\")","v":""}]
[" 05-15-06","05",null,"15",null,"06",null,null,null,{"$f":"IFERROR(VLOOKUP(I1891,設定・基礎!$G$3:$H$22,2,FALSE),\"\")","v":""}]
[" 05-15-07","05",null,"15",null,"07",null,null,null,{"$f":"IFERROR(VLOOKUP(I1892,設定・基礎!$G$3:$H$22,2,FALSE),\"\")","v":""}]
[" 05-15-08","05",null,"15",null,"08",null,null,null,{"$f":"IFERROR(VLOOKUP(I1893,設定・基礎!$G$3:$H$22,2,FALSE),\"\")","v":""}]
[" 05-15-09","05",null,"15",null,"09",null,null,null,{"$f":"IFERROR(VLOOKUP(I1894,設定・基礎!$G$3:$H$22,2,FALSE),\"\")","v":""}]
[" 05-15-10","05",null,"15",null,"10",null,null,null,{"$f":"IFERROR(VLOOKUP(I1895,設定・基礎!$G$3:$H$22,2,FALSE),\"\")","v":""}]
[" 05-15-11","05",null,"15",null,"11",null,null,null,{"$f":"IFERROR(VLOOKUP(I1896,設定・基礎!$G$3:$H$22,2,FALSE),\"\")","v":""}]
[" 05-15-12","05",null,"15",null,"12",null,null,null,{"$f":"IFERROR(VLOOKUP(I1897,設定・基礎!$G$3:$H$22,2,FALSE),\"\")","v":""}]
[" 05-15-13","05",null,"15",null,"13",null,null,null,{"$f":"IFERROR(VLOOKUP(I1898,設定・基礎!$G$3:$H$22,2,FALSE),\"\")","v":""}]
[" 05-15-14","05",null,"15",null,"14",null,null,null,{"$f":"IFERROR(VLOOKUP(I1899,設定・基礎!$G$3:$H$22,2,FALSE),\"\")","v":""}]
[" 05-15-15","05",null,"15",null,"15",null,null,null,{"$f":"IFERROR(VLOOKUP(I1900,設定・基礎!$G$3:$H$22,2,FALSE),\"\")","v":""}]
[" 05-15-16","05",null,"15",null,"16",null,null,null,{"$f":"IFERROR(VLOOKUP(I1901,設定・基礎!$G$3:$H$22,2,FALSE),\"\")","v":""}]
[" 05-15-17","05",null,"15",null,"17",null,null,null,{"$f":"IFERROR(VLOOKUP(I1902,設定・基礎!$G$3:$H$22,2,FALSE),\"\")","v":""}]
[" 05-15-18","05",null,"15",null,"18",null,null,null,{"$f":"IFERROR(VLOOKUP(I1903,設定・基礎!$G$3:$H$22,2,FALSE),\"\")","v":""}]
[" 05-15-19","05",null,"15",null,"19",null,null,null,{"$f":"IFERROR(VLOOKUP(I1904,設定・基礎!$G$3:$H$22,2,FALSE),\"\")","v":""}]
[" 05-15-20","05",null,"15",null,"20",null,null,null,{"$f":"IFERROR(VLOOKUP(I1905,設定・基礎!$G$3:$H$22,2,FALSE),\"\")","v":""}]
[" 05-16-01","05",null,"16",null,"01",null,null,null,{"$f":"IFERROR(VLOOKUP(I1906,設定・基礎!$G$3:$H$22,2,FALSE),\"\")","v":""}]
[" 05-16-02","05",null,"16",null,"02",null,null,null,{"$f":"IFERROR(VLOOKUP(I1907,設定・基礎!$G$3:$H$22,2,FALSE),\"\")","v":""}]
[" 05-16-03","05",null,"16",null,"03",null,null,null,{"$f":"IFERROR(VLOOKUP(I1908,設定・基礎!$G$3:$H$22,2,FALSE),\"\")","v":""}]
[" 05-16-04","05",null,"16",null,"04",null,null,null,{"$f":"IFERROR(VLOOKUP(I1909,設定・基礎!$G$3:$H$22,2,FALSE),\"\")","v":""}]
[" 05-16-05","05",null,"16",null,"05",null,null,null,{"$f":"IFERROR(VLOOKUP(I1910,設定・基礎!$G$3:$H$22,2,FALSE),\"\")","v":""}]
[" 05-16-06","05",null,"16",null,"06",null,null,null,{"$f":"IFERROR(VLOOKUP(I1911,設定・基礎!$G$3:$H$22,2,FALSE),\"\")","v":""}]
[" 05-16-07","05",null,"16",null,"07",null,null,null,{"$f":"IFERROR(VLOOKUP(I1912,設定・基礎!$G$3:$H$22,2,FALSE),\"\")","v":""}]
[" 05-16-08","05",null,"16",null,"08",null,null,null,{"$f":"IFERROR(VLOOKUP(I1913,設定・基礎!$G$3:$H$22,2,FALSE),\"\")","v":""}]
[" 05-16-09","05",null,"16",null,"09",null,null,null,{"$f":"IFERROR(VLOOKUP(I1914,設定・基礎!$G$3:$H$22,2,FALSE),\"\")","v":""}]
[" 05-16-10","05",null,"16",null,"10",null,null,null,{"$f":"IFERROR(VLOOKUP(I1915,設定・基礎!$G$3:$H$22,2,FALSE),\"\")","v":""}]
[" 05-16-11","05",null,"16",null,"11",null,null,null,{"$f":"IFERROR(VLOOKUP(I1916,設定・基礎!$G$3:$H$22,2,FALSE),\"\")","v":""}]
[" 05-16-12","05",null,"16",null,"12",null,null,null,{"$f":"IFERROR(VLOOKUP(I1917,設定・基礎!$G$3:$H$22,2,FALSE),\"\")","v":""}]
[" 05-16-13","05",null,"16",null,"13",null,null,null,{"$f":"IFERROR(VLOOKUP(I1918,設定・基礎!$G$3:$H$22,2,FALSE),\"\")","v":""}]
[" 05-16-14","05",null,"16",null,"14",null,null,null,{"$f":"IFERROR(VLOOKUP(I1919,設定・基礎!$G$3:$H$22,2,FALSE),\"\")","v":""}]
[" 05-16-15","05",null,"16",null,"15",null,null,null,{"$f":"IFERROR(VLOOKUP(I1920,設定・基礎!$G$3:$H$22,2,FALSE),\"\")","v":""}]
[" 05-16-16","05",null,"16",null,"16",null,null,null,{"$f":"IFERROR(VLOOKUP(I1921,設定・基礎!$G$3:$H$22,2,FALSE),\"\")","v":""}]
[" 05-16-17","05",null,"16",null,"17",null,null,null,{"$f":"IFERROR(VLOOKUP(I1922,設定・基礎!$G$3:$H$22,2,FALSE),\"\")","v":""}]
[" 05-16-18","05",null,"16",null,"18",null,null,null,{"$f":"IFERROR(VLOOKUP(I1923,設定・基礎!$G$3:$H$22,2,FALSE),\"\")","v":""}]
[" 05-16-19","05",null,"16",null,"19",null,null,null,{"$f":"IFERROR(VLOOKUP(I1924,設定・基礎!$G$3:$H$22,2,FALSE),\"\")","v":""}]
[" 05-16-20","05",null,"16",null,"20",null,null,null,{"$f":"IFERROR(VLOOKUP(I1925,設定・基礎!$G$3:$H$22,2,FALSE),\"\")","v":""}]
[" 05-17-01","05",null,"17",null,"01",null,null,null,{"$f":"IFERROR(VLOOKUP(I1926,設定・基礎!$G$3:$H$22,2,FALSE),\"\")","v":""}]
[" 05-17-02","05",null,"17",null,"02",null,null,null,{"$f":"IFERROR(VLOOKUP(I1927,設定・基礎!$G$3:$H$22,2,FALSE),\"\")","v":""}]
[" 05-17-03","05",null,"17",null,"03",null,null,null,{"$f":"IFERROR(VLOOKUP(I1928,設定・基礎!$G$3:$H$22,2,FALSE),\"\")","v":""}]
[" 05-17-04","05",null,"17",null,"04",null,null,null,{"$f":"IFERROR(VLOOKUP(I1929,設定・基礎!$G$3:$H$22,2,FALSE),\"\")","v":""}]
[" 05-17-05","05",null,"17",null,"05",null,null,null,{"$f":"IFERROR(VLOOKUP(I1930,設定・基礎!$G$3:$H$22,2,FALSE),\"\")","v":""}]
[" 05-17-06","05",null,"17",null,"06",null,null,null,{"$f":"IFERROR(VLOOKUP(I1931,設定・基礎!$G$3:$H$22,2,FALSE),\"\")","v":""}]
[" 05-17-07","05",null,"17",null,"07",null,null,null,{"$f":"IFERROR(VLOOKUP(I1932,設定・基礎!$G$3:$H$22,2,FALSE),\"\")","v":""}]
[" 05-17-08","05",null,"17",null,"08",null,null,null,{"$f":"IFERROR(VLOOKUP(I1933,設定・基礎!$G$3:$H$22,2,FALSE),\"\")","v":""}]
[" 05-17-09","05",null,"17",null,"09",null,null,null,{"$f":"IFERROR(VLOOKUP(I1934,設定・基礎!$G$3:$H$22,2,FALSE),\"\")","v":""}]
[" 05-17-10","05",null,"17",null,"10",null,null,null,{"$f":"IFERROR(VLOOKUP(I1935,設定・基礎!$G$3:$H$22,2,FALSE),\"\")","v":""}]
[" 05-17-11","05",null,"17",null,"11",null,null,null,{"$f":"IFERROR(VLOOKUP(I1936,設定・基礎!$G$3:$H$22,2,FALSE),\"\")","v":""}]
[" 05-17-12","05",null,"17",null,"12",null,null,null,{"$f":"IFERROR(VLOOKUP(I1937,設定・基礎!$G$3:$H$22,2,FALSE),\"\")","v":""}]
[" 05-17-13","05",null,"17",null,"13",null,null,null,{"$f":"IFERROR(VLOOKUP(I1938,設定・基礎!$G$3:$H$22,2,FALSE),\"\")","v":""}]
[" 05-17-14","05",null,"17",null,"14",null,null,null,{"$f":"IFERROR(VLOOKUP(I1939,設定・基礎!$G$3:$H$22,2,FALSE),\"\")","v":""}]
[" 05-17-15","05",null,"17",null,"15",null,null,null,{"$f":"IFERROR(VLOOKUP(I1940,設定・基礎!$G$3:$H$22,2,FALSE),\"\")","v":""}]
[" 05-17-16","05",null,"17",null,"16",null,null,null,{"$f":"IFERROR(VLOOKUP(I1941,設定・基礎!$G$3:$H$22,2,FALSE),\"\")","v":""}]
[" 05-17-17","05",null,"17",null,"17",null,null,null,{"$f":"IFERROR(VLOOKUP(I1942,設定・基礎!$G$3:$H$22,2,FALSE),\"\")","v":""}]
[" 05-17-18","05",null,"17",null,"18",null,null,null,{"$f":"IFERROR(VLOOKUP(I1943,設定・基礎!$G$3:$H$22,2,FALSE),\"\")","v":""}]
[" 05-17-19","05",null,"17",null,"19",null,null,null,{"$f":"IFERROR(VLOOKUP(I1944,設定・基礎!$G$3:$H$22,2,FALSE),\"\")","v":""}]
[" 05-17-20","05",null,"17",null,"20",null,null,null,{"$f":"IFERROR(VLOOKUP(I1945,設定・基礎!$G$3:$H$22,2,FALSE),\"\")","v":""}]
[" 05-18-01","05",null,"18",null,"01",null,null,null,{"$f":"IFERROR(VLOOKUP(I1946,設定・基礎!$G$3:$H$22,2,FALSE),\"\")","v":""}]
[" 05-18-02","05",null,"18",null,"02",null,null,null,{"$f":"IFERROR(VLOOKUP(I1947,設定・基礎!$G$3:$H$22,2,FALSE),\"\")","v":""}]
[" 05-18-03","05",null,"18",null,"03",null,null,null,{"$f":"IFERROR(VLOOKUP(I1948,設定・基礎!$G$3:$H$22,2,FALSE),\"\")","v":""}]
[" 05-18-04","05",null,"18",null,"04",null,null,null,{"$f":"IFERROR(VLOOKUP(I1949,設定・基礎!$G$3:$H$22,2,FALSE),\"\")","v":""}]
[" 05-18-05","05",null,"18",null,"05",null,null,null,{"$f":"IFERROR(VLOOKUP(I1950,設定・基礎!$G$3:$H$22,2,FALSE),\"\")","v":""}]
[" 05-18-06","05",null,"18",null,"06",null,null,null,{"$f":"IFERROR(VLOOKUP(I1951,設定・基礎!$G$3:$H$22,2,FALSE),\"\")","v":""}]
[" 05-18-07","05",null,"18",null,"07",null,null,null,{"$f":"IFERROR(VLOOKUP(I1952,設定・基礎!$G$3:$H$22,2,FALSE),\"\")","v":""}]
[" 05-18-08","05",null,"18",null,"08",null,null,null,{"$f":"IFERROR(VLOOKUP(I1953,設定・基礎!$G$3:$H$22,2,FALSE),\"\")","v":""}]
[" 05-18-09","05",null,"18",null,"09",null,null,null,{"$f":"IFERROR(VLOOKUP(I1954,設定・基礎!$G$3:$H$22,2,FALSE),\"\")","v":""}]
[" 05-18-10","05",null,"18",null,"10",null,null,null,{"$f":"IFERROR(VLOOKUP(I1955,設定・基礎!$G$3:$H$22,2,FALSE),\"\")","v":""}]
[" 05-18-11","05",null,"18",null,"11",null,null,null,{"$f":"IFERROR(VLOOKUP(I1956,設定・基礎!$G$3:$H$22,2,FALSE),\"\")","v":""}]
[" 05-18-12","05",null,"18",null,"12",null,null,null,{"$f":"IFERROR(VLOOKUP(I1957,設定・基礎!$G$3:$H$22,2,FALSE),\"\")","v":""}]
[" 05-18-13","05",null,"18",null,"13",null,null,null,{"$f":"IFERROR(VLOOKUP(I1958,設定・基礎!$G$3:$H$22,2,FALSE),\"\")","v":""}]
[" 05-18-14","05",null,"18",null,"14",null,null,null,{"$f":"IFERROR(VLOOKUP(I1959,設定・基礎!$G$3:$H$22,2,FALSE),\"\")","v":""}]
[" 05-18-15","05",null,"18",null,"15",null,null,null,{"$f":"IFERROR(VLOOKUP(I1960,設定・基礎!$G$3:$H$22,2,FALSE),\"\")","v":""}]
[" 05-18-16","05",null,"18",null,"16",null,null,null,{"$f":"IFERROR(VLOOKUP(I1961,設定・基礎!$G$3:$H$22,2,FALSE),\"\")","v":""}]
[" 05-18-17","05",null,"18",null,"17",null,null,null,{"$f":"IFERROR(VLOOKUP(I1962,設定・基礎!$G$3:$H$22,2,FALSE),\"\")","v":""}]
[" 05-18-18","05",null,"18",null,"18",null,null,null,{"$f":"IFERROR(VLOOKUP(I1963,設定・基礎!$G$3:$H$22,2,FALSE),\"\")","v":""}]
[" 05-18-19","05",null,"18",null,"19",null,null,null,{"$f":"IFERROR(VLOOKUP(I1964,設定・基礎!$G$3:$H$22,2,FALSE),\"\")","v":""}]
[" 05-18-20","05",null,"18",null,"20",null,null,null,{"$f":"IFERROR(VLOOKUP(I1965,設定・基礎!$G$3:$H$22,2,FALSE),\"\")","v":""}]
[" 05-19-01","05",null,"19",null,"01",null,null,null,{"$f":"IFERROR(VLOOKUP(I1966,設定・基礎!$G$3:$H$22,2,FALSE),\"\")","v":""}]
[" 05-19-02","05",null,"19",null,"02",null,null,null,{"$f":"IFERROR(VLOOKUP(I1967,設定・基礎!$G$3:$H$22,2,FALSE),\"\")","v":""}]
[" 05-19-03","05",null,"19",null,"03",null,null,null,{"$f":"IFERROR(VLOOKUP(I1968,設定・基礎!$G$3:$H$22,2,FALSE),\"\")","v":""}]
[" 05-19-04","05",null,"19",null,"04",null,null,null,{"$f":"IFERROR(VLOOKUP(I1969,設定・基礎!$G$3:$H$22,2,FALSE),\"\")","v":""}]
[" 05-19-05","05",null,"19",null,"05",null,null,null,{"$f":"IFERROR(VLOOKUP(I1970,設定・基礎!$G$3:$H$22,2,FALSE),\"\")","v":""}]
[" 05-19-06","05",null,"19",null,"06",null,null,null,{"$f":"IFERROR(VLOOKUP(I1971,設定・基礎!$G$3:$H$22,2,FALSE),\"\")","v":""}]
[" 05-19-07","05",null,"19",null,"07",null,null,null,{"$f":"IFERROR(VLOOKUP(I1972,設定・基礎!$G$3:$H$22,2,FALSE),\"\")","v":""}]
[" 05-19-08","05",null,"19",null,"08",null,null,null,{"$f":"IFERROR(VLOOKUP(I1973,設定・基礎!$G$3:$H$22,2,FALSE),\"\")","v":""}]
[" 05-19-09","05",null,"19",null,"09",null,null,null,{"$f":"IFERROR(VLOOKUP(I1974,設定・基礎!$G$3:$H$22,2,FALSE),\"\")","v":""}]
[" 05-19-10","05",null,"19",null,"10",null,null,null,{"$f":"IFERROR(VLOOKUP(I1975,設定・基礎!$G$3:$H$22,2,FALSE),\"\")","v":""}]
[" 05-19-11","05",null,"19",null,"11",null,null,null,{"$f":"IFERROR(VLOOKUP(I1976,設定・基礎!$G$3:$H$22,2,FALSE),\"\")","v":""}]
[" 05-19-12","05",null,"19",null,"12",null,null,null,{"$f":"IFERROR(VLOOKUP(I1977,設定・基礎!$G$3:$H$22,2,FALSE),\"\")","v":""}]
[" 05-19-13","05",null,"19",null,"13",null,null,null,{"$f":"IFERROR(VLOOKUP(I1978,設定・基礎!$G$3:$H$22,2,FALSE),\"\")","v":""}]
[" 05-19-14","05",null,"19",null,"14",null,null,null,{"$f":"IFERROR(VLOOKUP(I1979,設定・基礎!$G$3:$H$22,2,FALSE),\"\")","v":""}]
[" 05-19-15","05",null,"19",null,"15",null,null,null,{"$f":"IFERROR(VLOOKUP(I1980,設定・基礎!$G$3:$H$22,2,FALSE),\"\")","v":""}]
[" 05-19-16","05",null,"19",null,"16",null,null,null,{"$f":"IFERROR(VLOOKUP(I1981,設定・基礎!$G$3:$H$22,2,FALSE),\"\")","v":""}]
[" 05-19-17","05",null,"19",null,"17",null,null,null,{"$f":"IFERROR(VLOOKUP(I1982,設定・基礎!$G$3:$H$22,2,FALSE),\"\")","v":""}]
[" 05-19-18","05",null,"19",null,"18",null,null,null,{"$f":"IFERROR(VLOOKUP(I1983,設定・基礎!$G$3:$H$22,2,FALSE),\"\")","v":""}]
[" 05-19-19","05",null,"19",null,"19",null,null,null,{"$f":"IFERROR(VLOOKUP(I1984,設定・基礎!$G$3:$H$22,2,FALSE),\"\")","v":""}]
[" 05-19-20","05",null,"19",null,"20",null,null,null,{"$f":"IFERROR(VLOOKUP(I1985,設定・基礎!$G$3:$H$22,2,FALSE),\"\")","v":""}]
[" 05-20-01","05",null,"20",null,"01",null,null,null,{"$f":"IFERROR(VLOOKUP(I1986,設定・基礎!$G$3:$H$22,2,FALSE),\"\")","v":""}]
[" 05-20-02","05",null,"20",null,"02",null,null,null,{"$f":"IFERROR(VLOOKUP(I1987,設定・基礎!$G$3:$H$22,2,FALSE),\"\")","v":""}]
[" 05-20-03","05",null,"20",null,"03",null,null,null,{"$f":"IFERROR(VLOOKUP(I1988,設定・基礎!$G$3:$H$22,2,FALSE),\"\")","v":""}]
[" 05-20-04","05",null,"20",null,"04",null,null,null,{"$f":"IFERROR(VLOOKUP(I1989,設定・基礎!$G$3:$H$22,2,FALSE),\"\")","v":""}]
[" 05-20-05","05",null,"20",null,"05",null,null,null,{"$f":"IFERROR(VLOOKUP(I1990,設定・基礎!$G$3:$H$22,2,FALSE),\"\")","v":""}]
[" 05-20-06","05",null,"20",null,"06",null,null,null,{"$f":"IFERROR(VLOOKUP(I1991,設定・基礎!$G$3:$H$22,2,FALSE),\"\")","v":""}]
[" 05-20-07","05",null,"20",null,"07",null,null,null,{"$f":"IFERROR(VLOOKUP(I1992,設定・基礎!$G$3:$H$22,2,FALSE),\"\")","v":""}]
[" 05-20-08","05",null,"20",null,"08",null,null,null,{"$f":"IFERROR(VLOOKUP(I1993,設定・基礎!$G$3:$H$22,2,FALSE),\"\")","v":""}]
[" 05-20-09","05",null,"20",null,"09",null,null,null,{"$f":"IFERROR(VLOOKUP(I1994,設定・基礎!$G$3:$H$22,2,FALSE),\"\")","v":""}]
[" 05-20-10","05",null,"20",null,"10",null,null,null,{"$f":"IFERROR(VLOOKUP(I1995,設定・基礎!$G$3:$H$22,2,FALSE),\"\")","v":""}]
[" 05-20-11","05",null,"20",null,"11",null,null,null,{"$f":"IFERROR(VLOOKUP(I1996,設定・基礎!$G$3:$H$22,2,FALSE),\"\")","v":""}]
[" 05-20-12","05",null,"20",null,"12",null,null,null,{"$f":"IFERROR(VLOOKUP(I1997,設定・基礎!$G$3:$H$22,2,FALSE),\"\")","v":""}]
[" 05-20-13","05",null,"20",null,"13",null,null,null,{"$f":"IFERROR(VLOOKUP(I1998,設定・基礎!$G$3:$H$22,2,FALSE),\"\")","v":""}]
[" 05-20-14","05",null,"20",null,"14",null,null,null,{"$f":"IFERROR(VLOOKUP(I1999,設定・基礎!$G$3:$H$22,2,FALSE),\"\")","v":""}]
[" 05-20-15","05",null,"20",null,"15",null,null,null,{"$f":"IFERROR(VLOOKUP(I2000,設定・基礎!$G$3:$H$22,2,FALSE),\"\")","v":""}]
[" 05-20-17","05",null,"20",null,"17",null,null,null,{"$f":"IFERROR(VLOOKUP(I2002,設定・基礎!$G$3:$H$22,2,FALSE),\"\")","v":""}]
[" 06-01-08","06",null,"01",null,"08",null,null,null,{"$f":"IFERROR(VLOOKUP(I2013,設定・基礎!$G$3:$H$22,2,FALSE),\"\")","v":""}]
[" 06-01-20","06",null,"01",null,"20",null,null,null,{"$f":"IFERROR(VLOOKUP(I2025,設定・基礎!$G$3:$H$22,2,FALSE),\"\")","v":""}]
[" 06-02-07","06",null,"02",null,"07",null,null,null,{"$f":"IFERROR(VLOOKUP(I2032,設定・基礎!$G$3:$H$22,2,FALSE),\"\")","v":""}]
[" 06-02-16","06",null,"02",null,"16",null,null,null,{"$f":"IFERROR(VLOOKUP(I2041,設定・基礎!$G$3:$H$22,2,FALSE),\"\")","v":""}]
[" 06-03-01","06",null,"03","近教研連","01","◆近教研連◆","◆近教研連◆","10年",{"$f":"IFERROR(VLOOKUP(I2046,設定・基礎!$G$3:$H$22,2,FALSE),\"\")","v":"⑩"}]
[" 06-03-08","06",null,"03",null,"08",null,null,null,{"$f":"IFERROR(VLOOKUP(I2053,設定・基礎!$G$3:$H$22,2,FALSE),\"\")","v":""}]
[" 06-03-20","06",null,"03",null,"20",null,null,null,{"$f":"IFERROR(VLOOKUP(I2065,設定・基礎!$G$3:$H$22,2,FALSE),\"\")","v":""}]
[" 06-04-07","06",null,"04",null,"07","県内教育研究所連盟⑥（相談・情報）","県内教連⑥相談・情報","継続",{"$f":"IFERROR(VLOOKUP(I2072,設定・基礎!$G$3:$H$22,2,FALSE),\"\")","v":"●"}]
[" 06-04-18","06",null,"04",null,"18",null,null,null,{"$f":"IFERROR(VLOOKUP(I2083,設定・基礎!$G$3:$H$22,2,FALSE),\"\")","v":""}]
[" 06-05-10","06",null,"05",null,"10",null,null,null,{"$f":"IFERROR(VLOOKUP(I2095,設定・基礎!$G$3:$H$22,2,FALSE),\"\")","v":""}]
[" 06-05-17","06",null,"05",null,"17",null,null,null,{"$f":"IFERROR(VLOOKUP(I2102,設定・基礎!$G$3:$H$22,2,FALSE),\"\")","v":""}]
[" 06-06-06","06",null,"06",null,"06",null,null,null,{"$f":"IFERROR(VLOOKUP(I2111,設定・基礎!$G$3:$H$22,2,FALSE),\"\")","v":""}]
[" 06-06-11","06",null,"06",null,"11",null,null,null,{"$f":"IFERROR(VLOOKUP(I2116,設定・基礎!$G$3:$H$22,2,FALSE),\"\")","v":""}]
[" 06-06-18","06",null,"06",null,"18",null,null,null,{"$f":"IFERROR(VLOOKUP(I2123,設定・基礎!$G$3:$H$22,2,FALSE),\"\")","v":""}]
[" 06-07-10","06",null,"07",null,"10",null,null,null,{"$f":"IFERROR(VLOOKUP(I2135,設定・基礎!$G$3:$H$22,2,FALSE),\"\")","v":""}]
[" 06-07-17","06",null,"07",null,"17",null,null,null,{"$f":"IFERROR(VLOOKUP(I2142,設定・基礎!$G$3:$H$22,2,FALSE),\"\")","v":""}]
[" 06-08-08","06",null,"08",null,"08",null,null,null,{"$f":"IFERROR(VLOOKUP(I2153,設定・基礎!$G$3:$H$22,2,FALSE),\"\")","v":""}]
[" 06-08-20","06",null,"08",null,"20",null,null,null,{"$f":"IFERROR(VLOOKUP(I2165,設定・基礎!$G$3:$H$22,2,FALSE),\"\")","v":""}]
[" 06-09-07","06",null,"09",null,"07",null,null,null,{"$f":"IFERROR(VLOOKUP(I2172,設定・基礎!$G$3:$H$22,2,FALSE),\"\")","v":""}]
[" 06-09-16","06",null,"09",null,"16",null,null,null,{"$f":"IFERROR(VLOOKUP(I2181,設定・基礎!$G$3:$H$22,2,FALSE),\"\")","v":""}]
[" 06-10-05","06",null,"10",null,"05",null,null,null,{"$f":"IFERROR(VLOOKUP(I2190,設定・基礎!$G$3:$H$22,2,FALSE),\"\")","v":""}]
[" 06-10-08","06",null,"10",null,"08",null,null,null,{"$f":"IFERROR(VLOOKUP(I2193,設定・基礎!$G$3:$H$22,2,FALSE),\"\")","v":""}]
[" 06-10-20","06",null,"10",null,"20",null,null,null,{"$f":"IFERROR(VLOOKUP(I2205,設定・基礎!$G$3:$H$22,2,FALSE),\"\")","v":""}]
[" 06-11-07","06",null,"11",null,"07",null,null,null,{"$f":"IFERROR(VLOOKUP(I2212,設定・基礎!$G$3:$H$22,2,FALSE),\"\")","v":""}]
[" 06-11-18","06",null,"11",null,"18",null,null,null,{"$f":"IFERROR(VLOOKUP(I2223,設定・基礎!$G$3:$H$22,2,FALSE),\"\")","v":""}]
[" 06-12-10","06",null,"12",null,"10",null,null,null,{"$f":"IFERROR(VLOOKUP(I2235,設定・基礎!$G$3:$H$22,2,FALSE),\"\")","v":""}]
[" 06-12-17","06",null,"12",null,"17",null,null,null,{"$f":"IFERROR(VLOOKUP(I2242,設定・基礎!$G$3:$H$22,2,FALSE),\"\")","v":""}]
[" 06-13-06","06",null,"13",null,"06",null,null,null,{"$f":"IFERROR(VLOOKUP(I2251,設定・基礎!$G$3:$H$22,2,FALSE),\"\")","v":""}]
[" 06-13-15","06",null,"13",null,"15",null,null,null,{"$f":"IFERROR(VLOOKUP(I2260,設定・基礎!$G$3:$H$22,2,FALSE),\"\")","v":""}]
[" 06-13-18","06",null,"13",null,"18",null,null,null,{"$f":"IFERROR(VLOOKUP(I2263,設定・基礎!$G$3:$H$22,2,FALSE),\"\")","v":""}]
[" 06-14-10","06",null,"14",null,"10",null,null,null,{"$f":"IFERROR(VLOOKUP(I2275,設定・基礎!$G$3:$H$22,2,FALSE),\"\")","v":""}]
[" 06-14-17","06",null,"14",null,"17",null,null,null,{"$f":"IFERROR(VLOOKUP(I2282,設定・基礎!$G$3:$H$22,2,FALSE),\"\")","v":""}]
[" 06-15-08","06",null,"15",null,"08",null,null,null,{"$f":"IFERROR(VLOOKUP(I2293,設定・基礎!$G$3:$H$22,2,FALSE),\"\")","v":""}]
[" 06-15-20","06",null,"15",null,"20",null,null,null,{"$f":"IFERROR(VLOOKUP(I2305,設定・基礎!$G$3:$H$22,2,FALSE),\"\")","v":""}]
[" 06-16-07","06",null,"16",null,"07",null,null,null,{"$f":"IFERROR(VLOOKUP(I2312,設定・基礎!$G$3:$H$22,2,FALSE),\"\")","v":""}]
[" 06-16-16","06",null,"16",null,"16",null,null,null,{"$f":"IFERROR(VLOOKUP(I2321,設定・基礎!$G$3:$H$22,2,FALSE),\"\")","v":""}]
[" 06-17-05","06",null,"17",null,"05",null,null,null,{"$f":"IFERROR(VLOOKUP(I2330,設定・基礎!$G$3:$H$22,2,FALSE),\"\")","v":""}]
[" 06-17-08","06",null,"17",null,"08",null,null,null,{"$f":"IFERROR(VLOOKUP(I2333,設定・基礎!$G$3:$H$22,2,FALSE),\"\")","v":""}]
[" 06-17-20","06",null,"17",null,"20",null,null,null,{"$f":"IFERROR(VLOOKUP(I2345,設定・基礎!$G$3:$H$22,2,FALSE),\"\")","v":""}]
[" 06-18-07","06",null,"18",null,"07",null,null,null,{"$f":"IFERROR(VLOOKUP(I2352,設定・基礎!$G$3:$H$22,2,FALSE),\"\")","v":""}]
[" 06-18-18","06",null,"18",null,"18",null,null,null,{"$f":"IFERROR(VLOOKUP(I2363,設定・基礎!$G$3:$H$22,2,FALSE),\"\")","v":""}]
[" 06-19-05","06",null,"19",null,"05",null,null,null,{"$f":"IFERROR(VLOOKUP(I2370,設定・基礎!$G$3:$H$22,2,FALSE),\"\")","v":""}]
[" 06-19-17","06",null,"19",null,"17",null,null,null,{"$f":"IFERROR(VLOOKUP(I2382,設定・基礎!$G$3:$H$22,2,FALSE),\"\")","v":""}]
[" 06-20-06","06",null,"20",null,"06",null,null,null,{"$f":"IFERROR(VLOOKUP(I2391,設定・基礎!$G$3:$H$22,2,FALSE),\"\")","v":""}]
[" 06-20-15","06",null,"20",null,"15",null,null,null,{"$f":"IFERROR(VLOOKUP(I2400,設定・基礎!$G$3:$H$22,2,FALSE),\"\")","v":""}]
[" 06-20-18","06",null,"20",null,"18",null,null,null,{"$f":"IFERROR(VLOOKUP(I2403,設定・基礎!$G$3:$H$22,2,FALSE),\"\")","v":""}]
[" 07-01-10","07",null,"01",null,"10",null,null,null,{"$f":"IFERROR(VLOOKUP(I2415,設定・基礎!$G$3:$H$22,2,FALSE),\"\")","v":""}]
[" 07-01-17","07",null,"01",null,"17",null,null,null,{"$f":"IFERROR(VLOOKUP(I2422,設定・基礎!$G$3:$H$22,2,FALSE),\"\")","v":""}]
[" 07-02-08","07",null,"02",null,"08",null,null,null,{"$f":"IFERROR(VLOOKUP(I2433,設定・基礎!$G$3:$H$22,2,FALSE),\"\")","v":""}]
[" 07-02-15","07",null,"02",null,"15",null,null,null,{"$f":"IFERROR(VLOOKUP(I2440,設定・基礎!$G$3:$H$22,2,FALSE),\"\")","v":""}]
[" 07-03-07","07",null,"03",null,"07",null,null,null,{"$f":"IFERROR(VLOOKUP(I2452,設定・基礎!$G$3:$H$22,2,FALSE),\"\")","v":""}]
[" 07-03-16","07",null,"03",null,"16",null,null,null,{"$f":"IFERROR(VLOOKUP(I2461,設定・基礎!$G$3:$H$22,2,FALSE),\"\")","v":""}]
[" 07-04-05","07",null,"04",null,"05",null,null,null,{"$f":"IFERROR(VLOOKUP(I2470,設定・基礎!$G$3:$H$22,2,FALSE),\"\")","v":""}]
[" 07-04-08","07",null,"04",null,"08",null,null,null,{"$f":"IFERROR(VLOOKUP(I2473,設定・基礎!$G$3:$H$22,2,FALSE),\"\")","v":""}]
[" 07-05-04","07",null,"05",null,"04",null,null,null,{"$f":"IFERROR(VLOOKUP(I2489,設定・基礎!$G$3:$H$22,2,FALSE),\"\")","v":""}]
[" 07-05-07","07",null,"05",null,"07",null,null,null,{"$f":"IFERROR(VLOOKUP(I2492,設定・基礎!$G$3:$H$22,2,FALSE),\"\")","v":""}]
[" 07-05-18","07",null,"05",null,"18",null,null,null,{"$f":"IFERROR(VLOOKUP(I2503,設定・基礎!$G$3:$H$22,2,FALSE),\"\")","v":""}]
[" 07-06-05","07",null,"06",null,"05",null,null,null,{"$f":"IFERROR(VLOOKUP(I2510,設定・基礎!$G$3:$H$22,2,FALSE),\"\")","v":""}]
[" 07-06-17","07",null,"06",null,"17",null,null,null,{"$f":"IFERROR(VLOOKUP(I2522,設定・基礎!$G$3:$H$22,2,FALSE),\"\")","v":""}]
[" 07-07-06","07",null,"07",null,"06",null,null,null,{"$f":"IFERROR(VLOOKUP(I2531,設定・基礎!$G$3:$H$22,2,FALSE),\"\")","v":""}]
[" 07-07-15","07",null,"07",null,"15",null,null,null,{"$f":"IFERROR(VLOOKUP(I2540,設定・基礎!$G$3:$H$22,2,FALSE),\"\")","v":""}]
[" 07-07-18","07",null,"07",null,"18",null,null,null,{"$f":"IFERROR(VLOOKUP(I2543,設定・基礎!$G$3:$H$22,2,FALSE),\"\")","v":""}]
[" 07-08-14","07",null,"08",null,"14",null,null,null,{"$f":"IFERROR(VLOOKUP(I2559,設定・基礎!$G$3:$H$22,2,FALSE),\"\")","v":""}]
[" 07-08-17","07",null,"08",null,"17",null,null,null,{"$f":"IFERROR(VLOOKUP(I2562,設定・基礎!$G$3:$H$22,2,FALSE),\"\")","v":""}]
[" 07-09-08","07",null,"09",null,"08",null,null,null,{"$f":"IFERROR(VLOOKUP(I2573,設定・基礎!$G$3:$H$22,2,FALSE),\"\")","v":""}]
[" 07-09-15","07",null,"09",null,"15",null,null,null,{"$f":"IFERROR(VLOOKUP(I2580,設定・基礎!$G$3:$H$22,2,FALSE),\"\")","v":""}]
[" 07-10-07","07",null,"10",null,"07",null,null,null,{"$f":"IFERROR(VLOOKUP(I2592,設定・基礎!$G$3:$H$22,2,FALSE),\"\")","v":""}]
[" 07-10-16","07",null,"10",null,"16",null,null,null,{"$f":"IFERROR(VLOOKUP(I2601,設定・基礎!$G$3:$H$22,2,FALSE),\"\")","v":""}]
[" 07-11-05","07",null,"11",null,"05",null,null,null,{"$f":"IFERROR(VLOOKUP(I2610,設定・基礎!$G$3:$H$22,2,FALSE),\"\")","v":""}]
[" 07-11-08","07",null,"11",null,"08",null,null,null,{"$f":"IFERROR(VLOOKUP(I2613,設定・基礎!$G$3:$H$22,2,FALSE),\"\")","v":""}]
[" 07-12-04","07",null,"12",null,"04",null,null,null,{"$f":"IFERROR(VLOOKUP(I2629,設定・基礎!$G$3:$H$22,2,FALSE),\"\")","v":""}]
[" 07-12-07","07",null,"12",null,"07",null,null,null,{"$f":"IFERROR(VLOOKUP(I2632,設定・基礎!$G$3:$H$22,2,FALSE),\"\")","v":""}]
[" 07-12-18","07",null,"12",null,"18",null,null,null,{"$f":"IFERROR(VLOOKUP(I2643,設定・基礎!$G$3:$H$22,2,FALSE),\"\")","v":""}]
[" 07-13-05","07",null,"13",null,"05",null,null,null,{"$f":"IFERROR(VLOOKUP(I2650,設定・基礎!$G$3:$H$22,2,FALSE),\"\")","v":""}]
[" 07-13-17","07",null,"13",null,"17",null,null,null,{"$f":"IFERROR(VLOOKUP(I2662,設定・基礎!$G$3:$H$22,2,FALSE),\"\")","v":""}]
[" 07-14-06","07",null,"14",null,"06",null,null,null,{"$f":"IFERROR(VLOOKUP(I2671,設定・基礎!$G$3:$H$22,2,FALSE),\"\")","v":""}]
[" 07-14-15","07",null,"14",null,"15",null,null,null,{"$f":"IFERROR(VLOOKUP(I2680,設定・基礎!$G$3:$H$22,2,FALSE),\"\")","v":""}]
[" 07-14-18","07",null,"14",null,"18",null,null,null,{"$f":"IFERROR(VLOOKUP(I2683,設定・基礎!$G$3:$H$22,2,FALSE),\"\")","v":""}]
[" 07-15-14","07",null,"15",null,"14",null,null,null,{"$f":"IFERROR(VLOOKUP(I2699,設定・基礎!$G$3:$H$22,2,FALSE),\"\")","v":""}]
[" 07-15-17","07",null,"15",null,"17",null,null,null,{"$f":"IFERROR(VLOOKUP(I2702,設定・基礎!$G$3:$H$22,2,FALSE),\"\")","v":""}]
[" 07-16-08","07",null,"16",null,"08",null,null,null,{"$f":"IFERROR(VLOOKUP(I2713,設定・基礎!$G$3:$H$22,2,FALSE),\"\")","v":""}]
[" 07-16-15","07",null,"16",null,"15",null,null,null,{"$f":"IFERROR(VLOOKUP(I2720,設定・基礎!$G$3:$H$22,2,FALSE),\"\")","v":""}]
[" 07-17-07","07",null,"17",null,"07",null,null,null,{"$f":"IFERROR(VLOOKUP(I2732,設定・基礎!$G$3:$H$22,2,FALSE),\"\")","v":""}]
[" 07-17-16","07",null,"17",null,"16",null,null,null,{"$f":"IFERROR(VLOOKUP(I2741,設定・基礎!$G$3:$H$22,2,FALSE),\"\")","v":""}]
[" 07-18-05","07",null,"18",null,"05",null,null,null,{"$f":"IFERROR(VLOOKUP(I2750,設定・基礎!$G$3:$H$22,2,FALSE),\"\")","v":""}]
[" 07-18-08","07",null,"18",null,"08",null,null,null,{"$f":"IFERROR(VLOOKUP(I2753,設定・基礎!$G$3:$H$22,2,FALSE),\"\")","v":""}]
[" 07-19-04","07",null,"19",null,"04",null,null,null,{"$f":"IFERROR(VLOOKUP(I2769,設定・基礎!$G$3:$H$22,2,FALSE),\"\")","v":""}]
[" 07-19-07","07",null,"19",null,"07",null,null,null,{"$f":"IFERROR(VLOOKUP(I2772,設定・基礎!$G$3:$H$22,2,FALSE),\"\")","v":""}]
[" 07-19-18","07",null,"19",null,"18",null,null,null,{"$f":"IFERROR(VLOOKUP(I2783,設定・基礎!$G$3:$H$22,2,FALSE),\"\")","v":""}]
[" 07-20-05","07",null,"20",null,"05",null,null,null,{"$f":"IFERROR(VLOOKUP(I2790,設定・基礎!$G$3:$H$22,2,FALSE),\"\")","v":""}]
[" 07-20-17","07",null,"20",null,"17",null,null,null,{"$f":"IFERROR(VLOOKUP(I2802,設定・基礎!$G$3:$H$22,2,FALSE),\"\")","v":""}]
[" 08-01-06","08",null,"01",null,"06","図書室⑤　図書・雑誌の購入","図書室⑤図書雑誌購入","５年",{"$f":"IFERROR(VLOOKUP(I2811,設定・基礎!$G$3:$H$22,2,FALSE),\"\")","v":"⑤"}]
[" 08-01-15","08",null,"01",null,"15",null,null,null,{"$f":"IFERROR(VLOOKUP(I2820,設定・基礎!$G$3:$H$22,2,FALSE),\"\")","v":""}]
[" 08-01-18","08",null,"01",null,"18",null,null,null,{"$f":"IFERROR(VLOOKUP(I2823,設定・基礎!$G$3:$H$22,2,FALSE),\"\")","v":""}]
[" 08-02-14","08",null,"02",null,"14",null,null,null,{"$f":"IFERROR(VLOOKUP(I2839,設定・基礎!$G$3:$H$22,2,FALSE),\"\")","v":""}]
[" 08-02-17","08",null,"02",null,"17",null,null,null,{"$f":"IFERROR(VLOOKUP(I2842,設定・基礎!$G$3:$H$22,2,FALSE),\"\")","v":""}]
[" 08-03-12","08",null,"03",null,"12",null,null,null,{"$f":"IFERROR(VLOOKUP(I2857,設定・基礎!$G$3:$H$22,2,FALSE),\"\")","v":""}]
[" 08-03-15","08",null,"03",null,"15",null,null,null,{"$f":"IFERROR(VLOOKUP(I2860,設定・基礎!$G$3:$H$22,2,FALSE),\"\")","v":""}]
[" 08-04-07","08",null,"04",null,"07",null,null,null,{"$f":"IFERROR(VLOOKUP(I2872,設定・基礎!$G$3:$H$22,2,FALSE),\"\")","v":""}]
[" 08-04-14","08",null,"04",null,"14",null,null,null,{"$f":"IFERROR(VLOOKUP(I2879,設定・基礎!$G$3:$H$22,2,FALSE),\"\")","v":""}]
[" 08-05-06","08",null,"05",null,"06",null,null,null,{"$f":"IFERROR(VLOOKUP(I2891,設定・基礎!$G$3:$H$22,2,FALSE),\"\")","v":""}]
[" 08-05-08","08",null,"05",null,"08",null,null,null,{"$f":"IFERROR(VLOOKUP(I2893,設定・基礎!$G$3:$H$22,2,FALSE),\"\")","v":""}]
[" 08-06-04","08",null,"06",null,"04",null,null,null,{"$f":"IFERROR(VLOOKUP(I2909,設定・基礎!$G$3:$H$22,2,FALSE),\"\")","v":""}]
[" 08-06-07","08",null,"06",null,"07",null,null,null,{"$f":"IFERROR(VLOOKUP(I2912,設定・基礎!$G$3:$H$22,2,FALSE),\"\")","v":""}]
[" 08-06-17","08",null,"06",null,"17",null,null,null,{"$f":"IFERROR(VLOOKUP(I2922,設定・基礎!$G$3:$H$22,2,FALSE),\"\")","v":""}]
[" 08-07-05","08",null,"07",null,"05",null,null,null,{"$f":"IFERROR(VLOOKUP(I2930,設定・基礎!$G$3:$H$22,2,FALSE),\"\")","v":""}]
[" 08-07-17","08",null,"07",null,"17",null,null,null,{"$f":"IFERROR(VLOOKUP(I2942,設定・基礎!$G$3:$H$22,2,FALSE),\"\")","v":""}]
[" 08-08-04","08",null,"08",null,"04",null,null,null,{"$f":"IFERROR(VLOOKUP(I2949,設定・基礎!$G$3:$H$22,2,FALSE),\"\")","v":""}]
[" 08-08-16","08",null,"08",null,"16",null,null,null,{"$f":"IFERROR(VLOOKUP(I2961,設定・基礎!$G$3:$H$22,2,FALSE),\"\")","v":""}]
[" 08-09-02","08",null,"09",null,"02",null,null,null,{"$f":"IFERROR(VLOOKUP(I2967,設定・基礎!$G$3:$H$22,2,FALSE),\"\")","v":""}]
[" 08-09-14","08",null,"09",null,"14",null,null,null,{"$f":"IFERROR(VLOOKUP(I2979,設定・基礎!$G$3:$H$22,2,FALSE),\"\")","v":""}]
[" 08-09-17","08",null,"09",null,"17",null,null,null,{"$f":"IFERROR(VLOOKUP(I2982,設定・基礎!$G$3:$H$22,2,FALSE),\"\")","v":""}]
[" 08-10-07","08",null,"10",null,"07",null,null,null,{"$f":"IFERROR(VLOOKUP(I2992,設定・基礎!$G$3:$H$22,2,FALSE),\"\")","v":""}]
[" 08-10-15","08",null,"10",null,"15",null,null,null,{"$f":"IFERROR(VLOOKUP(I3000,設定・基礎!$G$3:$H$22,2,FALSE),\"\")","v":""}]
[" 08-11-07","08",null,"11",null,"07",null,null,null,{"$f":"IFERROR(VLOOKUP(I3012,設定・基礎!$G$3:$H$22,2,FALSE),\"\")","v":""}]
[" 08-11-14","08",null,"11",null,"14",null,null,null,{"$f":"IFERROR(VLOOKUP(I3019,設定・基礎!$G$3:$H$22,2,FALSE),\"\")","v":""}]
[" 08-12-06","08",null,"12",null,"06",null,null,null,{"$f":"IFERROR(VLOOKUP(I3031,設定・基礎!$G$3:$H$22,2,FALSE),\"\")","v":""}]
[" 08-12-12","08",null,"12",null,"12",null,null,null,{"$f":"IFERROR(VLOOKUP(I3037,設定・基礎!$G$3:$H$22,2,FALSE),\"\")","v":""}]
[" 08-13-04","08",null,"13",null,"04",null,null,null,{"$f":"IFERROR(VLOOKUP(I3049,設定・基礎!$G$3:$H$22,2,FALSE),\"\")","v":""}]
[" 08-13-07","08",null,"13",null,"07",null,null,null,{"$f":"IFERROR(VLOOKUP(I3052,設定・基礎!$G$3:$H$22,2,FALSE),\"\")","v":""}]
[" 08-13-17","08",null,"13",null,"17",null,null,null,{"$f":"IFERROR(VLOOKUP(I3062,設定・基礎!$G$3:$H$22,2,FALSE),\"\")","v":""}]
[" 08-14-05","08",null,"14",null,"05",null,null,null,{"$f":"IFERROR(VLOOKUP(I3070,設定・基礎!$G$3:$H$22,2,FALSE),\"\")","v":""}]
[" 08-14-17","08",null,"14",null,"17",null,null,null,{"$f":"IFERROR(VLOOKUP(I3082,設定・基礎!$G$3:$H$22,2,FALSE),\"\")","v":""}]
[" 08-15-04","08",null,"15",null,"04",null,null,null,{"$f":"IFERROR(VLOOKUP(I3089,設定・基礎!$G$3:$H$22,2,FALSE),\"\")","v":""}]
[" 08-15-16","08",null,"15",null,"16",null,null,null,{"$f":"IFERROR(VLOOKUP(I3101,設定・基礎!$G$3:$H$22,2,FALSE),\"\")","v":""}]
[" 08-16-02","08",null,"16",null,"02",null,null,null,{"$f":"IFERROR(VLOOKUP(I3107,設定・基礎!$G$3:$H$22,2,FALSE),\"\")","v":""}]
[" 08-16-14","08",null,"16",null,"14",null,null,null,{"$f":"IFERROR(VLOOKUP(I3119,設定・基礎!$G$3:$H$22,2,FALSE),\"\")","v":""}]
[" 08-16-17","08",null,"16",null,"17",null,null,null,{"$f":"IFERROR(VLOOKUP(I3122,設定・基礎!$G$3:$H$22,2,FALSE),\"\")","v":""}]
[" 08-17-07","08",null,"17",null,"07",null,null,null,{"$f":"IFERROR(VLOOKUP(I3132,設定・基礎!$G$3:$H$22,2,FALSE),\"\")","v":""}]
[" 08-17-15","08",null,"17",null,"15",null,null,null,{"$f":"IFERROR(VLOOKUP(I3140,設定・基礎!$G$3:$H$22,2,FALSE),\"\")","v":""}]
[" 08-18-02","08",null,"18",null,"02",null,null,null,{"$f":"IFERROR(VLOOKUP(I3147,設定・基礎!$G$3:$H$22,2,FALSE),\"\")","v":""}]
[" 08-18-14","08",null,"18",null,"14",null,null,null,{"$f":"IFERROR(VLOOKUP(I3159,設定・基礎!$G$3:$H$22,2,FALSE),\"\")","v":""}]
[" 08-19-06","08",null,"19",null,"06",null,null,null,{"$f":"IFERROR(VLOOKUP(I3171,設定・基礎!$G$3:$H$22,2,FALSE),\"\")","v":""}]
[" 08-19-12","08",null,"19",null,"12",null,null,null,{"$f":"IFERROR(VLOOKUP(I3177,設定・基礎!$G$3:$H$22,2,FALSE),\"\")","v":""}]
[" 08-20-04","08",null,"20",null,"04",null,null,null,{"$f":"IFERROR(VLOOKUP(I3189,設定・基礎!$G$3:$H$22,2,FALSE),\"\")","v":""}]
[" 08-20-07","08",null,"20",null,"07",null,null,null,{"$f":"IFERROR(VLOOKUP(I3192,設定・基礎!$G$3:$H$22,2,FALSE),\"\")","v":""}]
[" 08-20-17","08",null,"20",null,"17",null,null,null,{"$f":"IFERROR(VLOOKUP(I3202,設定・基礎!$G$3:$H$22,2,FALSE),\"\")","v":""}]
[" 09-01-05","09",null,"01",null,"05","兵庫教育　各月号編集⑤","兵庫教育　各月号⑤","３年",{"$f":"IFERROR(VLOOKUP(I3210,設定・基礎!$G$3:$H$22,2,FALSE),\"\")","v":"③"}]
[" 09-01-12","09",null,"01",null,"12","兵庫教育　各月号編集⑫","兵庫教育　各月号⑫","３年",{"$f":"IFERROR(VLOOKUP(I3217,設定・基礎!$G$3:$H$22,2,FALSE),\"\")","v":"③"}]
[" 09-02-04","09",null,"02",null,"04",null,null,null,{"$f":"IFERROR(VLOOKUP(I3229,設定・基礎!$G$3:$H$22,2,FALSE),\"\")","v":""}]
[" 09-02-16","09",null,"02",null,"16",null,null,null,{"$f":"IFERROR(VLOOKUP(I3241,設定・基礎!$G$3:$H$22,2,FALSE),\"\")","v":""}]
[" 09-03-02","09",null,"03",null,"02","広報　企画・実施","広報　企画・実施","３年",{"$f":"IFERROR(VLOOKUP(I3247,設定・基礎!$G$3:$H$22,2,FALSE),\"\")","v":"③"}]
[" 09-03-14","09",null,"03",null,"14",null,null,null,{"$f":"IFERROR(VLOOKUP(I3259,設定・基礎!$G$3:$H$22,2,FALSE),\"\")","v":""}]
[" 09-04-01","09",null,"04","事務概要","01","◆事務概要◆","◆事務概要◆","３年",{"$f":"IFERROR(VLOOKUP(I3266,設定・基礎!$G$3:$H$22,2,FALSE),\"\")","v":"③"}]
[" 09-04-07","09",null,"04",null,"07",null,null,null,{"$f":"IFERROR(VLOOKUP(I3272,設定・基礎!$G$3:$H$22,2,FALSE),\"\")","v":""}]
[" 09-04-15","09",null,"04",null,"15",null,null,null,{"$f":"IFERROR(VLOOKUP(I3280,設定・基礎!$G$3:$H$22,2,FALSE),\"\")","v":""}]
[" 09-05-02","09",null,"05",null,"02","特色冊子","特色冊子","３年",{"$f":"IFERROR(VLOOKUP(I3287,設定・基礎!$G$3:$H$22,2,FALSE),\"\")","v":"③"}]
[" 09-05-14","09",null,"05",null,"14",null,null,null,{"$f":"IFERROR(VLOOKUP(I3299,設定・基礎!$G$3:$H$22,2,FALSE),\"\")","v":""}]
[" 09-06-06","09",null,"06",null,"06",null,null,null,{"$f":"IFERROR(VLOOKUP(I3311,設定・基礎!$G$3:$H$22,2,FALSE),\"\")","v":""}]
[" 09-06-12","09",null,"06",null,"12",null,null,null,{"$f":"IFERROR(VLOOKUP(I3317,設定・基礎!$G$3:$H$22,2,FALSE),\"\")","v":""}]
[" 09-07-04","09",null,"07",null,"04",null,null,null,{"$f":"IFERROR(VLOOKUP(I3329,設定・基礎!$G$3:$H$22,2,FALSE),\"\")","v":""}]
[" 09-07-11","09",null,"07",null,"11",null,null,null,{"$f":"IFERROR(VLOOKUP(I3336,設定・基礎!$G$3:$H$22,2,FALSE),\"\")","v":""}]
[" 09-07-17","09",null,"07",null,"17",null,null,null,{"$f":"IFERROR(VLOOKUP(I3342,設定・基礎!$G$3:$H$22,2,FALSE),\"\")","v":""}]
[" 09-08-05","09",null,"08",null,"05",null,null,null,{"$f":"IFERROR(VLOOKUP(I3350,設定・基礎!$G$3:$H$22,2,FALSE),\"\")","v":""}]
[" 09-08-12","09",null,"08",null,"12",null,null,null,{"$f":"IFERROR(VLOOKUP(I3357,設定・基礎!$G$3:$H$22,2,FALSE),\"\")","v":""}]
[" 09-09-04","09",null,"09",null,"04",null,null,null,{"$f":"IFERROR(VLOOKUP(I3369,設定・基礎!$G$3:$H$22,2,FALSE),\"\")","v":""}]
[" 09-09-16","09",null,"09",null,"16",null,null,null,{"$f":"IFERROR(VLOOKUP(I3381,設定・基礎!$G$3:$H$22,2,FALSE),\"\")","v":""}]
[" 09-10-02","09",null,"10",null,"02",null,null,null,{"$f":"IFERROR(VLOOKUP(I3387,設定・基礎!$G$3:$H$22,2,FALSE),\"\")","v":""}]
[" 09-10-14","09",null,"10",null,"14",null,null,null,{"$f":"IFERROR(VLOOKUP(I3399,設定・基礎!$G$3:$H$22,2,FALSE),\"\")","v":""}]
[" 09-11-01","09",null,"11",null,"01",null,null,null,{"$f":"IFERROR(VLOOKUP(I3406,設定・基礎!$G$3:$H$22,2,FALSE),\"\")","v":""}]
[" 09-11-07","09",null,"11",null,"07",null,null,null,{"$f":"IFERROR(VLOOKUP(I3412,設定・基礎!$G$3:$H$22,2,FALSE),\"\")","v":""}]
[" 09-11-15","09",null,"11",null,"15",null,null,null,{"$f":"IFERROR(VLOOKUP(I3420,設定・基礎!$G$3:$H$22,2,FALSE),\"\")","v":""}]
[" 09-12-02","09",null,"12",null,"02",null,null,null,{"$f":"IFERROR(VLOOKUP(I3427,設定・基礎!$G$3:$H$22,2,FALSE),\"\")","v":""}]
[" 09-12-14","09",null,"12",null,"14",null,null,null,{"$f":"IFERROR(VLOOKUP(I3439,設定・基礎!$G$3:$H$22,2,FALSE),\"\")","v":""}]
[" 09-13-06","09",null,"13",null,"06",null,null,null,{"$f":"IFERROR(VLOOKUP(I3451,設定・基礎!$G$3:$H$22,2,FALSE),\"\")","v":""}]
[" 09-13-12","09",null,"13",null,"12",null,null,null,{"$f":"IFERROR(VLOOKUP(I3457,設定・基礎!$G$3:$H$22,2,FALSE),\"\")","v":""}]
[" 09-14-04","09",null,"14",null,"04",null,null,null,{"$f":"IFERROR(VLOOKUP(I3469,設定・基礎!$G$3:$H$22,2,FALSE),\"\")","v":""}]
[" 09-14-11","09",null,"14",null,"11",null,null,null,{"$f":"IFERROR(VLOOKUP(I3476,設定・基礎!$G$3:$H$22,2,FALSE),\"\")","v":""}]
[" 09-14-17","09",null,"14",null,"17",null,null,null,{"$f":"IFERROR(VLOOKUP(I3482,設定・基礎!$G$3:$H$22,2,FALSE),\"\")","v":""}]
[" 09-15-05","09",null,"15",null,"05",null,null,null,{"$f":"IFERROR(VLOOKUP(I3490,設定・基礎!$G$3:$H$22,2,FALSE),\"\")","v":""}]
[" 09-15-12","09",null,"15",null,"12",null,null,null,{"$f":"IFERROR(VLOOKUP(I3497,設定・基礎!$G$3:$H$22,2,FALSE),\"\")","v":""}]
[" 09-16-04","09",null,"16",null,"04",null,null,null,{"$f":"IFERROR(VLOOKUP(I3509,設定・基礎!$G$3:$H$22,2,FALSE),\"\")","v":""}]
[" 09-16-16","09",null,"16",null,"16",null,null,null,{"$f":"IFERROR(VLOOKUP(I3521,設定・基礎!$G$3:$H$22,2,FALSE),\"\")","v":""}]
[" 09-17-02","09",null,"17",null,"02",null,null,null,{"$f":"IFERROR(VLOOKUP(I3527,設定・基礎!$G$3:$H$22,2,FALSE),\"\")","v":""}]
[" 09-17-14","09",null,"17",null,"14",null,null,null,{"$f":"IFERROR(VLOOKUP(I3539,設定・基礎!$G$3:$H$22,2,FALSE),\"\")","v":""}]
[" 09-18-01","09",null,"18",null,"01",null,null,null,{"$f":"IFERROR(VLOOKUP(I3546,設定・基礎!$G$3:$H$22,2,FALSE),\"\")","v":""}]
[" 09-18-07","09",null,"18",null,"07",null,null,null,{"$f":"IFERROR(VLOOKUP(I3552,設定・基礎!$G$3:$H$22,2,FALSE),\"\")","v":""}]
[" 09-18-15","09",null,"18",null,"15",null,null,null,{"$f":"IFERROR(VLOOKUP(I3560,設定・基礎!$G$3:$H$22,2,FALSE),\"\")","v":""}]
[" 09-19-02","09",null,"19",null,"02",null,null,null,{"$f":"IFERROR(VLOOKUP(I3567,設定・基礎!$G$3:$H$22,2,FALSE),\"\")","v":""}]
[" 09-19-14","09",null,"19",null,"14",null,null,null,{"$f":"IFERROR(VLOOKUP(I3579,設定・基礎!$G$3:$H$22,2,FALSE),\"\")","v":""}]
[" 09-20-06","09",null,"20",null,"06",null,null,null,{"$f":"IFERROR(VLOOKUP(I3591,設定・基礎!$G$3:$H$22,2,FALSE),\"\")","v":""}]
[" 09-20-12","09",null,"20",null,"12",null,null,null,{"$f":"IFERROR(VLOOKUP(I3597,設定・基礎!$G$3:$H$22,2,FALSE),\"\")","v":""}]
[" 10-01-04","10",null,"01",null,"04","協議会③事前説明・あいさつ・資料・旅費","協議会③冊子完成～当日","５年",{"$f":"IFERROR(VLOOKUP(I3609,設定・基礎!$G$3:$H$22,2,FALSE),\"\")","v":"⑤"}]
[" 10-01-11","10",null,"01",null,"11",null,null,null,{"$f":"IFERROR(VLOOKUP(I3616,設定・基礎!$G$3:$H$22,2,FALSE),\"\")","v":""}]
[" 10-01-17","10",null,"01",null,"17",null,null,null,{"$f":"IFERROR(VLOOKUP(I3622,設定・基礎!$G$3:$H$22,2,FALSE),\"\")","v":""}]
[" 10-02-09","10",null,"02",null,"09",null,null,null,{"$f":"IFERROR(VLOOKUP(I3634,設定・基礎!$G$3:$H$22,2,FALSE),\"\")","v":""}]
[" 10-02-12","10",null,"02",null,"12",null,null,null,{"$f":"IFERROR(VLOOKUP(I3637,設定・基礎!$G$3:$H$22,2,FALSE),\"\")","v":""}]
[" 10-03-04","10",null,"03",null,"04","体罰再発防止研修","体罰防止研修","10年",{"$f":"IFERROR(VLOOKUP(I3649,設定・基礎!$G$3:$H$22,2,FALSE),\"\")","v":"⑩"}]
[" 10-03-16","10",null,"03",null,"16",null,null,null,{"$f":"IFERROR(VLOOKUP(I3661,設定・基礎!$G$3:$H$22,2,FALSE),\"\")","v":""}]
[" 10-04-02","10",null,"04",null,"02","22条協議会　全国教育センター協議会","22条協議会　ｾﾝﾀｰ等協議会","５年",{"$f":"IFERROR(VLOOKUP(I3667,設定・基礎!$G$3:$H$22,2,FALSE),\"\")","v":"⑤"}]
[" 10-04-14","10",null,"04",null,"14",null,null,null,{"$f":"IFERROR(VLOOKUP(I3679,設定・基礎!$G$3:$H$22,2,FALSE),\"\")","v":""}]
[" 10-05-01","10",null,"05","耐震化工事","01","◆耐震化工事◆","◆耐震化工事◆","５年",{"$f":"IFERROR(VLOOKUP(I3686,設定・基礎!$G$3:$H$22,2,FALSE),\"\")","v":"⑤"}]
[" 10-05-07","10",null,"05",null,"07",null,null,null,{"$f":"IFERROR(VLOOKUP(I3692,設定・基礎!$G$3:$H$22,2,FALSE),\"\")","v":""}]
[" 10-05-19","10",null,"05",null,"19",null,null,null,{"$f":"IFERROR(VLOOKUP(I3704,設定・基礎!$G$3:$H$22,2,FALSE),\"\")","v":""}]
[" 10-06-02","10",null,"06",null,"02",null,null,null,{"$f":"IFERROR(VLOOKUP(I3707,設定・基礎!$G$3:$H$22,2,FALSE),\"\")","v":""}]
[" 10-06-14","10",null,"06",null,"14",null,null,null,{"$f":"IFERROR(VLOOKUP(I3719,設定・基礎!$G$3:$H$22,2,FALSE),\"\")","v":""}]
[" 10-07-06","10",null,"07",null,"06",null,null,null,{"$f":"IFERROR(VLOOKUP(I3731,設定・基礎!$G$3:$H$22,2,FALSE),\"\")","v":""}]
[" 10-07-12","10",null,"07",null,"12",null,null,null,{"$f":"IFERROR(VLOOKUP(I3737,設定・基礎!$G$3:$H$22,2,FALSE),\"\")","v":""}]
[" 10-07-19","10",null,"07",null,"19",null,null,null,{"$f":"IFERROR(VLOOKUP(I3744,設定・基礎!$G$3:$H$22,2,FALSE),\"\")","v":""}]
[" 10-08-11","10",null,"08",null,"11",null,null,null,{"$f":"IFERROR(VLOOKUP(I3756,設定・基礎!$G$3:$H$22,2,FALSE),\"\")","v":""}]
[" 10-09-03","10",null,"09",null,"03",null,null,null,{"$f":"IFERROR(VLOOKUP(I3768,設定・基礎!$G$3:$H$22,2,FALSE),\"\")","v":""}]
[" 10-09-07","10",null,"09",null,"07",null,null,null,{"$f":"IFERROR(VLOOKUP(I3772,設定・基礎!$G$3:$H$22,2,FALSE),\"\")","v":""}]
[" 10-09-12","10",null,"09",null,"12",null,null,null,{"$f":"IFERROR(VLOOKUP(I3777,設定・基礎!$G$3:$H$22,2,FALSE),\"\")","v":""}]
[" 10-10-04","10",null,"10",null,"04",null,null,null,{"$f":"IFERROR(VLOOKUP(I3789,設定・基礎!$G$3:$H$22,2,FALSE),\"\")","v":""}]
[" 10-10-11","10",null,"10",null,"11",null,null,null,{"$f":"IFERROR(VLOOKUP(I3796,設定・基礎!$G$3:$H$22,2,FALSE),\"\")","v":""}]
[" 10-11-06","10",null,"11",null,"06",null,null,null,{"$f":"IFERROR(VLOOKUP(I3811,設定・基礎!$G$3:$H$22,2,FALSE),\"\")","v":""}]
[" 10-11-09","10",null,"11",null,"09",null,null,null,{"$f":"IFERROR(VLOOKUP(I3814,設定・基礎!$G$3:$H$22,2,FALSE),\"\")","v":""}]
[" 10-12-01","10",null,"12",null,"01",null,null,null,{"$f":"IFERROR(VLOOKUP(I3826,設定・基礎!$G$3:$H$22,2,FALSE),\"\")","v":""}]
[" 10-12-13","10",null,"12",null,"13",null,null,null,{"$f":"IFERROR(VLOOKUP(I3838,設定・基礎!$G$3:$H$22,2,FALSE),\"\")","v":""}]
[" 10-12-17","10",null,"12",null,"17",null,null,null,{"$f":"IFERROR(VLOOKUP(I3842,設定・基礎!$G$3:$H$22,2,FALSE),\"\")","v":""}]
[" 10-13-02","10",null,"13",null,"02",null,null,null,{"$f":"IFERROR(VLOOKUP(I3847,設定・基礎!$G$3:$H$22,2,FALSE),\"\")","v":""}]
[" 10-13-14","10",null,"13",null,"14",null,null,null,{"$f":"IFERROR(VLOOKUP(I3859,設定・基礎!$G$3:$H$22,2,FALSE),\"\")","v":""}]
[" 10-14-01","10",null,"14",null,"01",null,null,null,{"$f":"IFERROR(VLOOKUP(I3866,設定・基礎!$G$3:$H$22,2,FALSE),\"\")","v":""}]
[" 10-14-16","10",null,"14",null,"16",null,null,null,{"$f":"IFERROR(VLOOKUP(I3881,設定・基礎!$G$3:$H$22,2,FALSE),\"\")","v":""}]
[" 10-14-19","10",null,"14",null,"19",null,null,null,{"$f":"IFERROR(VLOOKUP(I3884,設定・基礎!$G$3:$H$22,2,FALSE),\"\")","v":""}]
[" 10-15-11","10",null,"15",null,"11",null,null,null,{"$f":"IFERROR(VLOOKUP(I3896,設定・基礎!$G$3:$H$22,2,FALSE),\"\")","v":""}]
[" 10-16-03","10",null,"16",null,"03",null,null,null,{"$f":"IFERROR(VLOOKUP(I3908,設定・基礎!$G$3:$H$22,2,FALSE),\"\")","v":""}]
[" 10-16-07","10",null,"16",null,"07",null,null,null,{"$f":"IFERROR(VLOOKUP(I3912,設定・基礎!$G$3:$H$22,2,FALSE),\"\")","v":""}]
[" 10-16-12","10",null,"16",null,"12",null,null,null,{"$f":"IFERROR(VLOOKUP(I3917,設定・基礎!$G$3:$H$22,2,FALSE),\"\")","v":""}]
[" 10-17-08","10",null,"17",null,"08",null,null,null,{"$f":"IFERROR(VLOOKUP(I3933,設定・基礎!$G$3:$H$22,2,FALSE),\"\")","v":""}]
[" 10-17-11","10",null,"17",null,"11",null,null,null,{"$f":"IFERROR(VLOOKUP(I3936,設定・基礎!$G$3:$H$22,2,FALSE),\"\")","v":""}]
[" 10-18-06","10",null,"18",null,"06",null,null,null,{"$f":"IFERROR(VLOOKUP(I3951,設定・基礎!$G$3:$H$22,2,FALSE),\"\")","v":""}]
[" 10-18-09","10",null,"18",null,"09",null,null,null,{"$f":"IFERROR(VLOOKUP(I3954,設定・基礎!$G$3:$H$22,2,FALSE),\"\")","v":""}]
[" 10-19-01","10",null,"19",null,"01",null,null,null,{"$f":"IFERROR(VLOOKUP(I3966,設定・基礎!$G$3:$H$22,2,FALSE),\"\")","v":""}]
[" 10-19-13","10",null,"19",null,"13",null,null,null,{"$f":"IFERROR(VLOOKUP(I3978,設定・基礎!$G$3:$H$22,2,FALSE),\"\")","v":""}]
[" 10-19-17","10",null,"19",null,"17",null,null,null,{"$f":"IFERROR(VLOOKUP(I3982,設定・基礎!$G$3:$H$22,2,FALSE),\"\")","v":""}]
[" 10-20-02","10",null,"20",null,"02",null,null,null,{"$f":"IFERROR(VLOOKUP(I3987,設定・基礎!$G$3:$H$22,2,FALSE),\"\")","v":""}]
[" 10-20-18","10",null,"20",null,"18",null,null,null,{"$f":"IFERROR(VLOOKUP(I4003,設定・基礎!$G$3:$H$22,2,FALSE),\"\")","v":""}]
[" 11-01-01","11","その他事務","01","インターン","01","◆インターン◆","◆インターン◆","５年",{"$f":"IFERROR(VLOOKUP(I4006,設定・基礎!$G$3:$H$22,2,FALSE),\"\")","v":"⑤"}]
[" 11-01-16","11",null,"01",null,"16",null,null,null,{"$f":"IFERROR(VLOOKUP(I4021,設定・基礎!$G$3:$H$22,2,FALSE),\"\")","v":""}]
[" 11-01-19","11",null,"01",null,"19",null,null,null,{"$f":"IFERROR(VLOOKUP(I4024,設定・基礎!$G$3:$H$22,2,FALSE),\"\")","v":""}]
[" 11-02-11","11",null,"02",null,"11",null,null,null,{"$f":"IFERROR(VLOOKUP(I4036,設定・基礎!$G$3:$H$22,2,FALSE),\"\")","v":""}]
[" 11-03-03","11",null,"03",null,"03","課内回覧","課内回覧","３年",{"$f":"IFERROR(VLOOKUP(I4048,設定・基礎!$G$3:$H$22,2,FALSE),\"\")","v":"③"}]
[" 11-03-07","11",null,"03",null,"07",null,null,null,{"$f":"IFERROR(VLOOKUP(I4052,設定・基礎!$G$3:$H$22,2,FALSE),\"\")","v":""}]
[" 11-03-12","11",null,"03",null,"12",null,null,null,{"$f":"IFERROR(VLOOKUP(I4057,設定・基礎!$G$3:$H$22,2,FALSE),\"\")","v":""}]
[" 11-04-08","11",null,"04",null,"08",null,null,null,{"$f":"IFERROR(VLOOKUP(I4073,設定・基礎!$G$3:$H$22,2,FALSE),\"\")","v":""}]
[" 11-04-11","11",null,"04",null,"11",null,null,null,{"$f":"IFERROR(VLOOKUP(I4076,設定・基礎!$G$3:$H$22,2,FALSE),\"\")","v":""}]
[" 11-05-06","11",null,"05",null,"06",null,null,null,{"$f":"IFERROR(VLOOKUP(I4091,設定・基礎!$G$3:$H$22,2,FALSE),\"\")","v":""}]
[" 11-05-09","11",null,"05",null,"09",null,null,null,{"$f":"IFERROR(VLOOKUP(I4094,設定・基礎!$G$3:$H$22,2,FALSE),\"\")","v":""}]
[" 11-06-01","11",null,"06",null,"01",null,null,null,{"$f":"IFERROR(VLOOKUP(I4106,設定・基礎!$G$3:$H$22,2,FALSE),\"\")","v":""}]
[" 11-06-08","11",null,"06",null,"08",null,null,null,{"$f":"IFERROR(VLOOKUP(I4113,設定・基礎!$G$3:$H$22,2,FALSE),\"\")","v":""}]
[" 11-06-17","11",null,"06",null,"17",null,null,null,{"$f":"IFERROR(VLOOKUP(I4122,設定・基礎!$G$3:$H$22,2,FALSE),\"\")","v":""}]
[" 11-07-02","11",null,"07",null,"02",null,null,null,{"$f":"IFERROR(VLOOKUP(I4127,設定・基礎!$G$3:$H$22,2,FALSE),\"\")","v":""}]
[" 11-07-18","11",null,"07",null,"18",null,null,null,{"$f":"IFERROR(VLOOKUP(I4143,設定・基礎!$G$3:$H$22,2,FALSE),\"\")","v":""}]
[" 11-08-01","11",null,"08",null,"01",null,null,null,{"$f":"IFERROR(VLOOKUP(I4146,設定・基礎!$G$3:$H$22,2,FALSE),\"\")","v":""}]
[" 11-08-16","11",null,"08",null,"16",null,null,null,{"$f":"IFERROR(VLOOKUP(I4161,設定・基礎!$G$3:$H$22,2,FALSE),\"\")","v":""}]
[" 11-08-19","11",null,"08",null,"19",null,null,null,{"$f":"IFERROR(VLOOKUP(I4164,設定・基礎!$G$3:$H$22,2,FALSE),\"\")","v":""}]
[" 11-09-11","11",null,"09",null,"11",null,null,null,{"$f":"IFERROR(VLOOKUP(I4176,設定・基礎!$G$3:$H$22,2,FALSE),\"\")","v":""}]
[" 11-09-18","11",null,"09",null,"18",null,null,null,{"$f":"IFERROR(VLOOKUP(I4183,設定・基礎!$G$3:$H$22,2,FALSE),\"\")","v":""}]
[" 11-10-07","11",null,"10",null,"07",null,null,null,{"$f":"IFERROR(VLOOKUP(I4192,設定・基礎!$G$3:$H$22,2,FALSE),\"\")","v":""}]
[" 11-10-12","11",null,"10",null,"12",null,null,null,{"$f":"IFERROR(VLOOKUP(I4197,設定・基礎!$G$3:$H$22,2,FALSE),\"\")","v":""}]
[" 11-11-08","11",null,"11",null,"08",null,null,null,{"$f":"IFERROR(VLOOKUP(I4213,設定・基礎!$G$3:$H$22,2,FALSE),\"\")","v":""}]
[" 11-11-11","11",null,"11",null,"11",null,null,null,{"$f":"IFERROR(VLOOKUP(I4216,設定・基礎!$G$3:$H$22,2,FALSE),\"\")","v":""}]
[" 11-12-06","11",null,"12",null,"06",null,null,null,{"$f":"IFERROR(VLOOKUP(I4231,設定・基礎!$G$3:$H$22,2,FALSE),\"\")","v":""}]
[" 11-12-09","11",null,"12",null,"09",null,null,null,{"$f":"IFERROR(VLOOKUP(I4234,設定・基礎!$G$3:$H$22,2,FALSE),\"\")","v":""}]
[" 11-13-01","11",null,"13",null,"01",null,null,null,{"$f":"IFERROR(VLOOKUP(I4246,設定・基礎!$G$3:$H$22,2,FALSE),\"\")","v":""}]
[" 11-13-08","11",null,"13",null,"08",null,null,null,{"$f":"IFERROR(VLOOKUP(I4253,設定・基礎!$G$3:$H$22,2,FALSE),\"\")","v":""}]
[" 11-13-17","11",null,"13",null,"17",null,null,null,{"$f":"IFERROR(VLOOKUP(I4262,設定・基礎!$G$3:$H$22,2,FALSE),\"\")","v":""}]
[" 11-14-02","11",null,"14",null,"02",null,null,null,{"$f":"IFERROR(VLOOKUP(I4267,設定・基礎!$G$3:$H$22,2,FALSE),\"\")","v":""}]
[" 11-14-18","11",null,"14",null,"18",null,null,null,{"$f":"IFERROR(VLOOKUP(I4283,設定・基礎!$G$3:$H$22,2,FALSE),\"\")","v":""}]
[" 11-15-01","11",null,"15",null,"01",null,null,null,{"$f":"IFERROR(VLOOKUP(I4286,設定・基礎!$G$3:$H$22,2,FALSE),\"\")","v":""}]
[" 11-15-16","11",null,"15",null,"16",null,null,null,{"$f":"IFERROR(VLOOKUP(I4301,設定・基礎!$G$3:$H$22,2,FALSE),\"\")","v":""}]
[" 11-15-19","11",null,"15",null,"19",null,null,null,{"$f":"IFERROR(VLOOKUP(I4304,設定・基礎!$G$3:$H$22,2,FALSE),\"\")","v":""}]
[" 11-16-11","11",null,"16",null,"11",null,null,null,{"$f":"IFERROR(VLOOKUP(I4316,設定・基礎!$G$3:$H$22,2,FALSE),\"\")","v":""}]
[" 11-16-18","11",null,"16",null,"18",null,null,null,{"$f":"IFERROR(VLOOKUP(I4323,設定・基礎!$G$3:$H$22,2,FALSE),\"\")","v":""}]
[" 11-17-07","11",null,"17",null,"07",null,null,null,{"$f":"IFERROR(VLOOKUP(I4332,設定・基礎!$G$3:$H$22,2,FALSE),\"\")","v":""}]
[" 11-17-12","11",null,"17",null,"12",null,null,null,{"$f":"IFERROR(VLOOKUP(I4337,設定・基礎!$G$3:$H$22,2,FALSE),\"\")","v":""}]
[" 11-18-08","11",null,"18",null,"08",null,null,null,{"$f":"IFERROR(VLOOKUP(I4353,設定・基礎!$G$3:$H$22,2,FALSE),\"\")","v":""}]
[" 11-18-11","11",null,"18",null,"11",null,null,null,{"$f":"IFERROR(VLOOKUP(I4356,設定・基礎!$G$3:$H$22,2,FALSE),\"\")","v":""}]
[" 11-19-06","11",null,"19",null,"06",null,null,null,{"$f":"IFERROR(VLOOKUP(I4371,設定・基礎!$G$3:$H$22,2,FALSE),\"\")","v":""}]
[" 11-19-09","11",null,"19",null,"09",null,null,null,{"$f":"IFERROR(VLOOKUP(I4374,設定・基礎!$G$3:$H$22,2,FALSE),\"\")","v":""}]
[" 11-20-01","11",null,"20",null,"01",null,null,null,{"$f":"IFERROR(VLOOKUP(I4386,設定・基礎!$G$3:$H$22,2,FALSE),\"\")","v":""}]
[" 11-20-08","11",null,"20",null,"08",null,null,null,{"$f":"IFERROR(VLOOKUP(I4393,設定・基礎!$G$3:$H$22,2,FALSE),\"\")","v":""}]
[" 11-20-17","11",null,"20",null,"17",null,null,null,{"$f":"IFERROR(VLOOKUP(I4402,設定・基礎!$G$3:$H$22,2,FALSE),\"\")","v":""}]
[" 12-01-06","12",null,"01",null,"06",null,null,null,{"$f":"IFERROR(VLOOKUP(I4411,設定・基礎!$G$3:$H$22,2,FALSE),\"\")","v":""}]
[" 12-01-18","12",null,"01",null,"18",null,null,null,{"$f":"IFERROR(VLOOKUP(I4423,設定・基礎!$G$3:$H$22,2,FALSE),\"\")","v":""}]
[" 12-02-01","12",null,"02","個人ファイル","01","◆個人ファイル◆","◆個人ﾌｧｲﾙ◆","３年",{"$f":"IFERROR(VLOOKUP(I4426,設定・基礎!$G$3:$H$22,2,FALSE),\"\")","v":"③"}]
[" 12-02-16","12",null,"02",null,"16",null,null,null,{"$f":"IFERROR(VLOOKUP(I4441,設定・基礎!$G$3:$H$22,2,FALSE),\"\")","v":""}]
[" 12-02-19","12",null,"02",null,"19",null,null,null,{"$f":"IFERROR(VLOOKUP(I4444,設定・基礎!$G$3:$H$22,2,FALSE),\"\")","v":""}]
[" 12-03-11","12",null,"03",null,"11",null,null,null,{"$f":"IFERROR(VLOOKUP(I4456,設定・基礎!$G$3:$H$22,2,FALSE),\"\")","v":""}]
[" 12-03-18","12",null,"03",null,"18",null,null,null,{"$f":"IFERROR(VLOOKUP(I4463,設定・基礎!$G$3:$H$22,2,FALSE),\"\")","v":""}]
[" 12-04-07","12",null,"04",null,"07",null,null,null,{"$f":"IFERROR(VLOOKUP(I4472,設定・基礎!$G$3:$H$22,2,FALSE),\"\")","v":""}]
[" 12-04-16","12",null,"04",null,"16",null,null,null,{"$f":"IFERROR(VLOOKUP(I4481,設定・基礎!$G$3:$H$22,2,FALSE),\"\")","v":""}]
[" 12-05-08","12",null,"05",null,"08",null,null,null,{"$f":"IFERROR(VLOOKUP(I4493,設定・基礎!$G$3:$H$22,2,FALSE),\"\")","v":""}]
[" 12-05-11","12",null,"05",null,"11",null,null,null,{"$f":"IFERROR(VLOOKUP(I4496,設定・基礎!$G$3:$H$22,2,FALSE),\"\")","v":""}]
[" 12-06-06","12",null,"06",null,"06",null,null,null,{"$f":"IFERROR(VLOOKUP(I4511,設定・基礎!$G$3:$H$22,2,FALSE),\"\")","v":""}]
[" 12-06-09","12",null,"06",null,"09",null,null,null,{"$f":"IFERROR(VLOOKUP(I4514,設定・基礎!$G$3:$H$22,2,FALSE),\"\")","v":""}]
[" 12-06-16","12",null,"06",null,"16",null,null,null,{"$f":"IFERROR(VLOOKUP(I4521,設定・基礎!$G$3:$H$22,2,FALSE),\"\")","v":""}]
[" 12-07-08","12",null,"07",null,"08",null,null,null,{"$f":"IFERROR(VLOOKUP(I4533,設定・基礎!$G$3:$H$22,2,FALSE),\"\")","v":""}]
[" 12-07-17","12",null,"07",null,"17",null,null,null,{"$f":"IFERROR(VLOOKUP(I4542,設定・基礎!$G$3:$H$22,2,FALSE),\"\")","v":""}]
[" 12-08-06","12",null,"08",null,"06",null,null,null,{"$f":"IFERROR(VLOOKUP(I4551,設定・基礎!$G$3:$H$22,2,FALSE),\"\")","v":""}]
[" 12-08-18","12",null,"08",null,"18",null,null,null,{"$f":"IFERROR(VLOOKUP(I4563,設定・基礎!$G$3:$H$22,2,FALSE),\"\")","v":""}]
[" 12-09-01","12",null,"09",null,"01",null,null,null,{"$f":"IFERROR(VLOOKUP(I4566,設定・基礎!$G$3:$H$22,2,FALSE),\"\")","v":""}]
[" 12-09-16","12",null,"09",null,"16",null,null,null,{"$f":"IFERROR(VLOOKUP(I4581,設定・基礎!$G$3:$H$22,2,FALSE),\"\")","v":""}]
[" 12-09-19","12",null,"09",null,"19",null,null,null,{"$f":"IFERROR(VLOOKUP(I4584,設定・基礎!$G$3:$H$22,2,FALSE),\"\")","v":""}]
[" 12-10-06","12",null,"10",null,"06",null,null,null,{"$f":"IFERROR(VLOOKUP(I4591,設定・基礎!$G$3:$H$22,2,FALSE),\"\")","v":""}]
[" 12-10-18","12",null,"10",null,"18",null,null,null,{"$f":"IFERROR(VLOOKUP(I4603,設定・基礎!$G$3:$H$22,2,FALSE),\"\")","v":""}]
[" 12-11-07","12",null,"11",null,"07",null,null,null,{"$f":"IFERROR(VLOOKUP(I4612,設定・基礎!$G$3:$H$22,2,FALSE),\"\")","v":""}]
[" 12-11-16","12",null,"11",null,"16",null,null,null,{"$f":"IFERROR(VLOOKUP(I4621,設定・基礎!$G$3:$H$22,2,FALSE),\"\")","v":""}]
[" 12-12-08","12",null,"12",null,"08",null,null,null,{"$f":"IFERROR(VLOOKUP(I4633,設定・基礎!$G$3:$H$22,2,FALSE),\"\")","v":""}]
[" 12-12-11","12",null,"12",null,"11",null,null,null,{"$f":"IFERROR(VLOOKUP(I4636,設定・基礎!$G$3:$H$22,2,FALSE),\"\")","v":""}]
[" 12-13-07","12",null,"13",null,"07",null,null,null,{"$f":"IFERROR(VLOOKUP(I4652,設定・基礎!$G$3:$H$22,2,FALSE),\"\")","v":""}]
[" 12-13-08","12",null,"13",null,"08",null,null,null,{"$f":"IFERROR(VLOOKUP(I4653,設定・基礎!$G$3:$H$22,2,FALSE),\"\")","v":""}]
[" 12-13-16","12",null,"13",null,"16",null,null,null,{"$f":"IFERROR(VLOOKUP(I4661,設定・基礎!$G$3:$H$22,2,FALSE),\"\")","v":""}]
[" 12-14-08","12",null,"14",null,"08",null,null,null,{"$f":"IFERROR(VLOOKUP(I4673,設定・基礎!$G$3:$H$22,2,FALSE),\"\")","v":""}]
[" 12-14-20","12",null,"14",null,"20",null,null,null,{"$f":"IFERROR(VLOOKUP(I4685,設定・基礎!$G$3:$H$22,2,FALSE),\"\")","v":""}]
[" 12-15-07","12",null,"15",null,"07",null,null,null,{"$f":"IFERROR(VLOOKUP(I4692,設定・基礎!$G$3:$H$22,2,FALSE),\"\")","v":""}]
[" 12-15-18","12",null,"15",null,"18",null,null,null,{"$f":"IFERROR(VLOOKUP(I4703,設定・基礎!$G$3:$H$22,2,FALSE),\"\")","v":""}]
[" 12-16-05","12",null,"16",null,"05",null,null,null,{"$f":"IFERROR(VLOOKUP(I4710,設定・基礎!$G$3:$H$22,2,FALSE),\"\")","v":""}]
[" 12-16-17","12",null,"16",null,"17",null,null,null,{"$f":"IFERROR(VLOOKUP(I4722,設定・基礎!$G$3:$H$22,2,FALSE),\"\")","v":""}]
[" 12-16-18","12",null,"16",null,"18",null,null,null,{"$f":"IFERROR(VLOOKUP(I4723,設定・基礎!$G$3:$H$22,2,FALSE),\"\")","v":""}]
[" 12-17-06","12",null,"17",null,"06",null,null,null,{"$f":"IFERROR(VLOOKUP(I4731,設定・基礎!$G$3:$H$22,2,FALSE),\"\")","v":""}]
[" 12-17-18","12",null,"17",null,"18",null,null,null,{"$f":"IFERROR(VLOOKUP(I4743,設定・基礎!$G$3:$H$22,2,FALSE),\"\")","v":""}]
[" 12-18-10","12",null,"18",null,"10",null,null,null,{"$f":"IFERROR(VLOOKUP(I4755,設定・基礎!$G$3:$H$22,2,FALSE),\"\")","v":""}]
[" 12-18-17","12",null,"18",null,"17",null,null,null,{"$f":"IFERROR(VLOOKUP(I4762,設定・基礎!$G$3:$H$22,2,FALSE),\"\")","v":""}]
[" 12-19-08","12",null,"19",null,"08",null,null,null,{"$f":"IFERROR(VLOOKUP(I4773,設定・基礎!$G$3:$H$22,2,FALSE),\"\")","v":""}]
[" 12-19-15","12",null,"19",null,"15",null,null,null,{"$f":"IFERROR(VLOOKUP(I4780,設定・基礎!$G$3:$H$22,2,FALSE),\"\")","v":""}]
[" 12-20-07","12",null,"20",null,"07",null,null,null,{"$f":"IFERROR(VLOOKUP(I4792,設定・基礎!$G$3:$H$22,2,FALSE),\"\")","v":""}]
[" 12-20-08","12",null,"20",null,"08",null,null,null,{"$f":"IFERROR(VLOOKUP(I4793,設定・基礎!$G$3:$H$22,2,FALSE),\"\")","v":""}]
[" 12-20-16","12",null,"20",null,"16",null,null,null,{"$f":"IFERROR(VLOOKUP(I4801,設定・基礎!$G$3:$H$22,2,FALSE),\"\")","v":""}]
[" 13-01-08","13",null,"01",null,"08",null,null,null,{"$f":"IFERROR(VLOOKUP(I4813,設定・基礎!$G$3:$H$22,2,FALSE),\"\")","v":""}]
[" 13-01-20","13",null,"01",null,"20",null,null,null,{"$f":"IFERROR(VLOOKUP(I4825,設定・基礎!$G$3:$H$22,2,FALSE),\"\")","v":""}]
[" 13-02-07","13",null,"02",null,"07",null,null,null,{"$f":"IFERROR(VLOOKUP(I4832,設定・基礎!$G$3:$H$22,2,FALSE),\"\")","v":""}]
[" 13-02-18","13",null,"02",null,"18",null,null,null,{"$f":"IFERROR(VLOOKUP(I4843,設定・基礎!$G$3:$H$22,2,FALSE),\"\")","v":""}]
[" 13-03-05","13",null,"03",null,"05",null,null,null,{"$f":"IFERROR(VLOOKUP(I4850,設定・基礎!$G$3:$H$22,2,FALSE),\"\")","v":""}]
[" 13-03-17","13",null,"03",null,"17",null,null,null,{"$f":"IFERROR(VLOOKUP(I4862,設定・基礎!$G$3:$H$22,2,FALSE),\"\")","v":""}]
[" 13-03-18","13",null,"03",null,"18",null,null,null,{"$f":"IFERROR(VLOOKUP(I4863,設定・基礎!$G$3:$H$22,2,FALSE),\"\")","v":""}]
[" 13-04-06","13",null,"04",null,"06",null,null,null,{"$f":"IFERROR(VLOOKUP(I4871,設定・基礎!$G$3:$H$22,2,FALSE),\"\")","v":""}]
[" 13-04-18","13",null,"04",null,"18",null,null,null,{"$f":"IFERROR(VLOOKUP(I4883,設定・基礎!$G$3:$H$22,2,FALSE),\"\")","v":""}]
[" 13-05-05","13",null,"05",null,"05",null,null,null,{"$f":"IFERROR(VLOOKUP(I4890,設定・基礎!$G$3:$H$22,2,FALSE),\"\")","v":""}]
[" 13-05-17","13",null,"05",null,"17",null,null,null,{"$f":"IFERROR(VLOOKUP(I4902,設定・基礎!$G$3:$H$22,2,FALSE),\"\")","v":""}]
[" 13-06-08","13",null,"06",null,"08",null,null,null,{"$f":"IFERROR(VLOOKUP(I4913,設定・基礎!$G$3:$H$22,2,FALSE),\"\")","v":""}]
[" 13-06-15","13",null,"06",null,"15",null,null,null,{"$f":"IFERROR(VLOOKUP(I4920,設定・基礎!$G$3:$H$22,2,FALSE),\"\")","v":""}]
[" 13-07-07","13",null,"07",null,"07",null,null,null,{"$f":"IFERROR(VLOOKUP(I4932,設定・基礎!$G$3:$H$22,2,FALSE),\"\")","v":""}]
[" 13-07-08","13",null,"07",null,"08",null,null,null,{"$f":"IFERROR(VLOOKUP(I4933,設定・基礎!$G$3:$H$22,2,FALSE),\"\")","v":""}]
[" 13-07-16","13",null,"07",null,"16",null,null,null,{"$f":"IFERROR(VLOOKUP(I4941,設定・基礎!$G$3:$H$22,2,FALSE),\"\")","v":""}]
[" 13-08-08","13",null,"08",null,"08",null,null,null,{"$f":"IFERROR(VLOOKUP(I4953,設定・基礎!$G$3:$H$22,2,FALSE),\"\")","v":""}]
[" 13-08-15","13",null,"08",null,"15",null,null,null,{"$f":"IFERROR(VLOOKUP(I4960,設定・基礎!$G$3:$H$22,2,FALSE),\"\")","v":""}]
[" 13-09-07","13",null,"09",null,"07",null,null,null,{"$f":"IFERROR(VLOOKUP(I4972,設定・基礎!$G$3:$H$22,2,FALSE),\"\")","v":""}]
[" 13-09-18","13",null,"09",null,"18",null,null,null,{"$f":"IFERROR(VLOOKUP(I4983,設定・基礎!$G$3:$H$22,2,FALSE),\"\")","v":""}]
[" 13-10-05","13",null,"10",null,"05",null,null,null,{"$f":"IFERROR(VLOOKUP(I4990,設定・基礎!$G$3:$H$22,2,FALSE),\"\")","v":""}]
[" 13-10-17","13",null,"10",null,"17",null,null,null,{"$f":"IFERROR(VLOOKUP(I5002,設定・基礎!$G$3:$H$22,2,FALSE),\"\")","v":""}]
[" 13-10-18","13",null,"10",null,"18",null,null,null,{"$f":"IFERROR(VLOOKUP(I5003,設定・基礎!$G$3:$H$22,2,FALSE),\"\")","v":""}]
[" 13-11-06","13",null,"11",null,"06",null,null,null,{"$f":"IFERROR(VLOOKUP(I5011,設定・基礎!$G$3:$H$22,2,FALSE),\"\")","v":""}]
[" 13-11-18","13",null,"11",null,"18",null,null,null,{"$f":"IFERROR(VLOOKUP(I5023,設定・基礎!$G$3:$H$22,2,FALSE),\"\")","v":""}]
[" 13-12-05","13",null,"12",null,"05",null,null,null,{"$f":"IFERROR(VLOOKUP(I5030,設定・基礎!$G$3:$H$22,2,FALSE),\"\")","v":""}]
[" 13-12-17","13",null,"12",null,"17",null,null,null,{"$f":"IFERROR(VLOOKUP(I5042,設定・基礎!$G$3:$H$22,2,FALSE),\"\")","v":""}]
[" 13-13-08","13",null,"13",null,"08",null,null,null,{"$f":"IFERROR(VLOOKUP(I5053,設定・基礎!$G$3:$H$22,2,FALSE),\"\")","v":""}]
[" 13-13-15","13",null,"13",null,"15",null,null,null,{"$f":"IFERROR(VLOOKUP(I5060,設定・基礎!$G$3:$H$22,2,FALSE),\"\")","v":""}]
[" 13-14-07","13",null,"14",null,"07",null,null,null,{"$f":"IFERROR(VLOOKUP(I5072,設定・基礎!$G$3:$H$22,2,FALSE),\"\")","v":""}]
[" 13-14-08","13",null,"14",null,"08",null,null,null,{"$f":"IFERROR(VLOOKUP(I5073,設定・基礎!$G$3:$H$22,2,FALSE),\"\")","v":""}]
[" 13-14-16","13",null,"14",null,"16",null,null,null,{"$f":"IFERROR(VLOOKUP(I5081,設定・基礎!$G$3:$H$22,2,FALSE),\"\")","v":""}]
[" 13-15-08","13",null,"15",null,"08",null,null,null,{"$f":"IFERROR(VLOOKUP(I5093,設定・基礎!$G$3:$H$22,2,FALSE),\"\")","v":""}]
[" 13-15-15","13",null,"15",null,"15",null,null,null,{"$f":"IFERROR(VLOOKUP(I5100,設定・基礎!$G$3:$H$22,2,FALSE),\"\")","v":""}]
[" 13-16-07","13",null,"16",null,"07",null,null,null,{"$f":"IFERROR(VLOOKUP(I5112,設定・基礎!$G$3:$H$22,2,FALSE),\"\")","v":""}]
[" 13-16-18","13",null,"16",null,"18",null,null,null,{"$f":"IFERROR(VLOOKUP(I5123,設定・基礎!$G$3:$H$22,2,FALSE),\"\")","v":""}]
[" 13-17-05","13",null,"17",null,"05",null,null,null,{"$f":"IFERROR(VLOOKUP(I5130,設定・基礎!$G$3:$H$22,2,FALSE),\"\")","v":""}]
[" 13-17-17","13",null,"17",null,"17",null,null,null,{"$f":"IFERROR(VLOOKUP(I5142,設定・基礎!$G$3:$H$22,2,FALSE),\"\")","v":""}]
[" 13-17-18","13",null,"17",null,"18",null,null,null,{"$f":"IFERROR(VLOOKUP(I5143,設定・基礎!$G$3:$H$22,2,FALSE),\"\")","v":""}]
[" 13-18-06","13",null,"18",null,"06",null,null,null,{"$f":"IFERROR(VLOOKUP(I5151,設定・基礎!$G$3:$H$22,2,FALSE),\"\")","v":""}]
[" 13-18-18","13",null,"18",null,"18",null,null,null,{"$f":"IFERROR(VLOOKUP(I5163,設定・基礎!$G$3:$H$22,2,FALSE),\"\")","v":""}]
[" 13-19-05","13",null,"19",null,"05",null,null,null,{"$f":"IFERROR(VLOOKUP(I5170,設定・基礎!$G$3:$H$22,2,FALSE),\"\")","v":""}]
[" 13-19-17","13",null,"19",null,"17",null,null,null,{"$f":"IFERROR(VLOOKUP(I5182,設定・基礎!$G$3:$H$22,2,FALSE),\"\")","v":""}]
[" 13-20-03","13",null,"20",null,"03",null,null,null,{"$f":"IFERROR(VLOOKUP(I5188,設定・基礎!$G$3:$H$22,2,FALSE),\"\")","v":""}]
[" 13-20-15","13",null,"20",null,"15",null,null,null,{"$f":"IFERROR(VLOOKUP(I5200,設定・基礎!$G$3:$H$22,2,FALSE),\"\")","v":""}]
[" 14-01-07","14",null,"01",null,"07",null,null,null,{"$f":"IFERROR(VLOOKUP(I5212,設定・基礎!$G$3:$H$22,2,FALSE),\"\")","v":""}]
[" 14-01-08","14",null,"01",null,"08",null,null,null,{"$f":"IFERROR(VLOOKUP(I5213,設定・基礎!$G$3:$H$22,2,FALSE),\"\")","v":""}]
[" 14-01-16","14",null,"01",null,"16",null,null,null,{"$f":"IFERROR(VLOOKUP(I5221,設定・基礎!$G$3:$H$22,2,FALSE),\"\")","v":""}]
[" 14-02-08","14",null,"02",null,"08",null,null,null,{"$f":"IFERROR(VLOOKUP(I5233,設定・基礎!$G$3:$H$22,2,FALSE),\"\")","v":""}]
[" 14-02-15","14",null,"02",null,"15",null,null,null,{"$f":"IFERROR(VLOOKUP(I5240,設定・基礎!$G$3:$H$22,2,FALSE),\"\")","v":""}]
[" 14-03-07","14",null,"03",null,"07",null,null,null,{"$f":"IFERROR(VLOOKUP(I5252,設定・基礎!$G$3:$H$22,2,FALSE),\"\")","v":""}]
[" 14-03-13","14",null,"03",null,"13",null,null,null,{"$f":"IFERROR(VLOOKUP(I5258,設定・基礎!$G$3:$H$22,2,FALSE),\"\")","v":""}]
[" 14-04-05","14",null,"04",null,"05",null,null,null,{"$f":"IFERROR(VLOOKUP(I5270,設定・基礎!$G$3:$H$22,2,FALSE),\"\")","v":""}]
[" 14-04-17","14",null,"04",null,"17",null,null,null,{"$f":"IFERROR(VLOOKUP(I5282,設定・基礎!$G$3:$H$22,2,FALSE),\"\")","v":""}]
[" 14-04-18","14",null,"04",null,"18",null,null,null,{"$f":"IFERROR(VLOOKUP(I5283,設定・基礎!$G$3:$H$22,2,FALSE),\"\")","v":""}]
[" 14-05-06","14",null,"05",null,"06",null,null,null,{"$f":"IFERROR(VLOOKUP(I5291,設定・基礎!$G$3:$H$22,2,FALSE),\"\")","v":""}]
[" 14-06-02","14",null,"06",null,"02",null,null,null,{"$f":"IFERROR(VLOOKUP(I5307,設定・基礎!$G$3:$H$22,2,FALSE),\"\")","v":""}]
[" 14-06-05","14",null,"06",null,"05",null,null,null,{"$f":"IFERROR(VLOOKUP(I5310,設定・基礎!$G$3:$H$22,2,FALSE),\"\")","v":""}]
[" 14-06-17","14",null,"06",null,"17",null,null,null,{"$f":"IFERROR(VLOOKUP(I5322,設定・基礎!$G$3:$H$22,2,FALSE),\"\")","v":""}]
[" 14-07-03","14",null,"07",null,"03",null,null,null,{"$f":"IFERROR(VLOOKUP(I5328,設定・基礎!$G$3:$H$22,2,FALSE),\"\")","v":""}]
[" 14-07-15","14",null,"07",null,"15",null,null,null,{"$f":"IFERROR(VLOOKUP(I5340,設定・基礎!$G$3:$H$22,2,FALSE),\"\")","v":""}]
[" 14-08-07","14",null,"08",null,"07",null,null,null,{"$f":"IFERROR(VLOOKUP(I5352,設定・基礎!$G$3:$H$22,2,FALSE),\"\")","v":""}]
[" 14-08-08","14",null,"08",null,"08",null,null,null,{"$f":"IFERROR(VLOOKUP(I5353,設定・基礎!$G$3:$H$22,2,FALSE),\"\")","v":""}]
[" 14-08-16","14",null,"08",null,"16",null,null,null,{"$f":"IFERROR(VLOOKUP(I5361,設定・基礎!$G$3:$H$22,2,FALSE),\"\")","v":""}]
[" 14-09-12","14",null,"09",null,"12",null,null,null,{"$f":"IFERROR(VLOOKUP(I5377,設定・基礎!$G$3:$H$22,2,FALSE),\"\")","v":""}]
[" 14-09-15","14",null,"09",null,"15",null,null,null,{"$f":"IFERROR(VLOOKUP(I5380,設定・基礎!$G$3:$H$22,2,FALSE),\"\")","v":""}]
[" 14-10-07","14",null,"10",null,"07",null,null,null,{"$f":"IFERROR(VLOOKUP(I5392,設定・基礎!$G$3:$H$22,2,FALSE),\"\")","v":""}]
[" 14-10-13","14",null,"10",null,"13",null,null,null,{"$f":"IFERROR(VLOOKUP(I5398,設定・基礎!$G$3:$H$22,2,FALSE),\"\")","v":""}]
[" 14-11-05","14",null,"11",null,"05",null,null,null,{"$f":"IFERROR(VLOOKUP(I5410,設定・基礎!$G$3:$H$22,2,FALSE),\"\")","v":""}]
[" 14-11-17","14",null,"11",null,"17",null,null,null,{"$f":"IFERROR(VLOOKUP(I5422,設定・基礎!$G$3:$H$22,2,FALSE),\"\")","v":""}]
[" 14-11-18","14",null,"11",null,"18",null,null,null,{"$f":"IFERROR(VLOOKUP(I5423,設定・基礎!$G$3:$H$22,2,FALSE),\"\")","v":""}]
[" 14-12-06","14",null,"12",null,"06",null,null,null,{"$f":"IFERROR(VLOOKUP(I5431,設定・基礎!$G$3:$H$22,2,FALSE),\"\")","v":""}]
[" 14-13-02","14",null,"13",null,"02",null,null,null,{"$f":"IFERROR(VLOOKUP(I5447,設定・基礎!$G$3:$H$22,2,FALSE),\"\")","v":""}]
[" 14-13-05","14",null,"13",null,"05",null,null,null,{"$f":"IFERROR(VLOOKUP(I5450,設定・基礎!$G$3:$H$22,2,FALSE),\"\")","v":""}]
[" 14-13-17","14",null,"13",null,"17",null,null,null,{"$f":"IFERROR(VLOOKUP(I5462,設定・基礎!$G$3:$H$22,2,FALSE),\"\")","v":""}]
[" 14-14-03","14",null,"14",null,"03",null,null,null,{"$f":"IFERROR(VLOOKUP(I5468,設定・基礎!$G$3:$H$22,2,FALSE),\"\")","v":""}]
[" 14-14-15","14",null,"14",null,"15",null,null,null,{"$f":"IFERROR(VLOOKUP(I5480,設定・基礎!$G$3:$H$22,2,FALSE),\"\")","v":""}]
[" 14-15-02","14",null,"15",null,"02",null,null,null,{"$f":"IFERROR(VLOOKUP(I5487,設定・基礎!$G$3:$H$22,2,FALSE),\"\")","v":""}]
[" 14-15-14","14",null,"15",null,"14",null,null,null,{"$f":"IFERROR(VLOOKUP(I5499,設定・基礎!$G$3:$H$22,2,FALSE),\"\")","v":""}]
[" 14-15-18","14",null,"15",null,"18",null,null,null,{"$f":"IFERROR(VLOOKUP(I5503,設定・基礎!$G$3:$H$22,2,FALSE),\"\")","v":""}]
[" 14-16-12","14",null,"16",null,"12",null,null,null,{"$f":"IFERROR(VLOOKUP(I5517,設定・基礎!$G$3:$H$22,2,FALSE),\"\")","v":""}]
[" 14-16-15","14",null,"16",null,"15",null,null,null,{"$f":"IFERROR(VLOOKUP(I5520,設定・基礎!$G$3:$H$22,2,FALSE),\"\")","v":""}]
[" 14-17-07","14",null,"17",null,"07",null,null,null,{"$f":"IFERROR(VLOOKUP(I5532,設定・基礎!$G$3:$H$22,2,FALSE),\"\")","v":""}]
[" 14-17-17","14",null,"17",null,"17",null,null,null,{"$f":"IFERROR(VLOOKUP(I5542,設定・基礎!$G$3:$H$22,2,FALSE),\"\")","v":""}]
[" 14-18-05","14",null,"18",null,"05",null,null,null,{"$f":"IFERROR(VLOOKUP(I5550,設定・基礎!$G$3:$H$22,2,FALSE),\"\")","v":""}]
[" 14-18-12","14",null,"18",null,"12",null,null,null,{"$f":"IFERROR(VLOOKUP(I5557,設定・基礎!$G$3:$H$22,2,FALSE),\"\")","v":""}]
[" 14-19-04","14",null,"19",null,"04",null,null,null,{"$f":"IFERROR(VLOOKUP(I5569,設定・基礎!$G$3:$H$22,2,FALSE),\"\")","v":""}]
[" 14-19-08","14",null,"19",null,"08",null,null,null,{"$f":"IFERROR(VLOOKUP(I5573,設定・基礎!$G$3:$H$22,2,FALSE),\"\")","v":""}]
[" 14-20-02","14",null,"20",null,"02",null,null,null,{"$f":"IFERROR(VLOOKUP(I5587,設定・基礎!$G$3:$H$22,2,FALSE),\"\")","v":""}]
[" 14-20-05","14",null,"20",null,"05",null,null,null,{"$f":"IFERROR(VLOOKUP(I5590,設定・基礎!$G$3:$H$22,2,FALSE),\"\")","v":""}]
[" 14-20-17","14",null,"20",null,"17",null,null,null,{"$f":"IFERROR(VLOOKUP(I5602,設定・基礎!$G$3:$H$22,2,FALSE),\"\")","v":""}]
[" 15-01-07","15",null,"01",null,"07",null,null,null,{"$f":"IFERROR(VLOOKUP(I5612,設定・基礎!$G$3:$H$22,2,FALSE),\"\")","v":""}]
[" 15-01-15","15",null,"01",null,"15",null,null,null,{"$f":"IFERROR(VLOOKUP(I5620,設定・基礎!$G$3:$H$22,2,FALSE),\"\")","v":""}]
[" 15-02-02","15",null,"02",null,"02",null,null,null,{"$f":"IFERROR(VLOOKUP(I5627,設定・基礎!$G$3:$H$22,2,FALSE),\"\")","v":""}]
[" 15-02-14","15",null,"02",null,"14",null,null,null,{"$f":"IFERROR(VLOOKUP(I5639,設定・基礎!$G$3:$H$22,2,FALSE),\"\")","v":""}]
[" 15-02-18","15",null,"02",null,"18",null,null,null,{"$f":"IFERROR(VLOOKUP(I5643,設定・基礎!$G$3:$H$22,2,FALSE),\"\")","v":""}]
[" 15-03-12","15",null,"03",null,"12",null,null,null,{"$f":"IFERROR(VLOOKUP(I5657,設定・基礎!$G$3:$H$22,2,FALSE),\"\")","v":""}]
[" 15-03-15","15",null,"03",null,"15",null,null,null,{"$f":"IFERROR(VLOOKUP(I5660,設定・基礎!$G$3:$H$22,2,FALSE),\"\")","v":""}]
[" 15-04-11","15",null,"04",null,"11",null,null,null,{"$f":"IFERROR(VLOOKUP(I5676,設定・基礎!$G$3:$H$22,2,FALSE),\"\")","v":""}]
[" 15-04-17","15",null,"04",null,"17",null,null,null,{"$f":"IFERROR(VLOOKUP(I5682,設定・基礎!$G$3:$H$22,2,FALSE),\"\")","v":""}]
[" 15-05-05","15",null,"05",null,"05",null,null,null,{"$f":"IFERROR(VLOOKUP(I5690,設定・基礎!$G$3:$H$22,2,FALSE),\"\")","v":""}]
[" 15-05-12","15",null,"05",null,"12",null,null,null,{"$f":"IFERROR(VLOOKUP(I5697,設定・基礎!$G$3:$H$22,2,FALSE),\"\")","v":""}]
[" 15-06-04","15",null,"06",null,"04",null,null,null,{"$f":"IFERROR(VLOOKUP(I5709,設定・基礎!$G$3:$H$22,2,FALSE),\"\")","v":""}]
[" 15-06-08","15",null,"06",null,"08",null,null,null,{"$f":"IFERROR(VLOOKUP(I5713,設定・基礎!$G$3:$H$22,2,FALSE),\"\")","v":""}]
[" 15-07-02","15",null,"07",null,"02",null,null,null,{"$f":"IFERROR(VLOOKUP(I5727,設定・基礎!$G$3:$H$22,2,FALSE),\"\")","v":""}]
[" 15-07-05","15",null,"07",null,"05",null,null,null,{"$f":"IFERROR(VLOOKUP(I5730,設定・基礎!$G$3:$H$22,2,FALSE),\"\")","v":""}]
[" 15-08-01","15",null,"08",null,"01",null,null,null,{"$f":"IFERROR(VLOOKUP(I5746,設定・基礎!$G$3:$H$22,2,FALSE),\"\")","v":""}]
[" 15-08-07","15",null,"08",null,"07",null,null,null,{"$f":"IFERROR(VLOOKUP(I5752,設定・基礎!$G$3:$H$22,2,FALSE),\"\")","v":""}]
[" 15-08-15","15",null,"08",null,"15",null,null,null,{"$f":"IFERROR(VLOOKUP(I5760,設定・基礎!$G$3:$H$22,2,FALSE),\"\")","v":""}]
[" 15-09-02","15",null,"09",null,"02",null,null,null,{"$f":"IFERROR(VLOOKUP(I5767,設定・基礎!$G$3:$H$22,2,FALSE),\"\")","v":""}]
[" 15-09-14","15",null,"09",null,"14",null,null,null,{"$f":"IFERROR(VLOOKUP(I5779,設定・基礎!$G$3:$H$22,2,FALSE),\"\")","v":""}]
[" 15-09-18","15",null,"09",null,"18",null,null,null,{"$f":"IFERROR(VLOOKUP(I5783,設定・基礎!$G$3:$H$22,2,FALSE),\"\")","v":""}]
[" 15-10-12","15",null,"10",null,"12",null,null,null,{"$f":"IFERROR(VLOOKUP(I5797,設定・基礎!$G$3:$H$22,2,FALSE),\"\")","v":""}]
[" 15-10-15","15",null,"10",null,"15",null,null,null,{"$f":"IFERROR(VLOOKUP(I5800,設定・基礎!$G$3:$H$22,2,FALSE),\"\")","v":""}]
[" 15-11-11","15",null,"11",null,"11",null,null,null,{"$f":"IFERROR(VLOOKUP(I5816,設定・基礎!$G$3:$H$22,2,FALSE),\"\")","v":""}]
[" 15-11-17","15",null,"11",null,"17",null,null,null,{"$f":"IFERROR(VLOOKUP(I5822,設定・基礎!$G$3:$H$22,2,FALSE),\"\")","v":""}]
[" 15-12-05","15",null,"12",null,"05",null,null,null,{"$f":"IFERROR(VLOOKUP(I5830,設定・基礎!$G$3:$H$22,2,FALSE),\"\")","v":""}]
[" 15-12-12","15",null,"12",null,"12",null,null,null,{"$f":"IFERROR(VLOOKUP(I5837,設定・基礎!$G$3:$H$22,2,FALSE),\"\")","v":""}]
[" 15-13-04","15",null,"13",null,"04",null,null,null,{"$f":"IFERROR(VLOOKUP(I5849,設定・基礎!$G$3:$H$22,2,FALSE),\"\")","v":""}]
[" 15-13-08","15",null,"13",null,"08",null,null,null,{"$f":"IFERROR(VLOOKUP(I5853,設定・基礎!$G$3:$H$22,2,FALSE),\"\")","v":""}]
[" 15-14-02","15",null,"14",null,"02",null,null,null,{"$f":"IFERROR(VLOOKUP(I5867,設定・基礎!$G$3:$H$22,2,FALSE),\"\")","v":""}]
[" 15-14-05","15",null,"14",null,"05",null,null,null,{"$f":"IFERROR(VLOOKUP(I5870,設定・基礎!$G$3:$H$22,2,FALSE),\"\")","v":""}]
[" 15-15-01","15",null,"15",null,"01",null,null,null,{"$f":"IFERROR(VLOOKUP(I5886,設定・基礎!$G$3:$H$22,2,FALSE),\"\")","v":""}]
[" 15-15-07","15",null,"15",null,"07",null,null,null,{"$f":"IFERROR(VLOOKUP(I5892,設定・基礎!$G$3:$H$22,2,FALSE),\"\")","v":""}]
[" 15-15-15","15",null,"15",null,"15",null,null,null,{"$f":"IFERROR(VLOOKUP(I5900,設定・基礎!$G$3:$H$22,2,FALSE),\"\")","v":""}]
[" 15-16-02","15",null,"16",null,"02",null,null,null,{"$f":"IFERROR(VLOOKUP(I5907,設定・基礎!$G$3:$H$22,2,FALSE),\"\")","v":""}]
[" 15-16-14","15",null,"16",null,"14",null,null,null,{"$f":"IFERROR(VLOOKUP(I5919,設定・基礎!$G$3:$H$22,2,FALSE),\"\")","v":""}]
[" 15-16-18","15",null,"16",null,"18",null,null,null,{"$f":"IFERROR(VLOOKUP(I5923,設定・基礎!$G$3:$H$22,2,FALSE),\"\")","v":""}]
[" 15-17-12","15",null,"17",null,"12",null,null,null,{"$f":"IFERROR(VLOOKUP(I5937,設定・基礎!$G$3:$H$22,2,FALSE),\"\")","v":""}]
[" 15-17-15","15",null,"17",null,"15",null,null,null,{"$f":"IFERROR(VLOOKUP(I5940,設定・基礎!$G$3:$H$22,2,FALSE),\"\")","v":""}]
[" 15-18-11","15",null,"18",null,"11",null,null,null,{"$f":"IFERROR(VLOOKUP(I5956,設定・基礎!$G$3:$H$22,2,FALSE),\"\")","v":""}]
[" 15-18-17","15",null,"18",null,"17",null,null,null,{"$f":"IFERROR(VLOOKUP(I5962,設定・基礎!$G$3:$H$22,2,FALSE),\"\")","v":""}]
[" 15-18-20","15",null,"18",null,"20",null,null,null,{"$f":"IFERROR(VLOOKUP(I5965,設定・基礎!$G$3:$H$22,2,FALSE),\"\")","v":""}]
[" 15-19-12","15",null,"19",null,"12",null,null,null,{"$f":"IFERROR(VLOOKUP(I5977,設定・基礎!$G$3:$H$22,2,FALSE),\"\")","v":""}]
[" 15-20-04","15",null,"20",null,"04",null,null,null,{"$f":"IFERROR(VLOOKUP(I5989,設定・基礎!$G$3:$H$22,2,FALSE),\"\")","v":""}]
[" 15-20-08","15",null,"20",null,"08",null,null,null,{"$f":"IFERROR(VLOOKUP(I5993,設定・基礎!$G$3:$H$22,2,FALSE),\"\")","v":""}]
[" 16-01-02","16",null,"01",null,"02",null,null,null,{"$f":"IFERROR(VLOOKUP(I6007,設定・基礎!$G$3:$H$22,2,FALSE),\"\")","v":""}]
[" 16-01-05","16",null,"01",null,"05",null,null,null,{"$f":"IFERROR(VLOOKUP(I6010,設定・基礎!$G$3:$H$22,2,FALSE),\"\")","v":""}]
[" 16-02-01","16",null,"02",null,"01",null,null,null,{"$f":"IFERROR(VLOOKUP(I6026,設定・基礎!$G$3:$H$22,2,FALSE),\"\")","v":""}]
[" 16-02-07","16",null,"02",null,"07",null,null,null,{"$f":"IFERROR(VLOOKUP(I6032,設定・基礎!$G$3:$H$22,2,FALSE),\"\")","v":""}]
[" 16-02-10","16",null,"02",null,"10",null,null,null,{"$f":"IFERROR(VLOOKUP(I6035,設定・基礎!$G$3:$H$22,2,FALSE),\"\")","v":""}]
[" 16-03-02","16",null,"03",null,"02",null,null,null,{"$f":"IFERROR(VLOOKUP(I6047,設定・基礎!$G$3:$H$22,2,FALSE),\"\")","v":""}]
[" 16-03-14","16",null,"03",null,"14",null,null,null,{"$f":"IFERROR(VLOOKUP(I6059,設定・基礎!$G$3:$H$22,2,FALSE),\"\")","v":""}]
[" 16-03-18","16",null,"03",null,"18",null,null,null,{"$f":"IFERROR(VLOOKUP(I6063,設定・基礎!$G$3:$H$22,2,FALSE),\"\")","v":""}]
[" 16-04-12","16",null,"04",null,"12",null,null,null,{"$f":"IFERROR(VLOOKUP(I6077,設定・基礎!$G$3:$H$22,2,FALSE),\"\")","v":""}]
[" 16-04-15","16",null,"04",null,"15",null,null,null,{"$f":"IFERROR(VLOOKUP(I6080,設定・基礎!$G$3:$H$22,2,FALSE),\"\")","v":""}]
[" 16-05-11","16",null,"05",null,"11",null,null,null,{"$f":"IFERROR(VLOOKUP(I6096,設定・基礎!$G$3:$H$22,2,FALSE),\"\")","v":""}]
[" 16-05-17","16",null,"05",null,"17",null,null,null,{"$f":"IFERROR(VLOOKUP(I6102,設定・基礎!$G$3:$H$22,2,FALSE),\"\")","v":""}]
[" 16-05-20","16",null,"05",null,"20",null,null,null,{"$f":"IFERROR(VLOOKUP(I6105,設定・基礎!$G$3:$H$22,2,FALSE),\"\")","v":""}]
[" 16-06-12","16",null,"06",null,"12",null,null,null,{"$f":"IFERROR(VLOOKUP(I6117,設定・基礎!$G$3:$H$22,2,FALSE),\"\")","v":""}]
[" 16-07-04","16",null,"07",null,"04",null,null,null,{"$f":"IFERROR(VLOOKUP(I6129,設定・基礎!$G$3:$H$22,2,FALSE),\"\")","v":""}]
[" 16-07-08","16",null,"07",null,"08",null,null,null,{"$f":"IFERROR(VLOOKUP(I6133,設定・基礎!$G$3:$H$22,2,FALSE),\"\")","v":""}]
[" 16-08-02","16",null,"08",null,"02",null,null,null,{"$f":"IFERROR(VLOOKUP(I6147,設定・基礎!$G$3:$H$22,2,FALSE),\"\")","v":""}]
[" 16-08-09","16",null,"08",null,"09",null,null,null,{"$f":"IFERROR(VLOOKUP(I6154,設定・基礎!$G$3:$H$22,2,FALSE),\"\")","v":""}]
[" 16-09-01","16",null,"09",null,"01",null,null,null,{"$f":"IFERROR(VLOOKUP(I6166,設定・基礎!$G$3:$H$22,2,FALSE),\"\")","v":""}]
[" 16-09-07","16",null,"09",null,"07",null,null,null,{"$f":"IFERROR(VLOOKUP(I6172,設定・基礎!$G$3:$H$22,2,FALSE),\"\")","v":""}]
[" 16-09-10","16",null,"09",null,"10",null,null,null,{"$f":"IFERROR(VLOOKUP(I6175,設定・基礎!$G$3:$H$22,2,FALSE),\"\")","v":""}]
[" 16-10-02","16",null,"10",null,"02",null,null,null,{"$f":"IFERROR(VLOOKUP(I6187,設定・基礎!$G$3:$H$22,2,FALSE),\"\")","v":""}]
[" 16-10-14","16",null,"10",null,"14",null,null,null,{"$f":"IFERROR(VLOOKUP(I6199,設定・基礎!$G$3:$H$22,2,FALSE),\"\")","v":""}]
[" 16-10-18","16",null,"10",null,"18",null,null,null,{"$f":"IFERROR(VLOOKUP(I6203,設定・基礎!$G$3:$H$22,2,FALSE),\"\")","v":""}]
[" 16-11-12","16",null,"11",null,"12",null,null,null,{"$f":"IFERROR(VLOOKUP(I6217,設定・基礎!$G$3:$H$22,2,FALSE),\"\")","v":""}]
[" 16-11-19","16",null,"11",null,"19",null,null,null,{"$f":"IFERROR(VLOOKUP(I6224,設定・基礎!$G$3:$H$22,2,FALSE),\"\")","v":""}]
[" 16-12-11","16",null,"12",null,"11",null,null,null,{"$f":"IFERROR(VLOOKUP(I6236,設定・基礎!$G$3:$H$22,2,FALSE),\"\")","v":""}]
[" 16-12-17","16",null,"12",null,"17",null,null,null,{"$f":"IFERROR(VLOOKUP(I6242,設定・基礎!$G$3:$H$22,2,FALSE),\"\")","v":""}]
[" 16-12-20","16",null,"12",null,"20",null,null,null,{"$f":"IFERROR(VLOOKUP(I6245,設定・基礎!$G$3:$H$22,2,FALSE),\"\")","v":""}]
[" 16-13-12","16",null,"13",null,"12",null,null,null,{"$f":"IFERROR(VLOOKUP(I6257,設定・基礎!$G$3:$H$22,2,FALSE),\"\")","v":""}]
[" 16-13-19","16",null,"13",null,"19",null,null,null,{"$f":"IFERROR(VLOOKUP(I6264,設定・基礎!$G$3:$H$22,2,FALSE),\"\")","v":""}]
[" 16-14-08","16",null,"14",null,"08",null,null,null,{"$f":"IFERROR(VLOOKUP(I6273,設定・基礎!$G$3:$H$22,2,FALSE),\"\")","v":""}]
[" 16-15-02","16",null,"15",null,"02",null,null,null,{"$f":"IFERROR(VLOOKUP(I6287,設定・基礎!$G$3:$H$22,2,FALSE),\"\")","v":""}]
[" 16-15-09","16",null,"15",null,"09",null,null,null,{"$f":"IFERROR(VLOOKUP(I6294,設定・基礎!$G$3:$H$22,2,FALSE),\"\")","v":""}]
[" 16-16-01","16",null,"16",null,"01",null,null,null,{"$f":"IFERROR(VLOOKUP(I6306,設定・基礎!$G$3:$H$22,2,FALSE),\"\")","v":""}]
[" 16-16-07","16",null,"16",null,"07",null,null,null,{"$f":"IFERROR(VLOOKUP(I6312,設定・基礎!$G$3:$H$22,2,FALSE),\"\")","v":""}]
[" 16-16-10","16",null,"16",null,"10",null,null,null,{"$f":"IFERROR(VLOOKUP(I6315,設定・基礎!$G$3:$H$22,2,FALSE),\"\")","v":""}]
[" 16-17-02","16",null,"17",null,"02",null,null,null,{"$f":"IFERROR(VLOOKUP(I6327,設定・基礎!$G$3:$H$22,2,FALSE),\"\")","v":""}]
[" 16-17-09","16",null,"17",null,"09",null,null,null,{"$f":"IFERROR(VLOOKUP(I6334,設定・基礎!$G$3:$H$22,2,FALSE),\"\")","v":""}]
[" 16-17-18","16",null,"17",null,"18",null,null,null,{"$f":"IFERROR(VLOOKUP(I6343,設定・基礎!$G$3:$H$22,2,FALSE),\"\")","v":""}]
[" 16-18-12","16",null,"18",null,"12",null,null,null,{"$f":"IFERROR(VLOOKUP(I6357,設定・基礎!$G$3:$H$22,2,FALSE),\"\")","v":""}]
[" 16-18-19","16",null,"18",null,"19",null,null,null,{"$f":"IFERROR(VLOOKUP(I6364,設定・基礎!$G$3:$H$22,2,FALSE),\"\")","v":""}]
[" 16-19-11","16",null,"19",null,"11",null,null,null,{"$f":"IFERROR(VLOOKUP(I6376,設定・基礎!$G$3:$H$22,2,FALSE),\"\")","v":""}]
[" 16-19-14","16",null,"19",null,"14",null,null,null,{"$f":"IFERROR(VLOOKUP(I6379,設定・基礎!$G$3:$H$22,2,FALSE),\"\")","v":""}]
[" 16-20-07","16",null,"20",null,"07",null,null,null,{"$f":"IFERROR(VLOOKUP(I6392,設定・基礎!$G$3:$H$22,2,FALSE),\"\")","v":""}]
[" 16-20-12","16",null,"20",null,"12",null,null,null,{"$f":"IFERROR(VLOOKUP(I6397,設定・基礎!$G$3:$H$22,2,FALSE),\"\")","v":""}]
[" 16-20-19","16",null,"20",null,"19",null,null,null,{"$f":"IFERROR(VLOOKUP(I6404,設定・基礎!$G$3:$H$22,2,FALSE),\"\")","v":""}]
[" 17-01-11","17",null,"01",null,"11",null,null,null,{"$f":"IFERROR(VLOOKUP(I6416,設定・基礎!$G$3:$H$22,2,FALSE),\"\")","v":""}]
[" 17-01-18","17",null,"01",null,"18",null,null,null,{"$f":"IFERROR(VLOOKUP(I6423,設定・基礎!$G$3:$H$22,2,FALSE),\"\")","v":""}]
[" 17-02-09","17",null,"02",null,"09",null,null,null,{"$f":"IFERROR(VLOOKUP(I6434,設定・基礎!$G$3:$H$22,2,FALSE),\"\")","v":""}]
[" 17-03-01","17",null,"03",null,"01",null,null,null,{"$f":"IFERROR(VLOOKUP(I6446,設定・基礎!$G$3:$H$22,2,FALSE),\"\")","v":""}]
[" 17-03-08","17",null,"03",null,"08",null,null,null,{"$f":"IFERROR(VLOOKUP(I6453,設定・基礎!$G$3:$H$22,2,FALSE),\"\")","v":""}]
[" 17-03-17","17",null,"03",null,"17",null,null,null,{"$f":"IFERROR(VLOOKUP(I6462,設定・基礎!$G$3:$H$22,2,FALSE),\"\")","v":""}]
[" 17-04-02","17",null,"04",null,"02",null,null,null,{"$f":"IFERROR(VLOOKUP(I6467,設定・基礎!$G$3:$H$22,2,FALSE),\"\")","v":""}]
[" 17-04-09","17",null,"04",null,"09",null,null,null,{"$f":"IFERROR(VLOOKUP(I6474,設定・基礎!$G$3:$H$22,2,FALSE),\"\")","v":""}]
[" 17-05-01","17",null,"05",null,"01",null,null,null,{"$f":"IFERROR(VLOOKUP(I6486,設定・基礎!$G$3:$H$22,2,FALSE),\"\")","v":""}]
[" 17-05-08","17",null,"05",null,"08",null,null,null,{"$f":"IFERROR(VLOOKUP(I6493,設定・基礎!$G$3:$H$22,2,FALSE),\"\")","v":""}]
[" 17-05-19","17",null,"05",null,"19",null,null,null,{"$f":"IFERROR(VLOOKUP(I6504,設定・基礎!$G$3:$H$22,2,FALSE),\"\")","v":""}]
[" 17-06-11","17",null,"06",null,"11",null,null,null,{"$f":"IFERROR(VLOOKUP(I6516,設定・基礎!$G$3:$H$22,2,FALSE),\"\")","v":""}]
[" 17-06-18","17",null,"06",null,"18",null,null,null,{"$f":"IFERROR(VLOOKUP(I6523,設定・基礎!$G$3:$H$22,2,FALSE),\"\")","v":""}]
[" 17-07-07","17",null,"07",null,"07",null,null,null,{"$f":"IFERROR(VLOOKUP(I6532,設定・基礎!$G$3:$H$22,2,FALSE),\"\")","v":""}]
[" 17-07-12","17",null,"07",null,"12",null,null,null,{"$f":"IFERROR(VLOOKUP(I6537,設定・基礎!$G$3:$H$22,2,FALSE),\"\")","v":""}]
[" 17-07-19","17",null,"07",null,"19",null,null,null,{"$f":"IFERROR(VLOOKUP(I6544,設定・基礎!$G$3:$H$22,2,FALSE),\"\")","v":""}]
[" 17-08-11","17",null,"08",null,"11",null,null,null,{"$f":"IFERROR(VLOOKUP(I6556,設定・基礎!$G$3:$H$22,2,FALSE),\"\")","v":""}]
[" 17-08-18","17",null,"08",null,"18",null,null,null,{"$f":"IFERROR(VLOOKUP(I6563,設定・基礎!$G$3:$H$22,2,FALSE),\"\")","v":""}]
[" 17-09-09","17",null,"09",null,"09",null,null,null,{"$f":"IFERROR(VLOOKUP(I6574,設定・基礎!$G$3:$H$22,2,FALSE),\"\")","v":""}]
[" 17-10-01","17",null,"10",null,"01",null,null,null,{"$f":"IFERROR(VLOOKUP(I6586,設定・基礎!$G$3:$H$22,2,FALSE),\"\")","v":""}]
[" 17-10-08","17",null,"10",null,"08",null,null,null,{"$f":"IFERROR(VLOOKUP(I6593,設定・基礎!$G$3:$H$22,2,FALSE),\"\")","v":""}]
[" 17-10-17","17",null,"10",null,"17",null,null,null,{"$f":"IFERROR(VLOOKUP(I6602,設定・基礎!$G$3:$H$22,2,FALSE),\"\")","v":""}]
[" 17-11-02","17",null,"11",null,"02",null,null,null,{"$f":"IFERROR(VLOOKUP(I6607,設定・基礎!$G$3:$H$22,2,FALSE),\"\")","v":""}]
[" 17-11-09","17",null,"11",null,"09",null,null,null,{"$f":"IFERROR(VLOOKUP(I6614,設定・基礎!$G$3:$H$22,2,FALSE),\"\")","v":""}]
[" 17-12-01","17",null,"12",null,"01",null,null,null,{"$f":"IFERROR(VLOOKUP(I6626,設定・基礎!$G$3:$H$22,2,FALSE),\"\")","v":""}]
[" 17-12-08","17",null,"12",null,"08",null,null,null,{"$f":"IFERROR(VLOOKUP(I6633,設定・基礎!$G$3:$H$22,2,FALSE),\"\")","v":""}]
[" 17-12-19","17",null,"12",null,"19",null,null,null,{"$f":"IFERROR(VLOOKUP(I6644,設定・基礎!$G$3:$H$22,2,FALSE),\"\")","v":""}]
[" 17-13-11","17",null,"13",null,"11",null,null,null,{"$f":"IFERROR(VLOOKUP(I6656,設定・基礎!$G$3:$H$22,2,FALSE),\"\")","v":""}]
[" 17-13-18","17",null,"13",null,"18",null,null,null,{"$f":"IFERROR(VLOOKUP(I6663,設定・基礎!$G$3:$H$22,2,FALSE),\"\")","v":""}]
[" 17-14-07","17",null,"14",null,"07",null,null,null,{"$f":"IFERROR(VLOOKUP(I6672,設定・基礎!$G$3:$H$22,2,FALSE),\"\")","v":""}]
[" 17-14-12","17",null,"14",null,"12",null,null,null,{"$f":"IFERROR(VLOOKUP(I6677,設定・基礎!$G$3:$H$22,2,FALSE),\"\")","v":""}]
[" 17-14-19","17",null,"14",null,"19",null,null,null,{"$f":"IFERROR(VLOOKUP(I6684,設定・基礎!$G$3:$H$22,2,FALSE),\"\")","v":""}]
[" 17-15-11","17",null,"15",null,"11",null,null,null,{"$f":"IFERROR(VLOOKUP(I6696,設定・基礎!$G$3:$H$22,2,FALSE),\"\")","v":""}]
[" 17-15-18","17",null,"15",null,"18",null,null,null,{"$f":"IFERROR(VLOOKUP(I6703,設定・基礎!$G$3:$H$22,2,FALSE),\"\")","v":""}]
[" 17-16-09","17",null,"16",null,"09",null,null,null,{"$f":"IFERROR(VLOOKUP(I6714,設定・基礎!$G$3:$H$22,2,FALSE),\"\")","v":""}]
[" 17-17-01","17",null,"17",null,"01",null,null,null,{"$f":"IFERROR(VLOOKUP(I6726,設定・基礎!$G$3:$H$22,2,FALSE),\"\")","v":""}]
[" 17-17-08","17",null,"17",null,"08",null,null,null,{"$f":"IFERROR(VLOOKUP(I6733,設定・基礎!$G$3:$H$22,2,FALSE),\"\")","v":""}]
[" 17-17-17","17",null,"17",null,"17",null,null,null,{"$f":"IFERROR(VLOOKUP(I6742,設定・基礎!$G$3:$H$22,2,FALSE),\"\")","v":""}]
[" 17-18-06","17",null,"18",null,"06",null,null,null,{"$f":"IFERROR(VLOOKUP(I6751,設定・基礎!$G$3:$H$22,2,FALSE),\"\")","v":""}]
[" 17-18-09","17",null,"18",null,"09",null,null,null,{"$f":"IFERROR(VLOOKUP(I6754,設定・基礎!$G$3:$H$22,2,FALSE),\"\")","v":""}]
[" 17-19-01","17",null,"19",null,"01",null,null,null,{"$f":"IFERROR(VLOOKUP(I6766,設定・基礎!$G$3:$H$22,2,FALSE),\"\")","v":""}]
[" 17-19-08","17",null,"19",null,"08",null,null,null,{"$f":"IFERROR(VLOOKUP(I6773,設定・基礎!$G$3:$H$22,2,FALSE),\"\")","v":""}]
[" 17-19-19","17",null,"19",null,"19",null,null,null,{"$f":"IFERROR(VLOOKUP(I6784,設定・基礎!$G$3:$H$22,2,FALSE),\"\")","v":""}]
[" 17-20-11","17",null,"20",null,"11",null,null,null,{"$f":"IFERROR(VLOOKUP(I6796,設定・基礎!$G$3:$H$22,2,FALSE),\"\")","v":""}]
[" 17-20-18","17",null,"20",null,"18",null,null,null,{"$f":"IFERROR(VLOOKUP(I6803,設定・基礎!$G$3:$H$22,2,FALSE),\"\")","v":""}]
[" 18-01-07","18",null,"01",null,"07",null,null,null,{"$f":"IFERROR(VLOOKUP(I6812,設定・基礎!$G$3:$H$22,2,FALSE),\"\")","v":""}]
[" 18-01-16","18",null,"01",null,"16",null,null,null,{"$f":"IFERROR(VLOOKUP(I6821,設定・基礎!$G$3:$H$22,2,FALSE),\"\")","v":""}]
[" 18-01-19","18",null,"01",null,"19",null,null,null,{"$f":"IFERROR(VLOOKUP(I6824,設定・基礎!$G$3:$H$22,2,FALSE),\"\")","v":""}]
[" 18-02-11","18",null,"02",null,"11",null,null,null,{"$f":"IFERROR(VLOOKUP(I6836,設定・基礎!$G$3:$H$22,2,FALSE),\"\")","v":""}]
[" 18-02-18","18",null,"02",null,"18",null,null,null,{"$f":"IFERROR(VLOOKUP(I6843,設定・基礎!$G$3:$H$22,2,FALSE),\"\")","v":""}]
[" 18-03-09","18",null,"03",null,"09",null,null,null,{"$f":"IFERROR(VLOOKUP(I6854,設定・基礎!$G$3:$H$22,2,FALSE),\"\")","v":""}]
[" 18-04-01","18",null,"04",null,"01",null,null,null,{"$f":"IFERROR(VLOOKUP(I6866,設定・基礎!$G$3:$H$22,2,FALSE),\"\")","v":""}]
[" 18-04-08","18",null,"04",null,"08",null,null,null,{"$f":"IFERROR(VLOOKUP(I6873,設定・基礎!$G$3:$H$22,2,FALSE),\"\")","v":""}]
[" 18-04-17","18",null,"04",null,"17",null,null,null,{"$f":"IFERROR(VLOOKUP(I6882,設定・基礎!$G$3:$H$22,2,FALSE),\"\")","v":""}]
[" 18-05-06","18",null,"05",null,"06",null,null,null,{"$f":"IFERROR(VLOOKUP(I6891,設定・基礎!$G$3:$H$22,2,FALSE),\"\")","v":""}]
[" 18-05-09","18",null,"05",null,"09",null,null,null,{"$f":"IFERROR(VLOOKUP(I6894,設定・基礎!$G$3:$H$22,2,FALSE),\"\")","v":""}]
[" 18-06-01","18",null,"06",null,"01",null,null,null,{"$f":"IFERROR(VLOOKUP(I6906,設定・基礎!$G$3:$H$22,2,FALSE),\"\")","v":""}]
[" 18-06-08","18",null,"06",null,"08",null,null,null,{"$f":"IFERROR(VLOOKUP(I6913,設定・基礎!$G$3:$H$22,2,FALSE),\"\")","v":""}]
[" 18-06-19","18",null,"06",null,"19",null,null,null,{"$f":"IFERROR(VLOOKUP(I6924,設定・基礎!$G$3:$H$22,2,FALSE),\"\")","v":""}]
[" 18-07-06","18",null,"07",null,"06",null,null,null,{"$f":"IFERROR(VLOOKUP(I6931,設定・基礎!$G$3:$H$22,2,FALSE),\"\")","v":""}]
[" 18-07-18","18",null,"07",null,"18",null,null,null,{"$f":"IFERROR(VLOOKUP(I6943,設定・基礎!$G$3:$H$22,2,FALSE),\"\")","v":""}]
[" 18-08-07","18",null,"08",null,"07",null,null,null,{"$f":"IFERROR(VLOOKUP(I6952,設定・基礎!$G$3:$H$22,2,FALSE),\"\")","v":""}]
[" 18-08-16","18",null,"08",null,"16",null,null,null,{"$f":"IFERROR(VLOOKUP(I6961,設定・基礎!$G$3:$H$22,2,FALSE),\"\")","v":""}]
[" 18-08-19","18",null,"08",null,"19",null,null,null,{"$f":"IFERROR(VLOOKUP(I6964,設定・基礎!$G$3:$H$22,2,FALSE),\"\")","v":""}]
[" 18-09-11","18",null,"09",null,"11",null,null,null,{"$f":"IFERROR(VLOOKUP(I6976,設定・基礎!$G$3:$H$22,2,FALSE),\"\")","v":""}]
[" 18-09-18","18",null,"09",null,"18",null,null,null,{"$f":"IFERROR(VLOOKUP(I6983,設定・基礎!$G$3:$H$22,2,FALSE),\"\")","v":""}]
[" 18-10-09","18",null,"10",null,"09",null,null,null,{"$f":"IFERROR(VLOOKUP(I6994,設定・基礎!$G$3:$H$22,2,FALSE),\"\")","v":""}]
[" 18-10-16","18",null,"10",null,"16",null,null,null,{"$f":"IFERROR(VLOOKUP(I7001,設定・基礎!$G$3:$H$22,2,FALSE),\"\")","v":""}]
[" 18-11-08","18",null,"11",null,"08",null,null,null,{"$f":"IFERROR(VLOOKUP(I7013,設定・基礎!$G$3:$H$22,2,FALSE),\"\")","v":""}]
[" 18-11-17","18",null,"11",null,"17",null,null,null,{"$f":"IFERROR(VLOOKUP(I7022,設定・基礎!$G$3:$H$22,2,FALSE),\"\")","v":""}]
[" 18-12-06","18",null,"12",null,"06",null,null,null,{"$f":"IFERROR(VLOOKUP(I7031,設定・基礎!$G$3:$H$22,2,FALSE),\"\")","v":""}]
[" 18-12-09","18",null,"12",null,"09",null,null,null,{"$f":"IFERROR(VLOOKUP(I7034,設定・基礎!$G$3:$H$22,2,FALSE),\"\")","v":""}]
[" 18-13-05","18",null,"13",null,"05",null,null,null,{"$f":"IFERROR(VLOOKUP(I7050,設定・基礎!$G$3:$H$22,2,FALSE),\"\")","v":""}]
[" 18-13-08","18",null,"13",null,"08",null,null,null,{"$f":"IFERROR(VLOOKUP(I7053,設定・基礎!$G$3:$H$22,2,FALSE),\"\")","v":""}]
[" 18-13-19","18",null,"13",null,"19",null,null,null,{"$f":"IFERROR(VLOOKUP(I7064,設定・基礎!$G$3:$H$22,2,FALSE),\"\")","v":""}]
[" 18-14-06","18",null,"14",null,"06",null,null,null,{"$f":"IFERROR(VLOOKUP(I7071,設定・基礎!$G$3:$H$22,2,FALSE),\"\")","v":""}]
[" 18-14-18","18",null,"14",null,"18",null,null,null,{"$f":"IFERROR(VLOOKUP(I7083,設定・基礎!$G$3:$H$22,2,FALSE),\"\")","v":""}]
[" 18-15-07","18",null,"15",null,"07",null,null,null,{"$f":"IFERROR(VLOOKUP(I7092,設定・基礎!$G$3:$H$22,2,FALSE),\"\")","v":""}]
[" 18-15-16","18",null,"15",null,"16",null,null,null,{"$f":"IFERROR(VLOOKUP(I7101,設定・基礎!$G$3:$H$22,2,FALSE),\"\")","v":""}]
[" 18-15-19","18",null,"15",null,"19",null,null,null,{"$f":"IFERROR(VLOOKUP(I7104,設定・基礎!$G$3:$H$22,2,FALSE),\"\")","v":""}]
[" 18-16-15","18",null,"16",null,"15",null,null,null,{"$f":"IFERROR(VLOOKUP(I7120,設定・基礎!$G$3:$H$22,2,FALSE),\"\")","v":""}]
[" 18-16-18","18",null,"16",null,"18",null,null,null,{"$f":"IFERROR(VLOOKUP(I7123,設定・基礎!$G$3:$H$22,2,FALSE),\"\")","v":""}]
[" 18-17-09","18",null,"17",null,"09",null,null,null,{"$f":"IFERROR(VLOOKUP(I7134,設定・基礎!$G$3:$H$22,2,FALSE),\"\")","v":""}]
[" 18-17-16","18",null,"17",null,"16",null,null,null,{"$f":"IFERROR(VLOOKUP(I7141,設定・基礎!$G$3:$H$22,2,FALSE),\"\")","v":""}]
[" 18-18-08","18",null,"18",null,"08",null,null,null,{"$f":"IFERROR(VLOOKUP(I7153,設定・基礎!$G$3:$H$22,2,FALSE),\"\")","v":""}]
[" 18-18-17","18",null,"18",null,"17",null,null,null,{"$f":"IFERROR(VLOOKUP(I7162,設定・基礎!$G$3:$H$22,2,FALSE),\"\")","v":""}]
[" 18-19-06","18",null,"19",null,"06",null,null,null,{"$f":"IFERROR(VLOOKUP(I7171,設定・基礎!$G$3:$H$22,2,FALSE),\"\")","v":""}]
[" 18-19-09","18",null,"19",null,"09",null,null,null,{"$f":"IFERROR(VLOOKUP(I7174,設定・基礎!$G$3:$H$22,2,FALSE),\"\")","v":""}]
[" 18-20-05","18",null,"20",null,"05",null,null,null,{"$f":"IFERROR(VLOOKUP(I7190,設定・基礎!$G$3:$H$22,2,FALSE),\"\")","v":""}]
[" 18-20-08","18",null,"20",null,"08",null,null,null,{"$f":"IFERROR(VLOOKUP(I7193,設定・基礎!$G$3:$H$22,2,FALSE),\"\")","v":""}]
[" 18-20-19","18",null,"20",null,"19",null,null,null,{"$f":"IFERROR(VLOOKUP(I7204,設定・基礎!$G$3:$H$22,2,FALSE),\"\")","v":""}]
[" 19-01-06","19",null,"01",null,"06",null,null,null,{"$f":"IFERROR(VLOOKUP(I7211,設定・基礎!$G$3:$H$22,2,FALSE),\"\")","v":""}]
[" 19-01-18","19",null,"01",null,"18",null,null,null,{"$f":"IFERROR(VLOOKUP(I7223,設定・基礎!$G$3:$H$22,2,FALSE),\"\")","v":""}]
[" 19-02-07","19",null,"02",null,"07",null,null,null,{"$f":"IFERROR(VLOOKUP(I7232,設定・基礎!$G$3:$H$22,2,FALSE),\"\")","v":""}]
[" 19-02-16","19",null,"02",null,"16",null,null,null,{"$f":"IFERROR(VLOOKUP(I7241,設定・基礎!$G$3:$H$22,2,FALSE),\"\")","v":""}]
[" 19-02-19","19",null,"02",null,"19",null,null,null,{"$f":"IFERROR(VLOOKUP(I7244,設定・基礎!$G$3:$H$22,2,FALSE),\"\")","v":""}]
[" 19-03-15","19",null,"03",null,"15",null,null,null,{"$f":"IFERROR(VLOOKUP(I7260,設定・基礎!$G$3:$H$22,2,FALSE),\"\")","v":""}]
[" 19-03-18","19",null,"03",null,"18",null,null,null,{"$f":"IFERROR(VLOOKUP(I7263,設定・基礎!$G$3:$H$22,2,FALSE),\"\")","v":""}]
[" 19-04-08","19",null,"04",null,"08",null,null,null,{"$f":"IFERROR(VLOOKUP(I7273,設定・基礎!$G$3:$H$22,2,FALSE),\"\")","v":""}]
[" 19-04-16","19",null,"04",null,"16",null,null,null,{"$f":"IFERROR(VLOOKUP(I7281,設定・基礎!$G$3:$H$22,2,FALSE),\"\")","v":""}]
[" 19-05-08","19",null,"05",null,"08",null,null,null,{"$f":"IFERROR(VLOOKUP(I7293,設定・基礎!$G$3:$H$22,2,FALSE),\"\")","v":""}]
[" 19-05-15","19",null,"05",null,"15",null,null,null,{"$f":"IFERROR(VLOOKUP(I7300,設定・基礎!$G$3:$H$22,2,FALSE),\"\")","v":""}]
[" 19-06-07","19",null,"06",null,"07",null,null,null,{"$f":"IFERROR(VLOOKUP(I7312,設定・基礎!$G$3:$H$22,2,FALSE),\"\")","v":""}]
[" 19-06-09","19",null,"06",null,"09",null,null,null,{"$f":"IFERROR(VLOOKUP(I7314,設定・基礎!$G$3:$H$22,2,FALSE),\"\")","v":""}]
[" 19-07-05","19",null,"07",null,"05",null,null,null,{"$f":"IFERROR(VLOOKUP(I7330,設定・基礎!$G$3:$H$22,2,FALSE),\"\")","v":""}]
[" 19-07-08","19",null,"07",null,"08",null,null,null,{"$f":"IFERROR(VLOOKUP(I7333,設定・基礎!$G$3:$H$22,2,FALSE),\"\")","v":""}]
[" 19-07-18","19",null,"07",null,"18",null,null,null,{"$f":"IFERROR(VLOOKUP(I7343,設定・基礎!$G$3:$H$22,2,FALSE),\"\")","v":""}]
[" 19-08-06","19",null,"08",null,"06",null,null,null,{"$f":"IFERROR(VLOOKUP(I7351,設定・基礎!$G$3:$H$22,2,FALSE),\"\")","v":""}]
[" 19-08-18","19",null,"08",null,"18",null,null,null,{"$f":"IFERROR(VLOOKUP(I7363,設定・基礎!$G$3:$H$22,2,FALSE),\"\")","v":""}]
[" 19-09-05","19",null,"09",null,"05",null,null,null,{"$f":"IFERROR(VLOOKUP(I7370,設定・基礎!$G$3:$H$22,2,FALSE),\"\")","v":""}]
[" 19-09-17","19",null,"09",null,"17",null,null,null,{"$f":"IFERROR(VLOOKUP(I7382,設定・基礎!$G$3:$H$22,2,FALSE),\"\")","v":""}]
[" 19-09-19","19",null,"09",null,"19",null,null,null,{"$f":"IFERROR(VLOOKUP(I7384,設定・基礎!$G$3:$H$22,2,FALSE),\"\")","v":""}]
[" 19-10-15","19",null,"10",null,"15",null,null,null,{"$f":"IFERROR(VLOOKUP(I7400,設定・基礎!$G$3:$H$22,2,FALSE),\"\")","v":""}]
[" 19-10-18","19",null,"10",null,"18",null,null,null,{"$f":"IFERROR(VLOOKUP(I7403,設定・基礎!$G$3:$H$22,2,FALSE),\"\")","v":""}]
[" 19-11-08","19",null,"11",null,"08",null,null,null,{"$f":"IFERROR(VLOOKUP(I7413,設定・基礎!$G$3:$H$22,2,FALSE),\"\")","v":""}]
[" 19-11-16","19",null,"11",null,"16",null,null,null,{"$f":"IFERROR(VLOOKUP(I7421,設定・基礎!$G$3:$H$22,2,FALSE),\"\")","v":""}]
[" 19-12-08","19",null,"12",null,"08",null,null,null,{"$f":"IFERROR(VLOOKUP(I7433,設定・基礎!$G$3:$H$22,2,FALSE),\"\")","v":""}]
[" 19-12-15","19",null,"12",null,"15",null,null,null,{"$f":"IFERROR(VLOOKUP(I7440,設定・基礎!$G$3:$H$22,2,FALSE),\"\")","v":""}]
[" 19-13-07","19",null,"13",null,"07",null,null,null,{"$f":"IFERROR(VLOOKUP(I7452,設定・基礎!$G$3:$H$22,2,FALSE),\"\")","v":""}]
[" 19-13-09","19",null,"13",null,"09",null,null,null,{"$f":"IFERROR(VLOOKUP(I7454,設定・基礎!$G$3:$H$22,2,FALSE),\"\")","v":""}]
[" 19-14-05","19",null,"14",null,"05",null,null,null,{"$f":"IFERROR(VLOOKUP(I7470,設定・基礎!$G$3:$H$22,2,FALSE),\"\")","v":""}]
[" 19-14-08","19",null,"14",null,"08",null,null,null,{"$f":"IFERROR(VLOOKUP(I7473,設定・基礎!$G$3:$H$22,2,FALSE),\"\")","v":""}]
[" 19-14-18","19",null,"14",null,"18",null,null,null,{"$f":"IFERROR(VLOOKUP(I7483,設定・基礎!$G$3:$H$22,2,FALSE),\"\")","v":""}]
[" 19-15-06","19",null,"15",null,"06",null,null,null,{"$f":"IFERROR(VLOOKUP(I7491,設定・基礎!$G$3:$H$22,2,FALSE),\"\")","v":""}]
[" 19-15-18","19",null,"15",null,"18",null,null,null,{"$f":"IFERROR(VLOOKUP(I7503,設定・基礎!$G$3:$H$22,2,FALSE),\"\")","v":""}]
[" 19-16-05","19",null,"16",null,"05",null,null,null,{"$f":"IFERROR(VLOOKUP(I7510,設定・基礎!$G$3:$H$22,2,FALSE),\"\")","v":""}]
[" 19-16-17","19",null,"16",null,"17",null,null,null,{"$f":"IFERROR(VLOOKUP(I7522,設定・基礎!$G$3:$H$22,2,FALSE),\"\")","v":""}]
[" 19-17-03","19",null,"17",null,"03",null,null,null,{"$f":"IFERROR(VLOOKUP(I7528,設定・基礎!$G$3:$H$22,2,FALSE),\"\")","v":""}]
[" 19-17-15","19",null,"17",null,"15",null,null,null,{"$f":"IFERROR(VLOOKUP(I7540,設定・基礎!$G$3:$H$22,2,FALSE),\"\")","v":""}]
[" 19-17-18","19",null,"17",null,"18",null,null,null,{"$f":"IFERROR(VLOOKUP(I7543,設定・基礎!$G$3:$H$22,2,FALSE),\"\")","v":""}]
[" 19-18-08","19",null,"18",null,"08",null,null,null,{"$f":"IFERROR(VLOOKUP(I7553,設定・基礎!$G$3:$H$22,2,FALSE),\"\")","v":""}]
[" 19-18-16","19",null,"18",null,"16",null,null,null,{"$f":"IFERROR(VLOOKUP(I7561,設定・基礎!$G$3:$H$22,2,FALSE),\"\")","v":""}]
[" 19-19-08","19",null,"19",null,"08",null,null,null,{"$f":"IFERROR(VLOOKUP(I7573,設定・基礎!$G$3:$H$22,2,FALSE),\"\")","v":""}]
[" 19-19-15","19",null,"19",null,"15",null,null,null,{"$f":"IFERROR(VLOOKUP(I7580,設定・基礎!$G$3:$H$22,2,FALSE),\"\")","v":""}]
[" 19-20-07","19",null,"20",null,"07",null,null,null,{"$f":"IFERROR(VLOOKUP(I7592,設定・基礎!$G$3:$H$22,2,FALSE),\"\")","v":""}]
[" 19-20-13","19",null,"20",null,"13",null,null,null,{"$f":"IFERROR(VLOOKUP(I7598,設定・基礎!$G$3:$H$22,2,FALSE),\"\")","v":""}]
[" 20-01-05","20",null,"01",null,"05",null,null,null,{"$f":"IFERROR(VLOOKUP(I7610,設定・基礎!$G$3:$H$22,2,FALSE),\"\")","v":""}]
[" 20-01-08","20",null,"01",null,"08",null,null,null,{"$f":"IFERROR(VLOOKUP(I7613,設定・基礎!$G$3:$H$22,2,FALSE),\"\")","v":""}]
[" 20-01-18","20",null,"01",null,"18",null,null,null,{"$f":"IFERROR(VLOOKUP(I7623,設定・基礎!$G$3:$H$22,2,FALSE),\"\")","v":""}]
[" 20-02-06","20",null,"02",null,"06",null,null,null,{"$f":"IFERROR(VLOOKUP(I7631,設定・基礎!$G$3:$H$22,2,FALSE),\"\")","v":""}]
[" 20-02-18","20",null,"02",null,"18",null,null,null,{"$f":"IFERROR(VLOOKUP(I7643,設定・基礎!$G$3:$H$22,2,FALSE),\"\")","v":""}]
[" 20-03-05","20",null,"03",null,"05",null,null,null,{"$f":"IFERROR(VLOOKUP(I7650,設定・基礎!$G$3:$H$22,2,FALSE),\"\")","v":""}]
[" 20-03-17","20",null,"03",null,"17",null,null,null,{"$f":"IFERROR(VLOOKUP(I7662,設定・基礎!$G$3:$H$22,2,FALSE),\"\")","v":""}]
[" 20-04-03","20",null,"04",null,"03",null,null,null,{"$f":"IFERROR(VLOOKUP(I7668,設定・基礎!$G$3:$H$22,2,FALSE),\"\")","v":""}]
[" 20-04-15","20",null,"04",null,"15",null,null,null,{"$f":"IFERROR(VLOOKUP(I7680,設定・基礎!$G$3:$H$22,2,FALSE),\"\")","v":""}]
[" 20-04-18","20",null,"04",null,"18",null,null,null,{"$f":"IFERROR(VLOOKUP(I7683,設定・基礎!$G$3:$H$22,2,FALSE),\"\")","v":""}]
[" 20-05-08","20",null,"05",null,"08",null,null,null,{"$f":"IFERROR(VLOOKUP(I7693,設定・基礎!$G$3:$H$22,2,FALSE),\"\")","v":""}]
[" 20-05-16","20",null,"05",null,"16",null,null,null,{"$f":"IFERROR(VLOOKUP(I7701,設定・基礎!$G$3:$H$22,2,FALSE),\"\")","v":""}]
[" 20-06-03","20",null,"06",null,"03",null,null,null,{"$f":"IFERROR(VLOOKUP(I7708,設定・基礎!$G$3:$H$22,2,FALSE),\"\")","v":""}]
[" 20-06-15","20",null,"06",null,"15",null,null,null,{"$f":"IFERROR(VLOOKUP(I7720,設定・基礎!$G$3:$H$22,2,FALSE),\"\")","v":""}]
[" 20-07-07","20",null,"07",null,"07",null,null,null,{"$f":"IFERROR(VLOOKUP(I7732,設定・基礎!$G$3:$H$22,2,FALSE),\"\")","v":""}]
[" 20-07-13","20",null,"07",null,"13",null,null,null,{"$f":"IFERROR(VLOOKUP(I7738,設定・基礎!$G$3:$H$22,2,FALSE),\"\")","v":""}]
[" 20-08-05","20",null,"08",null,"05",null,null,null,{"$f":"IFERROR(VLOOKUP(I7750,設定・基礎!$G$3:$H$22,2,FALSE),\"\")","v":""}]
[" 20-08-08","20",null,"08",null,"08",null,null,null,{"$f":"IFERROR(VLOOKUP(I7753,設定・基礎!$G$3:$H$22,2,FALSE),\"\")","v":""}]
[" 20-08-18","20",null,"08",null,"18",null,null,null,{"$f":"IFERROR(VLOOKUP(I7763,設定・基礎!$G$3:$H$22,2,FALSE),\"\")","v":""}]
[" 20-09-06","20",null,"09",null,"06",null,null,null,{"$f":"IFERROR(VLOOKUP(I7771,設定・基礎!$G$3:$H$22,2,FALSE),\"\")","v":""}]
[" 20-09-13","20",null,"09",null,"13",null,null,null,{"$f":"IFERROR(VLOOKUP(I7778,設定・基礎!$G$3:$H$22,2,FALSE),\"\")","v":""}]
[" 20-10-05","20",null,"10",null,"05",null,null,null,{"$f":"IFERROR(VLOOKUP(I7790,設定・基礎!$G$3:$H$22,2,FALSE),\"\")","v":""}]
[" 20-10-17","20",null,"10",null,"17",null,null,null,{"$f":"IFERROR(VLOOKUP(I7802,設定・基礎!$G$3:$H$22,2,FALSE),\"\")","v":""}]
[" 20-11-03","20",null,"11",null,"03",null,null,null,{"$f":"IFERROR(VLOOKUP(I7808,設定・基礎!$G$3:$H$22,2,FALSE),\"\")","v":""}]
[" 20-11-15","20",null,"11",null,"15",null,null,null,{"$f":"IFERROR(VLOOKUP(I7820,設定・基礎!$G$3:$H$22,2,FALSE),\"\")","v":""}]
[" 20-12-02","20",null,"12",null,"02",null,null,null,{"$f":"IFERROR(VLOOKUP(I7827,設定・基礎!$G$3:$H$22,2,FALSE),\"\")","v":""}]
[" 20-12-08","20",null,"12",null,"08",null,null,null,{"$f":"IFERROR(VLOOKUP(I7833,設定・基礎!$G$3:$H$22,2,FALSE),\"\")","v":""}]
[" 20-12-16","20",null,"12",null,"16",null,null,null,{"$f":"IFERROR(VLOOKUP(I7841,設定・基礎!$G$3:$H$22,2,FALSE),\"\")","v":""}]
[" 20-13-03","20",null,"13",null,"03",null,null,null,{"$f":"IFERROR(VLOOKUP(I7848,設定・基礎!$G$3:$H$22,2,FALSE),\"\")","v":""}]
[" 20-13-15","20",null,"13",null,"15",null,null,null,{"$f":"IFERROR(VLOOKUP(I7860,設定・基礎!$G$3:$H$22,2,FALSE),\"\")","v":""}]
[" 20-14-07","20",null,"14",null,"07",null,null,null,{"$f":"IFERROR(VLOOKUP(I7872,設定・基礎!$G$3:$H$22,2,FALSE),\"\")","v":""}]
[" 20-14-13","20",null,"14",null,"13",null,null,null,{"$f":"IFERROR(VLOOKUP(I7878,設定・基礎!$G$3:$H$22,2,FALSE),\"\")","v":""}]
[" 20-15-05","20",null,"15",null,"05",null,null,null,{"$f":"IFERROR(VLOOKUP(I7890,設定・基礎!$G$3:$H$22,2,FALSE),\"\")","v":""}]
[" 20-15-12","20",null,"15",null,"12",null,null,null,{"$f":"IFERROR(VLOOKUP(I7897,設定・基礎!$G$3:$H$22,2,FALSE),\"\")","v":""}]
[" 20-15-18","20",null,"15",null,"18",null,null,null,{"$f":"IFERROR(VLOOKUP(I7903,設定・基礎!$G$3:$H$22,2,FALSE),\"\")","v":""}]
[" 20-16-06","20",null,"16",null,"06",null,null,null,{"$f":"IFERROR(VLOOKUP(I7911,設定・基礎!$G$3:$H$22,2,FALSE),\"\")","v":""}]
[" 20-16-13","20",null,"16",null,"13",null,null,null,{"$f":"IFERROR(VLOOKUP(I7918,設定・基礎!$G$3:$H$22,2,FALSE),\"\")","v":""}]
[" 20-17-05","20",null,"17",null,"05",null,null,null,{"$f":"IFERROR(VLOOKUP(I7930,設定・基礎!$G$3:$H$22,2,FALSE),\"\")","v":""}]
[" 20-17-17","20",null,"17",null,"17",null,null,null,{"$f":"IFERROR(VLOOKUP(I7942,設定・基礎!$G$3:$H$22,2,FALSE),\"\")","v":""}]
[" 20-18-03","20",null,"18",null,"03",null,null,null,{"$f":"IFERROR(VLOOKUP(I7948,設定・基礎!$G$3:$H$22,2,FALSE),\"\")","v":""}]
[" 20-18-15","20",null,"18",null,"15",null,null,null,{"$f":"IFERROR(VLOOKUP(I7960,設定・基礎!$G$3:$H$22,2,FALSE),\"\")","v":""}]
[" 20-19-02","20",null,"19",null,"02",null,null,null,{"$f":"IFERROR(VLOOKUP(I7967,設定・基礎!$G$3:$H$22,2,FALSE),\"\")","v":""}]
[" 20-19-08","20",null,"19",null,"08",null,null,null,{"$f":"IFERROR(VLOOKUP(I7973,設定・基礎!$G$3:$H$22,2,FALSE),\"\")","v":""}]
[" 20-19-16","20",null,"19",null,"16",null,null,null,{"$f":"IFERROR(VLOOKUP(I7981,設定・基礎!$G$3:$H$22,2,FALSE),\"\")","v":""}]
[" 20-20-03","20",null,"20",null,"03",null,null,null,{"$f":"IFERROR(VLOOKUP(I7988,設定・基礎!$G$3:$H$22,2,FALSE),\"\")","v":""}]
[" 20-20-15","20",null,"20",null,"15",null,null,null,{"$f":"IFERROR(VLOOKUP(I8000,設定・基礎!$G$3:$H$22,2,FALSE),\"\")","v":""}]
[" 21-01-07","21",null,"01",null,"07",null,null,null,{"$f":"IFERROR(VLOOKUP(I8012,設定・基礎!$G$3:$H$22,2,FALSE),\"\")","v":""}]
[" 21-01-13","21",null,"01",null,"13",null,null,null,{"$f":"IFERROR(VLOOKUP(I8018,設定・基礎!$G$3:$H$22,2,FALSE),\"\")","v":""}]
[" 21-02-05","21",null,"02",null,"05",null,null,null,{"$f":"IFERROR(VLOOKUP(I8030,設定・基礎!$G$3:$H$22,2,FALSE),\"\")","v":""}]
[" 21-02-12","21",null,"02",null,"12",null,null,null,{"$f":"IFERROR(VLOOKUP(I8037,設定・基礎!$G$3:$H$22,2,FALSE),\"\")","v":""}]
[" 21-02-18","21",null,"02",null,"18",null,null,null,{"$f":"IFERROR(VLOOKUP(I8043,設定・基礎!$G$3:$H$22,2,FALSE),\"\")","v":""}]
[" 21-03-06","21",null,"03",null,"06",null,null,null,{"$f":"IFERROR(VLOOKUP(I8051,設定・基礎!$G$3:$H$22,2,FALSE),\"\")","v":""}]
[" 21-03-13","21",null,"03",null,"13",null,null,null,{"$f":"IFERROR(VLOOKUP(I8058,設定・基礎!$G$3:$H$22,2,FALSE),\"\")","v":""}]
[" 21-04-05","21",null,"04",null,"05",null,null,null,{"$f":"IFERROR(VLOOKUP(I8070,設定・基礎!$G$3:$H$22,2,FALSE),\"\")","v":""}]
[" 21-04-17","21",null,"04",null,"17",null,null,null,{"$f":"IFERROR(VLOOKUP(I8082,設定・基礎!$G$3:$H$22,2,FALSE),\"\")","v":""}]
[" 21-05-03","21",null,"05",null,"03",null,null,null,{"$f":"IFERROR(VLOOKUP(I8088,設定・基礎!$G$3:$H$22,2,FALSE),\"\")","v":""}]
[" 21-05-15","21",null,"05",null,"15",null,null,null,{"$f":"IFERROR(VLOOKUP(I8100,設定・基礎!$G$3:$H$22,2,FALSE),\"\")","v":""}]
[" 21-06-02","21",null,"06",null,"02",null,null,null,{"$f":"IFERROR(VLOOKUP(I8107,設定・基礎!$G$3:$H$22,2,FALSE),\"\")","v":""}]
[" 21-06-08","21",null,"06",null,"08",null,null,null,{"$f":"IFERROR(VLOOKUP(I8113,設定・基礎!$G$3:$H$22,2,FALSE),\"\")","v":""}]
[" 21-06-16","21",null,"06",null,"16",null,null,null,{"$f":"IFERROR(VLOOKUP(I8121,設定・基礎!$G$3:$H$22,2,FALSE),\"\")","v":""}]
[" 21-07-03","21",null,"07",null,"03",null,null,null,{"$f":"IFERROR(VLOOKUP(I8128,設定・基礎!$G$3:$H$22,2,FALSE),\"\")","v":""}]
[" 21-07-15","21",null,"07",null,"15",null,null,null,{"$f":"IFERROR(VLOOKUP(I8140,設定・基礎!$G$3:$H$22,2,FALSE),\"\")","v":""}]
[" 21-08-02","21",null,"08",null,"02",null,null,null,{"$f":"IFERROR(VLOOKUP(I8147,設定・基礎!$G$3:$H$22,2,FALSE),\"\")","v":""}]
[" 21-08-09","21",null,"08",null,"09",null,null,null,{"$f":"IFERROR(VLOOKUP(I8154,設定・基礎!$G$3:$H$22,2,FALSE),\"\")","v":""}]
[" 21-09-05","21",null,"09",null,"05",null,null,null,{"$f":"IFERROR(VLOOKUP(I8170,設定・基礎!$G$3:$H$22,2,FALSE),\"\")","v":""}]
[" 21-09-12","21",null,"09",null,"12",null,null,null,{"$f":"IFERROR(VLOOKUP(I8177,設定・基礎!$G$3:$H$22,2,FALSE),\"\")","v":""}]
[" 21-09-15","21",null,"09",null,"15",null,null,null,{"$f":"IFERROR(VLOOKUP(I8180,設定・基礎!$G$3:$H$22,2,FALSE),\"\")","v":""}]
[" 21-10-08","21",null,"10",null,"08",null,null,null,{"$f":"IFERROR(VLOOKUP(I8193,設定・基礎!$G$3:$H$22,2,FALSE),\"\")","v":""}]
[" 21-10-13","21",null,"10",null,"13",null,null,null,{"$f":"IFERROR(VLOOKUP(I8198,設定・基礎!$G$3:$H$22,2,FALSE),\"\")","v":""}]
[" 21-11-05","21",null,"11",null,"05",null,null,null,{"$f":"IFERROR(VLOOKUP(I8210,設定・基礎!$G$3:$H$22,2,FALSE),\"\")","v":""}]
[" 21-11-12","21",null,"11",null,"12",null,null,null,{"$f":"IFERROR(VLOOKUP(I8217,設定・基礎!$G$3:$H$22,2,FALSE),\"\")","v":""}]
[" 21-11-19","21",null,"11",null,"19",null,null,null,{"$f":"IFERROR(VLOOKUP(I8224,設定・基礎!$G$3:$H$22,2,FALSE),\"\")","v":""}]
[" 21-12-15","21",null,"12",null,"15",null,null,null,{"$f":"IFERROR(VLOOKUP(I8240,設定・基礎!$G$3:$H$22,2,FALSE),\"\")","v":""}]
[" 21-13-02","21",null,"13",null,"02",null,null,null,{"$f":"IFERROR(VLOOKUP(I8247,設定・基礎!$G$3:$H$22,2,FALSE),\"\")","v":""}]
[" 21-13-05","21",null,"13",null,"05",null,null,null,{"$f":"IFERROR(VLOOKUP(I8250,設定・基礎!$G$3:$H$22,2,FALSE),\"\")","v":""}]
[" 21-13-18","21",null,"13",null,"18",null,null,null,{"$f":"IFERROR(VLOOKUP(I8263,設定・基礎!$G$3:$H$22,2,FALSE),\"\")","v":""}]
[" 21-14-03","21",null,"14",null,"03",null,null,null,{"$f":"IFERROR(VLOOKUP(I8268,設定・基礎!$G$3:$H$22,2,FALSE),\"\")","v":""}]
[" 21-14-15","21",null,"14",null,"15",null,null,null,{"$f":"IFERROR(VLOOKUP(I8280,設定・基礎!$G$3:$H$22,2,FALSE),\"\")","v":""}]
[" 21-15-02","21",null,"15",null,"02",null,null,null,{"$f":"IFERROR(VLOOKUP(I8287,設定・基礎!$G$3:$H$22,2,FALSE),\"\")","v":""}]
[" 21-15-09","21",null,"15",null,"09",null,null,null,{"$f":"IFERROR(VLOOKUP(I8294,設定・基礎!$G$3:$H$22,2,FALSE),\"\")","v":""}]
[" 21-15-20","21",null,"15",null,"20",null,null,null,{"$f":"IFERROR(VLOOKUP(I8305,設定・基礎!$G$3:$H$22,2,FALSE),\"\")","v":""}]
[" 21-16-12","21",null,"16",null,"12",null,null,null,{"$f":"IFERROR(VLOOKUP(I8317,設定・基礎!$G$3:$H$22,2,FALSE),\"\")","v":""}]
[" 21-16-15","21",null,"16",null,"15",null,null,null,{"$f":"IFERROR(VLOOKUP(I8320,設定・基礎!$G$3:$H$22,2,FALSE),\"\")","v":""}]
[" 21-17-08","21",null,"17",null,"08",null,null,null,{"$f":"IFERROR(VLOOKUP(I8333,設定・基礎!$G$3:$H$22,2,FALSE),\"\")","v":""}]
[" 21-17-13","21",null,"17",null,"13",null,null,null,{"$f":"IFERROR(VLOOKUP(I8338,設定・基礎!$G$3:$H$22,2,FALSE),\"\")","v":""}]
[" 21-18-05","21",null,"18",null,"05",null,null,null,{"$f":"IFERROR(VLOOKUP(I8350,設定・基礎!$G$3:$H$22,2,FALSE),\"\")","v":""}]
[" 21-18-12","21",null,"18",null,"12",null,null,null,{"$f":"IFERROR(VLOOKUP(I8357,設定・基礎!$G$3:$H$22,2,FALSE),\"\")","v":""}]
[" 21-18-19","21",null,"18",null,"19",null,null,null,{"$f":"IFERROR(VLOOKUP(I8364,設定・基礎!$G$3:$H$22,2,FALSE),\"\")","v":""}]
[" 21-19-10","21",null,"19",null,"10",null,null,null,{"$f":"IFERROR(VLOOKUP(I8375,設定・基礎!$G$3:$H$22,2,FALSE),\"\")","v":""}]
[" 21-20-02","21",null,"20",null,"02",null,null,null,{"$f":"IFERROR(VLOOKUP(I8387,設定・基礎!$G$3:$H$22,2,FALSE),\"\")","v":""}]
[" 21-20-05","21",null,"20",null,"05",null,null,null,{"$f":"IFERROR(VLOOKUP(I8390,設定・基礎!$G$3:$H$22,2,FALSE),\"\")","v":""}]
[" 21-20-18","21",null,"20",null,"18",null,null,null,{"$f":"IFERROR(VLOOKUP(I8403,設定・基礎!$G$3:$H$22,2,FALSE),\"\")","v":""}]
[" 22-01-03","22",null,"01",null,"03",null,null,null,{"$f":"IFERROR(VLOOKUP(I8408,設定・基礎!$G$3:$H$22,2,FALSE),\"\")","v":""}]
[" 22-01-15","22",null,"01",null,"15",null,null,null,{"$f":"IFERROR(VLOOKUP(I8420,設定・基礎!$G$3:$H$22,2,FALSE),\"\")","v":""}]
[" 22-02-02","22",null,"02",null,"02",null,null,null,{"$f":"IFERROR(VLOOKUP(I8427,設定・基礎!$G$3:$H$22,2,FALSE),\"\")","v":""}]
[" 22-02-09","22",null,"02",null,"09",null,null,null,{"$f":"IFERROR(VLOOKUP(I8434,設定・基礎!$G$3:$H$22,2,FALSE),\"\")","v":""}]
[" 22-02-20","22",null,"02",null,"20",null,null,null,{"$f":"IFERROR(VLOOKUP(I8445,設定・基礎!$G$3:$H$22,2,FALSE),\"\")","v":""}]
[" 22-03-12","22",null,"03",null,"12",null,null,null,{"$f":"IFERROR(VLOOKUP(I8457,設定・基礎!$G$3:$H$22,2,FALSE),\"\")","v":""}]
[" 22-03-15","22",null,"03",null,"15",null,null,null,{"$f":"IFERROR(VLOOKUP(I8460,設定・基礎!$G$3:$H$22,2,FALSE),\"\")","v":""}]
[" 22-04-08","22",null,"04",null,"08",null,null,null,{"$f":"IFERROR(VLOOKUP(I8473,設定・基礎!$G$3:$H$22,2,FALSE),\"\")","v":""}]
[" 22-04-13","22",null,"04",null,"13",null,null,null,{"$f":"IFERROR(VLOOKUP(I8478,設定・基礎!$G$3:$H$22,2,FALSE),\"\")","v":""}]
[" 22-05-09","22",null,"05",null,"09",null,null,null,{"$f":"IFERROR(VLOOKUP(I8494,設定・基礎!$G$3:$H$22,2,FALSE),\"\")","v":""}]
[" 22-05-12","22",null,"05",null,"12",null,null,null,{"$f":"IFERROR(VLOOKUP(I8497,設定・基礎!$G$3:$H$22,2,FALSE),\"\")","v":""}]
[" 22-05-19","22",null,"05",null,"19",null,null,null,{"$f":"IFERROR(VLOOKUP(I8504,設定・基礎!$G$3:$H$22,2,FALSE),\"\")","v":""}]
[" 22-06-10","22",null,"06",null,"10",null,null,null,{"$f":"IFERROR(VLOOKUP(I8515,設定・基礎!$G$3:$H$22,2,FALSE),\"\")","v":""}]
[" 22-07-02","22",null,"07",null,"02",null,null,null,{"$f":"IFERROR(VLOOKUP(I8527,設定・基礎!$G$3:$H$22,2,FALSE),\"\")","v":""}]
[" 22-07-05","22",null,"07",null,"05",null,null,null,{"$f":"IFERROR(VLOOKUP(I8530,設定・基礎!$G$3:$H$22,2,FALSE),\"\")","v":""}]
[" 22-07-18","22",null,"07",null,"18",null,null,null,{"$f":"IFERROR(VLOOKUP(I8543,設定・基礎!$G$3:$H$22,2,FALSE),\"\")","v":""}]
[" 22-08-03","22",null,"08",null,"03",null,null,null,{"$f":"IFERROR(VLOOKUP(I8548,設定・基礎!$G$3:$H$22,2,FALSE),\"\")","v":""}]
[" 22-08-19","22",null,"08",null,"19",null,null,null,{"$f":"IFERROR(VLOOKUP(I8564,設定・基礎!$G$3:$H$22,2,FALSE),\"\")","v":""}]
[" 22-09-02","22",null,"09",null,"02",null,null,null,{"$f":"IFERROR(VLOOKUP(I8567,設定・基礎!$G$3:$H$22,2,FALSE),\"\")","v":""}]
[" 22-09-09","22",null,"09",null,"09",null,null,null,{"$f":"IFERROR(VLOOKUP(I8574,設定・基礎!$G$3:$H$22,2,FALSE),\"\")","v":""}]
[" 22-09-20","22",null,"09",null,"20",null,null,null,{"$f":"IFERROR(VLOOKUP(I8585,設定・基礎!$G$3:$H$22,2,FALSE),\"\")","v":""}]
[" 22-10-12","22",null,"10",null,"12",null,null,null,{"$f":"IFERROR(VLOOKUP(I8597,設定・基礎!$G$3:$H$22,2,FALSE),\"\")","v":""}]
[" 22-10-19","22",null,"10",null,"19",null,null,null,{"$f":"IFERROR(VLOOKUP(I8604,設定・基礎!$G$3:$H$22,2,FALSE),\"\")","v":""}]
[" 22-11-08","22",null,"11",null,"08",null,null,null,{"$f":"IFERROR(VLOOKUP(I8613,設定・基礎!$G$3:$H$22,2,FALSE),\"\")","v":""}]
[" 22-11-13","22",null,"11",null,"13",null,null,null,{"$f":"IFERROR(VLOOKUP(I8618,設定・基礎!$G$3:$H$22,2,FALSE),\"\")","v":""}]
[" 22-12-09","22",null,"12",null,"09",null,null,null,{"$f":"IFERROR(VLOOKUP(I8634,設定・基礎!$G$3:$H$22,2,FALSE),\"\")","v":""}]
[" 22-12-12","22",null,"12",null,"12",null,null,null,{"$f":"IFERROR(VLOOKUP(I8637,設定・基礎!$G$3:$H$22,2,FALSE),\"\")","v":""}]
[" 22-12-19","22",null,"12",null,"19",null,null,null,{"$f":"IFERROR(VLOOKUP(I8644,設定・基礎!$G$3:$H$22,2,FALSE),\"\")","v":""}]
[" 22-13-10","22",null,"13",null,"10",null,null,null,{"$f":"IFERROR(VLOOKUP(I8655,設定・基礎!$G$3:$H$22,2,FALSE),\"\")","v":""}]
[" 22-14-02","22",null,"14",null,"02",null,null,null,{"$f":"IFERROR(VLOOKUP(I8667,設定・基礎!$G$3:$H$22,2,FALSE),\"\")","v":""}]
[" 22-14-09","22",null,"14",null,"09",null,null,null,{"$f":"IFERROR(VLOOKUP(I8674,設定・基礎!$G$3:$H$22,2,FALSE),\"\")","v":""}]
[" 22-14-18","22",null,"14",null,"18",null,null,null,{"$f":"IFERROR(VLOOKUP(I8683,設定・基礎!$G$3:$H$22,2,FALSE),\"\")","v":""}]
[" 22-15-03","22",null,"15",null,"03",null,null,null,{"$f":"IFERROR(VLOOKUP(I8688,設定・基礎!$G$3:$H$22,2,FALSE),\"\")","v":""}]
[" 22-15-19","22",null,"15",null,"19",null,null,null,{"$f":"IFERROR(VLOOKUP(I8704,設定・基礎!$G$3:$H$22,2,FALSE),\"\")","v":""}]
[" 22-16-02","22",null,"16",null,"02",null,null,null,{"$f":"IFERROR(VLOOKUP(I8707,設定・基礎!$G$3:$H$22,2,FALSE),\"\")","v":""}]
[" 22-16-09","22",null,"16",null,"09",null,null,null,{"$f":"IFERROR(VLOOKUP(I8714,設定・基礎!$G$3:$H$22,2,FALSE),\"\")","v":""}]
[" 22-16-20","22",null,"16",null,"20",null,null,null,{"$f":"IFERROR(VLOOKUP(I8725,設定・基礎!$G$3:$H$22,2,FALSE),\"\")","v":""}]
[" 22-17-12","22",null,"17",null,"12",null,null,null,{"$f":"IFERROR(VLOOKUP(I8737,設定・基礎!$G$3:$H$22,2,FALSE),\"\")","v":""}]
[" 22-17-19","22",null,"17",null,"19",null,null,null,{"$f":"IFERROR(VLOOKUP(I8744,設定・基礎!$G$3:$H$22,2,FALSE),\"\")","v":""}]
[" 22-18-08","22",null,"18",null,"08",null,null,null,{"$f":"IFERROR(VLOOKUP(I8753,設定・基礎!$G$3:$H$22,2,FALSE),\"\")","v":""}]
[" 22-18-13","22",null,"18",null,"13",null,null,null,{"$f":"IFERROR(VLOOKUP(I8758,設定・基礎!$G$3:$H$22,2,FALSE),\"\")","v":""}]
[" 22-19-09","22",null,"19",null,"09",null,null,null,{"$f":"IFERROR(VLOOKUP(I8774,設定・基礎!$G$3:$H$22,2,FALSE),\"\")","v":""}]
[" 22-19-12","22",null,"19",null,"12",null,null,null,{"$f":"IFERROR(VLOOKUP(I8777,設定・基礎!$G$3:$H$22,2,FALSE),\"\")","v":""}]
[" 22-19-19","22",null,"19",null,"19",null,null,null,{"$f":"IFERROR(VLOOKUP(I8784,設定・基礎!$G$3:$H$22,2,FALSE),\"\")","v":""}]
[" 22-20-10","22",null,"20",null,"10",null,null,null,{"$f":"IFERROR(VLOOKUP(I8795,設定・基礎!$G$3:$H$22,2,FALSE),\"\")","v":""}]
[" 23-01-02","23",null,"01",null,"02",null,null,null,{"$f":"IFERROR(VLOOKUP(I8807,設定・基礎!$G$3:$H$22,2,FALSE),\"\")","v":""}]
[" 23-01-09","23",null,"01",null,"09",null,null,null,{"$f":"IFERROR(VLOOKUP(I8814,設定・基礎!$G$3:$H$22,2,FALSE),\"\")","v":""}]
[" 23-01-18","23",null,"01",null,"18",null,null,null,{"$f":"IFERROR(VLOOKUP(I8823,設定・基礎!$G$3:$H$22,2,FALSE),\"\")","v":""}]
[" 23-02-03","23",null,"02",null,"03",null,null,null,{"$f":"IFERROR(VLOOKUP(I8828,設定・基礎!$G$3:$H$22,2,FALSE),\"\")","v":""}]
[" 23-02-19","23",null,"02",null,"19",null,null,null,{"$f":"IFERROR(VLOOKUP(I8844,設定・基礎!$G$3:$H$22,2,FALSE),\"\")","v":""}]
[" 23-03-02","23",null,"03",null,"02",null,null,null,{"$f":"IFERROR(VLOOKUP(I8847,設定・基礎!$G$3:$H$22,2,FALSE),\"\")","v":""}]
[" 23-03-09","23",null,"03",null,"09",null,null,null,{"$f":"IFERROR(VLOOKUP(I8854,設定・基礎!$G$3:$H$22,2,FALSE),\"\")","v":""}]
[" 23-03-20","23",null,"03",null,"20",null,null,null,{"$f":"IFERROR(VLOOKUP(I8865,設定・基礎!$G$3:$H$22,2,FALSE),\"\")","v":""}]
[" 23-04-12","23",null,"04",null,"12",null,null,null,{"$f":"IFERROR(VLOOKUP(I8877,設定・基礎!$G$3:$H$22,2,FALSE),\"\")","v":""}]
[" 23-04-19","23",null,"04",null,"19",null,null,null,{"$f":"IFERROR(VLOOKUP(I8884,設定・基礎!$G$3:$H$22,2,FALSE),\"\")","v":""}]
[" 23-05-08","23",null,"05",null,"08",null,null,null,{"$f":"IFERROR(VLOOKUP(I8893,設定・基礎!$G$3:$H$22,2,FALSE),\"\")","v":""}]
[" 23-05-13","23",null,"05",null,"13",null,null,null,{"$f":"IFERROR(VLOOKUP(I8898,設定・基礎!$G$3:$H$22,2,FALSE),\"\")","v":""}]
[" 23-06-09","23",null,"06",null,"09",null,null,null,{"$f":"IFERROR(VLOOKUP(I8914,設定・基礎!$G$3:$H$22,2,FALSE),\"\")","v":""}]
[" 23-06-12","23",null,"06",null,"12",null,null,null,{"$f":"IFERROR(VLOOKUP(I8917,設定・基礎!$G$3:$H$22,2,FALSE),\"\")","v":""}]
[" 23-06-19","23",null,"06",null,"19",null,null,null,{"$f":"IFERROR(VLOOKUP(I8924,設定・基礎!$G$3:$H$22,2,FALSE),\"\")","v":""}]
[" 23-07-10","23",null,"07",null,"10",null,null,null,{"$f":"IFERROR(VLOOKUP(I8935,設定・基礎!$G$3:$H$22,2,FALSE),\"\")","v":""}]
[" 23-08-02","23",null,"08",null,"02",null,null,null,{"$f":"IFERROR(VLOOKUP(I8947,設定・基礎!$G$3:$H$22,2,FALSE),\"\")","v":""}]
[" 23-08-09","23",null,"08",null,"09",null,null,null,{"$f":"IFERROR(VLOOKUP(I8954,設定・基礎!$G$3:$H$22,2,FALSE),\"\")","v":""}]
[" 23-08-18","23",null,"08",null,"18",null,null,null,{"$f":"IFERROR(VLOOKUP(I8963,設定・基礎!$G$3:$H$22,2,FALSE),\"\")","v":""}]
[" 23-09-07","23",null,"09",null,"07",null,null,null,{"$f":"IFERROR(VLOOKUP(I8972,設定・基礎!$G$3:$H$22,2,FALSE),\"\")","v":""}]
[" 23-09-19","23",null,"09",null,"19",null,null,null,{"$f":"IFERROR(VLOOKUP(I8984,設定・基礎!$G$3:$H$22,2,FALSE),\"\")","v":""}]
[" 23-10-02","23",null,"10",null,"02",null,null,null,{"$f":"IFERROR(VLOOKUP(I8987,設定・基礎!$G$3:$H$22,2,FALSE),\"\")","v":""}]
[" 23-10-09","23",null,"10",null,"09",null,null,null,{"$f":"IFERROR(VLOOKUP(I8994,設定・基礎!$G$3:$H$22,2,FALSE),\"\")","v":""}]
[" 23-10-19","23",null,"10",null,"19",null,null,null,{"$f":"IFERROR(VLOOKUP(I9004,設定・基礎!$G$3:$H$22,2,FALSE),\"\")","v":""}]
[" 23-11-12","23",null,"11",null,"12",null,null,null,{"$f":"IFERROR(VLOOKUP(I9017,設定・基礎!$G$3:$H$22,2,FALSE),\"\")","v":""}]
[" 23-11-19","23",null,"11",null,"19",null,null,null,{"$f":"IFERROR(VLOOKUP(I9024,設定・基礎!$G$3:$H$22,2,FALSE),\"\")","v":""}]
[" 23-12-11","23",null,"12",null,"11",null,null,null,{"$f":"IFERROR(VLOOKUP(I9036,設定・基礎!$G$3:$H$22,2,FALSE),\"\")","v":""}]
[" 23-12-18","23",null,"12",null,"18",null,null,null,{"$f":"IFERROR(VLOOKUP(I9043,設定・基礎!$G$3:$H$22,2,FALSE),\"\")","v":""}]
[" 23-13-09","23",null,"13",null,"09",null,null,null,{"$f":"IFERROR(VLOOKUP(I9054,設定・基礎!$G$3:$H$22,2,FALSE),\"\")","v":""}]
[" 23-13-12","23",null,"13",null,"12",null,null,null,{"$f":"IFERROR(VLOOKUP(I9057,設定・基礎!$G$3:$H$22,2,FALSE),\"\")","v":""}]
[" 23-13-19","23",null,"13",null,"19",null,null,null,{"$f":"IFERROR(VLOOKUP(I9064,設定・基礎!$G$3:$H$22,2,FALSE),\"\")","v":""}]
[" 23-14-09","23",null,"14",null,"09",null,null,null,{"$f":"IFERROR(VLOOKUP(I9074,設定・基礎!$G$3:$H$22,2,FALSE),\"\")","v":""}]
[" 23-14-17","23",null,"14",null,"17",null,null,null,{"$f":"IFERROR(VLOOKUP(I9082,設定・基礎!$G$3:$H$22,2,FALSE),\"\")","v":""}]
[" 23-15-09","23",null,"15",null,"09",null,null,null,{"$f":"IFERROR(VLOOKUP(I9094,設定・基礎!$G$3:$H$22,2,FALSE),\"\")","v":""}]
[" 23-16-01","23",null,"16",null,"01",null,null,null,{"$f":"IFERROR(VLOOKUP(I9106,設定・基礎!$G$3:$H$22,2,FALSE),\"\")","v":""}]
[" 23-16-08","23",null,"16",null,"08",null,null,null,{"$f":"IFERROR(VLOOKUP(I9113,設定・基礎!$G$3:$H$22,2,FALSE),\"\")","v":""}]
[" 23-16-19","23",null,"16",null,"19",null,null,null,{"$f":"IFERROR(VLOOKUP(I9124,設定・基礎!$G$3:$H$22,2,FALSE),\"\")","v":""}]
[" 23-17-02","23",null,"17",null,"02",null,null,null,{"$f":"IFERROR(VLOOKUP(I9127,設定・基礎!$G$3:$H$22,2,FALSE),\"\")","v":""}]
[" 23-17-09","23",null,"17",null,"09",null,null,null,{"$f":"IFERROR(VLOOKUP(I9134,設定・基礎!$G$3:$H$22,2,FALSE),\"\")","v":""}]
[" 23-17-19","23",null,"17",null,"19",null,null,null,{"$f":"IFERROR(VLOOKUP(I9144,設定・基礎!$G$3:$H$22,2,FALSE),\"\")","v":""}]
[" 23-18-07","23",null,"18",null,"07",null,null,null,{"$f":"IFERROR(VLOOKUP(I9152,設定・基礎!$G$3:$H$22,2,FALSE),\"\")","v":""}]
[" 23-18-19","23",null,"18",null,"19",null,null,null,{"$f":"IFERROR(VLOOKUP(I9164,設定・基礎!$G$3:$H$22,2,FALSE),\"\")","v":""}]
[" 23-19-11","23",null,"19",null,"11",null,null,null,{"$f":"IFERROR(VLOOKUP(I9176,設定・基礎!$G$3:$H$22,2,FALSE),\"\")","v":""}]
[" 23-19-18","23",null,"19",null,"18",null,null,null,{"$f":"IFERROR(VLOOKUP(I9183,設定・基礎!$G$3:$H$22,2,FALSE),\"\")","v":""}]
[" 23-20-09","23",null,"20",null,"09",null,null,null,{"$f":"IFERROR(VLOOKUP(I9194,設定・基礎!$G$3:$H$22,2,FALSE),\"\")","v":""}]
[" 23-20-12","23",null,"20",null,"12",null,null,null,{"$f":"IFERROR(VLOOKUP(I9197,設定・基礎!$G$3:$H$22,2,FALSE),\"\")","v":""}]
[" 23-20-19","23",null,"20",null,"19",null,null,null,{"$f":"IFERROR(VLOOKUP(I9204,設定・基礎!$G$3:$H$22,2,FALSE),\"\")","v":""}]
[" 24-01-09","24",null,"01",null,"09",null,null,null,{"$f":"IFERROR(VLOOKUP(I9214,設定・基礎!$G$3:$H$22,2,FALSE),\"\")","v":""}]
[" 24-01-17","24",null,"01",null,"17",null,null,null,{"$f":"IFERROR(VLOOKUP(I9222,設定・基礎!$G$3:$H$22,2,FALSE),\"\")","v":""}]
[" 24-02-09","24",null,"02",null,"09",null,null,null,{"$f":"IFERROR(VLOOKUP(I9234,設定・基礎!$G$3:$H$22,2,FALSE),\"\")","v":""}]
[" 24-03-01","24",null,"03",null,"01",null,null,null,{"$f":"IFERROR(VLOOKUP(I9246,設定・基礎!$G$3:$H$22,2,FALSE),\"\")","v":""}]
[" 24-03-08","24",null,"03",null,"08",null,null,null,{"$f":"IFERROR(VLOOKUP(I9253,設定・基礎!$G$3:$H$22,2,FALSE),\"\")","v":""}]
[" 24-03-19","24",null,"03",null,"19",null,null,null,{"$f":"IFERROR(VLOOKUP(I9264,設定・基礎!$G$3:$H$22,2,FALSE),\"\")","v":""}]
[" 24-04-06","24",null,"04",null,"06",null,null,null,{"$f":"IFERROR(VLOOKUP(I9271,設定・基礎!$G$3:$H$22,2,FALSE),\"\")","v":""}]
[" 24-04-09","24",null,"04",null,"09",null,null,null,{"$f":"IFERROR(VLOOKUP(I9274,設定・基礎!$G$3:$H$22,2,FALSE),\"\")","v":""}]
[" 24-04-19","24",null,"04",null,"19",null,null,null,{"$f":"IFERROR(VLOOKUP(I9284,設定・基礎!$G$3:$H$22,2,FALSE),\"\")","v":""}]
[" 24-05-07","24",null,"05",null,"07",null,null,null,{"$f":"IFERROR(VLOOKUP(I9292,設定・基礎!$G$3:$H$22,2,FALSE),\"\")","v":""}]
[" 24-05-19","24",null,"05",null,"19",null,null,null,{"$f":"IFERROR(VLOOKUP(I9304,設定・基礎!$G$3:$H$22,2,FALSE),\"\")","v":""}]
[" 24-06-11","24",null,"06",null,"11",null,null,null,{"$f":"IFERROR(VLOOKUP(I9316,設定・基礎!$G$3:$H$22,2,FALSE),\"\")","v":""}]
[" 24-06-18","24",null,"06",null,"18",null,null,null,{"$f":"IFERROR(VLOOKUP(I9323,設定・基礎!$G$3:$H$22,2,FALSE),\"\")","v":""}]
[" 24-07-09","24",null,"07",null,"09",null,null,null,{"$f":"IFERROR(VLOOKUP(I9334,設定・基礎!$G$3:$H$22,2,FALSE),\"\")","v":""}]
[" 24-07-16","24",null,"07",null,"16",null,null,null,{"$f":"IFERROR(VLOOKUP(I9341,設定・基礎!$G$3:$H$22,2,FALSE),\"\")","v":""}]
[" 24-07-19","24",null,"07",null,"19",null,null,null,{"$f":"IFERROR(VLOOKUP(I9344,設定・基礎!$G$3:$H$22,2,FALSE),\"\")","v":""}]
[" 24-08-09","24",null,"08",null,"09",null,null,null,{"$f":"IFERROR(VLOOKUP(I9354,設定・基礎!$G$3:$H$22,2,FALSE),\"\")","v":""}]
[" 24-08-17","24",null,"08",null,"17",null,null,null,{"$f":"IFERROR(VLOOKUP(I9362,設定・基礎!$G$3:$H$22,2,FALSE),\"\")","v":""}]
[" 24-09-09","24",null,"09",null,"09",null,null,null,{"$f":"IFERROR(VLOOKUP(I9374,設定・基礎!$G$3:$H$22,2,FALSE),\"\")","v":""}]
[" 24-10-01","24",null,"10",null,"01",null,null,null,{"$f":"IFERROR(VLOOKUP(I9386,設定・基礎!$G$3:$H$22,2,FALSE),\"\")","v":""}]
[" 24-10-08","24",null,"10",null,"08",null,null,null,{"$f":"IFERROR(VLOOKUP(I9393,設定・基礎!$G$3:$H$22,2,FALSE),\"\")","v":""}]
[" 24-10-19","24",null,"10",null,"19",null,null,null,{"$f":"IFERROR(VLOOKUP(I9404,設定・基礎!$G$3:$H$22,2,FALSE),\"\")","v":""}]
[" 24-11-06","24",null,"11",null,"06",null,null,null,{"$f":"IFERROR(VLOOKUP(I9411,設定・基礎!$G$3:$H$22,2,FALSE),\"\")","v":""}]
[" 24-11-09","24",null,"11",null,"09",null,null,null,{"$f":"IFERROR(VLOOKUP(I9414,設定・基礎!$G$3:$H$22,2,FALSE),\"\")","v":""}]
[" 24-11-19","24",null,"11",null,"19",null,null,null,{"$f":"IFERROR(VLOOKUP(I9424,設定・基礎!$G$3:$H$22,2,FALSE),\"\")","v":""}]
[" 24-12-07","24",null,"12",null,"07",null,null,null,{"$f":"IFERROR(VLOOKUP(I9432,設定・基礎!$G$3:$H$22,2,FALSE),\"\")","v":""}]
[" 24-12-19","24",null,"12",null,"19",null,null,null,{"$f":"IFERROR(VLOOKUP(I9444,設定・基礎!$G$3:$H$22,2,FALSE),\"\")","v":""}]
[" 24-13-06","24",null,"13",null,"06",null,null,null,{"$f":"IFERROR(VLOOKUP(I9451,設定・基礎!$G$3:$H$22,2,FALSE),\"\")","v":""}]
[" 24-13-18","24",null,"13",null,"18",null,null,null,{"$f":"IFERROR(VLOOKUP(I9463,設定・基礎!$G$3:$H$22,2,FALSE),\"\")","v":""}]
[" 24-14-09","24",null,"14",null,"09",null,null,null,{"$f":"IFERROR(VLOOKUP(I9474,設定・基礎!$G$3:$H$22,2,FALSE),\"\")","v":""}]
[" 24-14-16","24",null,"14",null,"16",null,null,null,{"$f":"IFERROR(VLOOKUP(I9481,設定・基礎!$G$3:$H$22,2,FALSE),\"\")","v":""}]
[" 24-14-19","24",null,"14",null,"19",null,null,null,{"$f":"IFERROR(VLOOKUP(I9484,設定・基礎!$G$3:$H$22,2,FALSE),\"\")","v":""}]
[" 24-15-09","24",null,"15",null,"09",null,null,null,{"$f":"IFERROR(VLOOKUP(I9494,設定・基礎!$G$3:$H$22,2,FALSE),\"\")","v":""}]
[" 24-15-17","24",null,"15",null,"17",null,null,null,{"$f":"IFERROR(VLOOKUP(I9502,設定・基礎!$G$3:$H$22,2,FALSE),\"\")","v":""}]
[" 24-16-09","24",null,"16",null,"09",null,null,null,{"$f":"IFERROR(VLOOKUP(I9514,設定・基礎!$G$3:$H$22,2,FALSE),\"\")","v":""}]
[" 24-16-16","24",null,"16",null,"16",null,null,null,{"$f":"IFERROR(VLOOKUP(I9521,設定・基礎!$G$3:$H$22,2,FALSE),\"\")","v":""}]
[" 24-17-08","24",null,"17",null,"08",null,null,null,{"$f":"IFERROR(VLOOKUP(I9533,設定・基礎!$G$3:$H$22,2,FALSE),\"\")","v":""}]
[" 24-17-19","24",null,"17",null,"19",null,null,null,{"$f":"IFERROR(VLOOKUP(I9544,設定・基礎!$G$3:$H$22,2,FALSE),\"\")","v":""}]
[" 24-18-06","24",null,"18",null,"06",null,null,null,{"$f":"IFERROR(VLOOKUP(I9551,設定・基礎!$G$3:$H$22,2,FALSE),\"\")","v":""}]
[" 24-18-09","24",null,"18",null,"09",null,null,null,{"$f":"IFERROR(VLOOKUP(I9554,設定・基礎!$G$3:$H$22,2,FALSE),\"\")","v":""}]
[" 24-18-19","24",null,"18",null,"19",null,null,null,{"$f":"IFERROR(VLOOKUP(I9564,設定・基礎!$G$3:$H$22,2,FALSE),\"\")","v":""}]
[" 24-19-07","24",null,"19",null,"07",null,null,null,{"$f":"IFERROR(VLOOKUP(I9572,設定・基礎!$G$3:$H$22,2,FALSE),\"\")","v":""}]
[" 24-19-19","24",null,"19",null,"19",null,null,null,{"$f":"IFERROR(VLOOKUP(I9584,設定・基礎!$G$3:$H$22,2,FALSE),\"\")","v":""}]
[" 24-20-06","24",null,"20",null,"06",null,null,null,{"$f":"IFERROR(VLOOKUP(I9591,設定・基礎!$G$3:$H$22,2,FALSE),\"\")","v":""}]
[" 24-20-18","24",null,"20",null,"18",null,null,null,{"$f":"IFERROR(VLOOKUP(I9603,設定・基礎!$G$3:$H$22,2,FALSE),\"\")","v":""}]
[" 25-01-09","25",null,"01",null,"09",null,null,null,{"$f":"IFERROR(VLOOKUP(I9614,設定・基礎!$G$3:$H$22,2,FALSE),\"\")","v":""}]
[" 25-01-16","25",null,"01",null,"16",null,null,null,{"$f":"IFERROR(VLOOKUP(I9621,設定・基礎!$G$3:$H$22,2,FALSE),\"\")","v":""}]
[" 25-01-19","25",null,"01",null,"19",null,null,null,{"$f":"IFERROR(VLOOKUP(I9624,設定・基礎!$G$3:$H$22,2,FALSE),\"\")","v":""}]
[" 25-02-09","25",null,"02",null,"09",null,null,null,{"$f":"IFERROR(VLOOKUP(I9634,設定・基礎!$G$3:$H$22,2,FALSE),\"\")","v":""}]
[" 25-02-17","25",null,"02",null,"17",null,null,null,{"$f":"IFERROR(VLOOKUP(I9642,設定・基礎!$G$3:$H$22,2,FALSE),\"\")","v":""}]
[" 25-03-09","25",null,"03",null,"09",null,null,null,{"$f":"IFERROR(VLOOKUP(I9654,設定・基礎!$G$3:$H$22,2,FALSE),\"\")","v":""}]
[" 25-03-16","25",null,"03",null,"16",null,null,null,{"$f":"IFERROR(VLOOKUP(I9661,設定・基礎!$G$3:$H$22,2,FALSE),\"\")","v":""}]
[" 25-04-08","25",null,"04",null,"08",null,null,null,{"$f":"IFERROR(VLOOKUP(I9673,設定・基礎!$G$3:$H$22,2,FALSE),\"\")","v":""}]
[" 25-04-19","25",null,"04",null,"19",null,null,null,{"$f":"IFERROR(VLOOKUP(I9684,設定・基礎!$G$3:$H$22,2,FALSE),\"\")","v":""}]
[" 25-05-06","25",null,"05",null,"06",null,null,null,{"$f":"IFERROR(VLOOKUP(I9691,設定・基礎!$G$3:$H$22,2,FALSE),\"\")","v":""}]
[" 25-05-09","25",null,"05",null,"09",null,null,null,{"$f":"IFERROR(VLOOKUP(I9694,設定・基礎!$G$3:$H$22,2,FALSE),\"\")","v":""}]
[" 25-05-19","25",null,"05",null,"19",null,null,null,{"$f":"IFERROR(VLOOKUP(I9704,設定・基礎!$G$3:$H$22,2,FALSE),\"\")","v":""}]
[" 25-06-07","25",null,"06",null,"07",null,null,null,{"$f":"IFERROR(VLOOKUP(I9712,設定・基礎!$G$3:$H$22,2,FALSE),\"\")","v":""}]
[" 25-06-19","25",null,"06",null,"19",null,null,null,{"$f":"IFERROR(VLOOKUP(I9724,設定・基礎!$G$3:$H$22,2,FALSE),\"\")","v":""}]
[" 25-07-06","25",null,"07",null,"06",null,null,null,{"$f":"IFERROR(VLOOKUP(I9731,設定・基礎!$G$3:$H$22,2,FALSE),\"\")","v":""}]
[" 25-07-18","25",null,"07",null,"18",null,null,null,{"$f":"IFERROR(VLOOKUP(I9743,設定・基礎!$G$3:$H$22,2,FALSE),\"\")","v":""}]
[" 25-08-04","25",null,"08",null,"04",null,null,null,{"$f":"IFERROR(VLOOKUP(I9749,設定・基礎!$G$3:$H$22,2,FALSE),\"\")","v":""}]
[" 25-08-16","25",null,"08",null,"16",null,null,null,{"$f":"IFERROR(VLOOKUP(I9761,設定・基礎!$G$3:$H$22,2,FALSE),\"\")","v":""}]
[" 25-08-19","25",null,"08",null,"19",null,null,null,{"$f":"IFERROR(VLOOKUP(I9764,設定・基礎!$G$3:$H$22,2,FALSE),\"\")","v":""}]
[" 25-09-09","25",null,"09",null,"09",null,null,null,{"$f":"IFERROR(VLOOKUP(I9774,設定・基礎!$G$3:$H$22,2,FALSE),\"\")","v":""}]
[" 25-09-17","25",null,"09",null,"17",null,null,null,{"$f":"IFERROR(VLOOKUP(I9782,設定・基礎!$G$3:$H$22,2,FALSE),\"\")","v":""}]
[" 25-10-09","25",null,"10",null,"09",null,null,null,{"$f":"IFERROR(VLOOKUP(I9794,設定・基礎!$G$3:$H$22,2,FALSE),\"\")","v":""}]
[" 25-10-16","25",null,"10",null,"16",null,null,null,{"$f":"IFERROR(VLOOKUP(I9801,設定・基礎!$G$3:$H$22,2,FALSE),\"\")","v":""}]
[" 25-11-08","25",null,"11",null,"08",null,null,null,{"$f":"IFERROR(VLOOKUP(I9813,設定・基礎!$G$3:$H$22,2,FALSE),\"\")","v":""}]
[" 25-11-14","25",null,"11",null,"14",null,null,null,{"$f":"IFERROR(VLOOKUP(I9819,設定・基礎!$G$3:$H$22,2,FALSE),\"\")","v":""}]
[" 25-12-06","25",null,"12",null,"06",null,null,null,{"$f":"IFERROR(VLOOKUP(I9831,設定・基礎!$G$3:$H$22,2,FALSE),\"\")","v":""}]
[" 25-12-09","25",null,"12",null,"09",null,null,null,{"$f":"IFERROR(VLOOKUP(I9834,設定・基礎!$G$3:$H$22,2,FALSE),\"\")","v":""}]
[" 25-12-19","25",null,"12",null,"19",null,null,null,{"$f":"IFERROR(VLOOKUP(I9844,設定・基礎!$G$3:$H$22,2,FALSE),\"\")","v":""}]
[" 25-13-07","25",null,"13",null,"07",null,null,null,{"$f":"IFERROR(VLOOKUP(I9852,設定・基礎!$G$3:$H$22,2,FALSE),\"\")","v":""}]
[" 25-14-03","25",null,"14",null,"03",null,null,null,{"$f":"IFERROR(VLOOKUP(I9868,設定・基礎!$G$3:$H$22,2,FALSE),\"\")","v":""}]
[" 25-14-06","25",null,"14",null,"06",null,null,null,{"$f":"IFERROR(VLOOKUP(I9871,設定・基礎!$G$3:$H$22,2,FALSE),\"\")","v":""}]
[" 25-14-18","25",null,"14",null,"18",null,null,null,{"$f":"IFERROR(VLOOKUP(I9883,設定・基礎!$G$3:$H$22,2,FALSE),\"\")","v":""}]
[" 25-15-08","25",null,"15",null,"08",null,null,null,{"$f":"IFERROR(VLOOKUP(I9893,設定・基礎!$G$3:$H$22,2,FALSE),\"\")","v":""}]
[" 25-15-16","25",null,"15",null,"16",null,null,null,{"$f":"IFERROR(VLOOKUP(I9901,設定・基礎!$G$3:$H$22,2,FALSE),\"\")","v":""}]
[" 25-15-19","25",null,"15",null,"19",null,null,null,{"$f":"IFERROR(VLOOKUP(I9904,設定・基礎!$G$3:$H$22,2,FALSE),\"\")","v":""}]
[" 25-16-15","25",null,"16",null,"15",null,null,null,{"$f":"IFERROR(VLOOKUP(I9920,設定・基礎!$G$3:$H$22,2,FALSE),\"\")","v":""}]
[" 25-16-19","25",null,"16",null,"19",null,null,null,{"$f":"IFERROR(VLOOKUP(I9924,設定・基礎!$G$3:$H$22,2,FALSE),\"\")","v":""}]
[" 25-17-13","25",null,"17",null,"13",null,null,null,{"$f":"IFERROR(VLOOKUP(I9938,設定・基礎!$G$3:$H$22,2,FALSE),\"\")","v":""}]
[" 25-17-16","25",null,"17",null,"16",null,null,null,{"$f":"IFERROR(VLOOKUP(I9941,設定・基礎!$G$3:$H$22,2,FALSE),\"\")","v":""}]
[" 25-18-08","25",null,"18",null,"08",null,null,null,{"$f":"IFERROR(VLOOKUP(I9953,設定・基礎!$G$3:$H$22,2,FALSE),\"\")","v":""}]
[" 25-18-18","25",null,"18",null,"18",null,null,null,{"$f":"IFERROR(VLOOKUP(I9963,設定・基礎!$G$3:$H$22,2,FALSE),\"\")","v":""}]
[" 25-19-06","25",null,"19",null,"06",null,null,null,{"$f":"IFERROR(VLOOKUP(I9971,設定・基礎!$G$3:$H$22,2,FALSE),\"\")","v":""}]
[" 25-19-09","25",null,"19",null,"09",null,null,null,{"$f":"IFERROR(VLOOKUP(I9974,設定・基礎!$G$3:$H$22,2,FALSE),\"\")","v":""}]
[" 25-20-05","25",null,"20",null,"05",null,null,null,{"$f":"IFERROR(VLOOKUP(I9990,設定・基礎!$G$3:$H$22,2,FALSE),\"\")","v":""}]
[" 25-20-09","25",null,"20",null,"09",null,null,null,{"$f":"IFERROR(VLOOKUP(I9994,設定・基礎!$G$3:$H$22,2,FALSE),\"\")","v":""}]
[" 26-01-03","26",null,"01",null,"03",null,null,null,{"$f":"IFERROR(VLOOKUP(I10008,設定・基礎!$G$3:$H$22,2,FALSE),\"\")","v":""}]
[" 26-01-06","26",null,"01",null,"06",null,null,null,{"$f":"IFERROR(VLOOKUP(I10011,設定・基礎!$G$3:$H$22,2,FALSE),\"\")","v":""}]
[" 26-01-18","26",null,"01",null,"18",null,null,null,{"$f":"IFERROR(VLOOKUP(I10023,設定・基礎!$G$3:$H$22,2,FALSE),\"\")","v":""}]
[" 26-02-08","26",null,"02",null,"08",null,null,null,{"$f":"IFERROR(VLOOKUP(I10033,設定・基礎!$G$3:$H$22,2,FALSE),\"\")","v":""}]
[" 26-02-16","26",null,"02",null,"16",null,null,null,{"$f":"IFERROR(VLOOKUP(I10041,設定・基礎!$G$3:$H$22,2,FALSE),\"\")","v":""}]
[" 26-03-03","26",null,"03",null,"03",null,null,null,{"$f":"IFERROR(VLOOKUP(I10048,設定・基礎!$G$3:$H$22,2,FALSE),\"\")","v":""}]
[" 26-03-15","26",null,"03",null,"15",null,null,null,{"$f":"IFERROR(VLOOKUP(I10060,設定・基礎!$G$3:$H$22,2,FALSE),\"\")","v":""}]
[" 26-03-19","26",null,"03",null,"19",null,null,null,{"$f":"IFERROR(VLOOKUP(I10064,設定・基礎!$G$3:$H$22,2,FALSE),\"\")","v":""}]
[" 26-04-13","26",null,"04",null,"13",null,null,null,{"$f":"IFERROR(VLOOKUP(I10078,設定・基礎!$G$3:$H$22,2,FALSE),\"\")","v":""}]
[" 26-04-16","26",null,"04",null,"16",null,null,null,{"$f":"IFERROR(VLOOKUP(I10081,設定・基礎!$G$3:$H$22,2,FALSE),\"\")","v":""}]
[" 26-05-08","26",null,"05",null,"08",null,null,null,{"$f":"IFERROR(VLOOKUP(I10093,設定・基礎!$G$3:$H$22,2,FALSE),\"\")","v":""}]
[" 26-05-18","26",null,"05",null,"18",null,null,null,{"$f":"IFERROR(VLOOKUP(I10103,設定・基礎!$G$3:$H$22,2,FALSE),\"\")","v":""}]
[" 26-06-06","26",null,"06",null,"06",null,null,null,{"$f":"IFERROR(VLOOKUP(I10111,設定・基礎!$G$3:$H$22,2,FALSE),\"\")","v":""}]
[" 26-06-13","26",null,"06",null,"13",null,null,null,{"$f":"IFERROR(VLOOKUP(I10118,設定・基礎!$G$3:$H$22,2,FALSE),\"\")","v":""}]
[" 26-07-05","26",null,"07",null,"05",null,null,null,{"$f":"IFERROR(VLOOKUP(I10130,設定・基礎!$G$3:$H$22,2,FALSE),\"\")","v":""}]
[" 26-07-09","26",null,"07",null,"09",null,null,null,{"$f":"IFERROR(VLOOKUP(I10134,設定・基礎!$G$3:$H$22,2,FALSE),\"\")","v":""}]
[" 26-08-03","26",null,"08",null,"03",null,null,null,{"$f":"IFERROR(VLOOKUP(I10148,設定・基礎!$G$3:$H$22,2,FALSE),\"\")","v":""}]
[" 26-08-06","26",null,"08",null,"06",null,null,null,{"$f":"IFERROR(VLOOKUP(I10151,設定・基礎!$G$3:$H$22,2,FALSE),\"\")","v":""}]
[" 26-08-18","26",null,"08",null,"18",null,null,null,{"$f":"IFERROR(VLOOKUP(I10163,設定・基礎!$G$3:$H$22,2,FALSE),\"\")","v":""}]
[" 26-09-08","26",null,"09",null,"08",null,null,null,{"$f":"IFERROR(VLOOKUP(I10173,設定・基礎!$G$3:$H$22,2,FALSE),\"\")","v":""}]
[" 26-09-16","26",null,"09",null,"16",null,null,null,{"$f":"IFERROR(VLOOKUP(I10181,設定・基礎!$G$3:$H$22,2,FALSE),\"\")","v":""}]
[" 26-10-03","26",null,"10",null,"03",null,null,null,{"$f":"IFERROR(VLOOKUP(I10188,設定・基礎!$G$3:$H$22,2,FALSE),\"\")","v":""}]
[" 26-10-15","26",null,"10",null,"15",null,null,null,{"$f":"IFERROR(VLOOKUP(I10200,設定・基礎!$G$3:$H$22,2,FALSE),\"\")","v":""}]
[" 26-10-19","26",null,"10",null,"19",null,null,null,{"$f":"IFERROR(VLOOKUP(I10204,設定・基礎!$G$3:$H$22,2,FALSE),\"\")","v":""}]
[" 26-11-13","26",null,"11",null,"13",null,null,null,{"$f":"IFERROR(VLOOKUP(I10218,設定・基礎!$G$3:$H$22,2,FALSE),\"\")","v":""}]
[" 26-11-16","26",null,"11",null,"16",null,null,null,{"$f":"IFERROR(VLOOKUP(I10221,設定・基礎!$G$3:$H$22,2,FALSE),\"\")","v":""}]
[" 26-12-03","26",null,"12",null,"03",null,null,null,{"$f":"IFERROR(VLOOKUP(I10228,設定・基礎!$G$3:$H$22,2,FALSE),\"\")","v":""}]
[" 26-12-18","26",null,"12",null,"18",null,null,null,{"$f":"IFERROR(VLOOKUP(I10243,設定・基礎!$G$3:$H$22,2,FALSE),\"\")","v":""}]
[" 26-13-06","26",null,"13",null,"06",null,null,null,{"$f":"IFERROR(VLOOKUP(I10251,設定・基礎!$G$3:$H$22,2,FALSE),\"\")","v":""}]
[" 26-13-13","26",null,"13",null,"13",null,null,null,{"$f":"IFERROR(VLOOKUP(I10258,設定・基礎!$G$3:$H$22,2,FALSE),\"\")","v":""}]
[" 26-14-05","26",null,"14",null,"05",null,null,null,{"$f":"IFERROR(VLOOKUP(I10270,設定・基礎!$G$3:$H$22,2,FALSE),\"\")","v":""}]
[" 26-14-09","26",null,"14",null,"09",null,null,null,{"$f":"IFERROR(VLOOKUP(I10274,設定・基礎!$G$3:$H$22,2,FALSE),\"\")","v":""}]
[" 26-15-03","26",null,"15",null,"03",null,null,null,{"$f":"IFERROR(VLOOKUP(I10288,設定・基礎!$G$3:$H$22,2,FALSE),\"\")","v":""}]
[" 26-15-06","26",null,"15",null,"06",null,null,null,{"$f":"IFERROR(VLOOKUP(I10291,設定・基礎!$G$3:$H$22,2,FALSE),\"\")","v":""}]
[" 26-15-13","26",null,"15",null,"13",null,null,null,{"$f":"IFERROR(VLOOKUP(I10298,設定・基礎!$G$3:$H$22,2,FALSE),\"\")","v":""}]
[" 26-16-08","26",null,"16",null,"08",null,null,null,{"$f":"IFERROR(VLOOKUP(I10313,設定・基礎!$G$3:$H$22,2,FALSE),\"\")","v":""}]
[" 26-16-16","26",null,"16",null,"16",null,null,null,{"$f":"IFERROR(VLOOKUP(I10321,設定・基礎!$G$3:$H$22,2,FALSE),\"\")","v":""}]
[" 26-17-03","26",null,"17",null,"03",null,null,null,{"$f":"IFERROR(VLOOKUP(I10328,設定・基礎!$G$3:$H$22,2,FALSE),\"\")","v":""}]
[" 26-17-15","26",null,"17",null,"15",null,null,null,{"$f":"IFERROR(VLOOKUP(I10340,設定・基礎!$G$3:$H$22,2,FALSE),\"\")","v":""}]
[" 26-17-19","26",null,"17",null,"19",null,null,null,{"$f":"IFERROR(VLOOKUP(I10344,設定・基礎!$G$3:$H$22,2,FALSE),\"\")","v":""}]
[" 26-18-13","26",null,"18",null,"13",null,null,null,{"$f":"IFERROR(VLOOKUP(I10358,設定・基礎!$G$3:$H$22,2,FALSE),\"\")","v":""}]
[" 26-18-16","26",null,"18",null,"16",null,null,null,{"$f":"IFERROR(VLOOKUP(I10361,設定・基礎!$G$3:$H$22,2,FALSE),\"\")","v":""}]
[" 26-19-03","26",null,"19",null,"03",null,null,null,{"$f":"IFERROR(VLOOKUP(I10368,設定・基礎!$G$3:$H$22,2,FALSE),\"\")","v":""}]
[" 26-19-18","26",null,"19",null,"18",null,null,null,{"$f":"IFERROR(VLOOKUP(I10383,設定・基礎!$G$3:$H$22,2,FALSE),\"\")","v":""}]
[" 26-20-06","26",null,"20",null,"06",null,null,null,{"$f":"IFERROR(VLOOKUP(I10391,設定・基礎!$G$3:$H$22,2,FALSE),\"\")","v":""}]
[" 26-20-13","26",null,"20",null,"13",null,null,null,{"$f":"IFERROR(VLOOKUP(I10398,設定・基礎!$G$3:$H$22,2,FALSE),\"\")","v":""}]
[" 27-01-05","27",null,"01",null,"05",null,null,null,{"$f":"IFERROR(VLOOKUP(I10410,設定・基礎!$G$3:$H$22,2,FALSE),\"\")","v":""}]
[" 27-01-09","27",null,"01",null,"09",null,null,null,{"$f":"IFERROR(VLOOKUP(I10414,設定・基礎!$G$3:$H$22,2,FALSE),\"\")","v":""}]
[" 27-02-03","27",null,"02",null,"03",null,null,null,{"$f":"IFERROR(VLOOKUP(I10428,設定・基礎!$G$3:$H$22,2,FALSE),\"\")","v":""}]
[" 27-02-06","27",null,"02",null,"06",null,null,null,{"$f":"IFERROR(VLOOKUP(I10431,設定・基礎!$G$3:$H$22,2,FALSE),\"\")","v":""}]
[" 27-02-13","27",null,"02",null,"13",null,null,null,{"$f":"IFERROR(VLOOKUP(I10438,設定・基礎!$G$3:$H$22,2,FALSE),\"\")","v":""}]
[" 27-03-08","27",null,"03",null,"08",null,null,null,{"$f":"IFERROR(VLOOKUP(I10453,設定・基礎!$G$3:$H$22,2,FALSE),\"\")","v":""}]
[" 27-03-16","27",null,"03",null,"16",null,null,null,{"$f":"IFERROR(VLOOKUP(I10461,設定・基礎!$G$3:$H$22,2,FALSE),\"\")","v":""}]
[" 27-04-03","27",null,"04",null,"03",null,null,null,{"$f":"IFERROR(VLOOKUP(I10468,設定・基礎!$G$3:$H$22,2,FALSE),\"\")","v":""}]
[" 27-04-15","27",null,"04",null,"15",null,null,null,{"$f":"IFERROR(VLOOKUP(I10480,設定・基礎!$G$3:$H$22,2,FALSE),\"\")","v":""}]
[" 27-04-19","27",null,"04",null,"19",null,null,null,{"$f":"IFERROR(VLOOKUP(I10484,設定・基礎!$G$3:$H$22,2,FALSE),\"\")","v":""}]
[" 27-05-13","27",null,"05",null,"13",null,null,null,{"$f":"IFERROR(VLOOKUP(I10498,設定・基礎!$G$3:$H$22,2,FALSE),\"\")","v":""}]
[" 27-05-16","27",null,"05",null,"16",null,null,null,{"$f":"IFERROR(VLOOKUP(I10501,設定・基礎!$G$3:$H$22,2,FALSE),\"\")","v":""}]
[" 27-06-03","27",null,"06",null,"03",null,null,null,{"$f":"IFERROR(VLOOKUP(I10508,設定・基礎!$G$3:$H$22,2,FALSE),\"\")","v":""}]
[" 27-06-18","27",null,"06",null,"18",null,null,null,{"$f":"IFERROR(VLOOKUP(I10523,設定・基礎!$G$3:$H$22,2,FALSE),\"\")","v":""}]
[" 27-07-01","27",null,"07",null,"01",null,null,null,{"$f":"IFERROR(VLOOKUP(I10526,設定・基礎!$G$3:$H$22,2,FALSE),\"\")","v":""}]
[" 27-07-13","27",null,"07",null,"13",null,null,null,{"$f":"IFERROR(VLOOKUP(I10538,設定・基礎!$G$3:$H$22,2,FALSE),\"\")","v":""}]
[" 27-08-05","27",null,"08",null,"05",null,null,null,{"$f":"IFERROR(VLOOKUP(I10550,設定・基礎!$G$3:$H$22,2,FALSE),\"\")","v":""}]
[" 27-08-09","27",null,"08",null,"09",null,null,null,{"$f":"IFERROR(VLOOKUP(I10554,設定・基礎!$G$3:$H$22,2,FALSE),\"\")","v":""}]
[" 27-09-03","27",null,"09",null,"03",null,null,null,{"$f":"IFERROR(VLOOKUP(I10568,設定・基礎!$G$3:$H$22,2,FALSE),\"\")","v":""}]
[" 27-09-06","27",null,"09",null,"06",null,null,null,{"$f":"IFERROR(VLOOKUP(I10571,設定・基礎!$G$3:$H$22,2,FALSE),\"\")","v":""}]
[" 27-09-13","27",null,"09",null,"13",null,null,null,{"$f":"IFERROR(VLOOKUP(I10578,設定・基礎!$G$3:$H$22,2,FALSE),\"\")","v":""}]
[" 27-10-08","27",null,"10",null,"08",null,null,null,{"$f":"IFERROR(VLOOKUP(I10593,設定・基礎!$G$3:$H$22,2,FALSE),\"\")","v":""}]
[" 27-10-11","27",null,"10",null,"11",null,null,null,{"$f":"IFERROR(VLOOKUP(I10596,設定・基礎!$G$3:$H$22,2,FALSE),\"\")","v":""}]
[" 27-11-03","27",null,"11",null,"03",null,null,null,{"$f":"IFERROR(VLOOKUP(I10608,設定・基礎!$G$3:$H$22,2,FALSE),\"\")","v":""}]
[" 27-11-15","27",null,"11",null,"15",null,null,null,{"$f":"IFERROR(VLOOKUP(I10620,設定・基礎!$G$3:$H$22,2,FALSE),\"\")","v":""}]
[" 27-11-19","27",null,"11",null,"19",null,null,null,{"$f":"IFERROR(VLOOKUP(I10624,設定・基礎!$G$3:$H$22,2,FALSE),\"\")","v":""}]
[" 27-12-13","27",null,"12",null,"13",null,null,null,{"$f":"IFERROR(VLOOKUP(I10638,設定・基礎!$G$3:$H$22,2,FALSE),\"\")","v":""}]
[" 27-12-20","27",null,"12",null,"20",null,null,null,{"$f":"IFERROR(VLOOKUP(I10645,設定・基礎!$G$3:$H$22,2,FALSE),\"\")","v":""}]
[" 27-13-03","27",null,"13",null,"03",null,null,null,{"$f":"IFERROR(VLOOKUP(I10648,設定・基礎!$G$3:$H$22,2,FALSE),\"\")","v":""}]
[" 27-13-18","27",null,"13",null,"18",null,null,null,{"$f":"IFERROR(VLOOKUP(I10663,設定・基礎!$G$3:$H$22,2,FALSE),\"\")","v":""}]
[" 27-14-01","27",null,"14",null,"01",null,null,null,{"$f":"IFERROR(VLOOKUP(I10666,設定・基礎!$G$3:$H$22,2,FALSE),\"\")","v":""}]
[" 27-14-13","27",null,"14",null,"13",null,null,null,{"$f":"IFERROR(VLOOKUP(I10678,設定・基礎!$G$3:$H$22,2,FALSE),\"\")","v":""}]
[" 27-15-05","27",null,"15",null,"05",null,null,null,{"$f":"IFERROR(VLOOKUP(I10690,設定・基礎!$G$3:$H$22,2,FALSE),\"\")","v":""}]
[" 27-15-09","27",null,"15",null,"09",null,null,null,{"$f":"IFERROR(VLOOKUP(I10694,設定・基礎!$G$3:$H$22,2,FALSE),\"\")","v":""}]
[" 27-16-03","27",null,"16",null,"03",null,null,null,{"$f":"IFERROR(VLOOKUP(I10708,設定・基礎!$G$3:$H$22,2,FALSE),\"\")","v":""}]
[" 27-16-10","27",null,"16",null,"10",null,null,null,{"$f":"IFERROR(VLOOKUP(I10715,設定・基礎!$G$3:$H$22,2,FALSE),\"\")","v":""}]
[" 27-16-13","27",null,"16",null,"13",null,null,null,{"$f":"IFERROR(VLOOKUP(I10718,設定・基礎!$G$3:$H$22,2,FALSE),\"\")","v":""}]
[" 27-17-08","27",null,"17",null,"08",null,null,null,{"$f":"IFERROR(VLOOKUP(I10733,設定・基礎!$G$3:$H$22,2,FALSE),\"\")","v":""}]
[" 27-17-11","27",null,"17",null,"11",null,null,null,{"$f":"IFERROR(VLOOKUP(I10736,設定・基礎!$G$3:$H$22,2,FALSE),\"\")","v":""}]
[" 27-18-03","27",null,"18",null,"03",null,null,null,{"$f":"IFERROR(VLOOKUP(I10748,設定・基礎!$G$3:$H$22,2,FALSE),\"\")","v":""}]
[" 27-18-15","27",null,"18",null,"15",null,null,null,{"$f":"IFERROR(VLOOKUP(I10760,設定・基礎!$G$3:$H$22,2,FALSE),\"\")","v":""}]
[" 27-19-02","27",null,"19",null,"02",null,null,null,{"$f":"IFERROR(VLOOKUP(I10767,設定・基礎!$G$3:$H$22,2,FALSE),\"\")","v":""}]
[" 27-19-09","27",null,"19",null,"09",null,null,null,{"$f":"IFERROR(VLOOKUP(I10774,設定・基礎!$G$3:$H$22,2,FALSE),\"\")","v":""}]
[" 27-19-20","27",null,"19",null,"20",null,null,null,{"$f":"IFERROR(VLOOKUP(I10785,設定・基礎!$G$3:$H$22,2,FALSE),\"\")","v":""}]
[" 27-20-03","27",null,"20",null,"03",null,null,null,{"$f":"IFERROR(VLOOKUP(I10788,設定・基礎!$G$3:$H$22,2,FALSE),\"\")","v":""}]
[" 27-20-15","27",null,"20",null,"15",null,null,null,{"$f":"IFERROR(VLOOKUP(I10800,設定・基礎!$G$3:$H$22,2,FALSE),\"\")","v":""}]
[" 28-01-08","28",null,"01",null,"08",null,null,null,{"$f":"IFERROR(VLOOKUP(I10813,設定・基礎!$G$3:$H$22,2,FALSE),\"\")","v":""}]
[" 28-01-13","28",null,"01",null,"13",null,null,null,{"$f":"IFERROR(VLOOKUP(I10818,設定・基礎!$G$3:$H$22,2,FALSE),\"\")","v":""}]
[" 28-01-20","28",null,"01",null,"20",null,null,null,{"$f":"IFERROR(VLOOKUP(I10825,設定・基礎!$G$3:$H$22,2,FALSE),\"\")","v":""}]
[" 28-02-12","28",null,"02",null,"12",null,null,null,{"$f":"IFERROR(VLOOKUP(I10837,設定・基礎!$G$3:$H$22,2,FALSE),\"\")","v":""}]
[" 28-02-19","28",null,"02",null,"19",null,null,null,{"$f":"IFERROR(VLOOKUP(I10844,設定・基礎!$G$3:$H$22,2,FALSE),\"\")","v":""}]
[" 28-03-10","28",null,"03",null,"10",null,null,null,{"$f":"IFERROR(VLOOKUP(I10855,設定・基礎!$G$3:$H$22,2,FALSE),\"\")","v":""}]
[" 28-03-13","28",null,"03",null,"13",null,null,null,{"$f":"IFERROR(VLOOKUP(I10858,設定・基礎!$G$3:$H$22,2,FALSE),\"\")","v":""}]
[" 28-04-05","28",null,"04",null,"05",null,null,null,{"$f":"IFERROR(VLOOKUP(I10870,設定・基礎!$G$3:$H$22,2,FALSE),\"\")","v":""}]
[" 28-04-18","28",null,"04",null,"18",null,null,null,{"$f":"IFERROR(VLOOKUP(I10883,設定・基礎!$G$3:$H$22,2,FALSE),\"\")","v":""}]
[" 28-05-03","28",null,"05",null,"03",null,null,null,{"$f":"IFERROR(VLOOKUP(I10888,設定・基礎!$G$3:$H$22,2,FALSE),\"\")","v":""}]
[" 28-05-10","28",null,"05",null,"10",null,null,null,{"$f":"IFERROR(VLOOKUP(I10895,設定・基礎!$G$3:$H$22,2,FALSE),\"\")","v":""}]
[" 28-06-02","28",null,"06",null,"02",null,null,null,{"$f":"IFERROR(VLOOKUP(I10907,設定・基礎!$G$3:$H$22,2,FALSE),\"\")","v":""}]
[" 28-06-09","28",null,"06",null,"09",null,null,null,{"$f":"IFERROR(VLOOKUP(I10914,設定・基礎!$G$3:$H$22,2,FALSE),\"\")","v":""}]
[" 28-06-20","28",null,"06",null,"20",null,null,null,{"$f":"IFERROR(VLOOKUP(I10925,設定・基礎!$G$3:$H$22,2,FALSE),\"\")","v":""}]
[" 28-07-03","28",null,"07",null,"03",null,null,null,{"$f":"IFERROR(VLOOKUP(I10928,設定・基礎!$G$3:$H$22,2,FALSE),\"\")","v":""}]
[" 28-07-15","28",null,"07",null,"15",null,null,null,{"$f":"IFERROR(VLOOKUP(I10940,設定・基礎!$G$3:$H$22,2,FALSE),\"\")","v":""}]
[" 28-08-08","28",null,"08",null,"08",null,null,null,{"$f":"IFERROR(VLOOKUP(I10953,設定・基礎!$G$3:$H$22,2,FALSE),\"\")","v":""}]
[" 28-08-13","28",null,"08",null,"13",null,null,null,{"$f":"IFERROR(VLOOKUP(I10958,設定・基礎!$G$3:$H$22,2,FALSE),\"\")","v":""}]
[" 28-08-20","28",null,"08",null,"20",null,null,null,{"$f":"IFERROR(VLOOKUP(I10965,設定・基礎!$G$3:$H$22,2,FALSE),\"\")","v":""}]
[" 28-09-12","28",null,"09",null,"12",null,null,null,{"$f":"IFERROR(VLOOKUP(I10977,設定・基礎!$G$3:$H$22,2,FALSE),\"\")","v":""}]
[" 28-09-19","28",null,"09",null,"19",null,null,null,{"$f":"IFERROR(VLOOKUP(I10984,設定・基礎!$G$3:$H$22,2,FALSE),\"\")","v":""}]
[" 28-10-10","28",null,"10",null,"10",null,null,null,{"$f":"IFERROR(VLOOKUP(I10995,設定・基礎!$G$3:$H$22,2,FALSE),\"\")","v":""}]
[" 28-10-13","28",null,"10",null,"13",null,null,null,{"$f":"IFERROR(VLOOKUP(I10998,設定・基礎!$G$3:$H$22,2,FALSE),\"\")","v":""}]
[" 28-11-09","28",null,"11",null,"09",null,null,null,{"$f":"IFERROR(VLOOKUP(I11014,設定・基礎!$G$3:$H$22,2,FALSE),\"\")","v":""}]
[" 28-11-18","28",null,"11",null,"18",null,null,null,{"$f":"IFERROR(VLOOKUP(I11023,設定・基礎!$G$3:$H$22,2,FALSE),\"\")","v":""}]
[" 28-12-03","28",null,"12",null,"03",null,null,null,{"$f":"IFERROR(VLOOKUP(I11028,設定・基礎!$G$3:$H$22,2,FALSE),\"\")","v":""}]
[" 28-12-10","28",null,"12",null,"10",null,null,null,{"$f":"IFERROR(VLOOKUP(I11035,設定・基礎!$G$3:$H$22,2,FALSE),\"\")","v":""}]
[" 28-13-02","28",null,"13",null,"02",null,null,null,{"$f":"IFERROR(VLOOKUP(I11047,設定・基礎!$G$3:$H$22,2,FALSE),\"\")","v":""}]
[" 28-13-09","28",null,"13",null,"09",null,null,null,{"$f":"IFERROR(VLOOKUP(I11054,設定・基礎!$G$3:$H$22,2,FALSE),\"\")","v":""}]
[" 28-13-20","28",null,"13",null,"20",null,null,null,{"$f":"IFERROR(VLOOKUP(I11065,設定・基礎!$G$3:$H$22,2,FALSE),\"\")","v":""}]
[" 28-14-03","28",null,"14",null,"03",null,null,null,{"$f":"IFERROR(VLOOKUP(I11068,設定・基礎!$G$3:$H$22,2,FALSE),\"\")","v":""}]
[" 28-14-19","28",null,"14",null,"19",null,null,null,{"$f":"IFERROR(VLOOKUP(I11084,設定・基礎!$G$3:$H$22,2,FALSE),\"\")","v":""}]
[" 28-15-08","28",null,"15",null,"08",null,null,null,{"$f":"IFERROR(VLOOKUP(I11093,設定・基礎!$G$3:$H$22,2,FALSE),\"\")","v":""}]
[" 28-15-13","28",null,"15",null,"13",null,null,null,{"$f":"IFERROR(VLOOKUP(I11098,設定・基礎!$G$3:$H$22,2,FALSE),\"\")","v":""}]
[" 28-15-20","28",null,"15",null,"20",null,null,null,{"$f":"IFERROR(VLOOKUP(I11105,設定・基礎!$G$3:$H$22,2,FALSE),\"\")","v":""}]
[" 28-16-12","28",null,"16",null,"12",null,null,null,{"$f":"IFERROR(VLOOKUP(I11117,設定・基礎!$G$3:$H$22,2,FALSE),\"\")","v":""}]
[" 28-16-19","28",null,"16",null,"19",null,null,null,{"$f":"IFERROR(VLOOKUP(I11124,設定・基礎!$G$3:$H$22,2,FALSE),\"\")","v":""}]
[" 28-17-10","28",null,"17",null,"10",null,null,null,{"$f":"IFERROR(VLOOKUP(I11135,設定・基礎!$G$3:$H$22,2,FALSE),\"\")","v":""}]
[" 28-17-13","28",null,"17",null,"13",null,null,null,{"$f":"IFERROR(VLOOKUP(I11138,設定・基礎!$G$3:$H$22,2,FALSE),\"\")","v":""}]
[" 28-18-09","28",null,"18",null,"09",null,null,null,{"$f":"IFERROR(VLOOKUP(I11154,設定・基礎!$G$3:$H$22,2,FALSE),\"\")","v":""}]
[" 28-18-18","28",null,"18",null,"18",null,null,null,{"$f":"IFERROR(VLOOKUP(I11163,設定・基礎!$G$3:$H$22,2,FALSE),\"\")","v":""}]
[" 28-19-03","28",null,"19",null,"03",null,null,null,{"$f":"IFERROR(VLOOKUP(I11168,設定・基礎!$G$3:$H$22,2,FALSE),\"\")","v":""}]
[" 28-19-10","28",null,"19",null,"10",null,null,null,{"$f":"IFERROR(VLOOKUP(I11175,設定・基礎!$G$3:$H$22,2,FALSE),\"\")","v":""}]
[" 28-20-02","28",null,"20",null,"02",null,null,null,{"$f":"IFERROR(VLOOKUP(I11187,設定・基礎!$G$3:$H$22,2,FALSE),\"\")","v":""}]
[" 28-20-09","28",null,"20",null,"09",null,null,null,{"$f":"IFERROR(VLOOKUP(I11194,設定・基礎!$G$3:$H$22,2,FALSE),\"\")","v":""}]
[" 28-20-20","28",null,"20",null,"20",null,null,null,{"$f":"IFERROR(VLOOKUP(I11205,設定・基礎!$G$3:$H$22,2,FALSE),\"\")","v":""}]
[" 29-01-03","29",null,"01",null,"03",null,null,null,{"$f":"IFERROR(VLOOKUP(I11208,設定・基礎!$G$3:$H$22,2,FALSE),\"\")","v":""}]
[" 29-01-19","29",null,"01",null,"19",null,null,null,{"$f":"IFERROR(VLOOKUP(I11224,設定・基礎!$G$3:$H$22,2,FALSE),\"\")","v":""}]
[" 29-02-08","29",null,"02",null,"08",null,null,null,{"$f":"IFERROR(VLOOKUP(I11233,設定・基礎!$G$3:$H$22,2,FALSE),\"\")","v":""}]
[" 29-02-13","29",null,"02",null,"13",null,null,null,{"$f":"IFERROR(VLOOKUP(I11238,設定・基礎!$G$3:$H$22,2,FALSE),\"\")","v":""}]
[" 29-02-20","29",null,"02",null,"20",null,null,null,{"$f":"IFERROR(VLOOKUP(I11245,設定・基礎!$G$3:$H$22,2,FALSE),\"\")","v":""}]
[" 29-03-12","29",null,"03",null,"12",null,null,null,{"$f":"IFERROR(VLOOKUP(I11257,設定・基礎!$G$3:$H$22,2,FALSE),\"\")","v":""}]
[" 29-03-19","29",null,"03",null,"19",null,null,null,{"$f":"IFERROR(VLOOKUP(I11264,設定・基礎!$G$3:$H$22,2,FALSE),\"\")","v":""}]
[" 29-04-10","29",null,"04",null,"10",null,null,null,{"$f":"IFERROR(VLOOKUP(I11275,設定・基礎!$G$3:$H$22,2,FALSE),\"\")","v":""}]
[" 29-04-13","29",null,"04",null,"13",null,null,null,{"$f":"IFERROR(VLOOKUP(I11278,設定・基礎!$G$3:$H$22,2,FALSE),\"\")","v":""}]
[" 29-05-09","29",null,"05",null,"09",null,null,null,{"$f":"IFERROR(VLOOKUP(I11294,設定・基礎!$G$3:$H$22,2,FALSE),\"\")","v":""}]
[" 29-05-18","29",null,"05",null,"18",null,null,null,{"$f":"IFERROR(VLOOKUP(I11303,設定・基礎!$G$3:$H$22,2,FALSE),\"\")","v":""}]
[" 29-06-07","29",null,"06",null,"07",null,null,null,{"$f":"IFERROR(VLOOKUP(I11312,設定・基礎!$G$3:$H$22,2,FALSE),\"\")","v":""}]
[" 29-06-10","29",null,"06",null,"10",null,null,null,{"$f":"IFERROR(VLOOKUP(I11315,設定・基礎!$G$3:$H$22,2,FALSE),\"\")","v":""}]
[" 29-07-02","29",null,"07",null,"02",null,null,null,{"$f":"IFERROR(VLOOKUP(I11327,設定・基礎!$G$3:$H$22,2,FALSE),\"\")","v":""}]
[" 29-07-09","29",null,"07",null,"09",null,null,null,{"$f":"IFERROR(VLOOKUP(I11334,設定・基礎!$G$3:$H$22,2,FALSE),\"\")","v":""}]
[" 29-07-20","29",null,"07",null,"20",null,null,null,{"$f":"IFERROR(VLOOKUP(I11345,設定・基礎!$G$3:$H$22,2,FALSE),\"\")","v":""}]
[" 29-08-03","29",null,"08",null,"03",null,null,null,{"$f":"IFERROR(VLOOKUP(I11348,設定・基礎!$G$3:$H$22,2,FALSE),\"\")","v":""}]
[" 29-08-19","29",null,"08",null,"19",null,null,null,{"$f":"IFERROR(VLOOKUP(I11364,設定・基礎!$G$3:$H$22,2,FALSE),\"\")","v":""}]
[" 29-09-08","29",null,"09",null,"08",null,null,null,{"$f":"IFERROR(VLOOKUP(I11373,設定・基礎!$G$3:$H$22,2,FALSE),\"\")","v":""}]
[" 29-09-17","29",null,"09",null,"17",null,null,null,{"$f":"IFERROR(VLOOKUP(I11382,設定・基礎!$G$3:$H$22,2,FALSE),\"\")","v":""}]
[" 29-09-20","29",null,"09",null,"20",null,null,null,{"$f":"IFERROR(VLOOKUP(I11385,設定・基礎!$G$3:$H$22,2,FALSE),\"\")","v":""}]
[" 29-10-12","29",null,"10",null,"12",null,null,null,{"$f":"IFERROR(VLOOKUP(I11397,設定・基礎!$G$3:$H$22,2,FALSE),\"\")","v":""}]
[" 29-10-19","29",null,"10",null,"19",null,null,null,{"$f":"IFERROR(VLOOKUP(I11404,設定・基礎!$G$3:$H$22,2,FALSE),\"\")","v":""}]
[" 29-11-10","29",null,"11",null,"10",null,null,null,{"$f":"IFERROR(VLOOKUP(I11415,設定・基礎!$G$3:$H$22,2,FALSE),\"\")","v":""}]
[" 29-11-13","29",null,"11",null,"13",null,null,null,{"$f":"IFERROR(VLOOKUP(I11418,設定・基礎!$G$3:$H$22,2,FALSE),\"\")","v":""}]
[" 29-12-09","29",null,"12",null,"09",null,null,null,{"$f":"IFERROR(VLOOKUP(I11434,設定・基礎!$G$3:$H$22,2,FALSE),\"\")","v":""}]
[" 29-12-18","29",null,"12",null,"18",null,null,null,{"$f":"IFERROR(VLOOKUP(I11443,設定・基礎!$G$3:$H$22,2,FALSE),\"\")","v":""}]
[" 29-13-07","29",null,"13",null,"07",null,null,null,{"$f":"IFERROR(VLOOKUP(I11452,設定・基礎!$G$3:$H$22,2,FALSE),\"\")","v":""}]
[" 29-13-10","29",null,"13",null,"10",null,null,null,{"$f":"IFERROR(VLOOKUP(I11455,設定・基礎!$G$3:$H$22,2,FALSE),\"\")","v":""}]
[" 29-14-02","29",null,"14",null,"02",null,null,null,{"$f":"IFERROR(VLOOKUP(I11467,設定・基礎!$G$3:$H$22,2,FALSE),\"\")","v":""}]
[" 29-14-09","29",null,"14",null,"09",null,null,null,{"$f":"IFERROR(VLOOKUP(I11474,設定・基礎!$G$3:$H$22,2,FALSE),\"\")","v":""}]
[" 29-14-20","29",null,"14",null,"20",null,null,null,{"$f":"IFERROR(VLOOKUP(I11485,設定・基礎!$G$3:$H$22,2,FALSE),\"\")","v":""}]
[" 29-15-07","29",null,"15",null,"07",null,null,null,{"$f":"IFERROR(VLOOKUP(I11492,設定・基礎!$G$3:$H$22,2,FALSE),\"\")","v":""}]
[" 29-15-19","29",null,"15",null,"19",null,null,null,{"$f":"IFERROR(VLOOKUP(I11504,設定・基礎!$G$3:$H$22,2,FALSE),\"\")","v":""}]
[" 29-16-08","29",null,"16",null,"08",null,null,null,{"$f":"IFERROR(VLOOKUP(I11513,設定・基礎!$G$3:$H$22,2,FALSE),\"\")","v":""}]
[" 29-16-17","29",null,"16",null,"17",null,null,null,{"$f":"IFERROR(VLOOKUP(I11522,設定・基礎!$G$3:$H$22,2,FALSE),\"\")","v":""}]
[" 29-16-20","29",null,"16",null,"20",null,null,null,{"$f":"IFERROR(VLOOKUP(I11525,設定・基礎!$G$3:$H$22,2,FALSE),\"\")","v":""}]
[" 29-17-12","29",null,"17",null,"12",null,null,null,{"$f":"IFERROR(VLOOKUP(I11537,設定・基礎!$G$3:$H$22,2,FALSE),\"\")","v":""}]
[" 29-17-19","29",null,"17",null,"19",null,null,null,{"$f":"IFERROR(VLOOKUP(I11544,設定・基礎!$G$3:$H$22,2,FALSE),\"\")","v":""}]
[" 29-18-10","29",null,"18",null,"10",null,null,null,{"$f":"IFERROR(VLOOKUP(I11555,設定・基礎!$G$3:$H$22,2,FALSE),\"\")","v":""}]
[" 29-18-17","29",null,"18",null,"17",null,null,null,{"$f":"IFERROR(VLOOKUP(I11562,設定・基礎!$G$3:$H$22,2,FALSE),\"\")","v":""}]
[" 29-19-09","29",null,"19",null,"09",null,null,null,{"$f":"IFERROR(VLOOKUP(I11574,設定・基礎!$G$3:$H$22,2,FALSE),\"\")","v":""}]
[" 29-19-18","29",null,"19",null,"18",null,null,null,{"$f":"IFERROR(VLOOKUP(I11583,設定・基礎!$G$3:$H$22,2,FALSE),\"\")","v":""}]
[" 29-20-07","29",null,"20",null,"07",null,null,null,{"$f":"IFERROR(VLOOKUP(I11592,設定・基礎!$G$3:$H$22,2,FALSE),\"\")","v":""}]
[" 29-20-10","29",null,"20",null,"10",null,null,null,{"$f":"IFERROR(VLOOKUP(I11595,設定・基礎!$G$3:$H$22,2,FALSE),\"\")","v":""}]
[" 29-20-17","29",null,"20",null,"17",null,null,null,{"$f":"IFERROR(VLOOKUP(I11602,設定・基礎!$G$3:$H$22,2,FALSE),\"\")","v":""}]
[" 30-01-09","30",null,"01",null,"09",null,null,null,{"$f":"IFERROR(VLOOKUP(I11614,設定・基礎!$G$3:$H$22,2,FALSE),\"\")","v":""}]
[" 30-01-20","30",null,"01",null,"20",null,null,null,{"$f":"IFERROR(VLOOKUP(I11625,設定・基礎!$G$3:$H$22,2,FALSE),\"\")","v":""}]
[" 30-02-07","30",null,"02",null,"07",null,null,null,{"$f":"IFERROR(VLOOKUP(I11632,設定・基礎!$G$3:$H$22,2,FALSE),\"\")","v":""}]
[" 30-02-19","30",null,"02",null,"19",null,null,null,{"$f":"IFERROR(VLOOKUP(I11644,設定・基礎!$G$3:$H$22,2,FALSE),\"\")","v":""}]
[" 30-03-02","30",null,"03",null,"02",null,null,null,{"$f":"IFERROR(VLOOKUP(I11647,設定・基礎!$G$3:$H$22,2,FALSE),\"\")","v":""}]
[" 30-03-10","30",null,"03",null,"10",null,null,null,{"$f":"IFERROR(VLOOKUP(I11655,設定・基礎!$G$3:$H$22,2,FALSE),\"\")","v":""}]
[" 30-03-20","30",null,"03",null,"20",null,null,null,{"$f":"IFERROR(VLOOKUP(I11665,設定・基礎!$G$3:$H$22,2,FALSE),\"\")","v":""}]
[" 30-04-07","30",null,"04",null,"07",null,null,null,{"$f":"IFERROR(VLOOKUP(I11672,設定・基礎!$G$3:$H$22,2,FALSE),\"\")","v":""}]
[" 30-04-19","30",null,"04",null,"19",null,null,null,{"$f":"IFERROR(VLOOKUP(I11684,設定・基礎!$G$3:$H$22,2,FALSE),\"\")","v":""}]
[" 30-05-09","30",null,"05",null,"09",null,null,null,{"$f":"IFERROR(VLOOKUP(I11694,設定・基礎!$G$3:$H$22,2,FALSE),\"\")","v":""}]
[" 30-05-17","30",null,"05",null,"17",null,null,null,{"$f":"IFERROR(VLOOKUP(I11702,設定・基礎!$G$3:$H$22,2,FALSE),\"\")","v":""}]
[" 30-06-09","30",null,"06",null,"09",null,null,null,{"$f":"IFERROR(VLOOKUP(I11714,設定・基礎!$G$3:$H$22,2,FALSE),\"\")","v":""}]
[" 30-06-12","30",null,"06",null,"12",null,null,null,{"$f":"IFERROR(VLOOKUP(I11717,設定・基礎!$G$3:$H$22,2,FALSE),\"\")","v":""}]
[" 30-06-20","30",null,"06",null,"20",null,null,null,{"$f":"IFERROR(VLOOKUP(I11725,設定・基礎!$G$3:$H$22,2,FALSE),\"\")","v":""}]
[" 30-07-10","30",null,"07",null,"10",null,null,null,{"$f":"IFERROR(VLOOKUP(I11735,設定・基礎!$G$3:$H$22,2,FALSE),\"\")","v":""}]
[" 30-07-17","30",null,"07",null,"17",null,null,null,{"$f":"IFERROR(VLOOKUP(I11742,設定・基礎!$G$3:$H$22,2,FALSE),\"\")","v":""}]
[" 30-08-09","30",null,"08",null,"09",null,null,null,{"$f":"IFERROR(VLOOKUP(I11754,設定・基礎!$G$3:$H$22,2,FALSE),\"\")","v":""}]
[" 30-08-19","30",null,"08",null,"19",null,null,null,{"$f":"IFERROR(VLOOKUP(I11764,設定・基礎!$G$3:$H$22,2,FALSE),\"\")","v":""}]
[" 30-09-07","30",null,"09",null,"07",null,null,null,{"$f":"IFERROR(VLOOKUP(I11772,設定・基礎!$G$3:$H$22,2,FALSE),\"\")","v":""}]
[" 30-09-19","30",null,"09",null,"19",null,null,null,{"$f":"IFERROR(VLOOKUP(I11784,設定・基礎!$G$3:$H$22,2,FALSE),\"\")","v":""}]
[" 30-10-06","30",null,"10",null,"06",null,null,null,{"$f":"IFERROR(VLOOKUP(I11791,設定・基礎!$G$3:$H$22,2,FALSE),\"\")","v":""}]
[" 30-10-10","30",null,"10",null,"10",null,null,null,{"$f":"IFERROR(VLOOKUP(I11795,設定・基礎!$G$3:$H$22,2,FALSE),\"\")","v":""}]
[" 30-10-20","30",null,"10",null,"20",null,null,null,{"$f":"IFERROR(VLOOKUP(I11805,設定・基礎!$G$3:$H$22,2,FALSE),\"\")","v":""}]
[" 30-11-07","30",null,"11",null,"07",null,null,null,{"$f":"IFERROR(VLOOKUP(I11812,設定・基礎!$G$3:$H$22,2,FALSE),\"\")","v":""}]
[" 30-11-19","30",null,"11",null,"19",null,null,null,{"$f":"IFERROR(VLOOKUP(I11824,設定・基礎!$G$3:$H$22,2,FALSE),\"\")","v":""}]
[" 30-12-09","30",null,"12",null,"09",null,null,null,{"$f":"IFERROR(VLOOKUP(I11834,設定・基礎!$G$3:$H$22,2,FALSE),\"\")","v":""}]
[" 30-12-17","30",null,"12",null,"17",null,null,null,{"$f":"IFERROR(VLOOKUP(I11842,設定・基礎!$G$3:$H$22,2,FALSE),\"\")","v":""}]
[" 30-13-09","30",null,"13",null,"09",null,null,null,{"$f":"IFERROR(VLOOKUP(I11854,設定・基礎!$G$3:$H$22,2,FALSE),\"\")","v":""}]
[" 30-13-16","30",null,"13",null,"16",null,null,null,{"$f":"IFERROR(VLOOKUP(I11861,設定・基礎!$G$3:$H$22,2,FALSE),\"\")","v":""}]
[" 30-13-20","30",null,"13",null,"20",null,null,null,{"$f":"IFERROR(VLOOKUP(I11865,設定・基礎!$G$3:$H$22,2,FALSE),\"\")","v":""}]
[" 30-14-10","30",null,"14",null,"10",null,null,null,{"$f":"IFERROR(VLOOKUP(I11875,設定・基礎!$G$3:$H$22,2,FALSE),\"\")","v":""}]
[" 30-14-17","30",null,"14",null,"17",null,null,null,{"$f":"IFERROR(VLOOKUP(I11882,設定・基礎!$G$3:$H$22,2,FALSE),\"\")","v":""}]
[" 30-15-09","30",null,"15",null,"09",null,null,null,{"$f":"IFERROR(VLOOKUP(I11894,設定・基礎!$G$3:$H$22,2,FALSE),\"\")","v":""}]
[" 30-15-19","30",null,"15",null,"19",null,null,null,{"$f":"IFERROR(VLOOKUP(I11904,設定・基礎!$G$3:$H$22,2,FALSE),\"\")","v":""}]
[" 30-16-07","30",null,"16",null,"07",null,null,null,{"$f":"IFERROR(VLOOKUP(I11912,設定・基礎!$G$3:$H$22,2,FALSE),\"\")","v":""}]
[" 30-16-19","30",null,"16",null,"19",null,null,null,{"$f":"IFERROR(VLOOKUP(I11924,設定・基礎!$G$3:$H$22,2,FALSE),\"\")","v":""}]
[" 30-17-06","30",null,"17",null,"06",null,null,null,{"$f":"IFERROR(VLOOKUP(I11931,設定・基礎!$G$3:$H$22,2,FALSE),\"\")","v":""}]
[" 30-17-10","30",null,"17",null,"10",null,null,null,{"$f":"IFERROR(VLOOKUP(I11935,設定・基礎!$G$3:$H$22,2,FALSE),\"\")","v":""}]
[" 30-17-20","30",null,"17",null,"20",null,null,null,{"$f":"IFERROR(VLOOKUP(I11945,設定・基礎!$G$3:$H$22,2,FALSE),\"\")","v":""}]
[" 30-18-07","30",null,"18",null,"07",null,null,null,{"$f":"IFERROR(VLOOKUP(I11952,設定・基礎!$G$3:$H$22,2,FALSE),\"\")","v":""}]
[" 30-18-19","30",null,"18",null,"19",null,null,null,{"$f":"IFERROR(VLOOKUP(I11964,設定・基礎!$G$3:$H$22,2,FALSE),\"\")","v":""}]
[" 30-19-09","30",null,"19",null,"09",null,null,null,{"$f":"IFERROR(VLOOKUP(I11974,設定・基礎!$G$3:$H$22,2,FALSE),\"\")","v":""}]
[" 30-19-17","30",null,"19",null,"17",null,null,null,{"$f":"IFERROR(VLOOKUP(I11982,設定・基礎!$G$3:$H$22,2,FALSE),\"\")","v":""}]
[" 30-20-09","30",null,"20",null,"09",null,null,null,{"$f":"IFERROR(VLOOKUP(I11994,設定・基礎!$G$3:$H$22,2,FALSE),\"\")","v":""}]
[" 30-20-16","30",null,"20",null,"16",null,null,null,{"$f":"IFERROR(VLOOKUP(I12001,設定・基礎!$G$3:$H$22,2,FALSE),\"\")","v":""}]
[" 30-20-20","30",null,"20",null,"20",null,null,null,{"$f":"IFERROR(VLOOKUP(I12005,設定・基礎!$G$3:$H$22,2,FALSE),\"\")","v":""}]
[" 31-01-10","31",null,"01",null,"10",null,null,null,{"$f":"IFERROR(VLOOKUP(I12015,設定・基礎!$G$3:$H$22,2,FALSE),\"\")","v":""}]
[" 31-01-17","31",null,"01",null,"17",null,null,null,{"$f":"IFERROR(VLOOKUP(I12022,設定・基礎!$G$3:$H$22,2,FALSE),\"\")","v":""}]
[" 31-02-09","31",null,"02",null,"09",null,null,null,{"$f":"IFERROR(VLOOKUP(I12034,設定・基礎!$G$3:$H$22,2,FALSE),\"\")","v":""}]
[" 31-02-19","31",null,"02",null,"19",null,null,null,{"$f":"IFERROR(VLOOKUP(I12044,設定・基礎!$G$3:$H$22,2,FALSE),\"\")","v":""}]
[" 31-03-07","31",null,"03",null,"07",null,null,null,{"$f":"IFERROR(VLOOKUP(I12052,設定・基礎!$G$3:$H$22,2,FALSE),\"\")","v":""}]
[" 31-03-19","31",null,"03",null,"19",null,null,null,{"$f":"IFERROR(VLOOKUP(I12064,設定・基礎!$G$3:$H$22,2,FALSE),\"\")","v":""}]
[" 31-04-06","31",null,"04",null,"06",null,null,null,{"$f":"IFERROR(VLOOKUP(I12071,設定・基礎!$G$3:$H$22,2,FALSE),\"\")","v":""}]
[" 31-04-10","31",null,"04",null,"10",null,null,null,{"$f":"IFERROR(VLOOKUP(I12075,設定・基礎!$G$3:$H$22,2,FALSE),\"\")","v":""}]
[" 31-05-04","31",null,"05",null,"04",null,null,null,{"$f":"IFERROR(VLOOKUP(I12089,設定・基礎!$G$3:$H$22,2,FALSE),\"\")","v":""}]
[" 31-05-07","31",null,"05",null,"07",null,null,null,{"$f":"IFERROR(VLOOKUP(I12092,設定・基礎!$G$3:$H$22,2,FALSE),\"\")","v":""}]
[" 31-05-19","31",null,"05",null,"19",null,null,null,{"$f":"IFERROR(VLOOKUP(I12104,設定・基礎!$G$3:$H$22,2,FALSE),\"\")","v":""}]
[" 31-06-09","31",null,"06",null,"09",null,null,null,{"$f":"IFERROR(VLOOKUP(I12114,設定・基礎!$G$3:$H$22,2,FALSE),\"\")","v":""}]
[" 31-06-17","31",null,"06",null,"17",null,null,null,{"$f":"IFERROR(VLOOKUP(I12122,設定・基礎!$G$3:$H$22,2,FALSE),\"\")","v":""}]
[" 31-07-09","31",null,"07",null,"09",null,null,null,{"$f":"IFERROR(VLOOKUP(I12134,設定・基礎!$G$3:$H$22,2,FALSE),\"\")","v":""}]
[" 31-07-16","31",null,"07",null,"16",null,null,null,{"$f":"IFERROR(VLOOKUP(I12141,設定・基礎!$G$3:$H$22,2,FALSE),\"\")","v":""}]
[" 31-07-20","31",null,"07",null,"20",null,null,null,{"$f":"IFERROR(VLOOKUP(I12145,設定・基礎!$G$3:$H$22,2,FALSE),\"\")","v":""}]
[" 31-08-14","31",null,"08",null,"14",null,null,null,{"$f":"IFERROR(VLOOKUP(I12159,設定・基礎!$G$3:$H$22,2,FALSE),\"\")","v":""}]
[" 31-08-17","31",null,"08",null,"17",null,null,null,{"$f":"IFERROR(VLOOKUP(I12162,設定・基礎!$G$3:$H$22,2,FALSE),\"\")","v":""}]
[" 31-09-09","31",null,"09",null,"09",null,null,null,{"$f":"IFERROR(VLOOKUP(I12174,設定・基礎!$G$3:$H$22,2,FALSE),\"\")","v":""}]
[" 31-09-19","31",null,"09",null,"19",null,null,null,{"$f":"IFERROR(VLOOKUP(I12184,設定・基礎!$G$3:$H$22,2,FALSE),\"\")","v":""}]
[" 31-10-07","31",null,"10",null,"07",null,null,null,{"$f":"IFERROR(VLOOKUP(I12192,設定・基礎!$G$3:$H$22,2,FALSE),\"\")","v":""}]
[" 31-10-19","31",null,"10",null,"19",null,null,null,{"$f":"IFERROR(VLOOKUP(I12204,設定・基礎!$G$3:$H$22,2,FALSE),\"\")","v":""}]
[" 31-11-06","31",null,"11",null,"06",null,null,null,{"$f":"IFERROR(VLOOKUP(I12211,設定・基礎!$G$3:$H$22,2,FALSE),\"\")","v":""}]
[" 31-11-10","31",null,"11",null,"10",null,null,null,{"$f":"IFERROR(VLOOKUP(I12215,設定・基礎!$G$3:$H$22,2,FALSE),\"\")","v":""}]
[" 31-12-04","31",null,"12",null,"04",null,null,null,{"$f":"IFERROR(VLOOKUP(I12229,設定・基礎!$G$3:$H$22,2,FALSE),\"\")","v":""}]
[" 31-12-07","31",null,"12",null,"07",null,null,null,{"$f":"IFERROR(VLOOKUP(I12232,設定・基礎!$G$3:$H$22,2,FALSE),\"\")","v":""}]
[" 31-12-19","31",null,"12",null,"19",null,null,null,{"$f":"IFERROR(VLOOKUP(I12244,設定・基礎!$G$3:$H$22,2,FALSE),\"\")","v":""}]
[" 31-13-09","31",null,"13",null,"09",null,null,null,{"$f":"IFERROR(VLOOKUP(I12254,設定・基礎!$G$3:$H$22,2,FALSE),\"\")","v":""}]
[" 31-13-17","31",null,"13",null,"17",null,null,null,{"$f":"IFERROR(VLOOKUP(I12262,設定・基礎!$G$3:$H$22,2,FALSE),\"\")","v":""}]
[" 31-14-04","31",null,"14",null,"04",null,null,null,{"$f":"IFERROR(VLOOKUP(I12269,設定・基礎!$G$3:$H$22,2,FALSE),\"\")","v":""}]
[" 31-14-16","31",null,"14",null,"16",null,null,null,{"$f":"IFERROR(VLOOKUP(I12281,設定・基礎!$G$3:$H$22,2,FALSE),\"\")","v":""}]
[" 31-14-20","31",null,"14",null,"20",null,null,null,{"$f":"IFERROR(VLOOKUP(I12285,設定・基礎!$G$3:$H$22,2,FALSE),\"\")","v":""}]
[" 31-15-14","31",null,"15",null,"14",null,null,null,{"$f":"IFERROR(VLOOKUP(I12299,設定・基礎!$G$3:$H$22,2,FALSE),\"\")","v":""}]
[" 31-15-17","31",null,"15",null,"17",null,null,null,{"$f":"IFERROR(VLOOKUP(I12302,設定・基礎!$G$3:$H$22,2,FALSE),\"\")","v":""}]
[" 31-16-09","31",null,"16",null,"09",null,null,null,{"$f":"IFERROR(VLOOKUP(I12314,設定・基礎!$G$3:$H$22,2,FALSE),\"\")","v":""}]
[" 31-16-19","31",null,"16",null,"19",null,null,null,{"$f":"IFERROR(VLOOKUP(I12324,設定・基礎!$G$3:$H$22,2,FALSE),\"\")","v":""}]
[" 31-17-07","31",null,"17",null,"07",null,null,null,{"$f":"IFERROR(VLOOKUP(I12332,設定・基礎!$G$3:$H$22,2,FALSE),\"\")","v":""}]
[" 31-17-14","31",null,"17",null,"14",null,null,null,{"$f":"IFERROR(VLOOKUP(I12339,設定・基礎!$G$3:$H$22,2,FALSE),\"\")","v":""}]
[" 31-18-06","31",null,"18",null,"06",null,null,null,{"$f":"IFERROR(VLOOKUP(I12351,設定・基礎!$G$3:$H$22,2,FALSE),\"\")","v":""}]
[" 31-18-10","31",null,"18",null,"10",null,null,null,{"$f":"IFERROR(VLOOKUP(I12355,設定・基礎!$G$3:$H$22,2,FALSE),\"\")","v":""}]
[" 31-19-04","31",null,"19",null,"04",null,null,null,{"$f":"IFERROR(VLOOKUP(I12369,設定・基礎!$G$3:$H$22,2,FALSE),\"\")","v":""}]
[" 31-19-07","31",null,"19",null,"07",null,null,null,{"$f":"IFERROR(VLOOKUP(I12372,設定・基礎!$G$3:$H$22,2,FALSE),\"\")","v":""}]
[" 31-20-03","31",null,"20",null,"03",null,null,null,{"$f":"IFERROR(VLOOKUP(I12388,設定・基礎!$G$3:$H$22,2,FALSE),\"\")","v":""}]
[" 31-20-09","31",null,"20",null,"09",null,null,null,{"$f":"IFERROR(VLOOKUP(I12394,設定・基礎!$G$3:$H$22,2,FALSE),\"\")","v":""}]
[" 31-20-17","31",null,"20",null,"17",null,null,null,{"$f":"IFERROR(VLOOKUP(I12402,設定・基礎!$G$3:$H$22,2,FALSE),\"\")","v":""}]
[" 32-01-04","32",null,"01",null,"04",null,null,null,{"$f":"IFERROR(VLOOKUP(I12409,設定・基礎!$G$3:$H$22,2,FALSE),\"\")","v":""}]
[" 32-01-16","32",null,"01",null,"16",null,null,null,{"$f":"IFERROR(VLOOKUP(I12421,設定・基礎!$G$3:$H$22,2,FALSE),\"\")","v":""}]
[" 32-01-20","32",null,"01",null,"20",null,null,null,{"$f":"IFERROR(VLOOKUP(I12425,設定・基礎!$G$3:$H$22,2,FALSE),\"\")","v":""}]
[" 32-02-14","32",null,"02",null,"14",null,null,null,{"$f":"IFERROR(VLOOKUP(I12439,設定・基礎!$G$3:$H$22,2,FALSE),\"\")","v":""}]
[" 32-02-17","32",null,"02",null,"17",null,null,null,{"$f":"IFERROR(VLOOKUP(I12442,設定・基礎!$G$3:$H$22,2,FALSE),\"\")","v":""}]
[" 32-03-13","32",null,"03",null,"13",null,null,null,{"$f":"IFERROR(VLOOKUP(I12458,設定・基礎!$G$3:$H$22,2,FALSE),\"\")","v":""}]
[" 32-03-19","32",null,"03",null,"19",null,null,null,{"$f":"IFERROR(VLOOKUP(I12464,設定・基礎!$G$3:$H$22,2,FALSE),\"\")","v":""}]
[" 32-04-07","32",null,"04",null,"07",null,null,null,{"$f":"IFERROR(VLOOKUP(I12472,設定・基礎!$G$3:$H$22,2,FALSE),\"\")","v":""}]
[" 32-04-14","32",null,"04",null,"14",null,null,null,{"$f":"IFERROR(VLOOKUP(I12479,設定・基礎!$G$3:$H$22,2,FALSE),\"\")","v":""}]
[" 32-05-06","32",null,"05",null,"06",null,null,null,{"$f":"IFERROR(VLOOKUP(I12491,設定・基礎!$G$3:$H$22,2,FALSE),\"\")","v":""}]
[" 32-05-18","32",null,"05",null,"18",null,null,null,{"$f":"IFERROR(VLOOKUP(I12503,設定・基礎!$G$3:$H$22,2,FALSE),\"\")","v":""}]
[" 32-05-20","32",null,"05",null,"20",null,null,null,{"$f":"IFERROR(VLOOKUP(I12505,設定・基礎!$G$3:$H$22,2,FALSE),\"\")","v":""}]
[" 32-06-07","32",null,"06",null,"07",null,null,null,{"$f":"IFERROR(VLOOKUP(I12512,設定・基礎!$G$3:$H$22,2,FALSE),\"\")","v":""}]
[" 32-07-03","32",null,"07",null,"03",null,null,null,{"$f":"IFERROR(VLOOKUP(I12528,設定・基礎!$G$3:$H$22,2,FALSE),\"\")","v":""}]
[" 32-07-06","32",null,"07",null,"06",null,null,null,{"$f":"IFERROR(VLOOKUP(I12531,設定・基礎!$G$3:$H$22,2,FALSE),\"\")","v":""}]
[" 32-07-19","32",null,"07",null,"19",null,null,null,{"$f":"IFERROR(VLOOKUP(I12544,設定・基礎!$G$3:$H$22,2,FALSE),\"\")","v":""}]
[" 32-08-04","32",null,"08",null,"04",null,null,null,{"$f":"IFERROR(VLOOKUP(I12549,設定・基礎!$G$3:$H$22,2,FALSE),\"\")","v":""}]
[" 32-08-16","32",null,"08",null,"16",null,null,null,{"$f":"IFERROR(VLOOKUP(I12561,設定・基礎!$G$3:$H$22,2,FALSE),\"\")","v":""}]
[" 32-09-03","32",null,"09",null,"03",null,null,null,{"$f":"IFERROR(VLOOKUP(I12568,設定・基礎!$G$3:$H$22,2,FALSE),\"\")","v":""}]
[" 32-09-10","32",null,"09",null,"10",null,null,null,{"$f":"IFERROR(VLOOKUP(I12575,設定・基礎!$G$3:$H$22,2,FALSE),\"\")","v":""}]
[" 32-09-17","32",null,"09",null,"17",null,null,null,{"$f":"IFERROR(VLOOKUP(I12582,設定・基礎!$G$3:$H$22,2,FALSE),\"\")","v":""}]
[" 32-10-13","32",null,"10",null,"13",null,null,null,{"$f":"IFERROR(VLOOKUP(I12598,設定・基礎!$G$3:$H$22,2,FALSE),\"\")","v":""}]
[" 32-10-16","32",null,"10",null,"16",null,null,null,{"$f":"IFERROR(VLOOKUP(I12601,設定・基礎!$G$3:$H$22,2,FALSE),\"\")","v":""}]
[" 32-11-09","32",null,"11",null,"09",null,null,null,{"$f":"IFERROR(VLOOKUP(I12614,設定・基礎!$G$3:$H$22,2,FALSE),\"\")","v":""}]
[" 32-11-14","32",null,"11",null,"14",null,null,null,{"$f":"IFERROR(VLOOKUP(I12619,設定・基礎!$G$3:$H$22,2,FALSE),\"\")","v":""}]
[" 32-12-06","32",null,"12",null,"06",null,null,null,{"$f":"IFERROR(VLOOKUP(I12631,設定・基礎!$G$3:$H$22,2,FALSE),\"\")","v":""}]
[" 32-12-13","32",null,"12",null,"13",null,null,null,{"$f":"IFERROR(VLOOKUP(I12638,設定・基礎!$G$3:$H$22,2,FALSE),\"\")","v":""}]
[" 32-12-20","32",null,"12",null,"20",null,null,null,{"$f":"IFERROR(VLOOKUP(I12645,設定・基礎!$G$3:$H$22,2,FALSE),\"\")","v":""}]
[" 32-13-07","32",null,"13",null,"07",null,null,null,{"$f":"IFERROR(VLOOKUP(I12652,設定・基礎!$G$3:$H$22,2,FALSE),\"\")","v":""}]
[" 32-14-03","32",null,"14",null,"03",null,null,null,{"$f":"IFERROR(VLOOKUP(I12668,設定・基礎!$G$3:$H$22,2,FALSE),\"\")","v":""}]
[" 32-14-06","32",null,"14",null,"06",null,null,null,{"$f":"IFERROR(VLOOKUP(I12671,設定・基礎!$G$3:$H$22,2,FALSE),\"\")","v":""}]
[" 32-14-19","32",null,"14",null,"19",null,null,null,{"$f":"IFERROR(VLOOKUP(I12684,設定・基礎!$G$3:$H$22,2,FALSE),\"\")","v":""}]
[" 32-15-04","32",null,"15",null,"04",null,null,null,{"$f":"IFERROR(VLOOKUP(I12689,設定・基礎!$G$3:$H$22,2,FALSE),\"\")","v":""}]
[" 32-15-16","32",null,"15",null,"16",null,null,null,{"$f":"IFERROR(VLOOKUP(I12701,設定・基礎!$G$3:$H$22,2,FALSE),\"\")","v":""}]
[" 32-16-03","32",null,"16",null,"03",null,null,null,{"$f":"IFERROR(VLOOKUP(I12708,設定・基礎!$G$3:$H$22,2,FALSE),\"\")","v":""}]
[" 32-16-10","32",null,"16",null,"10",null,null,null,{"$f":"IFERROR(VLOOKUP(I12715,設定・基礎!$G$3:$H$22,2,FALSE),\"\")","v":""}]
[" 32-16-17","32",null,"16",null,"17",null,null,null,{"$f":"IFERROR(VLOOKUP(I12722,設定・基礎!$G$3:$H$22,2,FALSE),\"\")","v":""}]
[" 32-17-13","32",null,"17",null,"13",null,null,null,{"$f":"IFERROR(VLOOKUP(I12738,設定・基礎!$G$3:$H$22,2,FALSE),\"\")","v":""}]
[" 32-17-16","32",null,"17",null,"16",null,null,null,{"$f":"IFERROR(VLOOKUP(I12741,設定・基礎!$G$3:$H$22,2,FALSE),\"\")","v":""}]
[" 32-18-09","32",null,"18",null,"09",null,null,null,{"$f":"IFERROR(VLOOKUP(I12754,設定・基礎!$G$3:$H$22,2,FALSE),\"\")","v":""}]
[" 32-18-14","32",null,"18",null,"14",null,null,null,{"$f":"IFERROR(VLOOKUP(I12759,設定・基礎!$G$3:$H$22,2,FALSE),\"\")","v":""}]
[" 32-19-06","32",null,"19",null,"06",null,null,null,{"$f":"IFERROR(VLOOKUP(I12771,設定・基礎!$G$3:$H$22,2,FALSE),\"\")","v":""}]
[" 32-19-13","32",null,"19",null,"13",null,null,null,{"$f":"IFERROR(VLOOKUP(I12778,設定・基礎!$G$3:$H$22,2,FALSE),\"\")","v":""}]
[" 32-19-20","32",null,"19",null,"20",null,null,null,{"$f":"IFERROR(VLOOKUP(I12785,設定・基礎!$G$3:$H$22,2,FALSE),\"\")","v":""}]
[" 32-20-07","32",null,"20",null,"07",null,null,null,{"$f":"IFERROR(VLOOKUP(I12792,設定・基礎!$G$3:$H$22,2,FALSE),\"\")","v":""}]
[" 33-01-03","33",null,"01",null,"03",null,null,null,{"$f":"IFERROR(VLOOKUP(I12808,設定・基礎!$G$3:$H$22,2,FALSE),\"\")","v":""}]
[" 33-01-06","33",null,"01",null,"06",null,null,null,{"$f":"IFERROR(VLOOKUP(I12811,設定・基礎!$G$3:$H$22,2,FALSE),\"\")","v":""}]
[" 33-01-19","33",null,"01",null,"19",null,null,null,{"$f":"IFERROR(VLOOKUP(I12824,設定・基礎!$G$3:$H$22,2,FALSE),\"\")","v":""}]
[" 33-02-04","33",null,"02",null,"04",null,null,null,{"$f":"IFERROR(VLOOKUP(I12829,設定・基礎!$G$3:$H$22,2,FALSE),\"\")","v":""}]
[" 33-02-16","33",null,"02",null,"16",null,null,null,{"$f":"IFERROR(VLOOKUP(I12841,設定・基礎!$G$3:$H$22,2,FALSE),\"\")","v":""}]
[" 33-03-03","33",null,"03",null,"03",null,null,null,{"$f":"IFERROR(VLOOKUP(I12848,設定・基礎!$G$3:$H$22,2,FALSE),\"\")","v":""}]
[" 33-03-10","33",null,"03",null,"10",null,null,null,{"$f":"IFERROR(VLOOKUP(I12855,設定・基礎!$G$3:$H$22,2,FALSE),\"\")","v":""}]
[" 33-04-01","33",null,"04",null,"01",null,null,null,{"$f":"IFERROR(VLOOKUP(I12866,設定・基礎!$G$3:$H$22,2,FALSE),\"\")","v":""}]
[" 33-04-13","33",null,"04",null,"13",null,null,null,{"$f":"IFERROR(VLOOKUP(I12878,設定・基礎!$G$3:$H$22,2,FALSE),\"\")","v":""}]
[" 33-04-16","33",null,"04",null,"16",null,null,null,{"$f":"IFERROR(VLOOKUP(I12881,設定・基礎!$G$3:$H$22,2,FALSE),\"\")","v":""}]
[" 33-05-09","33",null,"05",null,"09",null,null,null,{"$f":"IFERROR(VLOOKUP(I12894,設定・基礎!$G$3:$H$22,2,FALSE),\"\")","v":""}]
[" 33-05-14","33",null,"05",null,"14",null,null,null,{"$f":"IFERROR(VLOOKUP(I12899,設定・基礎!$G$3:$H$22,2,FALSE),\"\")","v":""}]
[" 33-06-06","33",null,"06",null,"06",null,null,null,{"$f":"IFERROR(VLOOKUP(I12911,設定・基礎!$G$3:$H$22,2,FALSE),\"\")","v":""}]
[" 33-06-13","33",null,"06",null,"13",null,null,null,{"$f":"IFERROR(VLOOKUP(I12918,設定・基礎!$G$3:$H$22,2,FALSE),\"\")","v":""}]
[" 33-06-20","33",null,"06",null,"20",null,null,null,{"$f":"IFERROR(VLOOKUP(I12925,設定・基礎!$G$3:$H$22,2,FALSE),\"\")","v":""}]
[" 33-07-11","33",null,"07",null,"11",null,null,null,{"$f":"IFERROR(VLOOKUP(I12936,設定・基礎!$G$3:$H$22,2,FALSE),\"\")","v":""}]
[" 33-08-03","33",null,"08",null,"03",null,null,null,{"$f":"IFERROR(VLOOKUP(I12948,設定・基礎!$G$3:$H$22,2,FALSE),\"\")","v":""}]
[" 33-08-06","33",null,"08",null,"06",null,null,null,{"$f":"IFERROR(VLOOKUP(I12951,設定・基礎!$G$3:$H$22,2,FALSE),\"\")","v":""}]
[" 33-08-19","33",null,"08",null,"19",null,null,null,{"$f":"IFERROR(VLOOKUP(I12964,設定・基礎!$G$3:$H$22,2,FALSE),\"\")","v":""}]
[" 33-09-04","33",null,"09",null,"04",null,null,null,{"$f":"IFERROR(VLOOKUP(I12969,設定・基礎!$G$3:$H$22,2,FALSE),\"\")","v":""}]
[" 33-09-16","33",null,"09",null,"16",null,null,null,{"$f":"IFERROR(VLOOKUP(I12981,設定・基礎!$G$3:$H$22,2,FALSE),\"\")","v":""}]
[" 33-10-03","33",null,"10",null,"03",null,null,null,{"$f":"IFERROR(VLOOKUP(I12988,設定・基礎!$G$3:$H$22,2,FALSE),\"\")","v":""}]
[" 33-10-10","33",null,"10",null,"10",null,null,null,{"$f":"IFERROR(VLOOKUP(I12995,設定・基礎!$G$3:$H$22,2,FALSE),\"\")","v":""}]
[" 33-11-01","33",null,"11",null,"01",null,null,null,{"$f":"IFERROR(VLOOKUP(I13006,設定・基礎!$G$3:$H$22,2,FALSE),\"\")","v":""}]
[" 33-11-13","33",null,"11",null,"13",null,null,null,{"$f":"IFERROR(VLOOKUP(I13018,設定・基礎!$G$3:$H$22,2,FALSE),\"\")","v":""}]
[" 33-11-16","33",null,"11",null,"16",null,null,null,{"$f":"IFERROR(VLOOKUP(I13021,設定・基礎!$G$3:$H$22,2,FALSE),\"\")","v":""}]
[" 33-12-09","33",null,"12",null,"09",null,null,null,{"$f":"IFERROR(VLOOKUP(I13034,設定・基礎!$G$3:$H$22,2,FALSE),\"\")","v":""}]
[" 33-12-14","33",null,"12",null,"14",null,null,null,{"$f":"IFERROR(VLOOKUP(I13039,設定・基礎!$G$3:$H$22,2,FALSE),\"\")","v":""}]
[" 33-13-01","33",null,"13",null,"01",null,null,null,{"$f":"IFERROR(VLOOKUP(I13046,設定・基礎!$G$3:$H$22,2,FALSE),\"\")","v":""}]
[" 33-13-13","33",null,"13",null,"13",null,null,null,{"$f":"IFERROR(VLOOKUP(I13058,設定・基礎!$G$3:$H$22,2,FALSE),\"\")","v":""}]
[" 33-13-20","33",null,"13",null,"20",null,null,null,{"$f":"IFERROR(VLOOKUP(I13065,設定・基礎!$G$3:$H$22,2,FALSE),\"\")","v":""}]
[" 33-14-11","33",null,"14",null,"11",null,null,null,{"$f":"IFERROR(VLOOKUP(I13076,設定・基礎!$G$3:$H$22,2,FALSE),\"\")","v":""}]
[" 33-15-03","33",null,"15",null,"03",null,null,null,{"$f":"IFERROR(VLOOKUP(I13088,設定・基礎!$G$3:$H$22,2,FALSE),\"\")","v":""}]
[" 33-15-06","33",null,"15",null,"06",null,null,null,{"$f":"IFERROR(VLOOKUP(I13091,設定・基礎!$G$3:$H$22,2,FALSE),\"\")","v":""}]
[" 33-15-19","33",null,"15",null,"19",null,null,null,{"$f":"IFERROR(VLOOKUP(I13104,設定・基礎!$G$3:$H$22,2,FALSE),\"\")","v":""}]
[" 33-16-04","33",null,"16",null,"04",null,null,null,{"$f":"IFERROR(VLOOKUP(I13109,設定・基礎!$G$3:$H$22,2,FALSE),\"\")","v":""}]
[" 33-16-11","33",null,"16",null,"11",null,null,null,{"$f":"IFERROR(VLOOKUP(I13116,設定・基礎!$G$3:$H$22,2,FALSE),\"\")","v":""}]
[" 33-17-03","33",null,"17",null,"03",null,null,null,{"$f":"IFERROR(VLOOKUP(I13128,設定・基礎!$G$3:$H$22,2,FALSE),\"\")","v":""}]
[" 33-17-10","33",null,"17",null,"10",null,null,null,{"$f":"IFERROR(VLOOKUP(I13135,設定・基礎!$G$3:$H$22,2,FALSE),\"\")","v":""}]
[" 33-18-01","33",null,"18",null,"01",null,null,null,{"$f":"IFERROR(VLOOKUP(I13146,設定・基礎!$G$3:$H$22,2,FALSE),\"\")","v":""}]
[" 33-18-13","33",null,"18",null,"13",null,null,null,{"$f":"IFERROR(VLOOKUP(I13158,設定・基礎!$G$3:$H$22,2,FALSE),\"\")","v":""}]
[" 33-18-20","33",null,"18",null,"20",null,null,null,{"$f":"IFERROR(VLOOKUP(I13165,設定・基礎!$G$3:$H$22,2,FALSE),\"\")","v":""}]
[" 33-19-09","33",null,"19",null,"09",null,null,null,{"$f":"IFERROR(VLOOKUP(I13174,設定・基礎!$G$3:$H$22,2,FALSE),\"\")","v":""}]
[" 33-19-14","33",null,"19",null,"14",null,null,null,{"$f":"IFERROR(VLOOKUP(I13179,設定・基礎!$G$3:$H$22,2,FALSE),\"\")","v":""}]
[" 33-20-01","33",null,"20",null,"01",null,null,null,{"$f":"IFERROR(VLOOKUP(I13186,設定・基礎!$G$3:$H$22,2,FALSE),\"\")","v":""}]
[" 33-20-13","33",null,"20",null,"13",null,null,null,{"$f":"IFERROR(VLOOKUP(I13198,設定・基礎!$G$3:$H$22,2,FALSE),\"\")","v":""}]
[" 33-20-20","33",null,"20",null,"20",null,null,null,{"$f":"IFERROR(VLOOKUP(I13205,設定・基礎!$G$3:$H$22,2,FALSE),\"\")","v":""}]
[" 34-01-11","34",null,"01",null,"11",null,null,null,{"$f":"IFERROR(VLOOKUP(I13216,設定・基礎!$G$3:$H$22,2,FALSE),\"\")","v":""}]
[" 34-02-03","34",null,"02",null,"03",null,null,null,{"$f":"IFERROR(VLOOKUP(I13228,設定・基礎!$G$3:$H$22,2,FALSE),\"\")","v":""}]
[" 34-02-10","34",null,"02",null,"10",null,null,null,{"$f":"IFERROR(VLOOKUP(I13235,設定・基礎!$G$3:$H$22,2,FALSE),\"\")","v":""}]
[" 34-02-19","34",null,"02",null,"19",null,null,null,{"$f":"IFERROR(VLOOKUP(I13244,設定・基礎!$G$3:$H$22,2,FALSE),\"\")","v":""}]
[" 34-03-04","34",null,"03",null,"04",null,null,null,{"$f":"IFERROR(VLOOKUP(I13249,設定・基礎!$G$3:$H$22,2,FALSE),\"\")","v":""}]
[" 34-03-11","34",null,"03",null,"11",null,null,null,{"$f":"IFERROR(VLOOKUP(I13256,設定・基礎!$G$3:$H$22,2,FALSE),\"\")","v":""}]
[" 34-04-03","34",null,"04",null,"03",null,null,null,{"$f":"IFERROR(VLOOKUP(I13268,設定・基礎!$G$3:$H$22,2,FALSE),\"\")","v":""}]
[" 34-04-10","34",null,"04",null,"10",null,null,null,{"$f":"IFERROR(VLOOKUP(I13275,設定・基礎!$G$3:$H$22,2,FALSE),\"\")","v":""}]
[" 34-05-01","34",null,"05",null,"01",null,null,null,{"$f":"IFERROR(VLOOKUP(I13286,設定・基礎!$G$3:$H$22,2,FALSE),\"\")","v":""}]
[" 34-05-13","34",null,"05",null,"13",null,null,null,{"$f":"IFERROR(VLOOKUP(I13298,設定・基礎!$G$3:$H$22,2,FALSE),\"\")","v":""}]
[" 34-05-20","34",null,"05",null,"20",null,null,null,{"$f":"IFERROR(VLOOKUP(I13305,設定・基礎!$G$3:$H$22,2,FALSE),\"\")","v":""}]
[" 34-06-09","34",null,"06",null,"09",null,null,null,{"$f":"IFERROR(VLOOKUP(I13314,設定・基礎!$G$3:$H$22,2,FALSE),\"\")","v":""}]
[" 34-06-14","34",null,"06",null,"14",null,null,null,{"$f":"IFERROR(VLOOKUP(I13319,設定・基礎!$G$3:$H$22,2,FALSE),\"\")","v":""}]
[" 34-07-01","34",null,"07",null,"01",null,null,null,{"$f":"IFERROR(VLOOKUP(I13326,設定・基礎!$G$3:$H$22,2,FALSE),\"\")","v":""}]
[" 34-07-13","34",null,"07",null,"13",null,null,null,{"$f":"IFERROR(VLOOKUP(I13338,設定・基礎!$G$3:$H$22,2,FALSE),\"\")","v":""}]
[" 34-07-20","34",null,"07",null,"20",null,null,null,{"$f":"IFERROR(VLOOKUP(I13345,設定・基礎!$G$3:$H$22,2,FALSE),\"\")","v":""}]
[" 34-08-11","34",null,"08",null,"11",null,null,null,{"$f":"IFERROR(VLOOKUP(I13356,設定・基礎!$G$3:$H$22,2,FALSE),\"\")","v":""}]
[" 34-09-03","34",null,"09",null,"03",null,null,null,{"$f":"IFERROR(VLOOKUP(I13368,設定・基礎!$G$3:$H$22,2,FALSE),\"\")","v":""}]
[" 34-09-10","34",null,"09",null,"10",null,null,null,{"$f":"IFERROR(VLOOKUP(I13375,設定・基礎!$G$3:$H$22,2,FALSE),\"\")","v":""}]
[" 34-10-02","34",null,"10",null,"02",null,null,null,{"$f":"IFERROR(VLOOKUP(I13387,設定・基礎!$G$3:$H$22,2,FALSE),\"\")","v":""}]
[" 34-10-09","34",null,"10",null,"09",null,null,null,{"$f":"IFERROR(VLOOKUP(I13394,設定・基礎!$G$3:$H$22,2,FALSE),\"\")","v":""}]
[" 34-10-11","34",null,"10",null,"11",null,null,null,{"$f":"IFERROR(VLOOKUP(I13396,設定・基礎!$G$3:$H$22,2,FALSE),\"\")","v":""}]
[" 34-11-03","34",null,"11",null,"03",null,null,null,{"$f":"IFERROR(VLOOKUP(I13408,設定・基礎!$G$3:$H$22,2,FALSE),\"\")","v":""}]
[" 34-11-10","34",null,"11",null,"10",null,null,null,{"$f":"IFERROR(VLOOKUP(I13415,設定・基礎!$G$3:$H$22,2,FALSE),\"\")","v":""}]
[" 34-11-20","34",null,"11",null,"20",null,null,null,{"$f":"IFERROR(VLOOKUP(I13425,設定・基礎!$G$3:$H$22,2,FALSE),\"\")","v":""}]
[" 34-12-13","34",null,"12",null,"13",null,null,null,{"$f":"IFERROR(VLOOKUP(I13438,設定・基礎!$G$3:$H$22,2,FALSE),\"\")","v":""}]
[" 34-12-20","34",null,"12",null,"20",null,null,null,{"$f":"IFERROR(VLOOKUP(I13445,設定・基礎!$G$3:$H$22,2,FALSE),\"\")","v":""}]
[" 34-13-12","34",null,"13",null,"12",null,null,null,{"$f":"IFERROR(VLOOKUP(I13457,設定・基礎!$G$3:$H$22,2,FALSE),\"\")","v":""}]
[" 34-13-19","34",null,"13",null,"19",null,null,null,{"$f":"IFERROR(VLOOKUP(I13464,設定・基礎!$G$3:$H$22,2,FALSE),\"\")","v":""}]
[" 34-14-01","34",null,"14",null,"01",null,null,null,{"$f":"IFERROR(VLOOKUP(I13466,設定・基礎!$G$3:$H$22,2,FALSE),\"\")","v":""}]
[" 34-14-13","34",null,"14",null,"13",null,null,null,{"$f":"IFERROR(VLOOKUP(I13478,設定・基礎!$G$3:$H$22,2,FALSE),\"\")","v":""}]
[" 34-14-20","34",null,"14",null,"20",null,null,null,{"$f":"IFERROR(VLOOKUP(I13485,設定・基礎!$G$3:$H$22,2,FALSE),\"\")","v":""}]
[" 34-15-10","34",null,"15",null,"10",null,null,null,{"$f":"IFERROR(VLOOKUP(I13495,設定・基礎!$G$3:$H$22,2,FALSE),\"\")","v":""}]
[" 34-16-03","34",null,"16",null,"03",null,null,null,{"$f":"IFERROR(VLOOKUP(I13508,設定・基礎!$G$3:$H$22,2,FALSE),\"\")","v":""}]
[" 34-16-10","34",null,"16",null,"10",null,null,null,{"$f":"IFERROR(VLOOKUP(I13515,設定・基礎!$G$3:$H$22,2,FALSE),\"\")","v":""}]
[" 34-17-02","34",null,"17",null,"02",null,null,null,{"$f":"IFERROR(VLOOKUP(I13527,設定・基礎!$G$3:$H$22,2,FALSE),\"\")","v":""}]
[" 34-17-09","34",null,"17",null,"09",null,null,null,{"$f":"IFERROR(VLOOKUP(I13534,設定・基礎!$G$3:$H$22,2,FALSE),\"\")","v":""}]
[" 34-17-11","34",null,"17",null,"11",null,null,null,{"$f":"IFERROR(VLOOKUP(I13536,設定・基礎!$G$3:$H$22,2,FALSE),\"\")","v":""}]
[" 34-18-03","34",null,"18",null,"03",null,null,null,{"$f":"IFERROR(VLOOKUP(I13548,設定・基礎!$G$3:$H$22,2,FALSE),\"\")","v":""}]
[" 34-18-10","34",null,"18",null,"10",null,null,null,{"$f":"IFERROR(VLOOKUP(I13555,設定・基礎!$G$3:$H$22,2,FALSE),\"\")","v":""}]
[" 34-18-20","34",null,"18",null,"20",null,null,null,{"$f":"IFERROR(VLOOKUP(I13565,設定・基礎!$G$3:$H$22,2,FALSE),\"\")","v":""}]
[" 34-19-13","34",null,"19",null,"13",null,null,null,{"$f":"IFERROR(VLOOKUP(I13578,設定・基礎!$G$3:$H$22,2,FALSE),\"\")","v":""}]
[" 34-19-20","34",null,"19",null,"20",null,null,null,{"$f":"IFERROR(VLOOKUP(I13585,設定・基礎!$G$3:$H$22,2,FALSE),\"\")","v":""}]
[" 34-20-12","34",null,"20",null,"12",null,null,null,{"$f":"IFERROR(VLOOKUP(I13597,設定・基礎!$G$3:$H$22,2,FALSE),\"\")","v":""}]
[" 34-20-19","34",null,"20",null,"19",null,null,null,{"$f":"IFERROR(VLOOKUP(I13604,設定・基礎!$G$3:$H$22,2,FALSE),\"\")","v":""}]
[" 35-01-01","35",null,"01",null,"01",null,null,null,{"$f":"IFERROR(VLOOKUP(I13606,設定・基礎!$G$3:$H$22,2,FALSE),\"\")","v":""}]
[" 35-01-13","35",null,"01",null,"13",null,null,null,{"$f":"IFERROR(VLOOKUP(I13618,設定・基礎!$G$3:$H$22,2,FALSE),\"\")","v":""}]
[" 35-01-20","35",null,"01",null,"20",null,null,null,{"$f":"IFERROR(VLOOKUP(I13625,設定・基礎!$G$3:$H$22,2,FALSE),\"\")","v":""}]
[" 35-02-10","35",null,"02",null,"10",null,null,null,{"$f":"IFERROR(VLOOKUP(I13635,設定・基礎!$G$3:$H$22,2,FALSE),\"\")","v":""}]
[" 35-02-18","35",null,"02",null,"18",null,null,null,{"$f":"IFERROR(VLOOKUP(I13643,設定・基礎!$G$3:$H$22,2,FALSE),\"\")","v":""}]
[" 35-03-10","35",null,"03",null,"10",null,null,null,{"$f":"IFERROR(VLOOKUP(I13655,設定・基礎!$G$3:$H$22,2,FALSE),\"\")","v":""}]
[" 35-04-02","35",null,"04",null,"02",null,null,null,{"$f":"IFERROR(VLOOKUP(I13667,設定・基礎!$G$3:$H$22,2,FALSE),\"\")","v":""}]
[" 35-04-09","35",null,"04",null,"09",null,null,null,{"$f":"IFERROR(VLOOKUP(I13674,設定・基礎!$G$3:$H$22,2,FALSE),\"\")","v":""}]
[" 35-04-11","35",null,"04",null,"11",null,null,null,{"$f":"IFERROR(VLOOKUP(I13676,設定・基礎!$G$3:$H$22,2,FALSE),\"\")","v":""}]
[" 35-05-03","35",null,"05",null,"03",null,null,null,{"$f":"IFERROR(VLOOKUP(I13688,設定・基礎!$G$3:$H$22,2,FALSE),\"\")","v":""}]
[" 35-05-10","35",null,"05",null,"10",null,null,null,{"$f":"IFERROR(VLOOKUP(I13695,設定・基礎!$G$3:$H$22,2,FALSE),\"\")","v":""}]
[" 35-05-20","35",null,"05",null,"20",null,null,null,{"$f":"IFERROR(VLOOKUP(I13705,設定・基礎!$G$3:$H$22,2,FALSE),\"\")","v":""}]
[" 35-06-08","35",null,"06",null,"08",null,null,null,{"$f":"IFERROR(VLOOKUP(I13713,設定・基礎!$G$3:$H$22,2,FALSE),\"\")","v":""}]
[" 35-06-20","35",null,"06",null,"20",null,null,null,{"$f":"IFERROR(VLOOKUP(I13725,設定・基礎!$G$3:$H$22,2,FALSE),\"\")","v":""}]
[" 35-07-12","35",null,"07",null,"12",null,null,null,{"$f":"IFERROR(VLOOKUP(I13737,設定・基礎!$G$3:$H$22,2,FALSE),\"\")","v":""}]
[" 35-07-19","35",null,"07",null,"19",null,null,null,{"$f":"IFERROR(VLOOKUP(I13744,設定・基礎!$G$3:$H$22,2,FALSE),\"\")","v":""}]
[" 35-08-01","35",null,"08",null,"01",null,null,null,{"$f":"IFERROR(VLOOKUP(I13746,設定・基礎!$G$3:$H$22,2,FALSE),\"\")","v":""}]
[" 35-08-13","35",null,"08",null,"13",null,null,null,{"$f":"IFERROR(VLOOKUP(I13758,設定・基礎!$G$3:$H$22,2,FALSE),\"\")","v":""}]
[" 35-08-20","35",null,"08",null,"20",null,null,null,{"$f":"IFERROR(VLOOKUP(I13765,設定・基礎!$G$3:$H$22,2,FALSE),\"\")","v":""}]
[" 35-09-10","35",null,"09",null,"10",null,null,null,{"$f":"IFERROR(VLOOKUP(I13775,設定・基礎!$G$3:$H$22,2,FALSE),\"\")","v":""}]
[" 35-09-18","35",null,"09",null,"18",null,null,null,{"$f":"IFERROR(VLOOKUP(I13783,設定・基礎!$G$3:$H$22,2,FALSE),\"\")","v":""}]
[" 35-10-10","35",null,"10",null,"10",null,null,null,{"$f":"IFERROR(VLOOKUP(I13795,設定・基礎!$G$3:$H$22,2,FALSE),\"\")","v":""}]
[" 35-11-02","35",null,"11",null,"02",null,null,null,{"$f":"IFERROR(VLOOKUP(I13807,設定・基礎!$G$3:$H$22,2,FALSE),\"\")","v":""}]
[" 35-11-09","35",null,"11",null,"09",null,null,null,{"$f":"IFERROR(VLOOKUP(I13814,設定・基礎!$G$3:$H$22,2,FALSE),\"\")","v":""}]
[" 35-11-11","35",null,"11",null,"11",null,null,null,{"$f":"IFERROR(VLOOKUP(I13816,設定・基礎!$G$3:$H$22,2,FALSE),\"\")","v":""}]
[" 35-12-07","35",null,"12",null,"07",null,null,null,{"$f":"IFERROR(VLOOKUP(I13832,設定・基礎!$G$3:$H$22,2,FALSE),\"\")","v":""}]
[" 35-12-10","35",null,"12",null,"10",null,null,null,{"$f":"IFERROR(VLOOKUP(I13835,設定・基礎!$G$3:$H$22,2,FALSE),\"\")","v":""}]
[" 35-12-20","35",null,"12",null,"20",null,null,null,{"$f":"IFERROR(VLOOKUP(I13845,設定・基礎!$G$3:$H$22,2,FALSE),\"\")","v":""}]
[" 35-13-08","35",null,"13",null,"08",null,null,null,{"$f":"IFERROR(VLOOKUP(I13853,設定・基礎!$G$3:$H$22,2,FALSE),\"\")","v":""}]
[" 35-13-20","35",null,"13",null,"20",null,null,null,{"$f":"IFERROR(VLOOKUP(I13865,設定・基礎!$G$3:$H$22,2,FALSE),\"\")","v":""}]
[" 35-14-12","35",null,"14",null,"12",null,null,null,{"$f":"IFERROR(VLOOKUP(I13877,設定・基礎!$G$3:$H$22,2,FALSE),\"\")","v":""}]
[" 35-14-19","35",null,"14",null,"19",null,null,null,{"$f":"IFERROR(VLOOKUP(I13884,設定・基礎!$G$3:$H$22,2,FALSE),\"\")","v":""}]
[" 35-15-01","35",null,"15",null,"01",null,null,null,{"$f":"IFERROR(VLOOKUP(I13886,設定・基礎!$G$3:$H$22,2,FALSE),\"\")","v":""}]
[" 35-15-17","35",null,"15",null,"17",null,null,null,{"$f":"IFERROR(VLOOKUP(I13902,設定・基礎!$G$3:$H$22,2,FALSE),\"\")","v":""}]
[" 35-15-20","35",null,"15",null,"20",null,null,null,{"$f":"IFERROR(VLOOKUP(I13905,設定・基礎!$G$3:$H$22,2,FALSE),\"\")","v":""}]
[" 35-16-10","35",null,"16",null,"10",null,null,null,{"$f":"IFERROR(VLOOKUP(I13915,設定・基礎!$G$3:$H$22,2,FALSE),\"\")","v":""}]
[" 35-16-18","35",null,"16",null,"18",null,null,null,{"$f":"IFERROR(VLOOKUP(I13923,設定・基礎!$G$3:$H$22,2,FALSE),\"\")","v":""}]
[" 35-17-10","35",null,"17",null,"10",null,null,null,{"$f":"IFERROR(VLOOKUP(I13935,設定・基礎!$G$3:$H$22,2,FALSE),\"\")","v":""}]
[" 35-17-17","35",null,"17",null,"17",null,null,null,{"$f":"IFERROR(VLOOKUP(I13942,設定・基礎!$G$3:$H$22,2,FALSE),\"\")","v":""}]
[" 35-18-09","35",null,"18",null,"09",null,null,null,{"$f":"IFERROR(VLOOKUP(I13954,設定・基礎!$G$3:$H$22,2,FALSE),\"\")","v":""}]
[" 35-18-11","35",null,"18",null,"11",null,null,null,{"$f":"IFERROR(VLOOKUP(I13956,設定・基礎!$G$3:$H$22,2,FALSE),\"\")","v":""}]
[" 35-19-07","35",null,"19",null,"07",null,null,null,{"$f":"IFERROR(VLOOKUP(I13972,設定・基礎!$G$3:$H$22,2,FALSE),\"\")","v":""}]
[" 35-19-10","35",null,"19",null,"10",null,null,null,{"$f":"IFERROR(VLOOKUP(I13975,設定・基礎!$G$3:$H$22,2,FALSE),\"\")","v":""}]
[" 35-19-20","35",null,"19",null,"20",null,null,null,{"$f":"IFERROR(VLOOKUP(I13985,設定・基礎!$G$3:$H$22,2,FALSE),\"\")","v":""}]
[" 35-20-08","35",null,"20",null,"08",null,null,null,{"$f":"IFERROR(VLOOKUP(I13993,設定・基礎!$G$3:$H$22,2,FALSE),\"\")","v":""}]
[" 35-20-20","35",null,"20",null,"20",null,null,null,{"$f":"IFERROR(VLOOKUP(I14005,設定・基礎!$G$3:$H$22,2,FALSE),\"\")","v":""}]
[" 36-01-07","36",null,"01",null,"07",null,null,null,{"$f":"IFERROR(VLOOKUP(I14012,設定・基礎!$G$3:$H$22,2,FALSE),\"\")","v":""}]
[" 36-01-19","36",null,"01",null,"19",null,null,null,{"$f":"IFERROR(VLOOKUP(I14024,設定・基礎!$G$3:$H$22,2,FALSE),\"\")","v":""}]
[" 36-02-01","36",null,"02",null,"01",null,null,null,{"$f":"IFERROR(VLOOKUP(I14026,設定・基礎!$G$3:$H$22,2,FALSE),\"\")","v":""}]
[" 36-02-17","36",null,"02",null,"17",null,null,null,{"$f":"IFERROR(VLOOKUP(I14042,設定・基礎!$G$3:$H$22,2,FALSE),\"\")","v":""}]
[" 36-02-20","36",null,"02",null,"20",null,null,null,{"$f":"IFERROR(VLOOKUP(I14045,設定・基礎!$G$3:$H$22,2,FALSE),\"\")","v":""}]
[" 36-03-10","36",null,"03",null,"10",null,null,null,{"$f":"IFERROR(VLOOKUP(I14055,設定・基礎!$G$3:$H$22,2,FALSE),\"\")","v":""}]
[" 36-03-18","36",null,"03",null,"18",null,null,null,{"$f":"IFERROR(VLOOKUP(I14063,設定・基礎!$G$3:$H$22,2,FALSE),\"\")","v":""}]
[" 36-04-10","36",null,"04",null,"10",null,null,null,{"$f":"IFERROR(VLOOKUP(I14075,設定・基礎!$G$3:$H$22,2,FALSE),\"\")","v":""}]
[" 36-04-17","36",null,"04",null,"17",null,null,null,{"$f":"IFERROR(VLOOKUP(I14082,設定・基礎!$G$3:$H$22,2,FALSE),\"\")","v":""}]
[" 36-05-09","36",null,"05",null,"09",null,null,null,{"$f":"IFERROR(VLOOKUP(I14094,設定・基礎!$G$3:$H$22,2,FALSE),\"\")","v":""}]
[" 36-05-11","36",null,"05",null,"11",null,null,null,{"$f":"IFERROR(VLOOKUP(I14096,設定・基礎!$G$3:$H$22,2,FALSE),\"\")","v":""}]
[" 36-06-07","36",null,"06",null,"07",null,null,null,{"$f":"IFERROR(VLOOKUP(I14112,設定・基礎!$G$3:$H$22,2,FALSE),\"\")","v":""}]
[" 36-06-10","36",null,"06",null,"10",null,null,null,{"$f":"IFERROR(VLOOKUP(I14115,設定・基礎!$G$3:$H$22,2,FALSE),\"\")","v":""}]
[" 36-06-20","36",null,"06",null,"20",null,null,null,{"$f":"IFERROR(VLOOKUP(I14125,設定・基礎!$G$3:$H$22,2,FALSE),\"\")","v":""}]
[" 36-07-08","36",null,"07",null,"08",null,null,null,{"$f":"IFERROR(VLOOKUP(I14133,設定・基礎!$G$3:$H$22,2,FALSE),\"\")","v":""}]
[" 36-07-20","36",null,"07",null,"20",null,null,null,{"$f":"IFERROR(VLOOKUP(I14145,設定・基礎!$G$3:$H$22,2,FALSE),\"\")","v":""}]
[" 36-08-07","36",null,"08",null,"07",null,null,null,{"$f":"IFERROR(VLOOKUP(I14152,設定・基礎!$G$3:$H$22,2,FALSE),\"\")","v":""}]
[" 36-08-19","36",null,"08",null,"19",null,null,null,{"$f":"IFERROR(VLOOKUP(I14164,設定・基礎!$G$3:$H$22,2,FALSE),\"\")","v":""}]
[" 36-09-01","36",null,"09",null,"01",null,null,null,{"$f":"IFERROR(VLOOKUP(I14166,設定・基礎!$G$3:$H$22,2,FALSE),\"\")","v":""}]
[" 36-09-17","36",null,"09",null,"17",null,null,null,{"$f":"IFERROR(VLOOKUP(I14182,設定・基礎!$G$3:$H$22,2,FALSE),\"\")","v":""}]
[" 36-09-20","36",null,"09",null,"20",null,null,null,{"$f":"IFERROR(VLOOKUP(I14185,設定・基礎!$G$3:$H$22,2,FALSE),\"\")","v":""}]
[" 36-10-10","36",null,"10",null,"10",null,null,null,{"$f":"IFERROR(VLOOKUP(I14195,設定・基礎!$G$3:$H$22,2,FALSE),\"\")","v":""}]
[" 36-10-18","36",null,"10",null,"18",null,null,null,{"$f":"IFERROR(VLOOKUP(I14203,設定・基礎!$G$3:$H$22,2,FALSE),\"\")","v":""}]
[" 36-11-10","36",null,"11",null,"10",null,null,null,{"$f":"IFERROR(VLOOKUP(I14215,設定・基礎!$G$3:$H$22,2,FALSE),\"\")","v":""}]
[" 36-11-17","36",null,"11",null,"17",null,null,null,{"$f":"IFERROR(VLOOKUP(I14222,設定・基礎!$G$3:$H$22,2,FALSE),\"\")","v":""}]
[" 36-12-09","36",null,"12",null,"09",null,null,null,{"$f":"IFERROR(VLOOKUP(I14234,設定・基礎!$G$3:$H$22,2,FALSE),\"\")","v":""}]
[" 36-12-11","36",null,"12",null,"11",null,null,null,{"$f":"IFERROR(VLOOKUP(I14236,設定・基礎!$G$3:$H$22,2,FALSE),\"\")","v":""}]
[" 36-13-07","36",null,"13",null,"07",null,null,null,{"$f":"IFERROR(VLOOKUP(I14252,設定・基礎!$G$3:$H$22,2,FALSE),\"\")","v":""}]
[" 36-13-10","36",null,"13",null,"10",null,null,null,{"$f":"IFERROR(VLOOKUP(I14255,設定・基礎!$G$3:$H$22,2,FALSE),\"\")","v":""}]
[" 36-14-06","36",null,"14",null,"06",null,null,null,{"$f":"IFERROR(VLOOKUP(I14271,設定・基礎!$G$3:$H$22,2,FALSE),\"\")","v":""}]
[" 36-14-10","36",null,"14",null,"10",null,null,null,{"$f":"IFERROR(VLOOKUP(I14275,設定・基礎!$G$3:$H$22,2,FALSE),\"\")","v":""}]
[" 36-14-20","36",null,"14",null,"20",null,null,null,{"$f":"IFERROR(VLOOKUP(I14285,設定・基礎!$G$3:$H$22,2,FALSE),\"\")","v":""}]
[" 36-15-07","36",null,"15",null,"07",null,null,null,{"$f":"IFERROR(VLOOKUP(I14292,設定・基礎!$G$3:$H$22,2,FALSE),\"\")","v":""}]
[" 36-15-19","36",null,"15",null,"19",null,null,null,{"$f":"IFERROR(VLOOKUP(I14304,設定・基礎!$G$3:$H$22,2,FALSE),\"\")","v":""}]
[" 36-16-09","36",null,"16",null,"09",null,null,null,{"$f":"IFERROR(VLOOKUP(I14314,設定・基礎!$G$3:$H$22,2,FALSE),\"\")","v":""}]
[" 36-16-17","36",null,"16",null,"17",null,null,null,{"$f":"IFERROR(VLOOKUP(I14322,設定・基礎!$G$3:$H$22,2,FALSE),\"\")","v":""}]
[" 36-16-20","36",null,"16",null,"20",null,null,null,{"$f":"IFERROR(VLOOKUP(I14325,設定・基礎!$G$3:$H$22,2,FALSE),\"\")","v":""}]
[" 36-17-16","36",null,"17",null,"16",null,null,null,{"$f":"IFERROR(VLOOKUP(I14341,設定・基礎!$G$3:$H$22,2,FALSE),\"\")","v":""}]
[" 36-17-20","36",null,"17",null,"20",null,null,null,{"$f":"IFERROR(VLOOKUP(I14345,設定・基礎!$G$3:$H$22,2,FALSE),\"\")","v":""}]
[" 36-18-10","36",null,"18",null,"10",null,null,null,{"$f":"IFERROR(VLOOKUP(I14355,設定・基礎!$G$3:$H$22,2,FALSE),\"\")","v":""}]
[" 36-18-17","36",null,"18",null,"17",null,null,null,{"$f":"IFERROR(VLOOKUP(I14362,設定・基礎!$G$3:$H$22,2,FALSE),\"\")","v":""}]
[" 36-19-09","36",null,"19",null,"09",null,null,null,{"$f":"IFERROR(VLOOKUP(I14374,設定・基礎!$G$3:$H$22,2,FALSE),\"\")","v":""}]
[" 36-19-19","36",null,"19",null,"19",null,null,null,{"$f":"IFERROR(VLOOKUP(I14384,設定・基礎!$G$3:$H$22,2,FALSE),\"\")","v":""}]
[" 36-20-07","36",null,"20",null,"07",null,null,null,{"$f":"IFERROR(VLOOKUP(I14392,設定・基礎!$G$3:$H$22,2,FALSE),\"\")","v":""}]
[" 36-20-10","36",null,"20",null,"10",null,null,null,{"$f":"IFERROR(VLOOKUP(I14395,設定・基礎!$G$3:$H$22,2,FALSE),\"\")","v":""}]
[" 37-01-06","37",null,"01",null,"06",null,null,null,{"$f":"IFERROR(VLOOKUP(I14411,設定・基礎!$G$3:$H$22,2,FALSE),\"\")","v":""}]
[" 37-01-10","37",null,"01",null,"10",null,null,null,{"$f":"IFERROR(VLOOKUP(I14415,設定・基礎!$G$3:$H$22,2,FALSE),\"\")","v":""}]
[" 37-01-15","37",null,"01",null,"15",null,null,null,{"$f":"IFERROR(VLOOKUP(I14420,設定・基礎!$G$3:$H$22,2,FALSE),\"\")","v":""}]
[" 37-02-07","37",null,"02",null,"07",null,null,null,{"$f":"IFERROR(VLOOKUP(I14432,設定・基礎!$G$3:$H$22,2,FALSE),\"\")","v":""}]
[" 37-02-19","37",null,"02",null,"19",null,null,null,{"$f":"IFERROR(VLOOKUP(I14444,設定・基礎!$G$3:$H$22,2,FALSE),\"\")","v":""}]
[" 37-03-09","37",null,"03",null,"09",null,null,null,{"$f":"IFERROR(VLOOKUP(I14454,設定・基礎!$G$3:$H$22,2,FALSE),\"\")","v":""}]
[" 37-03-17","37",null,"03",null,"17",null,null,null,{"$f":"IFERROR(VLOOKUP(I14462,設定・基礎!$G$3:$H$22,2,FALSE),\"\")","v":""}]
[" 37-03-20","37",null,"03",null,"20",null,null,null,{"$f":"IFERROR(VLOOKUP(I14465,設定・基礎!$G$3:$H$22,2,FALSE),\"\")","v":""}]
[" 37-04-16","37",null,"04",null,"16",null,null,null,{"$f":"IFERROR(VLOOKUP(I14481,設定・基礎!$G$3:$H$22,2,FALSE),\"\")","v":""}]
[" 37-04-20","37",null,"04",null,"20",null,null,null,{"$f":"IFERROR(VLOOKUP(I14485,設定・基礎!$G$3:$H$22,2,FALSE),\"\")","v":""}]
[" 37-05-05","37",null,"05",null,"05",null,null,null,{"$f":"IFERROR(VLOOKUP(I14490,設定・基礎!$G$3:$H$22,2,FALSE),\"\")","v":""}]
[" 37-05-17","37",null,"05",null,"17",null,null,null,{"$f":"IFERROR(VLOOKUP(I14502,設定・基礎!$G$3:$H$22,2,FALSE),\"\")","v":""}]
[" 37-06-09","37",null,"06",null,"09",null,null,null,{"$f":"IFERROR(VLOOKUP(I14514,設定・基礎!$G$3:$H$22,2,FALSE),\"\")","v":""}]
[" 37-06-19","37",null,"06",null,"19",null,null,null,{"$f":"IFERROR(VLOOKUP(I14524,設定・基礎!$G$3:$H$22,2,FALSE),\"\")","v":""}]
[" 37-07-07","37",null,"07",null,"07",null,null,null,{"$f":"IFERROR(VLOOKUP(I14532,設定・基礎!$G$3:$H$22,2,FALSE),\"\")","v":""}]
[" 37-07-10","37",null,"07",null,"10",null,null,null,{"$f":"IFERROR(VLOOKUP(I14535,設定・基礎!$G$3:$H$22,2,FALSE),\"\")","v":""}]
[" 37-08-06","37",null,"08",null,"06",null,null,null,{"$f":"IFERROR(VLOOKUP(I14551,設定・基礎!$G$3:$H$22,2,FALSE),\"\")","v":""}]
[" 37-08-10","37",null,"08",null,"10",null,null,null,{"$f":"IFERROR(VLOOKUP(I14555,設定・基礎!$G$3:$H$22,2,FALSE),\"\")","v":""}]
[" 37-08-15","37",null,"08",null,"15",null,null,null,{"$f":"IFERROR(VLOOKUP(I14560,設定・基礎!$G$3:$H$22,2,FALSE),\"\")","v":""}]
[" 37-09-07","37",null,"09",null,"07",null,null,null,{"$f":"IFERROR(VLOOKUP(I14572,設定・基礎!$G$3:$H$22,2,FALSE),\"\")","v":""}]
[" 37-09-19","37",null,"09",null,"19",null,null,null,{"$f":"IFERROR(VLOOKUP(I14584,設定・基礎!$G$3:$H$22,2,FALSE),\"\")","v":""}]
[" 37-10-09","37",null,"10",null,"09",null,null,null,{"$f":"IFERROR(VLOOKUP(I14594,設定・基礎!$G$3:$H$22,2,FALSE),\"\")","v":""}]
[" 37-10-17","37",null,"10",null,"17",null,null,null,{"$f":"IFERROR(VLOOKUP(I14602,設定・基礎!$G$3:$H$22,2,FALSE),\"\")","v":""}]
[" 37-11-04","37",null,"11",null,"04",null,null,null,{"$f":"IFERROR(VLOOKUP(I14609,設定・基礎!$G$3:$H$22,2,FALSE),\"\")","v":""}]
[" 37-11-16","37",null,"11",null,"16",null,null,null,{"$f":"IFERROR(VLOOKUP(I14621,設定・基礎!$G$3:$H$22,2,FALSE),\"\")","v":""}]
[" 37-11-20","37",null,"11",null,"20",null,null,null,{"$f":"IFERROR(VLOOKUP(I14625,設定・基礎!$G$3:$H$22,2,FALSE),\"\")","v":""}]
[" 37-12-05","37",null,"12",null,"05",null,null,null,{"$f":"IFERROR(VLOOKUP(I14630,設定・基礎!$G$3:$H$22,2,FALSE),\"\")","v":""}]
[" 37-12-17","37",null,"12",null,"17",null,null,null,{"$f":"IFERROR(VLOOKUP(I14642,設定・基礎!$G$3:$H$22,2,FALSE),\"\")","v":""}]
[" 37-13-09","37",null,"13",null,"09",null,null,null,{"$f":"IFERROR(VLOOKUP(I14654,設定・基礎!$G$3:$H$22,2,FALSE),\"\")","v":""}]
[" 37-13-19","37",null,"13",null,"19",null,null,null,{"$f":"IFERROR(VLOOKUP(I14664,設定・基礎!$G$3:$H$22,2,FALSE),\"\")","v":""}]
[" 37-14-07","37",null,"14",null,"07",null,null,null,{"$f":"IFERROR(VLOOKUP(I14672,設定・基礎!$G$3:$H$22,2,FALSE),\"\")","v":""}]
[" 37-14-14","37",null,"14",null,"14",null,null,null,{"$f":"IFERROR(VLOOKUP(I14679,設定・基礎!$G$3:$H$22,2,FALSE),\"\")","v":""}]
[" 37-15-06","37",null,"15",null,"06",null,null,null,{"$f":"IFERROR(VLOOKUP(I14691,設定・基礎!$G$3:$H$22,2,FALSE),\"\")","v":""}]
[" 37-15-10","37",null,"15",null,"10",null,null,null,{"$f":"IFERROR(VLOOKUP(I14695,設定・基礎!$G$3:$H$22,2,FALSE),\"\")","v":""}]
[" 37-15-15","37",null,"15",null,"15",null,null,null,{"$f":"IFERROR(VLOOKUP(I14700,設定・基礎!$G$3:$H$22,2,FALSE),\"\")","v":""}]
[" 37-16-07","37",null,"16",null,"07",null,null,null,{"$f":"IFERROR(VLOOKUP(I14712,設定・基礎!$G$3:$H$22,2,FALSE),\"\")","v":""}]
[" 37-16-19","37",null,"16",null,"19",null,null,null,{"$f":"IFERROR(VLOOKUP(I14724,設定・基礎!$G$3:$H$22,2,FALSE),\"\")","v":""}]
[" 37-17-09","37",null,"17",null,"09",null,null,null,{"$f":"IFERROR(VLOOKUP(I14734,設定・基礎!$G$3:$H$22,2,FALSE),\"\")","v":""}]
[" 37-17-17","37",null,"17",null,"17",null,null,null,{"$f":"IFERROR(VLOOKUP(I14742,設定・基礎!$G$3:$H$22,2,FALSE),\"\")","v":""}]
[" 37-18-04","37",null,"18",null,"04",null,null,null,{"$f":"IFERROR(VLOOKUP(I14749,設定・基礎!$G$3:$H$22,2,FALSE),\"\")","v":""}]
[" 37-18-16","37",null,"18",null,"16",null,null,null,{"$f":"IFERROR(VLOOKUP(I14761,設定・基礎!$G$3:$H$22,2,FALSE),\"\")","v":""}]
[" 37-18-20","37",null,"18",null,"20",null,null,null,{"$f":"IFERROR(VLOOKUP(I14765,設定・基礎!$G$3:$H$22,2,FALSE),\"\")","v":""}]
[" 37-19-05","37",null,"19",null,"05",null,null,null,{"$f":"IFERROR(VLOOKUP(I14770,設定・基礎!$G$3:$H$22,2,FALSE),\"\")","v":""}]
[" 37-19-17","37",null,"19",null,"17",null,null,null,{"$f":"IFERROR(VLOOKUP(I14782,設定・基礎!$G$3:$H$22,2,FALSE),\"\")","v":""}]
[" 37-20-04","37",null,"20",null,"04",null,null,null,{"$f":"IFERROR(VLOOKUP(I14789,設定・基礎!$G$3:$H$22,2,FALSE),\"\")","v":""}]
[" 37-20-19","37",null,"20",null,"19",null,null,null,{"$f":"IFERROR(VLOOKUP(I14804,設定・基礎!$G$3:$H$22,2,FALSE),\"\")","v":""}]
[" 38-01-07","38",null,"01",null,"07",null,null,null,{"$f":"IFERROR(VLOOKUP(I14812,設定・基礎!$G$3:$H$22,2,FALSE),\"\")","v":""}]
[" 38-01-14","38",null,"01",null,"14",null,null,null,{"$f":"IFERROR(VLOOKUP(I14819,設定・基礎!$G$3:$H$22,2,FALSE),\"\")","v":""}]
[" 38-02-06","38",null,"02",null,"06",null,null,null,{"$f":"IFERROR(VLOOKUP(I14831,設定・基礎!$G$3:$H$22,2,FALSE),\"\")","v":""}]
[" 38-02-10","38",null,"02",null,"10",null,null,null,{"$f":"IFERROR(VLOOKUP(I14835,設定・基礎!$G$3:$H$22,2,FALSE),\"\")","v":""}]
[" 38-02-15","38",null,"02",null,"15",null,null,null,{"$f":"IFERROR(VLOOKUP(I14840,設定・基礎!$G$3:$H$22,2,FALSE),\"\")","v":""}]
[" 38-03-07","38",null,"03",null,"07",null,null,null,{"$f":"IFERROR(VLOOKUP(I14852,設定・基礎!$G$3:$H$22,2,FALSE),\"\")","v":""}]
[" 38-03-14","38",null,"03",null,"14",null,null,null,{"$f":"IFERROR(VLOOKUP(I14859,設定・基礎!$G$3:$H$22,2,FALSE),\"\")","v":""}]
[" 38-04-09","38",null,"04",null,"09",null,null,null,{"$f":"IFERROR(VLOOKUP(I14874,設定・基礎!$G$3:$H$22,2,FALSE),\"\")","v":""}]
[" 38-04-17","38",null,"04",null,"17",null,null,null,{"$f":"IFERROR(VLOOKUP(I14882,設定・基礎!$G$3:$H$22,2,FALSE),\"\")","v":""}]
[" 38-05-04","38",null,"05",null,"04",null,null,null,{"$f":"IFERROR(VLOOKUP(I14889,設定・基礎!$G$3:$H$22,2,FALSE),\"\")","v":""}]
[" 38-05-16","38",null,"05",null,"16",null,null,null,{"$f":"IFERROR(VLOOKUP(I14901,設定・基礎!$G$3:$H$22,2,FALSE),\"\")","v":""}]
[" 38-05-20","38",null,"05",null,"20",null,null,null,{"$f":"IFERROR(VLOOKUP(I14905,設定・基礎!$G$3:$H$22,2,FALSE),\"\")","v":""}]
[" 38-06-05","38",null,"06",null,"05",null,null,null,{"$f":"IFERROR(VLOOKUP(I14910,設定・基礎!$G$3:$H$22,2,FALSE),\"\")","v":""}]
[" 38-06-17","38",null,"06",null,"17",null,null,null,{"$f":"IFERROR(VLOOKUP(I14922,設定・基礎!$G$3:$H$22,2,FALSE),\"\")","v":""}]
[" 38-07-04","38",null,"07",null,"04",null,null,null,{"$f":"IFERROR(VLOOKUP(I14929,設定・基礎!$G$3:$H$22,2,FALSE),\"\")","v":""}]
[" 38-07-19","38",null,"07",null,"19",null,null,null,{"$f":"IFERROR(VLOOKUP(I14944,設定・基礎!$G$3:$H$22,2,FALSE),\"\")","v":""}]
[" 38-08-07","38",null,"08",null,"07",null,null,null,{"$f":"IFERROR(VLOOKUP(I14952,設定・基礎!$G$3:$H$22,2,FALSE),\"\")","v":""}]
[" 38-08-14","38",null,"08",null,"14",null,null,null,{"$f":"IFERROR(VLOOKUP(I14959,設定・基礎!$G$3:$H$22,2,FALSE),\"\")","v":""}]
[" 38-09-06","38",null,"09",null,"06",null,null,null,{"$f":"IFERROR(VLOOKUP(I14971,設定・基礎!$G$3:$H$22,2,FALSE),\"\")","v":""}]
[" 38-09-10","38",null,"09",null,"10",null,null,null,{"$f":"IFERROR(VLOOKUP(I14975,設定・基礎!$G$3:$H$22,2,FALSE),\"\")","v":""}]
[" 38-09-15","38",null,"09",null,"15",null,null,null,{"$f":"IFERROR(VLOOKUP(I14980,設定・基礎!$G$3:$H$22,2,FALSE),\"\")","v":""}]
[" 38-10-07","38",null,"10",null,"07",null,null,null,{"$f":"IFERROR(VLOOKUP(I14992,設定・基礎!$G$3:$H$22,2,FALSE),\"\")","v":""}]
[" 38-10-14","38",null,"10",null,"14",null,null,null,{"$f":"IFERROR(VLOOKUP(I14999,設定・基礎!$G$3:$H$22,2,FALSE),\"\")","v":""}]
[" 38-11-09","38",null,"11",null,"09",null,null,null,{"$f":"IFERROR(VLOOKUP(I15014,設定・基礎!$G$3:$H$22,2,FALSE),\"\")","v":""}]
[" 38-11-17","38",null,"11",null,"17",null,null,null,{"$f":"IFERROR(VLOOKUP(I15022,設定・基礎!$G$3:$H$22,2,FALSE),\"\")","v":""}]
[" 38-12-04","38",null,"12",null,"04",null,null,null,{"$f":"IFERROR(VLOOKUP(I15029,設定・基礎!$G$3:$H$22,2,FALSE),\"\")","v":""}]
[" 38-12-16","38",null,"12",null,"16",null,null,null,{"$f":"IFERROR(VLOOKUP(I15041,設定・基礎!$G$3:$H$22,2,FALSE),\"\")","v":""}]
[" 38-12-20","38",null,"12",null,"20",null,null,null,{"$f":"IFERROR(VLOOKUP(I15045,設定・基礎!$G$3:$H$22,2,FALSE),\"\")","v":""}]
[" 38-13-05","38",null,"13",null,"05",null,null,null,{"$f":"IFERROR(VLOOKUP(I15050,設定・基礎!$G$3:$H$22,2,FALSE),\"\")","v":""}]
[" 38-13-17","38",null,"13",null,"17",null,null,null,{"$f":"IFERROR(VLOOKUP(I15062,設定・基礎!$G$3:$H$22,2,FALSE),\"\")","v":""}]
[" 38-14-04","38",null,"14",null,"04",null,null,null,{"$f":"IFERROR(VLOOKUP(I15069,設定・基礎!$G$3:$H$22,2,FALSE),\"\")","v":""}]
[" 38-14-19","38",null,"14",null,"19",null,null,null,{"$f":"IFERROR(VLOOKUP(I15084,設定・基礎!$G$3:$H$22,2,FALSE),\"\")","v":""}]
[" 38-15-02","38",null,"15",null,"02",null,null,null,{"$f":"IFERROR(VLOOKUP(I15087,設定・基礎!$G$3:$H$22,2,FALSE),\"\")","v":""}]
[" 38-15-14","38",null,"15",null,"14",null,null,null,{"$f":"IFERROR(VLOOKUP(I15099,設定・基礎!$G$3:$H$22,2,FALSE),\"\")","v":""}]
[" 38-16-06","38",null,"16",null,"06",null,null,null,{"$f":"IFERROR(VLOOKUP(I15111,設定・基礎!$G$3:$H$22,2,FALSE),\"\")","v":""}]
[" 38-16-10","38",null,"16",null,"10",null,null,null,{"$f":"IFERROR(VLOOKUP(I15115,設定・基礎!$G$3:$H$22,2,FALSE),\"\")","v":""}]
[" 38-16-15","38",null,"16",null,"15",null,null,null,{"$f":"IFERROR(VLOOKUP(I15120,設定・基礎!$G$3:$H$22,2,FALSE),\"\")","v":""}]
[" 38-17-07","38",null,"17",null,"07",null,null,null,{"$f":"IFERROR(VLOOKUP(I15132,設定・基礎!$G$3:$H$22,2,FALSE),\"\")","v":""}]
[" 38-17-14","38",null,"17",null,"14",null,null,null,{"$f":"IFERROR(VLOOKUP(I15139,設定・基礎!$G$3:$H$22,2,FALSE),\"\")","v":""}]
[" 38-18-06","38",null,"18",null,"06",null,null,null,{"$f":"IFERROR(VLOOKUP(I15151,設定・基礎!$G$3:$H$22,2,FALSE),\"\")","v":""}]
[" 38-18-11","38",null,"18",null,"11",null,null,null,{"$f":"IFERROR(VLOOKUP(I15156,設定・基礎!$G$3:$H$22,2,FALSE),\"\")","v":""}]
[" 38-19-04","38",null,"19",null,"04",null,null,null,{"$f":"IFERROR(VLOOKUP(I15169,設定・基礎!$G$3:$H$22,2,FALSE),\"\")","v":""}]
[" 38-19-16","38",null,"19",null,"16",null,null,null,{"$f":"IFERROR(VLOOKUP(I15181,設定・基礎!$G$3:$H$22,2,FALSE),\"\")","v":""}]
[" 38-20-03","38",null,"20",null,"03",null,null,null,{"$f":"IFERROR(VLOOKUP(I15188,設定・基礎!$G$3:$H$22,2,FALSE),\"\")","v":""}]
[" 38-20-10","38",null,"20",null,"10",null,null,null,{"$f":"IFERROR(VLOOKUP(I15195,設定・基礎!$G$3:$H$22,2,FALSE),\"\")","v":""}]
[" 39-01-01","39",null,"01",null,"01",null,null,null,{"$f":"IFERROR(VLOOKUP(I15206,設定・基礎!$G$3:$H$22,2,FALSE),\"\")","v":""}]
[" 39-01-04","39",null,"01",null,"04",null,null,null,{"$f":"IFERROR(VLOOKUP(I15209,設定・基礎!$G$3:$H$22,2,FALSE),\"\")","v":""}]
[" 39-01-16","39",null,"01",null,"16",null,null,null,{"$f":"IFERROR(VLOOKUP(I15221,設定・基礎!$G$3:$H$22,2,FALSE),\"\")","v":""}]
[" 39-02-01","39",null,"02",null,"01",null,null,null,{"$f":"IFERROR(VLOOKUP(I15226,設定・基礎!$G$3:$H$22,2,FALSE),\"\")","v":""}]
[" 39-02-14","39",null,"02",null,"14",null,null,null,{"$f":"IFERROR(VLOOKUP(I15239,設定・基礎!$G$3:$H$22,2,FALSE),\"\")","v":""}]
[" 39-03-06","39",null,"03",null,"06",null,null,null,{"$f":"IFERROR(VLOOKUP(I15251,設定・基礎!$G$3:$H$22,2,FALSE),\"\")","v":""}]
[" 39-03-13","39",null,"03",null,"13",null,null,null,{"$f":"IFERROR(VLOOKUP(I15258,設定・基礎!$G$3:$H$22,2,FALSE),\"\")","v":""}]
[" 39-03-20","39",null,"03",null,"20",null,null,null,{"$f":"IFERROR(VLOOKUP(I15265,設定・基礎!$G$3:$H$22,2,FALSE),\"\")","v":""}]
[" 39-04-11","39",null,"04",null,"11",null,null,null,{"$f":"IFERROR(VLOOKUP(I15276,設定・基礎!$G$3:$H$22,2,FALSE),\"\")","v":""}]
[" 39-04-14","39",null,"04",null,"14",null,null,null,{"$f":"IFERROR(VLOOKUP(I15279,設定・基礎!$G$3:$H$22,2,FALSE),\"\")","v":""}]
[" 39-05-06","39",null,"05",null,"06",null,null,null,{"$f":"IFERROR(VLOOKUP(I15291,設定・基礎!$G$3:$H$22,2,FALSE),\"\")","v":""}]
[" 39-05-11","39",null,"05",null,"11",null,null,null,{"$f":"IFERROR(VLOOKUP(I15296,設定・基礎!$G$3:$H$22,2,FALSE),\"\")","v":""}]
[" 39-06-04","39",null,"06",null,"04",null,null,null,{"$f":"IFERROR(VLOOKUP(I15309,設定・基礎!$G$3:$H$22,2,FALSE),\"\")","v":""}]
[" 39-06-16","39",null,"06",null,"16",null,null,null,{"$f":"IFERROR(VLOOKUP(I15321,設定・基礎!$G$3:$H$22,2,FALSE),\"\")","v":""}]
[" 39-07-03","39",null,"07",null,"03",null,null,null,{"$f":"IFERROR(VLOOKUP(I15328,設定・基礎!$G$3:$H$22,2,FALSE),\"\")","v":""}]
[" 39-07-10","39",null,"07",null,"10",null,null,null,{"$f":"IFERROR(VLOOKUP(I15335,設定・基礎!$G$3:$H$22,2,FALSE),\"\")","v":""}]
[" 39-08-01","39",null,"08",null,"01",null,null,null,{"$f":"IFERROR(VLOOKUP(I15346,設定・基礎!$G$3:$H$22,2,FALSE),\"\")","v":""}]
[" 39-08-04","39",null,"08",null,"04",null,null,null,{"$f":"IFERROR(VLOOKUP(I15349,設定・基礎!$G$3:$H$22,2,FALSE),\"\")","v":""}]
[" 39-08-16","39",null,"08",null,"16",null,null,null,{"$f":"IFERROR(VLOOKUP(I15361,設定・基礎!$G$3:$H$22,2,FALSE),\"\")","v":""}]
[" 39-09-01","39",null,"09",null,"01",null,null,null,{"$f":"IFERROR(VLOOKUP(I15366,設定・基礎!$G$3:$H$22,2,FALSE),\"\")","v":""}]
[" 39-09-14","39",null,"09",null,"14",null,null,null,{"$f":"IFERROR(VLOOKUP(I15379,設定・基礎!$G$3:$H$22,2,FALSE),\"\")","v":""}]
[" 39-10-01","39",null,"10",null,"01",null,null,null,{"$f":"IFERROR(VLOOKUP(I15386,設定・基礎!$G$3:$H$22,2,FALSE),\"\")","v":""}]
[" 39-10-13","39",null,"10",null,"13",null,null,null,{"$f":"IFERROR(VLOOKUP(I15398,設定・基礎!$G$3:$H$22,2,FALSE),\"\")","v":""}]
[" 39-10-20","39",null,"10",null,"20",null,null,null,{"$f":"IFERROR(VLOOKUP(I15405,設定・基礎!$G$3:$H$22,2,FALSE),\"\")","v":""}]
[" 39-11-11","39",null,"11",null,"11",null,null,null,{"$f":"IFERROR(VLOOKUP(I15416,設定・基礎!$G$3:$H$22,2,FALSE),\"\")","v":""}]
[" 39-11-14","39",null,"11",null,"14",null,null,null,{"$f":"IFERROR(VLOOKUP(I15419,設定・基礎!$G$3:$H$22,2,FALSE),\"\")","v":""}]
[" 39-12-06","39",null,"12",null,"06",null,null,null,{"$f":"IFERROR(VLOOKUP(I15431,設定・基礎!$G$3:$H$22,2,FALSE),\"\")","v":""}]
[" 39-12-11","39",null,"12",null,"11",null,null,null,{"$f":"IFERROR(VLOOKUP(I15436,設定・基礎!$G$3:$H$22,2,FALSE),\"\")","v":""}]
[" 39-13-04","39",null,"13",null,"04",null,null,null,{"$f":"IFERROR(VLOOKUP(I15449,設定・基礎!$G$3:$H$22,2,FALSE),\"\")","v":""}]
[" 39-13-11","39",null,"13",null,"11",null,null,null,{"$f":"IFERROR(VLOOKUP(I15456,設定・基礎!$G$3:$H$22,2,FALSE),\"\")","v":""}]
[" 39-14-03","39",null,"14",null,"03",null,null,null,{"$f":"IFERROR(VLOOKUP(I15468,設定・基礎!$G$3:$H$22,2,FALSE),\"\")","v":""}]
[" 39-14-10","39",null,"14",null,"10",null,null,null,{"$f":"IFERROR(VLOOKUP(I15475,設定・基礎!$G$3:$H$22,2,FALSE),\"\")","v":""}]
[" 39-15-01","39",null,"15",null,"01",null,null,null,{"$f":"IFERROR(VLOOKUP(I15486,設定・基礎!$G$3:$H$22,2,FALSE),\"\")","v":""}]
[" 39-15-04","39",null,"15",null,"04",null,null,null,{"$f":"IFERROR(VLOOKUP(I15489,設定・基礎!$G$3:$H$22,2,FALSE),\"\")","v":""}]
[" 39-15-16","39",null,"15",null,"16",null,null,null,{"$f":"IFERROR(VLOOKUP(I15501,設定・基礎!$G$3:$H$22,2,FALSE),\"\")","v":""}]
[" 39-16-01","39",null,"16",null,"01",null,null,null,{"$f":"IFERROR(VLOOKUP(I15506,設定・基礎!$G$3:$H$22,2,FALSE),\"\")","v":""}]
[" 39-16-14","39",null,"16",null,"14",null,null,null,{"$f":"IFERROR(VLOOKUP(I15519,設定・基礎!$G$3:$H$22,2,FALSE),\"\")","v":""}]
[" 39-17-01","39",null,"17",null,"01",null,null,null,{"$f":"IFERROR(VLOOKUP(I15526,設定・基礎!$G$3:$H$22,2,FALSE),\"\")","v":""}]
[" 39-17-13","39",null,"17",null,"13",null,null,null,{"$f":"IFERROR(VLOOKUP(I15538,設定・基礎!$G$3:$H$22,2,FALSE),\"\")","v":""}]
[" 39-17-20","39",null,"17",null,"20",null,null,null,{"$f":"IFERROR(VLOOKUP(I15545,設定・基礎!$G$3:$H$22,2,FALSE),\"\")","v":""}]
[" 39-18-11","39",null,"18",null,"11",null,null,null,{"$f":"IFERROR(VLOOKUP(I15556,設定・基礎!$G$3:$H$22,2,FALSE),\"\")","v":""}]
[" 39-18-14","39",null,"18",null,"14",null,null,null,{"$f":"IFERROR(VLOOKUP(I15559,設定・基礎!$G$3:$H$22,2,FALSE),\"\")","v":""}]
[" 39-19-10","39",null,"19",null,"10",null,null,null,{"$f":"IFERROR(VLOOKUP(I15575,設定・基礎!$G$3:$H$22,2,FALSE),\"\")","v":""}]
[" 39-19-11","39",null,"19",null,"11",null,null,null,{"$f":"IFERROR(VLOOKUP(I15576,設定・基礎!$G$3:$H$22,2,FALSE),\"\")","v":""}]
[" 39-20-04","39",null,"20",null,"04",null,null,null,{"$f":"IFERROR(VLOOKUP(I15589,設定・基礎!$G$3:$H$22,2,FALSE),\"\")","v":""}]
[" 39-20-11","39",null,"20",null,"11",null,null,null,{"$f":"IFERROR(VLOOKUP(I15596,設定・基礎!$G$3:$H$22,2,FALSE),\"\")","v":""}]
[" 40-01-03","40",null,"01",null,"03",null,null,null,{"$f":"IFERROR(VLOOKUP(I15608,設定・基礎!$G$3:$H$22,2,FALSE),\"\")","v":""}]
[" 40-01-10","40",null,"01",null,"10",null,null,null,{"$f":"IFERROR(VLOOKUP(I15615,設定・基礎!$G$3:$H$22,2,FALSE),\"\")","v":""}]
[" 40-02-01","40",null,"02",null,"01",null,null,null,{"$f":"IFERROR(VLOOKUP(I15626,設定・基礎!$G$3:$H$22,2,FALSE),\"\")","v":""}]
[" 40-02-04","40",null,"02",null,"04",null,null,null,{"$f":"IFERROR(VLOOKUP(I15629,設定・基礎!$G$3:$H$22,2,FALSE),\"\")","v":""}]
[" 40-02-20","40",null,"02",null,"20",null,null,null,{"$f":"IFERROR(VLOOKUP(I15645,設定・基礎!$G$3:$H$22,2,FALSE),\"\")","v":""}]
[" 40-03-01","40",null,"03",null,"01",null,null,null,{"$f":"IFERROR(VLOOKUP(I15646,設定・基礎!$G$3:$H$22,2,FALSE),\"\")","v":""}]
[" 40-03-14","40",null,"03",null,"14",null,null,null,{"$f":"IFERROR(VLOOKUP(I15659,設定・基礎!$G$3:$H$22,2,FALSE),\"\")","v":""}]
[" 40-04-01","40",null,"04",null,"01",null,null,null,{"$f":"IFERROR(VLOOKUP(I15666,設定・基礎!$G$3:$H$22,2,FALSE),\"\")","v":""}]
[" 40-04-13","40",null,"04",null,"13",null,null,null,{"$f":"IFERROR(VLOOKUP(I15678,設定・基礎!$G$3:$H$22,2,FALSE),\"\")","v":""}]
[" 40-04-20","40",null,"04",null,"20",null,null,null,{"$f":"IFERROR(VLOOKUP(I15685,設定・基礎!$G$3:$H$22,2,FALSE),\"\")","v":""}]
[" 40-05-11","40",null,"05",null,"11",null,null,null,{"$f":"IFERROR(VLOOKUP(I15696,設定・基礎!$G$3:$H$22,2,FALSE),\"\")","v":""}]
[" 40-05-14","40",null,"05",null,"14",null,null,null,{"$f":"IFERROR(VLOOKUP(I15699,設定・基礎!$G$3:$H$22,2,FALSE),\"\")","v":""}]
[" 40-06-10","40",null,"06",null,"10",null,null,null,{"$f":"IFERROR(VLOOKUP(I15715,設定・基礎!$G$3:$H$22,2,FALSE),\"\")","v":""}]
[" 40-06-11","40",null,"06",null,"11",null,null,null,{"$f":"IFERROR(VLOOKUP(I15716,設定・基礎!$G$3:$H$22,2,FALSE),\"\")","v":""}]
[" 40-07-04","40",null,"07",null,"04",null,null,null,{"$f":"IFERROR(VLOOKUP(I15729,設定・基礎!$G$3:$H$22,2,FALSE),\"\")","v":""}]
[" 40-07-11","40",null,"07",null,"11",null,null,null,{"$f":"IFERROR(VLOOKUP(I15736,設定・基礎!$G$3:$H$22,2,FALSE),\"\")","v":""}]
[" 40-08-03","40",null,"08",null,"03",null,null,null,{"$f":"IFERROR(VLOOKUP(I15748,設定・基礎!$G$3:$H$22,2,FALSE),\"\")","v":""}]
[" 40-08-10","40",null,"08",null,"10",null,null,null,{"$f":"IFERROR(VLOOKUP(I15755,設定・基礎!$G$3:$H$22,2,FALSE),\"\")","v":""}]
[" 40-09-01","40",null,"09",null,"01",null,null,null,{"$f":"IFERROR(VLOOKUP(I15766,設定・基礎!$G$3:$H$22,2,FALSE),\"\")","v":""}]
[" 40-09-04","40",null,"09",null,"04",null,null,null,{"$f":"IFERROR(VLOOKUP(I15769,設定・基礎!$G$3:$H$22,2,FALSE),\"\")","v":""}]
[" 40-09-20","40",null,"09",null,"20",null,null,null,{"$f":"IFERROR(VLOOKUP(I15785,設定・基礎!$G$3:$H$22,2,FALSE),\"\")","v":""}]
[" 40-10-01","40",null,"10",null,"01",null,null,null,{"$f":"IFERROR(VLOOKUP(I15786,設定・基礎!$G$3:$H$22,2,FALSE),\"\")","v":""}]
[" 40-10-14","40",null,"10",null,"14",null,null,null,{"$f":"IFERROR(VLOOKUP(I15799,設定・基礎!$G$3:$H$22,2,FALSE),\"\")","v":""}]
[" 40-11-01","40",null,"11",null,"01",null,null,null,{"$f":"IFERROR(VLOOKUP(I15806,設定・基礎!$G$3:$H$22,2,FALSE),\"\")","v":""}]
[" 40-11-13","40",null,"11",null,"13",null,null,null,{"$f":"IFERROR(VLOOKUP(I15818,設定・基礎!$G$3:$H$22,2,FALSE),\"\")","v":""}]
[" 40-11-20","40",null,"11",null,"20",null,null,null,{"$f":"IFERROR(VLOOKUP(I15825,設定・基礎!$G$3:$H$22,2,FALSE),\"\")","v":""}]
[" 40-12-11","40",null,"12",null,"11",null,null,null,{"$f":"IFERROR(VLOOKUP(I15836,設定・基礎!$G$3:$H$22,2,FALSE),\"\")","v":""}]
[" 40-12-14","40",null,"12",null,"14",null,null,null,{"$f":"IFERROR(VLOOKUP(I15839,設定・基礎!$G$3:$H$22,2,FALSE),\"\")","v":""}]
[" 40-13-10","40",null,"13",null,"10",null,null,null,{"$f":"IFERROR(VLOOKUP(I15855,設定・基礎!$G$3:$H$22,2,FALSE),\"\")","v":""}]
[" 40-13-11","40",null,"13",null,"11",null,null,null,{"$f":"IFERROR(VLOOKUP(I15856,設定・基礎!$G$3:$H$22,2,FALSE),\"\")","v":""}]
[" 40-13-19","40",null,"13",null,"19",null,null,null,{"$f":"IFERROR(VLOOKUP(I15864,設定・基礎!$G$3:$H$22,2,FALSE),\"\")","v":""}]
[" 40-14-11","40",null,"14",null,"11",null,null,null,{"$f":"IFERROR(VLOOKUP(I15876,設定・基礎!$G$3:$H$22,2,FALSE),\"\")","v":""}]
[" 40-15-03","40",null,"15",null,"03",null,null,null,{"$f":"IFERROR(VLOOKUP(I15888,設定・基礎!$G$3:$H$22,2,FALSE),\"\")","v":""}]
[" 40-15-10","40",null,"15",null,"10",null,null,null,{"$f":"IFERROR(VLOOKUP(I15895,設定・基礎!$G$3:$H$22,2,FALSE),\"\")","v":""}]
[" 40-16-01","40",null,"16",null,"01",null,null,null,{"$f":"IFERROR(VLOOKUP(I15906,設定・基礎!$G$3:$H$22,2,FALSE),\"\")","v":""}]
[" 40-16-04","40",null,"16",null,"04",null,null,null,{"$f":"IFERROR(VLOOKUP(I15909,設定・基礎!$G$3:$H$22,2,FALSE),\"\")","v":""}]
[" 40-16-20","40",null,"16",null,"20",null,null,null,{"$f":"IFERROR(VLOOKUP(I15925,設定・基礎!$G$3:$H$22,2,FALSE),\"\")","v":""}]
[" 40-17-01","40",null,"17",null,"01",null,null,null,{"$f":"IFERROR(VLOOKUP(I15926,設定・基礎!$G$3:$H$22,2,FALSE),\"\")","v":""}]
[" 40-17-09","40",null,"17",null,"09",null,null,null,{"$f":"IFERROR(VLOOKUP(I15934,設定・基礎!$G$3:$H$22,2,FALSE),\"\")","v":""}]
[" 40-18-01","40",null,"18",null,"01",null,null,null,{"$f":"IFERROR(VLOOKUP(I15946,設定・基礎!$G$3:$H$22,2,FALSE),\"\")","v":""}]
[" 40-18-13","40",null,"18",null,"13",null,null,null,{"$f":"IFERROR(VLOOKUP(I15958,設定・基礎!$G$3:$H$22,2,FALSE),\"\")","v":""}]
[" 40-18-20","40",null,"18",null,"20",null,null,null,{"$f":"IFERROR(VLOOKUP(I15965,設定・基礎!$G$3:$H$22,2,FALSE),\"\")","v":""}]
[" 40-19-11","40",null,"19",null,"11",null,null,null,{"$f":"IFERROR(VLOOKUP(I15976,設定・基礎!$G$3:$H$22,2,FALSE),\"\")","v":""}]
[" 40-19-14","40",null,"19",null,"14",null,null,null,{"$f":"IFERROR(VLOOKUP(I15979,設定・基礎!$G$3:$H$22,2,FALSE),\"\")","v":""}]
[" 40-20-10","40",null,"20",null,"10",null,null,null,{"$f":"IFERROR(VLOOKUP(I15995,設定・基礎!$G$3:$H$22,2,FALSE),\"\")","v":""}]
[" 40-20-13","40",null,"20",null,"13",null,null,null,{"$f":"IFERROR(VLOOKUP(I15998,設定・基礎!$G$3:$H$22,2,FALSE),\"\")","v":""}]
[" 41-01-01","41",null,"01",null,"01",null,null,null,{"$f":"IFERROR(VLOOKUP(I16006,設定・基礎!$G$3:$H$22,2,FALSE),\"\")","v":""}]
[" 41-01-11","41",null,"01",null,"11",null,null,null,{"$f":"IFERROR(VLOOKUP(I16016,設定・基礎!$G$3:$H$22,2,FALSE),\"\")","v":""}]
[" 41-02-03","41",null,"02",null,"03",null,null,null,{"$f":"IFERROR(VLOOKUP(I16028,設定・基礎!$G$3:$H$22,2,FALSE),\"\")","v":""}]
[" 41-02-10","41",null,"02",null,"10",null,null,null,{"$f":"IFERROR(VLOOKUP(I16035,設定・基礎!$G$3:$H$22,2,FALSE),\"\")","v":""}]
[" 41-02-20","41",null,"02",null,"20",null,null,null,{"$f":"IFERROR(VLOOKUP(I16045,設定・基礎!$G$3:$H$22,2,FALSE),\"\")","v":""}]
[" 41-03-08","41",null,"03",null,"08",null,null,null,{"$f":"IFERROR(VLOOKUP(I16053,設定・基礎!$G$3:$H$22,2,FALSE),\"\")","v":""}]
[" 41-03-20","41",null,"03",null,"20",null,null,null,{"$f":"IFERROR(VLOOKUP(I16065,設定・基礎!$G$3:$H$22,2,FALSE),\"\")","v":""}]
[" 41-04-03","41",null,"04",null,"03",null,null,null,{"$f":"IFERROR(VLOOKUP(I16068,設定・基礎!$G$3:$H$22,2,FALSE),\"\")","v":""}]
[" 41-04-11","41",null,"04",null,"11",null,null,null,{"$f":"IFERROR(VLOOKUP(I16076,設定・基礎!$G$3:$H$22,2,FALSE),\"\")","v":""}]
[" 41-05-01","41",null,"05",null,"01",null,null,null,{"$f":"IFERROR(VLOOKUP(I16086,設定・基礎!$G$3:$H$22,2,FALSE),\"\")","v":""}]
[" 41-05-13","41",null,"05",null,"13",null,null,null,{"$f":"IFERROR(VLOOKUP(I16098,設定・基礎!$G$3:$H$22,2,FALSE),\"\")","v":""}]
[" 41-05-20","41",null,"05",null,"20",null,null,null,{"$f":"IFERROR(VLOOKUP(I16105,設定・基礎!$G$3:$H$22,2,FALSE),\"\")","v":""}]
[" 41-06-10","41",null,"06",null,"10",null,null,null,{"$f":"IFERROR(VLOOKUP(I16115,設定・基礎!$G$3:$H$22,2,FALSE),\"\")","v":""}]
[" 41-06-18","41",null,"06",null,"18",null,null,null,{"$f":"IFERROR(VLOOKUP(I16123,設定・基礎!$G$3:$H$22,2,FALSE),\"\")","v":""}]
[" 41-07-10","41",null,"07",null,"10",null,null,null,{"$f":"IFERROR(VLOOKUP(I16135,設定・基礎!$G$3:$H$22,2,FALSE),\"\")","v":""}]
[" 41-07-13","41",null,"07",null,"13",null,null,null,{"$f":"IFERROR(VLOOKUP(I16138,設定・基礎!$G$3:$H$22,2,FALSE),\"\")","v":""}]
[" 41-08-01","41",null,"08",null,"01",null,null,null,{"$f":"IFERROR(VLOOKUP(I16146,設定・基礎!$G$3:$H$22,2,FALSE),\"\")","v":""}]
[" 41-08-11","41",null,"08",null,"11",null,null,null,{"$f":"IFERROR(VLOOKUP(I16156,設定・基礎!$G$3:$H$22,2,FALSE),\"\")","v":""}]
[" 41-08-18","41",null,"08",null,"18",null,null,null,{"$f":"IFERROR(VLOOKUP(I16163,設定・基礎!$G$3:$H$22,2,FALSE),\"\")","v":""}]
[" 41-09-10","41",null,"09",null,"10",null,null,null,{"$f":"IFERROR(VLOOKUP(I16175,設定・基礎!$G$3:$H$22,2,FALSE),\"\")","v":""}]
[" 41-09-20","41",null,"09",null,"20",null,null,null,{"$f":"IFERROR(VLOOKUP(I16185,設定・基礎!$G$3:$H$22,2,FALSE),\"\")","v":""}]
[" 41-10-08","41",null,"10",null,"08",null,null,null,{"$f":"IFERROR(VLOOKUP(I16193,設定・基礎!$G$3:$H$22,2,FALSE),\"\")","v":""}]
[" 41-10-20","41",null,"10",null,"20",null,null,null,{"$f":"IFERROR(VLOOKUP(I16205,設定・基礎!$G$3:$H$22,2,FALSE),\"\")","v":""}]
[" 41-11-03","41",null,"11",null,"03",null,null,null,{"$f":"IFERROR(VLOOKUP(I16208,設定・基礎!$G$3:$H$22,2,FALSE),\"\")","v":""}]
[" 41-11-11","41",null,"11",null,"11",null,null,null,{"$f":"IFERROR(VLOOKUP(I16216,設定・基礎!$G$3:$H$22,2,FALSE),\"\")","v":""}]
[" 41-12-01","41",null,"12",null,"01",null,null,null,{"$f":"IFERROR(VLOOKUP(I16226,設定・基礎!$G$3:$H$22,2,FALSE),\"\")","v":""}]
[" 41-12-08","41",null,"12",null,"08",null,null,null,{"$f":"IFERROR(VLOOKUP(I16233,設定・基礎!$G$3:$H$22,2,FALSE),\"\")","v":""}]
[" 41-12-20","41",null,"12",null,"20",null,null,null,{"$f":"IFERROR(VLOOKUP(I16245,設定・基礎!$G$3:$H$22,2,FALSE),\"\")","v":""}]
[" 41-13-10","41",null,"13",null,"10",null,null,null,{"$f":"IFERROR(VLOOKUP(I16255,設定・基礎!$G$3:$H$22,2,FALSE),\"\")","v":""}]
[" 41-13-18","41",null,"13",null,"18",null,null,null,{"$f":"IFERROR(VLOOKUP(I16263,設定・基礎!$G$3:$H$22,2,FALSE),\"\")","v":""}]
[" 41-14-10","41",null,"14",null,"10",null,null,null,{"$f":"IFERROR(VLOOKUP(I16275,設定・基礎!$G$3:$H$22,2,FALSE),\"\")","v":""}]
[" 41-14-13","41",null,"14",null,"13",null,null,null,{"$f":"IFERROR(VLOOKUP(I16278,設定・基礎!$G$3:$H$22,2,FALSE),\"\")","v":""}]
[" 41-15-01","41",null,"15",null,"01",null,null,null,{"$f":"IFERROR(VLOOKUP(I16286,設定・基礎!$G$3:$H$22,2,FALSE),\"\")","v":""}]
[" 41-15-11","41",null,"15",null,"11",null,null,null,{"$f":"IFERROR(VLOOKUP(I16296,設定・基礎!$G$3:$H$22,2,FALSE),\"\")","v":""}]
[" 41-15-18","41",null,"15",null,"18",null,null,null,{"$f":"IFERROR(VLOOKUP(I16303,設定・基礎!$G$3:$H$22,2,FALSE),\"\")","v":""}]
[" 41-16-10","41",null,"16",null,"10",null,null,null,{"$f":"IFERROR(VLOOKUP(I16315,設定・基礎!$G$3:$H$22,2,FALSE),\"\")","v":""}]
[" 41-16-20","41",null,"16",null,"20",null,null,null,{"$f":"IFERROR(VLOOKUP(I16325,設定・基礎!$G$3:$H$22,2,FALSE),\"\")","v":""}]
[" 41-17-08","41",null,"17",null,"08",null,null,null,{"$f":"IFERROR(VLOOKUP(I16333,設定・基礎!$G$3:$H$22,2,FALSE),\"\")","v":""}]
[" 41-17-20","41",null,"17",null,"20",null,null,null,{"$f":"IFERROR(VLOOKUP(I16345,設定・基礎!$G$3:$H$22,2,FALSE),\"\")","v":""}]
[" 41-18-07","41",null,"18",null,"07",null,null,null,{"$f":"IFERROR(VLOOKUP(I16352,設定・基礎!$G$3:$H$22,2,FALSE),\"\")","v":""}]
[" 41-18-11","41",null,"18",null,"11",null,null,null,{"$f":"IFERROR(VLOOKUP(I16356,設定・基礎!$G$3:$H$22,2,FALSE),\"\")","v":""}]
[" 41-19-01","41",null,"19",null,"01",null,null,null,{"$f":"IFERROR(VLOOKUP(I16366,設定・基礎!$G$3:$H$22,2,FALSE),\"\")","v":""}]
[" 41-19-08","41",null,"19",null,"08",null,null,null,{"$f":"IFERROR(VLOOKUP(I16373,設定・基礎!$G$3:$H$22,2,FALSE),\"\")","v":""}]
[" 41-19-20","41",null,"19",null,"20",null,null,null,{"$f":"IFERROR(VLOOKUP(I16385,設定・基礎!$G$3:$H$22,2,FALSE),\"\")","v":""}]
[" 41-20-10","41",null,"20",null,"10",null,null,null,{"$f":"IFERROR(VLOOKUP(I16395,設定・基礎!$G$3:$H$22,2,FALSE),\"\")","v":""}]
[" 41-20-18","41",null,"20",null,"18",null,null,null,{"$f":"IFERROR(VLOOKUP(I16403,設定・基礎!$G$3:$H$22,2,FALSE),\"\")","v":""}]
[" 42-01-10","42",null,"01",null,"10",null,null,null,{"$f":"IFERROR(VLOOKUP(I16415,設定・基礎!$G$3:$H$22,2,FALSE),\"\")","v":""}]
[" 42-01-17","42",null,"01",null,"17",null,null,null,{"$f":"IFERROR(VLOOKUP(I16422,設定・基礎!$G$3:$H$22,2,FALSE),\"\")","v":""}]
[" 42-02-01","42",null,"02",null,"01",null,null,null,{"$f":"IFERROR(VLOOKUP(I16426,設定・基礎!$G$3:$H$22,2,FALSE),\"\")","v":""}]
[" 42-02-11","42",null,"02",null,"11",null,null,null,{"$f":"IFERROR(VLOOKUP(I16436,設定・基礎!$G$3:$H$22,2,FALSE),\"\")","v":""}]
[" 42-02-18","42",null,"02",null,"18",null,null,null,{"$f":"IFERROR(VLOOKUP(I16443,設定・基礎!$G$3:$H$22,2,FALSE),\"\")","v":""}]
[" 42-03-10","42",null,"03",null,"10",null,null,null,{"$f":"IFERROR(VLOOKUP(I16455,設定・基礎!$G$3:$H$22,2,FALSE),\"\")","v":""}]
[" 42-03-20","42",null,"03",null,"20",null,null,null,{"$f":"IFERROR(VLOOKUP(I16465,設定・基礎!$G$3:$H$22,2,FALSE),\"\")","v":""}]
[" 42-04-08","42",null,"04",null,"08",null,null,null,{"$f":"IFERROR(VLOOKUP(I16473,設定・基礎!$G$3:$H$22,2,FALSE),\"\")","v":""}]
[" 42-04-20","42",null,"04",null,"20",null,null,null,{"$f":"IFERROR(VLOOKUP(I16485,設定・基礎!$G$3:$H$22,2,FALSE),\"\")","v":""}]
[" 42-05-07","42",null,"05",null,"07",null,null,null,{"$f":"IFERROR(VLOOKUP(I16492,設定・基礎!$G$3:$H$22,2,FALSE),\"\")","v":""}]
[" 42-05-11","42",null,"05",null,"11",null,null,null,{"$f":"IFERROR(VLOOKUP(I16496,設定・基礎!$G$3:$H$22,2,FALSE),\"\")","v":""}]
[" 42-06-01","42",null,"06",null,"01",null,null,null,{"$f":"IFERROR(VLOOKUP(I16506,設定・基礎!$G$3:$H$22,2,FALSE),\"\")","v":""}]
[" 42-06-08","42",null,"06",null,"08",null,null,null,{"$f":"IFERROR(VLOOKUP(I16513,設定・基礎!$G$3:$H$22,2,FALSE),\"\")","v":""}]
[" 42-06-20","42",null,"06",null,"20",null,null,null,{"$f":"IFERROR(VLOOKUP(I16525,設定・基礎!$G$3:$H$22,2,FALSE),\"\")","v":""}]
[" 42-07-10","42",null,"07",null,"10",null,null,null,{"$f":"IFERROR(VLOOKUP(I16535,設定・基礎!$G$3:$H$22,2,FALSE),\"\")","v":""}]
[" 42-07-18","42",null,"07",null,"18",null,null,null,{"$f":"IFERROR(VLOOKUP(I16543,設定・基礎!$G$3:$H$22,2,FALSE),\"\")","v":""}]
[" 42-08-10","42",null,"08",null,"10",null,null,null,{"$f":"IFERROR(VLOOKUP(I16555,設定・基礎!$G$3:$H$22,2,FALSE),\"\")","v":""}]
[" 42-08-17","42",null,"08",null,"17",null,null,null,{"$f":"IFERROR(VLOOKUP(I16562,設定・基礎!$G$3:$H$22,2,FALSE),\"\")","v":""}]
[" 42-09-01","42",null,"09",null,"01",null,null,null,{"$f":"IFERROR(VLOOKUP(I16566,設定・基礎!$G$3:$H$22,2,FALSE),\"\")","v":""}]
[" 42-09-11","42",null,"09",null,"11",null,null,null,{"$f":"IFERROR(VLOOKUP(I16576,設定・基礎!$G$3:$H$22,2,FALSE),\"\")","v":""}]
[" 42-09-18","42",null,"09",null,"18",null,null,null,{"$f":"IFERROR(VLOOKUP(I16583,設定・基礎!$G$3:$H$22,2,FALSE),\"\")","v":""}]
[" 42-10-10","42",null,"10",null,"10",null,null,null,{"$f":"IFERROR(VLOOKUP(I16595,設定・基礎!$G$3:$H$22,2,FALSE),\"\")","v":""}]
[" 42-10-20","42",null,"10",null,"20",null,null,null,{"$f":"IFERROR(VLOOKUP(I16605,設定・基礎!$G$3:$H$22,2,FALSE),\"\")","v":""}]
[" 42-11-08","42",null,"11",null,"08",null,null,null,{"$f":"IFERROR(VLOOKUP(I16613,設定・基礎!$G$3:$H$22,2,FALSE),\"\")","v":""}]
[" 42-11-20","42",null,"11",null,"20",null,null,null,{"$f":"IFERROR(VLOOKUP(I16625,設定・基礎!$G$3:$H$22,2,FALSE),\"\")","v":""}]
[" 42-12-07","42",null,"12",null,"07",null,null,null,{"$f":"IFERROR(VLOOKUP(I16632,設定・基礎!$G$3:$H$22,2,FALSE),\"\")","v":""}]
[" 42-12-11","42",null,"12",null,"11",null,null,null,{"$f":"IFERROR(VLOOKUP(I16636,設定・基礎!$G$3:$H$22,2,FALSE),\"\")","v":""}]
[" 42-13-05","42",null,"13",null,"05",null,null,null,{"$f":"IFERROR(VLOOKUP(I16650,設定・基礎!$G$3:$H$22,2,FALSE),\"\")","v":""}]
[" 42-13-08","42",null,"13",null,"08",null,null,null,{"$f":"IFERROR(VLOOKUP(I16653,設定・基礎!$G$3:$H$22,2,FALSE),\"\")","v":""}]
[" 42-13-20","42",null,"13",null,"20",null,null,null,{"$f":"IFERROR(VLOOKUP(I16665,設定・基礎!$G$3:$H$22,2,FALSE),\"\")","v":""}]
[" 42-14-10","42",null,"14",null,"10",null,null,null,{"$f":"IFERROR(VLOOKUP(I16675,設定・基礎!$G$3:$H$22,2,FALSE),\"\")","v":""}]
[" 42-14-18","42",null,"14",null,"18",null,null,null,{"$f":"IFERROR(VLOOKUP(I16683,設定・基礎!$G$3:$H$22,2,FALSE),\"\")","v":""}]
[" 42-15-10","42",null,"15",null,"10",null,null,null,{"$f":"IFERROR(VLOOKUP(I16695,設定・基礎!$G$3:$H$22,2,FALSE),\"\")","v":""}]
[" 42-15-17","42",null,"15",null,"17",null,null,null,{"$f":"IFERROR(VLOOKUP(I16702,設定・基礎!$G$3:$H$22,2,FALSE),\"\")","v":""}]
[" 42-16-01","42",null,"16",null,"01",null,null,null,{"$f":"IFERROR(VLOOKUP(I16706,設定・基礎!$G$3:$H$22,2,FALSE),\"\")","v":""}]
[" 42-16-15","42",null,"16",null,"15",null,null,null,{"$f":"IFERROR(VLOOKUP(I16720,設定・基礎!$G$3:$H$22,2,FALSE),\"\")","v":""}]
[" 42-16-18","42",null,"16",null,"18",null,null,null,{"$f":"IFERROR(VLOOKUP(I16723,設定・基礎!$G$3:$H$22,2,FALSE),\"\")","v":""}]
[" 42-17-10","42",null,"17",null,"10",null,null,null,{"$f":"IFERROR(VLOOKUP(I16735,設定・基礎!$G$3:$H$22,2,FALSE),\"\")","v":""}]
[" 42-17-20","42",null,"17",null,"20",null,null,null,{"$f":"IFERROR(VLOOKUP(I16745,設定・基礎!$G$3:$H$22,2,FALSE),\"\")","v":""}]
[" 42-18-08","42",null,"18",null,"08",null,null,null,{"$f":"IFERROR(VLOOKUP(I16753,設定・基礎!$G$3:$H$22,2,FALSE),\"\")","v":""}]
[" 42-18-20","42",null,"18",null,"20",null,null,null,{"$f":"IFERROR(VLOOKUP(I16765,設定・基礎!$G$3:$H$22,2,FALSE),\"\")","v":""}]
[" 42-19-07","42",null,"19",null,"07",null,null,null,{"$f":"IFERROR(VLOOKUP(I16772,設定・基礎!$G$3:$H$22,2,FALSE),\"\")","v":""}]
[" 42-19-11","42",null,"19",null,"11",null,null,null,{"$f":"IFERROR(VLOOKUP(I16776,設定・基礎!$G$3:$H$22,2,FALSE),\"\")","v":""}]
[" 42-20-05","42",null,"20",null,"05",null,null,null,{"$f":"IFERROR(VLOOKUP(I16790,設定・基礎!$G$3:$H$22,2,FALSE),\"\")","v":""}]
[" 42-20-08","42",null,"20",null,"08",null,null,null,{"$f":"IFERROR(VLOOKUP(I16793,設定・基礎!$G$3:$H$22,2,FALSE),\"\")","v":""}]
[" 42-20-20","42",null,"20",null,"20",null,null,null,{"$f":"IFERROR(VLOOKUP(I16805,設定・基礎!$G$3:$H$22,2,FALSE),\"\")","v":""}]
[" 43-01-10","43",null,"01",null,"10",null,null,null,{"$f":"IFERROR(VLOOKUP(I16815,設定・基礎!$G$3:$H$22,2,FALSE),\"\")","v":""}]
[" 43-01-18","43",null,"01",null,"18",null,null,null,{"$f":"IFERROR(VLOOKUP(I16823,設定・基礎!$G$3:$H$22,2,FALSE),\"\")","v":""}]
[" 43-02-05","43",null,"02",null,"05",null,null,null,{"$f":"IFERROR(VLOOKUP(I16830,設定・基礎!$G$3:$H$22,2,FALSE),\"\")","v":""}]
[" 43-02-17","43",null,"02",null,"17",null,null,null,{"$f":"IFERROR(VLOOKUP(I16842,設定・基礎!$G$3:$H$22,2,FALSE),\"\")","v":""}]
[" 43-03-01","43",null,"03",null,"01",null,null,null,{"$f":"IFERROR(VLOOKUP(I16846,設定・基礎!$G$3:$H$22,2,FALSE),\"\")","v":""}]
[" 43-03-15","43",null,"03",null,"15",null,null,null,{"$f":"IFERROR(VLOOKUP(I16860,設定・基礎!$G$3:$H$22,2,FALSE),\"\")","v":""}]
[" 43-03-18","43",null,"03",null,"18",null,null,null,{"$f":"IFERROR(VLOOKUP(I16863,設定・基礎!$G$3:$H$22,2,FALSE),\"\")","v":""}]
[" 43-04-10","43",null,"04",null,"10",null,null,null,{"$f":"IFERROR(VLOOKUP(I16875,設定・基礎!$G$3:$H$22,2,FALSE),\"\")","v":""}]
[" 43-04-17","43",null,"04",null,"17",null,null,null,{"$f":"IFERROR(VLOOKUP(I16882,設定・基礎!$G$3:$H$22,2,FALSE),\"\")","v":""}]
[" 43-05-10","43",null,"05",null,"10",null,null,null,{"$f":"IFERROR(VLOOKUP(I16895,設定・基礎!$G$3:$H$22,2,FALSE),\"\")","v":""}]
[" 43-05-15","43",null,"05",null,"15",null,null,null,{"$f":"IFERROR(VLOOKUP(I16900,設定・基礎!$G$3:$H$22,2,FALSE),\"\")","v":""}]
[" 43-06-07","43",null,"06",null,"07",null,null,null,{"$f":"IFERROR(VLOOKUP(I16912,設定・基礎!$G$3:$H$22,2,FALSE),\"\")","v":""}]
[" 43-06-10","43",null,"06",null,"10",null,null,null,{"$f":"IFERROR(VLOOKUP(I16915,設定・基礎!$G$3:$H$22,2,FALSE),\"\")","v":""}]
[" 43-07-01","43",null,"07",null,"01",null,null,null,{"$f":"IFERROR(VLOOKUP(I16926,設定・基礎!$G$3:$H$22,2,FALSE),\"\")","v":""}]
[" 43-07-08","43",null,"07",null,"08",null,null,null,{"$f":"IFERROR(VLOOKUP(I16933,設定・基礎!$G$3:$H$22,2,FALSE),\"\")","v":""}]
[" 43-08-04","43",null,"08",null,"04",null,null,null,{"$f":"IFERROR(VLOOKUP(I16949,設定・基礎!$G$3:$H$22,2,FALSE),\"\")","v":""}]
[" 43-08-07","43",null,"08",null,"07",null,null,null,{"$f":"IFERROR(VLOOKUP(I16952,設定・基礎!$G$3:$H$22,2,FALSE),\"\")","v":""}]
[" 43-08-20","43",null,"08",null,"20",null,null,null,{"$f":"IFERROR(VLOOKUP(I16965,設定・基礎!$G$3:$H$22,2,FALSE),\"\")","v":""}]
[" 43-09-05","43",null,"09",null,"05",null,null,null,{"$f":"IFERROR(VLOOKUP(I16970,設定・基礎!$G$3:$H$22,2,FALSE),\"\")","v":""}]
[" 43-09-17","43",null,"09",null,"17",null,null,null,{"$f":"IFERROR(VLOOKUP(I16982,設定・基礎!$G$3:$H$22,2,FALSE),\"\")","v":""}]
[" 43-09-20","43",null,"09",null,"20",null,null,null,{"$f":"IFERROR(VLOOKUP(I16985,設定・基礎!$G$3:$H$22,2,FALSE),\"\")","v":""}]
[" 43-10-11","43",null,"10",null,"11",null,null,null,{"$f":"IFERROR(VLOOKUP(I16996,設定・基礎!$G$3:$H$22,2,FALSE),\"\")","v":""}]
[" 43-10-18","43",null,"10",null,"18",null,null,null,{"$f":"IFERROR(VLOOKUP(I17003,設定・基礎!$G$3:$H$22,2,FALSE),\"\")","v":""}]
[" 43-11-14","43",null,"11",null,"14",null,null,null,{"$f":"IFERROR(VLOOKUP(I17019,設定・基礎!$G$3:$H$22,2,FALSE),\"\")","v":""}]
[" 43-11-17","43",null,"11",null,"17",null,null,null,{"$f":"IFERROR(VLOOKUP(I17022,設定・基礎!$G$3:$H$22,2,FALSE),\"\")","v":""}]
[" 43-12-10","43",null,"12",null,"10",null,null,null,{"$f":"IFERROR(VLOOKUP(I17035,設定・基礎!$G$3:$H$22,2,FALSE),\"\")","v":""}]
[" 43-12-15","43",null,"12",null,"15",null,null,null,{"$f":"IFERROR(VLOOKUP(I17040,設定・基礎!$G$3:$H$22,2,FALSE),\"\")","v":""}]
[" 43-13-07","43",null,"13",null,"07",null,null,null,{"$f":"IFERROR(VLOOKUP(I17052,設定・基礎!$G$3:$H$22,2,FALSE),\"\")","v":""}]
[" 43-13-10","43",null,"13",null,"10",null,null,null,{"$f":"IFERROR(VLOOKUP(I17055,設定・基礎!$G$3:$H$22,2,FALSE),\"\")","v":""}]
[" 43-14-01","43",null,"14",null,"01",null,null,null,{"$f":"IFERROR(VLOOKUP(I17066,設定・基礎!$G$3:$H$22,2,FALSE),\"\")","v":""}]
[" 43-14-08","43",null,"14",null,"08",null,null,null,{"$f":"IFERROR(VLOOKUP(I17073,設定・基礎!$G$3:$H$22,2,FALSE),\"\")","v":""}]
[" 43-15-04","43",null,"15",null,"04",null,null,null,{"$f":"IFERROR(VLOOKUP(I17089,設定・基礎!$G$3:$H$22,2,FALSE),\"\")","v":""}]
[" 43-15-07","43",null,"15",null,"07",null,null,null,{"$f":"IFERROR(VLOOKUP(I17092,設定・基礎!$G$3:$H$22,2,FALSE),\"\")","v":""}]
[" 43-15-20","43",null,"15",null,"20",null,null,null,{"$f":"IFERROR(VLOOKUP(I17105,設定・基礎!$G$3:$H$22,2,FALSE),\"\")","v":""}]
[" 43-16-05","43",null,"16",null,"05",null,null,null,{"$f":"IFERROR(VLOOKUP(I17110,設定・基礎!$G$3:$H$22,2,FALSE),\"\")","v":""}]
[" 43-16-17","43",null,"16",null,"17",null,null,null,{"$f":"IFERROR(VLOOKUP(I17122,設定・基礎!$G$3:$H$22,2,FALSE),\"\")","v":""}]
[" 43-17-04","43",null,"17",null,"04",null,null,null,{"$f":"IFERROR(VLOOKUP(I17129,設定・基礎!$G$3:$H$22,2,FALSE),\"\")","v":""}]
[" 43-17-11","43",null,"17",null,"11",null,null,null,{"$f":"IFERROR(VLOOKUP(I17136,設定・基礎!$G$3:$H$22,2,FALSE),\"\")","v":""}]
[" 43-17-18","43",null,"17",null,"18",null,null,null,{"$f":"IFERROR(VLOOKUP(I17143,設定・基礎!$G$3:$H$22,2,FALSE),\"\")","v":""}]
[" 43-18-14","43",null,"18",null,"14",null,null,null,{"$f":"IFERROR(VLOOKUP(I17159,設定・基礎!$G$3:$H$22,2,FALSE),\"\")","v":""}]
[" 43-18-17","43",null,"18",null,"17",null,null,null,{"$f":"IFERROR(VLOOKUP(I17162,設定・基礎!$G$3:$H$22,2,FALSE),\"\")","v":""}]
[" 43-19-10","43",null,"19",null,"10",null,null,null,{"$f":"IFERROR(VLOOKUP(I17175,設定・基礎!$G$3:$H$22,2,FALSE),\"\")","v":""}]
[" 43-19-15","43",null,"19",null,"15",null,null,null,{"$f":"IFERROR(VLOOKUP(I17180,設定・基礎!$G$3:$H$22,2,FALSE),\"\")","v":""}]
[" 43-20-07","43",null,"20",null,"07",null,null,null,{"$f":"IFERROR(VLOOKUP(I17192,設定・基礎!$G$3:$H$22,2,FALSE),\"\")","v":""}]
[" 43-20-14","43",null,"20",null,"14",null,null,null,{"$f":"IFERROR(VLOOKUP(I17199,設定・基礎!$G$3:$H$22,2,FALSE),\"\")","v":""}]
[" 44-01-01","44",null,"01",null,"01",null,null,null,{"$f":"IFERROR(VLOOKUP(I17206,設定・基礎!$G$3:$H$22,2,FALSE),\"\")","v":""}]
[" 44-01-08","44",null,"01",null,"08",null,null,null,{"$f":"IFERROR(VLOOKUP(I17213,設定・基礎!$G$3:$H$22,2,FALSE),\"\")","v":""}]
[" 44-02-04","44",null,"02",null,"04",null,null,null,{"$f":"IFERROR(VLOOKUP(I17229,設定・基礎!$G$3:$H$22,2,FALSE),\"\")","v":""}]
[" 44-02-07","44",null,"02",null,"07",null,null,null,{"$f":"IFERROR(VLOOKUP(I17232,設定・基礎!$G$3:$H$22,2,FALSE),\"\")","v":""}]
[" 44-02-20","44",null,"02",null,"20",null,null,null,{"$f":"IFERROR(VLOOKUP(I17245,設定・基礎!$G$3:$H$22,2,FALSE),\"\")","v":""}]
[" 44-03-05","44",null,"03",null,"05",null,null,null,{"$f":"IFERROR(VLOOKUP(I17250,設定・基礎!$G$3:$H$22,2,FALSE),\"\")","v":""}]
[" 44-03-17","44",null,"03",null,"17",null,null,null,{"$f":"IFERROR(VLOOKUP(I17262,設定・基礎!$G$3:$H$22,2,FALSE),\"\")","v":""}]
[" 44-04-04","44",null,"04",null,"04",null,null,null,{"$f":"IFERROR(VLOOKUP(I17269,設定・基礎!$G$3:$H$22,2,FALSE),\"\")","v":""}]
[" 44-04-11","44",null,"04",null,"11",null,null,null,{"$f":"IFERROR(VLOOKUP(I17276,設定・基礎!$G$3:$H$22,2,FALSE),\"\")","v":""}]
[" 44-04-18","44",null,"04",null,"18",null,null,null,{"$f":"IFERROR(VLOOKUP(I17283,設定・基礎!$G$3:$H$22,2,FALSE),\"\")","v":""}]
[" 44-05-14","44",null,"05",null,"14",null,null,null,{"$f":"IFERROR(VLOOKUP(I17299,設定・基礎!$G$3:$H$22,2,FALSE),\"\")","v":""}]
[" 44-05-17","44",null,"05",null,"17",null,null,null,{"$f":"IFERROR(VLOOKUP(I17302,設定・基礎!$G$3:$H$22,2,FALSE),\"\")","v":""}]
[" 44-06-10","44",null,"06",null,"10",null,null,null,{"$f":"IFERROR(VLOOKUP(I17315,設定・基礎!$G$3:$H$22,2,FALSE),\"\")","v":""}]
[" 44-06-15","44",null,"06",null,"15",null,null,null,{"$f":"IFERROR(VLOOKUP(I17320,設定・基礎!$G$3:$H$22,2,FALSE),\"\")","v":""}]
[" 44-07-07","44",null,"07",null,"07",null,null,null,{"$f":"IFERROR(VLOOKUP(I17332,設定・基礎!$G$3:$H$22,2,FALSE),\"\")","v":""}]
[" 44-07-14","44",null,"07",null,"14",null,null,null,{"$f":"IFERROR(VLOOKUP(I17339,設定・基礎!$G$3:$H$22,2,FALSE),\"\")","v":""}]
[" 44-08-01","44",null,"08",null,"01",null,null,null,{"$f":"IFERROR(VLOOKUP(I17346,設定・基礎!$G$3:$H$22,2,FALSE),\"\")","v":""}]
[" 44-08-08","44",null,"08",null,"08",null,null,null,{"$f":"IFERROR(VLOOKUP(I17353,設定・基礎!$G$3:$H$22,2,FALSE),\"\")","v":""}]
[" 44-09-04","44",null,"09",null,"04",null,null,null,{"$f":"IFERROR(VLOOKUP(I17369,設定・基礎!$G$3:$H$22,2,FALSE),\"\")","v":""}]
[" 44-09-07","44",null,"09",null,"07",null,null,null,{"$f":"IFERROR(VLOOKUP(I17372,設定・基礎!$G$3:$H$22,2,FALSE),\"\")","v":""}]
[" 44-09-20","44",null,"09",null,"20",null,null,null,{"$f":"IFERROR(VLOOKUP(I17385,設定・基礎!$G$3:$H$22,2,FALSE),\"\")","v":""}]
[" 44-10-05","44",null,"10",null,"05",null,null,null,{"$f":"IFERROR(VLOOKUP(I17390,設定・基礎!$G$3:$H$22,2,FALSE),\"\")","v":""}]
[" 44-10-17","44",null,"10",null,"17",null,null,null,{"$f":"IFERROR(VLOOKUP(I17402,設定・基礎!$G$3:$H$22,2,FALSE),\"\")","v":""}]
[" 44-11-04","44",null,"11",null,"04",null,null,null,{"$f":"IFERROR(VLOOKUP(I17409,設定・基礎!$G$3:$H$22,2,FALSE),\"\")","v":""}]
[" 44-11-11","44",null,"11",null,"11",null,null,null,{"$f":"IFERROR(VLOOKUP(I17416,設定・基礎!$G$3:$H$22,2,FALSE),\"\")","v":""}]
[" 44-12-02","44",null,"12",null,"02",null,null,null,{"$f":"IFERROR(VLOOKUP(I17427,設定・基礎!$G$3:$H$22,2,FALSE),\"\")","v":""}]
[" 44-12-14","44",null,"12",null,"14",null,null,null,{"$f":"IFERROR(VLOOKUP(I17439,設定・基礎!$G$3:$H$22,2,FALSE),\"\")","v":""}]
[" 44-12-17","44",null,"12",null,"17",null,null,null,{"$f":"IFERROR(VLOOKUP(I17442,設定・基礎!$G$3:$H$22,2,FALSE),\"\")","v":""}]
[" 44-13-10","44",null,"13",null,"10",null,null,null,{"$f":"IFERROR(VLOOKUP(I17455,設定・基礎!$G$3:$H$22,2,FALSE),\"\")","v":""}]
[" 44-13-15","44",null,"13",null,"15",null,null,null,{"$f":"IFERROR(VLOOKUP(I17460,設定・基礎!$G$3:$H$22,2,FALSE),\"\")","v":""}]
[" 44-14-07","44",null,"14",null,"07",null,null,null,{"$f":"IFERROR(VLOOKUP(I17472,設定・基礎!$G$3:$H$22,2,FALSE),\"\")","v":""}]
[" 44-14-14","44",null,"14",null,"14",null,null,null,{"$f":"IFERROR(VLOOKUP(I17479,設定・基礎!$G$3:$H$22,2,FALSE),\"\")","v":""}]
[" 44-15-01","44",null,"15",null,"01",null,null,null,{"$f":"IFERROR(VLOOKUP(I17486,設定・基礎!$G$3:$H$22,2,FALSE),\"\")","v":""}]
[" 44-15-12","44",null,"15",null,"12",null,null,null,{"$f":"IFERROR(VLOOKUP(I17497,設定・基礎!$G$3:$H$22,2,FALSE),\"\")","v":""}]
[" 44-16-04","44",null,"16",null,"04",null,null,null,{"$f":"IFERROR(VLOOKUP(I17509,設定・基礎!$G$3:$H$22,2,FALSE),\"\")","v":""}]
[" 44-16-07","44",null,"16",null,"07",null,null,null,{"$f":"IFERROR(VLOOKUP(I17512,設定・基礎!$G$3:$H$22,2,FALSE),\"\")","v":""}]
[" 44-16-20","44",null,"16",null,"20",null,null,null,{"$f":"IFERROR(VLOOKUP(I17525,設定・基礎!$G$3:$H$22,2,FALSE),\"\")","v":""}]
[" 44-17-05","44",null,"17",null,"05",null,null,null,{"$f":"IFERROR(VLOOKUP(I17530,設定・基礎!$G$3:$H$22,2,FALSE),\"\")","v":""}]
[" 44-17-17","44",null,"17",null,"17",null,null,null,{"$f":"IFERROR(VLOOKUP(I17542,設定・基礎!$G$3:$H$22,2,FALSE),\"\")","v":""}]
[" 44-18-04","44",null,"18",null,"04",null,null,null,{"$f":"IFERROR(VLOOKUP(I17549,設定・基礎!$G$3:$H$22,2,FALSE),\"\")","v":""}]
[" 44-18-11","44",null,"18",null,"11",null,null,null,{"$f":"IFERROR(VLOOKUP(I17556,設定・基礎!$G$3:$H$22,2,FALSE),\"\")","v":""}]
[" 44-19-02","44",null,"19",null,"02",null,null,null,{"$f":"IFERROR(VLOOKUP(I17567,設定・基礎!$G$3:$H$22,2,FALSE),\"\")","v":""}]
[" 44-19-14","44",null,"19",null,"14",null,null,null,{"$f":"IFERROR(VLOOKUP(I17579,設定・基礎!$G$3:$H$22,2,FALSE),\"\")","v":""}]
[" 44-19-17","44",null,"19",null,"17",null,null,null,{"$f":"IFERROR(VLOOKUP(I17582,設定・基礎!$G$3:$H$22,2,FALSE),\"\")","v":""}]
[" 44-20-10","44",null,"20",null,"10",null,null,null,{"$f":"IFERROR(VLOOKUP(I17595,設定・基礎!$G$3:$H$22,2,FALSE),\"\")","v":""}]
[" 44-20-15","44",null,"20",null,"15",null,null,null,{"$f":"IFERROR(VLOOKUP(I17600,設定・基礎!$G$3:$H$22,2,FALSE),\"\")","v":""}]
[" 45-01-02","45",null,"01",null,"02",null,null,null,{"$f":"IFERROR(VLOOKUP(I17607,設定・基礎!$G$3:$H$22,2,FALSE),\"\")","v":""}]
[" 45-01-14","45",null,"01",null,"14",null,null,null,{"$f":"IFERROR(VLOOKUP(I17619,設定・基礎!$G$3:$H$22,2,FALSE),\"\")","v":""}]
[" 45-02-01","45",null,"02",null,"01",null,null,null,{"$f":"IFERROR(VLOOKUP(I17626,設定・基礎!$G$3:$H$22,2,FALSE),\"\")","v":""}]
[" 45-02-12","45",null,"02",null,"12",null,null,null,{"$f":"IFERROR(VLOOKUP(I17637,設定・基礎!$G$3:$H$22,2,FALSE),\"\")","v":""}]
[" 45-03-04","45",null,"03",null,"04",null,null,null,{"$f":"IFERROR(VLOOKUP(I17649,設定・基礎!$G$3:$H$22,2,FALSE),\"\")","v":""}]
[" 45-03-07","45",null,"03",null,"07",null,null,null,{"$f":"IFERROR(VLOOKUP(I17652,設定・基礎!$G$3:$H$22,2,FALSE),\"\")","v":""}]
[" 45-03-20","45",null,"03",null,"20",null,null,null,{"$f":"IFERROR(VLOOKUP(I17665,設定・基礎!$G$3:$H$22,2,FALSE),\"\")","v":""}]
[" 45-04-05","45",null,"04",null,"05",null,null,null,{"$f":"IFERROR(VLOOKUP(I17670,設定・基礎!$G$3:$H$22,2,FALSE),\"\")","v":""}]
[" 45-04-12","45",null,"04",null,"12",null,null,null,{"$f":"IFERROR(VLOOKUP(I17677,設定・基礎!$G$3:$H$22,2,FALSE),\"\")","v":""}]
[" 45-05-04","45",null,"05",null,"04",null,null,null,{"$f":"IFERROR(VLOOKUP(I17689,設定・基礎!$G$3:$H$22,2,FALSE),\"\")","v":""}]
[" 45-05-11","45",null,"05",null,"11",null,null,null,{"$f":"IFERROR(VLOOKUP(I17696,設定・基礎!$G$3:$H$22,2,FALSE),\"\")","v":""}]
[" 45-06-02","45",null,"06",null,"02",null,null,null,{"$f":"IFERROR(VLOOKUP(I17707,設定・基礎!$G$3:$H$22,2,FALSE),\"\")","v":""}]
[" 45-06-14","45",null,"06",null,"14",null,null,null,{"$f":"IFERROR(VLOOKUP(I17719,設定・基礎!$G$3:$H$22,2,FALSE),\"\")","v":""}]
[" 45-07-01","45",null,"07",null,"01",null,null,null,{"$f":"IFERROR(VLOOKUP(I17726,設定・基礎!$G$3:$H$22,2,FALSE),\"\")","v":""}]
[" 45-07-10","45",null,"07",null,"10",null,null,null,{"$f":"IFERROR(VLOOKUP(I17735,設定・基礎!$G$3:$H$22,2,FALSE),\"\")","v":""}]
[" 45-07-15","45",null,"07",null,"15",null,null,null,{"$f":"IFERROR(VLOOKUP(I17740,設定・基礎!$G$3:$H$22,2,FALSE),\"\")","v":""}]
[" 45-08-02","45",null,"08",null,"02",null,null,null,{"$f":"IFERROR(VLOOKUP(I17747,設定・基礎!$G$3:$H$22,2,FALSE),\"\")","v":""}]
[" 45-08-14","45",null,"08",null,"14",null,null,null,{"$f":"IFERROR(VLOOKUP(I17759,設定・基礎!$G$3:$H$22,2,FALSE),\"\")","v":""}]
[" 45-09-06","45",null,"09",null,"06",null,null,null,{"$f":"IFERROR(VLOOKUP(I17771,設定・基礎!$G$3:$H$22,2,FALSE),\"\")","v":""}]
[" 45-09-11","45",null,"09",null,"11",null,null,null,{"$f":"IFERROR(VLOOKUP(I17776,設定・基礎!$G$3:$H$22,2,FALSE),\"\")","v":""}]
[" 45-10-04","45",null,"10",null,"04",null,null,null,{"$f":"IFERROR(VLOOKUP(I17789,設定・基礎!$G$3:$H$22,2,FALSE),\"\")","v":""}]
[" 45-10-11","45",null,"10",null,"11",null,null,null,{"$f":"IFERROR(VLOOKUP(I17796,設定・基礎!$G$3:$H$22,2,FALSE),\"\")","v":""}]
[" 45-10-14","45",null,"10",null,"14",null,null,null,{"$f":"IFERROR(VLOOKUP(I17799,設定・基礎!$G$3:$H$22,2,FALSE),\"\")","v":""}]
[" 45-11-10","45",null,"11",null,"10",null,null,null,{"$f":"IFERROR(VLOOKUP(I17815,設定・基礎!$G$3:$H$22,2,FALSE),\"\")","v":""}]
[" 45-11-12","45",null,"11",null,"12",null,null,null,{"$f":"IFERROR(VLOOKUP(I17817,設定・基礎!$G$3:$H$22,2,FALSE),\"\")","v":""}]
[" 45-12-04","45",null,"12",null,"04",null,null,null,{"$f":"IFERROR(VLOOKUP(I17829,設定・基礎!$G$3:$H$22,2,FALSE),\"\")","v":""}]
[" 45-12-16","45",null,"12",null,"16",null,null,null,{"$f":"IFERROR(VLOOKUP(I17841,設定・基礎!$G$3:$H$22,2,FALSE),\"\")","v":""}]
[" 45-13-01","45",null,"13",null,"01",null,null,null,{"$f":"IFERROR(VLOOKUP(I17846,設定・基礎!$G$3:$H$22,2,FALSE),\"\")","v":""}]
[" 45-13-14","45",null,"13",null,"14",null,null,null,{"$f":"IFERROR(VLOOKUP(I17859,設定・基礎!$G$3:$H$22,2,FALSE),\"\")","v":""}]
[" 45-14-01","45",null,"14",null,"01",null,null,null,{"$f":"IFERROR(VLOOKUP(I17866,設定・基礎!$G$3:$H$22,2,FALSE),\"\")","v":""}]
[" 45-14-04","45",null,"14",null,"04",null,null,null,{"$f":"IFERROR(VLOOKUP(I17869,設定・基礎!$G$3:$H$22,2,FALSE),\"\")","v":""}]
[" 45-14-20","45",null,"14",null,"20",null,null,null,{"$f":"IFERROR(VLOOKUP(I17885,設定・基礎!$G$3:$H$22,2,FALSE),\"\")","v":""}]
[" 45-15-02","45",null,"15",null,"02",null,null,null,{"$f":"IFERROR(VLOOKUP(I17887,設定・基礎!$G$3:$H$22,2,FALSE),\"\")","v":""}]
[" 45-15-14","45",null,"15",null,"14",null,null,null,{"$f":"IFERROR(VLOOKUP(I17899,設定・基礎!$G$3:$H$22,2,FALSE),\"\")","v":""}]
[" 45-16-01","45",null,"16",null,"01",null,null,null,{"$f":"IFERROR(VLOOKUP(I17906,設定・基礎!$G$3:$H$22,2,FALSE),\"\")","v":""}]
[" 45-16-11","45",null,"16",null,"11",null,null,null,{"$f":"IFERROR(VLOOKUP(I17916,設定・基礎!$G$3:$H$22,2,FALSE),\"\")","v":""}]
[" 45-17-04","45",null,"17",null,"04",null,null,null,{"$f":"IFERROR(VLOOKUP(I17929,設定・基礎!$G$3:$H$22,2,FALSE),\"\")","v":""}]
[" 45-17-11","45",null,"17",null,"11",null,null,null,{"$f":"IFERROR(VLOOKUP(I17936,設定・基礎!$G$3:$H$22,2,FALSE),\"\")","v":""}]
[" 45-17-14","45",null,"17",null,"14",null,null,null,{"$f":"IFERROR(VLOOKUP(I17939,設定・基礎!$G$3:$H$22,2,FALSE),\"\")","v":""}]
[" 45-18-10","45",null,"18",null,"10",null,null,null,{"$f":"IFERROR(VLOOKUP(I17955,設定・基礎!$G$3:$H$22,2,FALSE),\"\")","v":""}]
[" 45-18-12","45",null,"18",null,"12",null,null,null,{"$f":"IFERROR(VLOOKUP(I17957,設定・基礎!$G$3:$H$22,2,FALSE),\"\")","v":""}]
[" 45-19-04","45",null,"19",null,"04",null,null,null,{"$f":"IFERROR(VLOOKUP(I17969,設定・基礎!$G$3:$H$22,2,FALSE),\"\")","v":""}]
[" 45-19-11","45",null,"19",null,"11",null,null,null,{"$f":"IFERROR(VLOOKUP(I17976,設定・基礎!$G$3:$H$22,2,FALSE),\"\")","v":""}]
[" 45-20-01","45",null,"20",null,"01",null,null,null,{"$f":"IFERROR(VLOOKUP(I17986,設定・基礎!$G$3:$H$22,2,FALSE),\"\")","v":""}]
[" 45-20-14","45",null,"20",null,"14",null,null,null,{"$f":"IFERROR(VLOOKUP(I17999,設定・基礎!$G$3:$H$22,2,FALSE),\"\")","v":""}]
[" 46-01-01","46",null,"01",null,"01",null,null,null,{"$f":"IFERROR(VLOOKUP(I18006,設定・基礎!$G$3:$H$22,2,FALSE),\"\")","v":""}]
[" 46-01-04","46",null,"01",null,"04",null,null,null,{"$f":"IFERROR(VLOOKUP(I18009,設定・基礎!$G$3:$H$22,2,FALSE),\"\")","v":""}]
[" 46-01-20","46",null,"01",null,"20",null,null,null,{"$f":"IFERROR(VLOOKUP(I18025,設定・基礎!$G$3:$H$22,2,FALSE),\"\")","v":""}]
[" 46-02-02","46",null,"02",null,"02",null,null,null,{"$f":"IFERROR(VLOOKUP(I18027,設定・基礎!$G$3:$H$22,2,FALSE),\"\")","v":""}]
[" 46-02-14","46",null,"02",null,"14",null,null,null,{"$f":"IFERROR(VLOOKUP(I18039,設定・基礎!$G$3:$H$22,2,FALSE),\"\")","v":""}]
[" 46-03-01","46",null,"03",null,"01",null,null,null,{"$f":"IFERROR(VLOOKUP(I18046,設定・基礎!$G$3:$H$22,2,FALSE),\"\")","v":""}]
[" 46-03-11","46",null,"03",null,"11",null,null,null,{"$f":"IFERROR(VLOOKUP(I18056,設定・基礎!$G$3:$H$22,2,FALSE),\"\")","v":""}]
[" 46-04-04","46",null,"04",null,"04",null,null,null,{"$f":"IFERROR(VLOOKUP(I18069,設定・基礎!$G$3:$H$22,2,FALSE),\"\")","v":""}]
[" 46-04-11","46",null,"04",null,"11",null,null,null,{"$f":"IFERROR(VLOOKUP(I18076,設定・基礎!$G$3:$H$22,2,FALSE),\"\")","v":""}]
[" 46-04-14","46",null,"04",null,"14",null,null,null,{"$f":"IFERROR(VLOOKUP(I18079,設定・基礎!$G$3:$H$22,2,FALSE),\"\")","v":""}]
[" 46-05-10","46",null,"05",null,"10",null,null,null,{"$f":"IFERROR(VLOOKUP(I18095,設定・基礎!$G$3:$H$22,2,FALSE),\"\")","v":""}]
[" 46-05-12","46",null,"05",null,"12",null,null,null,{"$f":"IFERROR(VLOOKUP(I18097,設定・基礎!$G$3:$H$22,2,FALSE),\"\")","v":""}]
[" 46-06-04","46",null,"06",null,"04",null,null,null,{"$f":"IFERROR(VLOOKUP(I18109,設定・基礎!$G$3:$H$22,2,FALSE),\"\")","v":""}]
[" 46-06-11","46",null,"06",null,"11",null,null,null,{"$f":"IFERROR(VLOOKUP(I18116,設定・基礎!$G$3:$H$22,2,FALSE),\"\")","v":""}]
[" 46-07-01","46",null,"07",null,"01",null,null,null,{"$f":"IFERROR(VLOOKUP(I18126,設定・基礎!$G$3:$H$22,2,FALSE),\"\")","v":""}]
[" 46-07-14","46",null,"07",null,"14",null,null,null,{"$f":"IFERROR(VLOOKUP(I18139,設定・基礎!$G$3:$H$22,2,FALSE),\"\")","v":""}]
[" 46-08-01","46",null,"08",null,"01",null,null,null,{"$f":"IFERROR(VLOOKUP(I18146,設定・基礎!$G$3:$H$22,2,FALSE),\"\")","v":""}]
[" 46-08-04","46",null,"08",null,"04",null,null,null,{"$f":"IFERROR(VLOOKUP(I18149,設定・基礎!$G$3:$H$22,2,FALSE),\"\")","v":""}]
[" 46-08-20","46",null,"08",null,"20",null,null,null,{"$f":"IFERROR(VLOOKUP(I18165,設定・基礎!$G$3:$H$22,2,FALSE),\"\")","v":""}]
[" 46-09-02","46",null,"09",null,"02",null,null,null,{"$f":"IFERROR(VLOOKUP(I18167,設定・基礎!$G$3:$H$22,2,FALSE),\"\")","v":""}]
[" 46-09-14","46",null,"09",null,"14",null,null,null,{"$f":"IFERROR(VLOOKUP(I18179,設定・基礎!$G$3:$H$22,2,FALSE),\"\")","v":""}]
[" 46-10-01","46",null,"10",null,"01",null,null,null,{"$f":"IFERROR(VLOOKUP(I18186,設定・基礎!$G$3:$H$22,2,FALSE),\"\")","v":""}]
[" 46-10-11","46",null,"10",null,"11",null,null,null,{"$f":"IFERROR(VLOOKUP(I18196,設定・基礎!$G$3:$H$22,2,FALSE),\"\")","v":""}]
[" 46-10-19","46",null,"10",null,"19",null,null,null,{"$f":"IFERROR(VLOOKUP(I18204,設定・基礎!$G$3:$H$22,2,FALSE),\"\")","v":""}]
[" 46-11-11","46",null,"11",null,"11",null,null,null,{"$f":"IFERROR(VLOOKUP(I18216,設定・基礎!$G$3:$H$22,2,FALSE),\"\")","v":""}]
[" 46-11-14","46",null,"11",null,"14",null,null,null,{"$f":"IFERROR(VLOOKUP(I18219,設定・基礎!$G$3:$H$22,2,FALSE),\"\")","v":""}]
[" 46-12-10","46",null,"12",null,"10",null,null,null,{"$f":"IFERROR(VLOOKUP(I18235,設定・基礎!$G$3:$H$22,2,FALSE),\"\")","v":""}]
[" 46-12-12","46",null,"12",null,"12",null,null,null,{"$f":"IFERROR(VLOOKUP(I18237,設定・基礎!$G$3:$H$22,2,FALSE),\"\")","v":""}]
[" 46-13-04","46",null,"13",null,"04",null,null,null,{"$f":"IFERROR(VLOOKUP(I18249,設定・基礎!$G$3:$H$22,2,FALSE),\"\")","v":""}]
[" 46-13-11","46",null,"13",null,"11",null,null,null,{"$f":"IFERROR(VLOOKUP(I18256,設定・基礎!$G$3:$H$22,2,FALSE),\"\")","v":""}]
[" 46-14-01","46",null,"14",null,"01",null,null,null,{"$f":"IFERROR(VLOOKUP(I18266,設定・基礎!$G$3:$H$22,2,FALSE),\"\")","v":""}]
[" 46-14-09","46",null,"14",null,"09",null,null,null,{"$f":"IFERROR(VLOOKUP(I18274,設定・基礎!$G$3:$H$22,2,FALSE),\"\")","v":""}]
[" 46-15-01","46",null,"15",null,"01",null,null,null,{"$f":"IFERROR(VLOOKUP(I18286,設定・基礎!$G$3:$H$22,2,FALSE),\"\")","v":""}]
[" 46-15-04","46",null,"15",null,"04",null,null,null,{"$f":"IFERROR(VLOOKUP(I18289,設定・基礎!$G$3:$H$22,2,FALSE),\"\")","v":""}]
[" 46-15-20","46",null,"15",null,"20",null,null,null,{"$f":"IFERROR(VLOOKUP(I18305,設定・基礎!$G$3:$H$22,2,FALSE),\"\")","v":""}]
[" 46-16-02","46",null,"16",null,"02",null,null,null,{"$f":"IFERROR(VLOOKUP(I18307,設定・基礎!$G$3:$H$22,2,FALSE),\"\")","v":""}]
[" 46-16-14","46",null,"16",null,"14",null,null,null,{"$f":"IFERROR(VLOOKUP(I18319,設定・基礎!$G$3:$H$22,2,FALSE),\"\")","v":""}]
[" 46-17-01","46",null,"17",null,"01",null,null,null,{"$f":"IFERROR(VLOOKUP(I18326,設定・基礎!$G$3:$H$22,2,FALSE),\"\")","v":""}]
[" 46-17-11","46",null,"17",null,"11",null,null,null,{"$f":"IFERROR(VLOOKUP(I18336,設定・基礎!$G$3:$H$22,2,FALSE),\"\")","v":""}]
[" 46-17-19","46",null,"17",null,"19",null,null,null,{"$f":"IFERROR(VLOOKUP(I18344,設定・基礎!$G$3:$H$22,2,FALSE),\"\")","v":""}]
[" 46-18-11","46",null,"18",null,"11",null,null,null,{"$f":"IFERROR(VLOOKUP(I18356,設定・基礎!$G$3:$H$22,2,FALSE),\"\")","v":""}]
[" 46-18-14","46",null,"18",null,"14",null,null,null,{"$f":"IFERROR(VLOOKUP(I18359,設定・基礎!$G$3:$H$22,2,FALSE),\"\")","v":""}]
[" 46-19-10","46",null,"19",null,"10",null,null,null,{"$f":"IFERROR(VLOOKUP(I18375,設定・基礎!$G$3:$H$22,2,FALSE),\"\")","v":""}]
[" 46-19-12","46",null,"19",null,"12",null,null,null,{"$f":"IFERROR(VLOOKUP(I18377,設定・基礎!$G$3:$H$22,2,FALSE),\"\")","v":""}]
[" 46-20-08","46",null,"20",null,"08",null,null,null,{"$f":"IFERROR(VLOOKUP(I18393,設定・基礎!$G$3:$H$22,2,FALSE),\"\")","v":""}]
[" 46-20-11","46",null,"20",null,"11",null,null,null,{"$f":"IFERROR(VLOOKUP(I18396,設定・基礎!$G$3:$H$22,2,FALSE),\"\")","v":""}]
[" 47-01-01","47",null,"01",null,"01",null,null,null,{"$f":"IFERROR(VLOOKUP(I18406,設定・基礎!$G$3:$H$22,2,FALSE),\"\")","v":""}]
[" 47-01-09","47",null,"01",null,"09",null,null,null,{"$f":"IFERROR(VLOOKUP(I18414,設定・基礎!$G$3:$H$22,2,FALSE),\"\")","v":""}]
[" 47-02-01","47",null,"02",null,"01",null,null,null,{"$f":"IFERROR(VLOOKUP(I18426,設定・基礎!$G$3:$H$22,2,FALSE),\"\")","v":""}]
[" 47-02-04","47",null,"02",null,"04",null,null,null,{"$f":"IFERROR(VLOOKUP(I18429,設定・基礎!$G$3:$H$22,2,FALSE),\"\")","v":""}]
[" 47-02-20","47",null,"02",null,"20",null,null,null,{"$f":"IFERROR(VLOOKUP(I18445,設定・基礎!$G$3:$H$22,2,FALSE),\"\")","v":""}]
[" 47-03-02","47",null,"03",null,"02",null,null,null,{"$f":"IFERROR(VLOOKUP(I18447,設定・基礎!$G$3:$H$22,2,FALSE),\"\")","v":""}]
[" 47-03-18","47",null,"03",null,"18",null,null,null,{"$f":"IFERROR(VLOOKUP(I18463,設定・基礎!$G$3:$H$22,2,FALSE),\"\")","v":""}]
[" 47-04-01","47",null,"04",null,"01",null,null,null,{"$f":"IFERROR(VLOOKUP(I18466,設定・基礎!$G$3:$H$22,2,FALSE),\"\")","v":""}]
[" 47-04-11","47",null,"04",null,"11",null,null,null,{"$f":"IFERROR(VLOOKUP(I18476,設定・基礎!$G$3:$H$22,2,FALSE),\"\")","v":""}]
[" 47-04-19","47",null,"04",null,"19",null,null,null,{"$f":"IFERROR(VLOOKUP(I18484,設定・基礎!$G$3:$H$22,2,FALSE),\"\")","v":""}]
[" 47-05-11","47",null,"05",null,"11",null,null,null,{"$f":"IFERROR(VLOOKUP(I18496,設定・基礎!$G$3:$H$22,2,FALSE),\"\")","v":""}]
[" 47-05-18","47",null,"05",null,"18",null,null,null,{"$f":"IFERROR(VLOOKUP(I18503,設定・基礎!$G$3:$H$22,2,FALSE),\"\")","v":""}]
[" 47-06-10","47",null,"06",null,"10",null,null,null,{"$f":"IFERROR(VLOOKUP(I18515,設定・基礎!$G$3:$H$22,2,FALSE),\"\")","v":""}]
[" 47-06-12","47",null,"06",null,"12",null,null,null,{"$f":"IFERROR(VLOOKUP(I18517,設定・基礎!$G$3:$H$22,2,FALSE),\"\")","v":""}]
[" 47-07-08","47",null,"07",null,"08",null,null,null,{"$f":"IFERROR(VLOOKUP(I18533,設定・基礎!$G$3:$H$22,2,FALSE),\"\")","v":""}]
[" 47-07-11","47",null,"07",null,"11",null,null,null,{"$f":"IFERROR(VLOOKUP(I18536,設定・基礎!$G$3:$H$22,2,FALSE),\"\")","v":""}]
[" 47-08-01","47",null,"08",null,"01",null,null,null,{"$f":"IFERROR(VLOOKUP(I18546,設定・基礎!$G$3:$H$22,2,FALSE),\"\")","v":""}]
[" 47-08-09","47",null,"08",null,"09",null,null,null,{"$f":"IFERROR(VLOOKUP(I18554,設定・基礎!$G$3:$H$22,2,FALSE),\"\")","v":""}]
[" 47-09-01","47",null,"09",null,"01",null,null,null,{"$f":"IFERROR(VLOOKUP(I18566,設定・基礎!$G$3:$H$22,2,FALSE),\"\")","v":""}]
[" 47-09-08","47",null,"09",null,"08",null,null,null,{"$f":"IFERROR(VLOOKUP(I18573,設定・基礎!$G$3:$H$22,2,FALSE),\"\")","v":""}]
[" 47-09-20","47",null,"09",null,"20",null,null,null,{"$f":"IFERROR(VLOOKUP(I18585,設定・基礎!$G$3:$H$22,2,FALSE),\"\")","v":""}]
[" 47-10-02","47",null,"10",null,"02",null,null,null,{"$f":"IFERROR(VLOOKUP(I18587,設定・基礎!$G$3:$H$22,2,FALSE),\"\")","v":""}]
[" 47-10-18","47",null,"10",null,"18",null,null,null,{"$f":"IFERROR(VLOOKUP(I18603,設定・基礎!$G$3:$H$22,2,FALSE),\"\")","v":""}]
[" 47-11-01","47",null,"11",null,"01",null,null,null,{"$f":"IFERROR(VLOOKUP(I18606,設定・基礎!$G$3:$H$22,2,FALSE),\"\")","v":""}]
[" 47-11-11","47",null,"11",null,"11",null,null,null,{"$f":"IFERROR(VLOOKUP(I18616,設定・基礎!$G$3:$H$22,2,FALSE),\"\")","v":""}]
[" 47-11-19","47",null,"11",null,"19",null,null,null,{"$f":"IFERROR(VLOOKUP(I18624,設定・基礎!$G$3:$H$22,2,FALSE),\"\")","v":""}]
[" 47-12-11","47",null,"12",null,"11",null,null,null,{"$f":"IFERROR(VLOOKUP(I18636,設定・基礎!$G$3:$H$22,2,FALSE),\"\")","v":""}]
[" 47-12-18","47",null,"12",null,"18",null,null,null,{"$f":"IFERROR(VLOOKUP(I18643,設定・基礎!$G$3:$H$22,2,FALSE),\"\")","v":""}]
[" 47-13-10","47",null,"13",null,"10",null,null,null,{"$f":"IFERROR(VLOOKUP(I18655,設定・基礎!$G$3:$H$22,2,FALSE),\"\")","v":""}]
[" 47-13-12","47",null,"13",null,"12",null,null,null,{"$f":"IFERROR(VLOOKUP(I18657,設定・基礎!$G$3:$H$22,2,FALSE),\"\")","v":""}]
[" 47-14-08","47",null,"14",null,"08",null,null,null,{"$f":"IFERROR(VLOOKUP(I18673,設定・基礎!$G$3:$H$22,2,FALSE),\"\")","v":""}]
[" 47-14-11","47",null,"14",null,"11",null,null,null,{"$f":"IFERROR(VLOOKUP(I18676,設定・基礎!$G$3:$H$22,2,FALSE),\"\")","v":""}]
[" 47-14-18","47",null,"14",null,"18",null,null,null,{"$f":"IFERROR(VLOOKUP(I18683,設定・基礎!$G$3:$H$22,2,FALSE),\"\")","v":""}]
[" 47-15-11","47",null,"15",null,"11",null,null,null,{"$f":"IFERROR(VLOOKUP(I18696,設定・基礎!$G$3:$H$22,2,FALSE),\"\")","v":""}]
[" 47-16-01","47",null,"16",null,"01",null,null,null,{"$f":"IFERROR(VLOOKUP(I18706,設定・基礎!$G$3:$H$22,2,FALSE),\"\")","v":""}]
[" 47-16-08","47",null,"16",null,"08",null,null,null,{"$f":"IFERROR(VLOOKUP(I18713,設定・基礎!$G$3:$H$22,2,FALSE),\"\")","v":""}]
[" 47-16-20","47",null,"16",null,"20",null,null,null,{"$f":"IFERROR(VLOOKUP(I18725,設定・基礎!$G$3:$H$22,2,FALSE),\"\")","v":""}]
[" 47-17-02","47",null,"17",null,"02",null,null,null,{"$f":"IFERROR(VLOOKUP(I18727,設定・基礎!$G$3:$H$22,2,FALSE),\"\")","v":""}]
[" 47-17-18","47",null,"17",null,"18",null,null,null,{"$f":"IFERROR(VLOOKUP(I18743,設定・基礎!$G$3:$H$22,2,FALSE),\"\")","v":""}]
[" 47-18-01","47",null,"18",null,"01",null,null,null,{"$f":"IFERROR(VLOOKUP(I18746,設定・基礎!$G$3:$H$22,2,FALSE),\"\")","v":""}]
[" 47-18-08","47",null,"18",null,"08",null,null,null,{"$f":"IFERROR(VLOOKUP(I18753,設定・基礎!$G$3:$H$22,2,FALSE),\"\")","v":""}]
[" 47-19-01","47",null,"19",null,"01",null,null,null,{"$f":"IFERROR(VLOOKUP(I18766,設定・基礎!$G$3:$H$22,2,FALSE),\"\")","v":""}]
[" 47-19-11","47",null,"19",null,"11",null,null,null,{"$f":"IFERROR(VLOOKUP(I18776,設定・基礎!$G$3:$H$22,2,FALSE),\"\")","v":""}]
[" 47-19-18","47",null,"19",null,"18",null,null,null,{"$f":"IFERROR(VLOOKUP(I18783,設定・基礎!$G$3:$H$22,2,FALSE),\"\")","v":""}]
[" 47-20-10","47",null,"20",null,"10",null,null,null,{"$f":"IFERROR(VLOOKUP(I18795,設定・基礎!$G$3:$H$22,2,FALSE),\"\")","v":""}]
[" 47-20-12","47",null,"20",null,"12",null,null,null,{"$f":"IFERROR(VLOOKUP(I18797,設定・基礎!$G$3:$H$22,2,FALSE),\"\")","v":""}]
[" 48-01-08","48",null,"01",null,"08",null,null,null,{"$f":"IFERROR(VLOOKUP(I18813,設定・基礎!$G$3:$H$22,2,FALSE),\"\")","v":""}]
[" 48-01-11","48",null,"01",null,"11",null,null,null,{"$f":"IFERROR(VLOOKUP(I18816,設定・基礎!$G$3:$H$22,2,FALSE),\"\")","v":""}]
[" 48-01-18","48",null,"01",null,"18",null,null,null,{"$f":"IFERROR(VLOOKUP(I18823,設定・基礎!$G$3:$H$22,2,FALSE),\"\")","v":""}]
[" 48-02-11","48",null,"02",null,"11",null,null,null,{"$f":"IFERROR(VLOOKUP(I18836,設定・基礎!$G$3:$H$22,2,FALSE),\"\")","v":""}]
[" 48-03-01","48",null,"03",null,"01",null,null,null,{"$f":"IFERROR(VLOOKUP(I18846,設定・基礎!$G$3:$H$22,2,FALSE),\"\")","v":""}]
[" 48-03-08","48",null,"03",null,"08",null,null,null,{"$f":"IFERROR(VLOOKUP(I18853,設定・基礎!$G$3:$H$22,2,FALSE),\"\")","v":""}]
[" 48-03-20","48",null,"03",null,"20",null,null,null,{"$f":"IFERROR(VLOOKUP(I18865,設定・基礎!$G$3:$H$22,2,FALSE),\"\")","v":""}]
[" 48-04-02","48",null,"04",null,"02",null,null,null,{"$f":"IFERROR(VLOOKUP(I18867,設定・基礎!$G$3:$H$22,2,FALSE),\"\")","v":""}]
[" 48-04-18","48",null,"04",null,"18",null,null,null,{"$f":"IFERROR(VLOOKUP(I18883,設定・基礎!$G$3:$H$22,2,FALSE),\"\")","v":""}]
[" 48-05-01","48",null,"05",null,"01",null,null,null,{"$f":"IFERROR(VLOOKUP(I18886,設定・基礎!$G$3:$H$22,2,FALSE),\"\")","v":""}]
[" 48-05-08","48",null,"05",null,"08",null,null,null,{"$f":"IFERROR(VLOOKUP(I18893,設定・基礎!$G$3:$H$22,2,FALSE),\"\")","v":""}]
[" 48-06-01","48",null,"06",null,"01",null,null,null,{"$f":"IFERROR(VLOOKUP(I18906,設定・基礎!$G$3:$H$22,2,FALSE),\"\")","v":""}]
[" 48-06-11","48",null,"06",null,"11",null,null,null,{"$f":"IFERROR(VLOOKUP(I18916,設定・基礎!$G$3:$H$22,2,FALSE),\"\")","v":""}]
[" 48-06-18","48",null,"06",null,"18",null,null,null,{"$f":"IFERROR(VLOOKUP(I18923,設定・基礎!$G$3:$H$22,2,FALSE),\"\")","v":""}]
[" 48-07-10","48",null,"07",null,"10",null,null,null,{"$f":"IFERROR(VLOOKUP(I18935,設定・基礎!$G$3:$H$22,2,FALSE),\"\")","v":""}]
[" 48-07-12","48",null,"07",null,"12",null,null,null,{"$f":"IFERROR(VLOOKUP(I18937,設定・基礎!$G$3:$H$22,2,FALSE),\"\")","v":""}]
[" 48-08-08","48",null,"08",null,"08",null,null,null,{"$f":"IFERROR(VLOOKUP(I18953,設定・基礎!$G$3:$H$22,2,FALSE),\"\")","v":""}]
[" 48-08-11","48",null,"08",null,"11",null,null,null,{"$f":"IFERROR(VLOOKUP(I18956,設定・基礎!$G$3:$H$22,2,FALSE),\"\")","v":""}]
[" 48-08-18","48",null,"08",null,"18",null,null,null,{"$f":"IFERROR(VLOOKUP(I18963,設定・基礎!$G$3:$H$22,2,FALSE),\"\")","v":""}]
[" 48-09-11","48",null,"09",null,"11",null,null,null,{"$f":"IFERROR(VLOOKUP(I18976,設定・基礎!$G$3:$H$22,2,FALSE),\"\")","v":""}]
[" 48-09-16","48",null,"09",null,"16",null,null,null,{"$f":"IFERROR(VLOOKUP(I18981,設定・基礎!$G$3:$H$22,2,FALSE),\"\")","v":""}]
[" 48-10-08","48",null,"10",null,"08",null,null,null,{"$f":"IFERROR(VLOOKUP(I18993,設定・基礎!$G$3:$H$22,2,FALSE),\"\")","v":""}]
[" 48-10-20","48",null,"10",null,"20",null,null,null,{"$f":"IFERROR(VLOOKUP(I19005,設定・基礎!$G$3:$H$22,2,FALSE),\"\")","v":""}]
[" 48-11-02","48",null,"11",null,"02",null,null,null,{"$f":"IFERROR(VLOOKUP(I19007,設定・基礎!$G$3:$H$22,2,FALSE),\"\")","v":""}]
[" 48-11-18","48",null,"11",null,"18",null,null,null,{"$f":"IFERROR(VLOOKUP(I19023,設定・基礎!$G$3:$H$22,2,FALSE),\"\")","v":""}]
[" 48-12-01","48",null,"12",null,"01",null,null,null,{"$f":"IFERROR(VLOOKUP(I19026,設定・基礎!$G$3:$H$22,2,FALSE),\"\")","v":""}]
[" 48-12-08","48",null,"12",null,"08",null,null,null,{"$f":"IFERROR(VLOOKUP(I19033,設定・基礎!$G$3:$H$22,2,FALSE),\"\")","v":""}]
[" 48-13-01","48",null,"13",null,"01",null,null,null,{"$f":"IFERROR(VLOOKUP(I19046,設定・基礎!$G$3:$H$22,2,FALSE),\"\")","v":""}]
[" 48-13-06","48",null,"13",null,"06",null,null,null,{"$f":"IFERROR(VLOOKUP(I19051,設定・基礎!$G$3:$H$22,2,FALSE),\"\")","v":""}]
[" 48-13-18","48",null,"13",null,"18",null,null,null,{"$f":"IFERROR(VLOOKUP(I19063,設定・基礎!$G$3:$H$22,2,FALSE),\"\")","v":""}]
[" 48-14-10","48",null,"14",null,"10",null,null,null,{"$f":"IFERROR(VLOOKUP(I19075,設定・基礎!$G$3:$H$22,2,FALSE),\"\")","v":""}]
[" 48-14-12","48",null,"14",null,"12",null,null,null,{"$f":"IFERROR(VLOOKUP(I19077,設定・基礎!$G$3:$H$22,2,FALSE),\"\")","v":""}]
[" 48-15-08","48",null,"15",null,"08",null,null,null,{"$f":"IFERROR(VLOOKUP(I19093,設定・基礎!$G$3:$H$22,2,FALSE),\"\")","v":""}]
[" 48-15-11","48",null,"15",null,"11",null,null,null,{"$f":"IFERROR(VLOOKUP(I19096,設定・基礎!$G$3:$H$22,2,FALSE),\"\")","v":""}]
[" 48-15-18","48",null,"15",null,"18",null,null,null,{"$f":"IFERROR(VLOOKUP(I19103,設定・基礎!$G$3:$H$22,2,FALSE),\"\")","v":""}]
[" 48-16-11","48",null,"16",null,"11",null,null,null,{"$f":"IFERROR(VLOOKUP(I19116,設定・基礎!$G$3:$H$22,2,FALSE),\"\")","v":""}]
[" 48-16-16","48",null,"16",null,"16",null,null,null,{"$f":"IFERROR(VLOOKUP(I19121,設定・基礎!$G$3:$H$22,2,FALSE),\"\")","v":""}]
[" 48-17-08","48",null,"17",null,"08",null,null,null,{"$f":"IFERROR(VLOOKUP(I19133,設定・基礎!$G$3:$H$22,2,FALSE),\"\")","v":""}]
[" 48-17-20","48",null,"17",null,"20",null,null,null,{"$f":"IFERROR(VLOOKUP(I19145,設定・基礎!$G$3:$H$22,2,FALSE),\"\")","v":""}]
[" 48-18-02","48",null,"18",null,"02",null,null,null,{"$f":"IFERROR(VLOOKUP(I19147,設定・基礎!$G$3:$H$22,2,FALSE),\"\")","v":""}]
[" 48-18-18","48",null,"18",null,"18",null,null,null,{"$f":"IFERROR(VLOOKUP(I19163,設定・基礎!$G$3:$H$22,2,FALSE),\"\")","v":""}]
[" 48-19-05","48",null,"19",null,"05",null,null,null,{"$f":"IFERROR(VLOOKUP(I19170,設定・基礎!$G$3:$H$22,2,FALSE),\"\")","v":""}]
[" 48-19-08","48",null,"19",null,"08",null,null,null,{"$f":"IFERROR(VLOOKUP(I19173,設定・基礎!$G$3:$H$22,2,FALSE),\"\")","v":""}]
[" 48-20-01","48",null,"20",null,"01",null,null,null,{"$f":"IFERROR(VLOOKUP(I19186,設定・基礎!$G$3:$H$22,2,FALSE),\"\")","v":""}]
[" 48-20-06","48",null,"20",null,"06",null,null,null,{"$f":"IFERROR(VLOOKUP(I19191,設定・基礎!$G$3:$H$22,2,FALSE),\"\")","v":""}]
[" 48-20-18","48",null,"20",null,"18",null,null,null,{"$f":"IFERROR(VLOOKUP(I19203,設定・基礎!$G$3:$H$22,2,FALSE),\"\")","v":""}]
[" 49-01-10","49",null,"01",null,"10",null,null,null,{"$f":"IFERROR(VLOOKUP(I19215,設定・基礎!$G$3:$H$22,2,FALSE),\"\")","v":""}]
[" 49-01-12","49",null,"01",null,"12",null,null,null,{"$f":"IFERROR(VLOOKUP(I19217,設定・基礎!$G$3:$H$22,2,FALSE),\"\")","v":""}]
[" 49-02-08","49",null,"02",null,"08",null,null,null,{"$f":"IFERROR(VLOOKUP(I19233,設定・基礎!$G$3:$H$22,2,FALSE),\"\")","v":""}]
[" 49-02-15","49",null,"02",null,"15",null,null,null,{"$f":"IFERROR(VLOOKUP(I19240,設定・基礎!$G$3:$H$22,2,FALSE),\"\")","v":""}]
[" 49-02-18","49",null,"02",null,"18",null,null,null,{"$f":"IFERROR(VLOOKUP(I19243,設定・基礎!$G$3:$H$22,2,FALSE),\"\")","v":""}]
[" 49-03-11","49",null,"03",null,"11",null,null,null,{"$f":"IFERROR(VLOOKUP(I19256,設定・基礎!$G$3:$H$22,2,FALSE),\"\")","v":""}]
[" 49-03-16","49",null,"03",null,"16",null,null,null,{"$f":"IFERROR(VLOOKUP(I19261,設定・基礎!$G$3:$H$22,2,FALSE),\"\")","v":""}]
[" 49-04-08","49",null,"04",null,"08",null,null,null,{"$f":"IFERROR(VLOOKUP(I19273,設定・基礎!$G$3:$H$22,2,FALSE),\"\")","v":""}]
[" 49-04-15","49",null,"04",null,"15",null,null,null,{"$f":"IFERROR(VLOOKUP(I19280,設定・基礎!$G$3:$H$22,2,FALSE),\"\")","v":""}]
[" 49-05-02","49",null,"05",null,"02",null,null,null,{"$f":"IFERROR(VLOOKUP(I19287,設定・基礎!$G$3:$H$22,2,FALSE),\"\")","v":""}]
[" 49-05-18","49",null,"05",null,"18",null,null,null,{"$f":"IFERROR(VLOOKUP(I19303,設定・基礎!$G$3:$H$22,2,FALSE),\"\")","v":""}]
[" 49-06-05","49",null,"06",null,"05",null,null,null,{"$f":"IFERROR(VLOOKUP(I19310,設定・基礎!$G$3:$H$22,2,FALSE),\"\")","v":""}]
[" 49-06-08","49",null,"06",null,"08",null,null,null,{"$f":"IFERROR(VLOOKUP(I19313,設定・基礎!$G$3:$H$22,2,FALSE),\"\")","v":""}]
[" 49-07-01","49",null,"07",null,"01",null,null,null,{"$f":"IFERROR(VLOOKUP(I19326,設定・基礎!$G$3:$H$22,2,FALSE),\"\")","v":""}]
[" 49-07-06","49",null,"07",null,"06",null,null,null,{"$f":"IFERROR(VLOOKUP(I19331,設定・基礎!$G$3:$H$22,2,FALSE),\"\")","v":""}]
[" 49-07-18","49",null,"07",null,"18",null,null,null,{"$f":"IFERROR(VLOOKUP(I19343,設定・基礎!$G$3:$H$22,2,FALSE),\"\")","v":""}]
[" 49-08-05","49",null,"08",null,"05",null,null,null,{"$f":"IFERROR(VLOOKUP(I19350,設定・基礎!$G$3:$H$22,2,FALSE),\"\")","v":""}]
[" 49-08-12","49",null,"08",null,"12",null,null,null,{"$f":"IFERROR(VLOOKUP(I19357,設定・基礎!$G$3:$H$22,2,FALSE),\"\")","v":""}]
[" 49-09-08","49",null,"09",null,"08",null,null,null,{"$f":"IFERROR(VLOOKUP(I19373,設定・基礎!$G$3:$H$22,2,FALSE),\"\")","v":""}]
[" 49-09-15","49",null,"09",null,"15",null,null,null,{"$f":"IFERROR(VLOOKUP(I19380,設定・基礎!$G$3:$H$22,2,FALSE),\"\")","v":""}]
[" 49-09-18","49",null,"09",null,"18",null,null,null,{"$f":"IFERROR(VLOOKUP(I19383,設定・基礎!$G$3:$H$22,2,FALSE),\"\")","v":""}]
[" 49-10-11","49",null,"10",null,"11",null,null,null,{"$f":"IFERROR(VLOOKUP(I19396,設定・基礎!$G$3:$H$22,2,FALSE),\"\")","v":""}]
[" 49-10-16","49",null,"10",null,"16",null,null,null,{"$f":"IFERROR(VLOOKUP(I19401,設定・基礎!$G$3:$H$22,2,FALSE),\"\")","v":""}]
[" 49-11-08","49",null,"11",null,"08",null,null,null,{"$f":"IFERROR(VLOOKUP(I19413,設定・基礎!$G$3:$H$22,2,FALSE),\"\")","v":""}]
[" 49-11-15","49",null,"11",null,"15",null,null,null,{"$f":"IFERROR(VLOOKUP(I19420,設定・基礎!$G$3:$H$22,2,FALSE),\"\")","v":""}]
[" 49-12-02","49",null,"12",null,"02",null,null,null,{"$f":"IFERROR(VLOOKUP(I19427,設定・基礎!$G$3:$H$22,2,FALSE),\"\")","v":""}]
[" 49-12-18","49",null,"12",null,"18",null,null,null,{"$f":"IFERROR(VLOOKUP(I19443,設定・基礎!$G$3:$H$22,2,FALSE),\"\")","v":""}]
[" 49-13-05","49",null,"13",null,"05",null,null,null,{"$f":"IFERROR(VLOOKUP(I19450,設定・基礎!$G$3:$H$22,2,FALSE),\"\")","v":""}]
[" 49-13-08","49",null,"13",null,"08",null,null,null,{"$f":"IFERROR(VLOOKUP(I19453,設定・基礎!$G$3:$H$22,2,FALSE),\"\")","v":""}]
[" 49-14-01","49",null,"14",null,"01",null,null,null,{"$f":"IFERROR(VLOOKUP(I19466,設定・基礎!$G$3:$H$22,2,FALSE),\"\")","v":""}]
[" 49-14-06","49",null,"14",null,"06",null,null,null,{"$f":"IFERROR(VLOOKUP(I19471,設定・基礎!$G$3:$H$22,2,FALSE),\"\")","v":""}]
[" 49-14-18","49",null,"14",null,"18",null,null,null,{"$f":"IFERROR(VLOOKUP(I19483,設定・基礎!$G$3:$H$22,2,FALSE),\"\")","v":""}]
[" 49-15-05","49",null,"15",null,"05",null,null,null,{"$f":"IFERROR(VLOOKUP(I19490,設定・基礎!$G$3:$H$22,2,FALSE),\"\")","v":""}]
[" 49-15-17","49",null,"15",null,"17",null,null,null,{"$f":"IFERROR(VLOOKUP(I19502,設定・基礎!$G$3:$H$22,2,FALSE),\"\")","v":""}]
[" 49-16-01","49",null,"16",null,"01",null,null,null,{"$f":"IFERROR(VLOOKUP(I19506,設定・基礎!$G$3:$H$22,2,FALSE),\"\")","v":""}]
[" 49-16-02","49",null,"16",null,"02",null,null,null,{"$f":"IFERROR(VLOOKUP(I19507,設定・基礎!$G$3:$H$22,2,FALSE),\"\")","v":""}]
[" 49-16-03","49",null,"16",null,"03",null,null,null,{"$f":"IFERROR(VLOOKUP(I19508,設定・基礎!$G$3:$H$22,2,FALSE),\"\")","v":""}]
[" 49-16-04","49",null,"16",null,"04",null,null,null,{"$f":"IFERROR(VLOOKUP(I19509,設定・基礎!$G$3:$H$22,2,FALSE),\"\")","v":""}]
[" 49-16-05","49",null,"16",null,"05",null,null,null,{"$f":"IFERROR(VLOOKUP(I19510,設定・基礎!$G$3:$H$22,2,FALSE),\"\")","v":""}]
[" 49-16-06","49",null,"16",null,"06",null,null,null,{"$f":"IFERROR(VLOOKUP(I19511,設定・基礎!$G$3:$H$22,2,FALSE),\"\")","v":""}]
[" 49-16-07","49",null,"16",null,"07",null,null,null,{"$f":"IFERROR(VLOOKUP(I19512,設定・基礎!$G$3:$H$22,2,FALSE),\"\")","v":""}]
[" 49-16-08","49",null,"16",null,"08",null,null,null,{"$f":"IFERROR(VLOOKUP(I19513,設定・基礎!$G$3:$H$22,2,FALSE),\"\")","v":""}]
[" 49-16-09","49",null,"16",null,"09",null,null,null,{"$f":"IFERROR(VLOOKUP(I19514,設定・基礎!$G$3:$H$22,2,FALSE),\"\")","v":""}]
[" 49-16-10","49",null,"16",null,"10",null,null,null,{"$f":"IFERROR(VLOOKUP(I19515,設定・基礎!$G$3:$H$22,2,FALSE),\"\")","v":""}]
[" 49-16-11","49",null,"16",null,"11",null,null,null,{"$f":"IFERROR(VLOOKUP(I19516,設定・基礎!$G$3:$H$22,2,FALSE),\"\")","v":""}]
[" 49-16-12","49",null,"16",null,"12",null,null,null,{"$f":"IFERROR(VLOOKUP(I19517,設定・基礎!$G$3:$H$22,2,FALSE),\"\")","v":""}]
[" 49-16-13","49",null,"16",null,"13",null,null,null,{"$f":"IFERROR(VLOOKUP(I19518,設定・基礎!$G$3:$H$22,2,FALSE),\"\")","v":""}]
[" 49-16-14","49",null,"16",null,"14",null,null,null,{"$f":"IFERROR(VLOOKUP(I19519,設定・基礎!$G$3:$H$22,2,FALSE),\"\")","v":""}]
[" 49-16-15","49",null,"16",null,"15",null,null,null,{"$f":"IFERROR(VLOOKUP(I19520,設定・基礎!$G$3:$H$22,2,FALSE),\"\")","v":""}]
[" 49-16-16","49",null,"16",null,"16",null,null,null,{"$f":"IFERROR(VLOOKUP(I19521,設定・基礎!$G$3:$H$22,2,FALSE),\"\")","v":""}]
[" 49-16-17","49",null,"16",null,"17",null,null,null,{"$f":"IFERROR(VLOOKUP(I19522,設定・基礎!$G$3:$H$22,2,FALSE),\"\")","v":""}]
[" 49-16-18","49",null,"16",null,"18",null,null,null,{"$f":"IFERROR(VLOOKUP(I19523,設定・基礎!$G$3:$H$22,2,FALSE),\"\")","v":""}]
[" 49-16-19","49",null,"16",null,"19",null,null,null,{"$f":"IFERROR(VLOOKUP(I19524,設定・基礎!$G$3:$H$22,2,FALSE),\"\")","v":""}]
[" 49-16-20","49",null,"16",null,"20",null,null,null,{"$f":"IFERROR(VLOOKUP(I19525,設定・基礎!$G$3:$H$22,2,FALSE),\"\")","v":""}]
[" 49-17-01","49",null,"17",null,"01",null,null,null,{"$f":"IFERROR(VLOOKUP(I19526,設定・基礎!$G$3:$H$22,2,FALSE),\"\")","v":""}]
[" 49-17-02","49",null,"17",null,"02",null,null,null,{"$f":"IFERROR(VLOOKUP(I19527,設定・基礎!$G$3:$H$22,2,FALSE),\"\")","v":""}]
[" 49-17-03","49",null,"17",null,"03",null,null,null,{"$f":"IFERROR(VLOOKUP(I19528,設定・基礎!$G$3:$H$22,2,FALSE),\"\")","v":""}]
[" 49-17-04","49",null,"17",null,"04",null,null,null,{"$f":"IFERROR(VLOOKUP(I19529,設定・基礎!$G$3:$H$22,2,FALSE),\"\")","v":""}]
[" 49-17-05","49",null,"17",null,"05",null,null,null,{"$f":"IFERROR(VLOOKUP(I19530,設定・基礎!$G$3:$H$22,2,FALSE),\"\")","v":""}]
[" 49-17-06","49",null,"17",null,"06",null,null,null,{"$f":"IFERROR(VLOOKUP(I19531,設定・基礎!$G$3:$H$22,2,FALSE),\"\")","v":""}]
[" 49-17-07","49",null,"17",null,"07",null,null,null,{"$f":"IFERROR(VLOOKUP(I19532,設定・基礎!$G$3:$H$22,2,FALSE),\"\")","v":""}]
[" 49-17-08","49",null,"17",null,"08",null,null,null,{"$f":"IFERROR(VLOOKUP(I19533,設定・基礎!$G$3:$H$22,2,FALSE),\"\")","v":""}]
[" 49-17-09","49",null,"17",null,"09",null,null,null,{"$f":"IFERROR(VLOOKUP(I19534,設定・基礎!$G$3:$H$22,2,FALSE),\"\")","v":""}]
[" 49-17-10","49",null,"17",null,"10",null,null,null,{"$f":"IFERROR(VLOOKUP(I19535,設定・基礎!$G$3:$H$22,2,FALSE),\"\")","v":""}]
[" 49-17-11","49",null,"17",null,"11",null,null,null,{"$f":"IFERROR(VLOOKUP(I19536,設定・基礎!$G$3:$H$22,2,FALSE),\"\")","v":""}]
[" 49-17-12","49",null,"17",null,"12",null,null,null,{"$f":"IFERROR(VLOOKUP(I19537,設定・基礎!$G$3:$H$22,2,FALSE),\"\")","v":""}]
[" 49-17-13","49",null,"17",null,"13",null,null,null,{"$f":"IFERROR(VLOOKUP(I19538,設定・基礎!$G$3:$H$22,2,FALSE),\"\")","v":""}]
[" 49-17-14","49",null,"17",null,"14",null,null,null,{"$f":"IFERROR(VLOOKUP(I19539,設定・基礎!$G$3:$H$22,2,FALSE),\"\")","v":""}]
[" 49-17-15","49",null,"17",null,"15",null,null,null,{"$f":"IFERROR(VLOOKUP(I19540,設定・基礎!$G$3:$H$22,2,FALSE),\"\")","v":""}]
[" 49-17-16","49",null,"17",null,"16",null,null,null,{"$f":"IFERROR(VLOOKUP(I19541,設定・基礎!$G$3:$H$22,2,FALSE),\"\")","v":""}]
[" 49-17-17","49",null,"17",null,"17",null,null,null,{"$f":"IFERROR(VLOOKUP(I19542,設定・基礎!$G$3:$H$22,2,FALSE),\"\")","v":""}]
[" 49-17-18","49",null,"17",null,"18",null,null,null,{"$f":"IFERROR(VLOOKUP(I19543,設定・基礎!$G$3:$H$22,2,FALSE),\"\")","v":""}]
[" 49-17-19","49",null,"17",null,"19",null,null,null,{"$f":"IFERROR(VLOOKUP(I19544,設定・基礎!$G$3:$H$22,2,FALSE),\"\")","v":""}]
[" 49-17-20","49",null,"17",null,"20",null,null,null,{"$f":"IFERROR(VLOOKUP(I19545,設定・基礎!$G$3:$H$22,2,FALSE),\"\")","v":""}]
[" 49-18-01","49",null,"18",null,"01",null,null,null,{"$f":"IFERROR(VLOOKUP(I19546,設定・基礎!$G$3:$H$22,2,FALSE),\"\")","v":""}]
[" 49-18-02","49",null,"18",null,"02",null,null,null,{"$f":"IFERROR(VLOOKUP(I19547,設定・基礎!$G$3:$H$22,2,FALSE),\"\")","v":""}]
[" 49-18-03","49",null,"18",null,"03",null,null,null,{"$f":"IFERROR(VLOOKUP(I19548,設定・基礎!$G$3:$H$22,2,FALSE),\"\")","v":""}]
[" 49-18-04","49",null,"18",null,"04",null,null,null,{"$f":"IFERROR(VLOOKUP(I19549,設定・基礎!$G$3:$H$22,2,FALSE),\"\")","v":""}]
[" 49-18-05","49",null,"18",null,"05",null,null,null,{"$f":"IFERROR(VLOOKUP(I19550,設定・基礎!$G$3:$H$22,2,FALSE),\"\")","v":""}]
[" 49-18-06","49",null,"18",null,"06",null,null,null,{"$f":"IFERROR(VLOOKUP(I19551,設定・基礎!$G$3:$H$22,2,FALSE),\"\")","v":""}]
[" 49-18-07","49",null,"18",null,"07",null,null,null,{"$f":"IFERROR(VLOOKUP(I19552,設定・基礎!$G$3:$H$22,2,FALSE),\"\")","v":""}]
[" 49-18-08","49",null,"18",null,"08",null,null,null,{"$f":"IFERROR(VLOOKUP(I19553,設定・基礎!$G$3:$H$22,2,FALSE),\"\")","v":""}]
[" 49-18-09","49",null,"18",null,"09",null,null,null,{"$f":"IFERROR(VLOOKUP(I19554,設定・基礎!$G$3:$H$22,2,FALSE),\"\")","v":""}]
[" 49-18-10","49",null,"18",null,"10",null,null,null,{"$f":"IFERROR(VLOOKUP(I19555,設定・基礎!$G$3:$H$22,2,FALSE),\"\")","v":""}]
[" 49-18-11","49",null,"18",null,"11",null,null,null,{"$f":"IFERROR(VLOOKUP(I19556,設定・基礎!$G$3:$H$22,2,FALSE),\"\")","v":""}]
[" 49-18-12","49",null,"18",null,"12",null,null,null,{"$f":"IFERROR(VLOOKUP(I19557,設定・基礎!$G$3:$H$22,2,FALSE),\"\")","v":""}]
[" 49-18-13","49",null,"18",null,"13",null,null,null,{"$f":"IFERROR(VLOOKUP(I19558,設定・基礎!$G$3:$H$22,2,FALSE),\"\")","v":""}]
[" 49-18-14","49",null,"18",null,"14",null,null,null,{"$f":"IFERROR(VLOOKUP(I19559,設定・基礎!$G$3:$H$22,2,FALSE),\"\")","v":""}]
[" 49-18-15","49",null,"18",null,"15",null,null,null,{"$f":"IFERROR(VLOOKUP(I19560,設定・基礎!$G$3:$H$22,2,FALSE),\"\")","v":""}]
[" 49-18-16","49",null,"18",null,"16",null,null,null,{"$f":"IFERROR(VLOOKUP(I19561,設定・基礎!$G$3:$H$22,2,FALSE),\"\")","v":""}]
[" 49-18-17","49",null,"18",null,"17",null,null,null,{"$f":"IFERROR(VLOOKUP(I19562,設定・基礎!$G$3:$H$22,2,FALSE),\"\")","v":""}]
[" 49-18-18","49",null,"18",null,"18",null,null,null,{"$f":"IFERROR(VLOOKUP(I19563,設定・基礎!$G$3:$H$22,2,FALSE),\"\")","v":""}]
[" 49-18-19","49",null,"18",null,"19",null,null,null,{"$f":"IFERROR(VLOOKUP(I19564,設定・基礎!$G$3:$H$22,2,FALSE),\"\")","v":""}]
[" 49-18-20","49",null,"18",null,"20",null,null,null,{"$f":"IFERROR(VLOOKUP(I19565,設定・基礎!$G$3:$H$22,2,FALSE),\"\")","v":""}]
[" 49-19-01","49",null,"19",null,"01",null,null,null,{"$f":"IFERROR(VLOOKUP(I19566,設定・基礎!$G$3:$H$22,2,FALSE),\"\")","v":""}]
[" 49-19-02","49",null,"19",null,"02",null,null,null,{"$f":"IFERROR(VLOOKUP(I19567,設定・基礎!$G$3:$H$22,2,FALSE),\"\")","v":""}]
[" 49-19-03","49",null,"19",null,"03",null,null,null,{"$f":"IFERROR(VLOOKUP(I19568,設定・基礎!$G$3:$H$22,2,FALSE),\"\")","v":""}]
[" 49-19-04","49",null,"19",null,"04",null,null,null,{"$f":"IFERROR(VLOOKUP(I19569,設定・基礎!$G$3:$H$22,2,FALSE),\"\")","v":""}]
[" 49-19-05","49",null,"19",null,"05",null,null,null,{"$f":"IFERROR(VLOOKUP(I19570,設定・基礎!$G$3:$H$22,2,FALSE),\"\")","v":""}]
[" 49-19-06","49",null,"19",null,"06",null,null,null,{"$f":"IFERROR(VLOOKUP(I19571,設定・基礎!$G$3:$H$22,2,FALSE),\"\")","v":""}]
[" 49-19-07","49",null,"19",null,"07",null,null,null,{"$f":"IFERROR(VLOOKUP(I19572,設定・基礎!$G$3:$H$22,2,FALSE),\"\")","v":""}]
[" 49-19-08","49",null,"19",null,"08",null,null,null,{"$f":"IFERROR(VLOOKUP(I19573,設定・基礎!$G$3:$H$22,2,FALSE),\"\")","v":""}]
[" 49-19-09","49",null,"19",null,"09",null,null,null,{"$f":"IFERROR(VLOOKUP(I19574,設定・基礎!$G$3:$H$22,2,FALSE),\"\")","v":""}]
[" 49-19-10","49",null,"19",null,"10",null,null,null,{"$f":"IFERROR(VLOOKUP(I19575,設定・基礎!$G$3:$H$22,2,FALSE),\"\")","v":""}]
[" 49-19-11","49",null,"19",null,"11",null,null,null,{"$f":"IFERROR(VLOOKUP(I19576,設定・基礎!$G$3:$H$22,2,FALSE),\"\")","v":""}]
[" 49-19-12","49",null,"19",null,"12",null,null,null,{"$f":"IFERROR(VLOOKUP(I19577,設定・基礎!$G$3:$H$22,2,FALSE),\"\")","v":""}]
[" 49-19-13","49",null,"19",null,"13",null,null,null,{"$f":"IFERROR(VLOOKUP(I19578,設定・基礎!$G$3:$H$22,2,FALSE),\"\")","v":""}]
[" 49-19-14","49",null,"19",null,"14",null,null,null,{"$f":"IFERROR(VLOOKUP(I19579,設定・基礎!$G$3:$H$22,2,FALSE),\"\")","v":""}]
[" 49-19-15","49",null,"19",null,"15",null,null,null,{"$f":"IFERROR(VLOOKUP(I19580,設定・基礎!$G$3:$H$22,2,FALSE),\"\")","v":""}]
[" 49-19-16","49",null,"19",null,"16",null,null,null,{"$f":"IFERROR(VLOOKUP(I19581,設定・基礎!$G$3:$H$22,2,FALSE),\"\")","v":""}]
[" 49-19-17","49",null,"19",null,"17",null,null,null,{"$f":"IFERROR(VLOOKUP(I19582,設定・基礎!$G$3:$H$22,2,FALSE),\"\")","v":""}]
[" 49-19-18","49",null,"19",null,"18",null,null,null,{"$f":"IFERROR(VLOOKUP(I19583,設定・基礎!$G$3:$H$22,2,FALSE),\"\")","v":""}]
[" 49-19-19","49",null,"19",null,"19",null,null,null,{"$f":"IFERROR(VLOOKUP(I19584,設定・基礎!$G$3:$H$22,2,FALSE),\"\")","v":""}]
[" 49-19-20","49",null,"19",null,"20",null,null,null,{"$f":"IFERROR(VLOOKUP(I19585,設定・基礎!$G$3:$H$22,2,FALSE),\"\")","v":""}]
[" 49-20-01","49",null,"20",null,"01",null,null,null,{"$f":"IFERROR(VLOOKUP(I19586,設定・基礎!$G$3:$H$22,2,FALSE),\"\")","v":""}]
[" 49-20-02","49",null,"20",null,"02",null,null,null,{"$f":"IFERROR(VLOOKUP(I19587,設定・基礎!$G$3:$H$22,2,FALSE),\"\")","v":""}]
[" 49-20-03","49",null,"20",null,"03",null,null,null,{"$f":"IFERROR(VLOOKUP(I19588,設定・基礎!$G$3:$H$22,2,FALSE),\"\")","v":""}]
[" 49-20-04","49",null,"20",null,"04",null,null,null,{"$f":"IFERROR(VLOOKUP(I19589,設定・基礎!$G$3:$H$22,2,FALSE),\"\")","v":""}]
[" 49-20-05","49",null,"20",null,"05",null,null,null,{"$f":"IFERROR(VLOOKUP(I19590,設定・基礎!$G$3:$H$22,2,FALSE),\"\")","v":""}]
[" 49-20-06","49",null,"20",null,"06",null,null,null,{"$f":"IFERROR(VLOOKUP(I19591,設定・基礎!$G$3:$H$22,2,FALSE),\"\")","v":""}]
[" 49-20-07","49",null,"20",null,"07",null,null,null,{"$f":"IFERROR(VLOOKUP(I19592,設定・基礎!$G$3:$H$22,2,FALSE),\"\")","v":""}]
[" 49-20-08","49",null,"20",null,"08",null,null,null,{"$f":"IFERROR(VLOOKUP(I19593,設定・基礎!$G$3:$H$22,2,FALSE),\"\")","v":""}]
[" 49-20-09","49",null,"20",null,"09",null,null,null,{"$f":"IFERROR(VLOOKUP(I19594,設定・基礎!$G$3:$H$22,2,FALSE),\"\")","v":""}]
[" 49-20-10","49",null,"20",null,"10",null,null,null,{"$f":"IFERROR(VLOOKUP(I19595,設定・基礎!$G$3:$H$22,2,FALSE),\"\")","v":""}]
[" 49-20-11","49",null,"20",null,"11",null,null,null,{"$f":"IFERROR(VLOOKUP(I19596,設定・基礎!$G$3:$H$22,2,FALSE),\"\")","v":""}]
[" 49-20-12","49",null,"20",null,"12",null,null,null,{"$f":"IFERROR(VLOOKUP(I19597,設定・基礎!$G$3:$H$22,2,FALSE),\"\")","v":""}]
[" 49-20-13","49",null,"20",null,"13",null,null,null,{"$f":"IFERROR(VLOOKUP(I19598,設定・基礎!$G$3:$H$22,2,FALSE),\"\")","v":""}]
[" 49-20-14","49",null,"20",null,"14",null,null,null,{"$f":"IFERROR(VLOOKUP(I19599,設定・基礎!$G$3:$H$22,2,FALSE),\"\")","v":""}]
[" 49-20-15","49",null,"20",null,"15",null,null,null,{"$f":"IFERROR(VLOOKUP(I19600,設定・基礎!$G$3:$H$22,2,FALSE),\"\")","v":""}]
[" 49-20-16","49",null,"20",null,"16",null,null,null,{"$f":"IFERROR(VLOOKUP(I19601,設定・基礎!$G$3:$H$22,2,FALSE),\"\")","v":""}]
[" 49-20-17","49",null,"20",null,"17",null,null,null,{"$f":"IFERROR(VLOOKUP(I19602,設定・基礎!$G$3:$H$22,2,FALSE),\"\")","v":""}]
[" 49-20-18","49",null,"20",null,"18",null,null,null,{"$f":"IFERROR(VLOOKUP(I19603,設定・基礎!$G$3:$H$22,2,FALSE),\"\")","v":""}]
[" 49-20-19","49",null,"20",null,"19",null,null,null,{"$f":"IFERROR(VLOOKUP(I19604,設定・基礎!$G$3:$H$22,2,FALSE),\"\")","v":""}]
[" 49-20-20","49",null,"20",null,"20",null,null,null,{"$f":"IFERROR(VLOOKUP(I19605,設定・基礎!$G$3:$H$22,2,FALSE),\"\")","v":""}]
[" 50-01-01","50",null,"01",null,"01",null,null,null,{"$f":"IFERROR(VLOOKUP(I19606,設定・基礎!$G$3:$H$22,2,FALSE),\"\")","v":""}]
[" 50-01-02","50",null,"01",null,"02",null,null,null,{"$f":"IFERROR(VLOOKUP(I19607,設定・基礎!$G$3:$H$22,2,FALSE),\"\")","v":""}]
[" 50-01-03","50",null,"01",null,"03",null,null,null,{"$f":"IFERROR(VLOOKUP(I19608,設定・基礎!$G$3:$H$22,2,FALSE),\"\")","v":""}]
[" 50-01-04","50",null,"01",null,"04",null,null,null,{"$f":"IFERROR(VLOOKUP(I19609,設定・基礎!$G$3:$H$22,2,FALSE),\"\")","v":""}]
[" 50-01-05","50",null,"01",null,"05",null,null,null,{"$f":"IFERROR(VLOOKUP(I19610,設定・基礎!$G$3:$H$22,2,FALSE),\"\")","v":""}]
[" 50-01-06","50",null,"01",null,"06",null,null,null,{"$f":"IFERROR(VLOOKUP(I19611,設定・基礎!$G$3:$H$22,2,FALSE),\"\")","v":""}]
[" 50-01-07","50",null,"01",null,"07",null,null,null,{"$f":"IFERROR(VLOOKUP(I19612,設定・基礎!$G$3:$H$22,2,FALSE),\"\")","v":""}]
[" 50-01-08","50",null,"01",null,"08",null,null,null,{"$f":"IFERROR(VLOOKUP(I19613,設定・基礎!$G$3:$H$22,2,FALSE),\"\")","v":""}]
[" 50-01-09","50",null,"01",null,"09",null,null,null,{"$f":"IFERROR(VLOOKUP(I19614,設定・基礎!$G$3:$H$22,2,FALSE),\"\")","v":""}]
[" 50-01-10","50",null,"01",null,"10",null,null,null,{"$f":"IFERROR(VLOOKUP(I19615,設定・基礎!$G$3:$H$22,2,FALSE),\"\")","v":""}]
[" 50-01-11","50",null,"01",null,"11",null,null,null,{"$f":"IFERROR(VLOOKUP(I19616,設定・基礎!$G$3:$H$22,2,FALSE),\"\")","v":""}]
[" 50-01-12","50",null,"01",null,"12",null,null,null,{"$f":"IFERROR(VLOOKUP(I19617,設定・基礎!$G$3:$H$22,2,FALSE),\"\")","v":""}]
[" 50-01-13","50",null,"01",null,"13",null,null,null,{"$f":"IFERROR(VLOOKUP(I19618,設定・基礎!$G$3:$H$22,2,FALSE),\"\")","v":""}]
[" 50-01-14","50",null,"01",null,"14",null,null,null,{"$f":"IFERROR(VLOOKUP(I19619,設定・基礎!$G$3:$H$22,2,FALSE),\"\")","v":""}]
[" 50-01-15","50",null,"01",null,"15",null,null,null,{"$f":"IFERROR(VLOOKUP(I19620,設定・基礎!$G$3:$H$22,2,FALSE),\"\")","v":""}]
[" 50-01-16","50",null,"01",null,"16",null,null,null,{"$f":"IFERROR(VLOOKUP(I19621,設定・基礎!$G$3:$H$22,2,FALSE),\"\")","v":""}]
[" 50-01-17","50",null,"01",null,"17",null,null,null,{"$f":"IFERROR(VLOOKUP(I19622,設定・基礎!$G$3:$H$22,2,FALSE),\"\")","v":""}]
[" 50-01-18","50",null,"01",null,"18",null,null,null,{"$f":"IFERROR(VLOOKUP(I19623,設定・基礎!$G$3:$H$22,2,FALSE),\"\")","v":""}]
[" 50-01-19","50",null,"01",null,"19",null,null,null,{"$f":"IFERROR(VLOOKUP(I19624,設定・基礎!$G$3:$H$22,2,FALSE),\"\")","v":""}]
[" 50-01-20","50",null,"01",null,"20",null,null,null,{"$f":"IFERROR(VLOOKUP(I19625,設定・基礎!$G$3:$H$22,2,FALSE),\"\")","v":""}]
[" 50-02-01","50",null,"02",null,"01",null,null,null,{"$f":"IFERROR(VLOOKUP(I19626,設定・基礎!$G$3:$H$22,2,FALSE),\"\")","v":""}]
[" 50-02-02","50",null,"02",null,"02",null,null,null,{"$f":"IFERROR(VLOOKUP(I19627,設定・基礎!$G$3:$H$22,2,FALSE),\"\")","v":""}]
[" 50-02-03","50",null,"02",null,"03",null,null,null,{"$f":"IFERROR(VLOOKUP(I19628,設定・基礎!$G$3:$H$22,2,FALSE),\"\")","v":""}]
[" 50-02-04","50",null,"02",null,"04",null,null,null,{"$f":"IFERROR(VLOOKUP(I19629,設定・基礎!$G$3:$H$22,2,FALSE),\"\")","v":""}]
[" 50-02-05","50",null,"02",null,"05",null,null,null,{"$f":"IFERROR(VLOOKUP(I19630,設定・基礎!$G$3:$H$22,2,FALSE),\"\")","v":""}]
[" 50-02-06","50",null,"02",null,"06",null,null,null,{"$f":"IFERROR(VLOOKUP(I19631,設定・基礎!$G$3:$H$22,2,FALSE),\"\")","v":""}]
[" 50-02-07","50",null,"02",null,"07",null,null,null,{"$f":"IFERROR(VLOOKUP(I19632,設定・基礎!$G$3:$H$22,2,FALSE),\"\")","v":""}]
[" 50-02-08","50",null,"02",null,"08",null,null,null,{"$f":"IFERROR(VLOOKUP(I19633,設定・基礎!$G$3:$H$22,2,FALSE),\"\")","v":""}]
[" 50-02-09","50",null,"02",null,"09",null,null,null,{"$f":"IFERROR(VLOOKUP(I19634,設定・基礎!$G$3:$H$22,2,FALSE),\"\")","v":""}]
[" 50-02-10","50",null,"02",null,"10",null,null,null,{"$f":"IFERROR(VLOOKUP(I19635,設定・基礎!$G$3:$H$22,2,FALSE),\"\")","v":""}]
[" 50-02-11","50",null,"02",null,"11",null,null,null,{"$f":"IFERROR(VLOOKUP(I19636,設定・基礎!$G$3:$H$22,2,FALSE),\"\")","v":""}]
[" 50-02-12","50",null,"02",null,"12",null,null,null,{"$f":"IFERROR(VLOOKUP(I19637,設定・基礎!$G$3:$H$22,2,FALSE),\"\")","v":""}]
[" 50-02-13","50",null,"02",null,"13",null,null,null,{"$f":"IFERROR(VLOOKUP(I19638,設定・基礎!$G$3:$H$22,2,FALSE),\"\")","v":""}]
[" 50-02-14","50",null,"02",null,"14",null,null,null,{"$f":"IFERROR(VLOOKUP(I19639,設定・基礎!$G$3:$H$22,2,FALSE),\"\")","v":""}]
[" 50-02-15","50",null,"02",null,"15",null,null,null,{"$f":"IFERROR(VLOOKUP(I19640,設定・基礎!$G$3:$H$22,2,FALSE),\"\")","v":""}]
[" 50-02-16","50",null,"02",null,"16",null,null,null,{"$f":"IFERROR(VLOOKUP(I19641,設定・基礎!$G$3:$H$22,2,FALSE),\"\")","v":""}]
[" 50-02-17","50",null,"02",null,"17",null,null,null,{"$f":"IFERROR(VLOOKUP(I19642,設定・基礎!$G$3:$H$22,2,FALSE),\"\")","v":""}]
[" 50-02-18","50",null,"02",null,"18",null,null,null,{"$f":"IFERROR(VLOOKUP(I19643,設定・基礎!$G$3:$H$22,2,FALSE),\"\")","v":""}]
[" 50-02-19","50",null,"02",null,"19",null,null,null,{"$f":"IFERROR(VLOOKUP(I19644,設定・基礎!$G$3:$H$22,2,FALSE),\"\")","v":""}]
[" 50-02-20","50",null,"02",null,"20",null,null,null,{"$f":"IFERROR(VLOOKUP(I19645,設定・基礎!$G$3:$H$22,2,FALSE),\"\")","v":""}]
[" 50-03-01","50",null,"03",null,"01",null,null,null,{"$f":"IFERROR(VLOOKUP(I19646,設定・基礎!$G$3:$H$22,2,FALSE),\"\")","v":""}]
[" 50-03-02","50",null,"03",null,"02",null,null,null,{"$f":"IFERROR(VLOOKUP(I19647,設定・基礎!$G$3:$H$22,2,FALSE),\"\")","v":""}]
[" 50-03-03","50",null,"03",null,"03",null,null,null,{"$f":"IFERROR(VLOOKUP(I19648,設定・基礎!$G$3:$H$22,2,FALSE),\"\")","v":""}]
[" 50-03-04","50",null,"03",null,"04",null,null,null,{"$f":"IFERROR(VLOOKUP(I19649,設定・基礎!$G$3:$H$22,2,FALSE),\"\")","v":""}]
[" 50-03-05","50",null,"03",null,"05",null,null,null,{"$f":"IFERROR(VLOOKUP(I19650,設定・基礎!$G$3:$H$22,2,FALSE),\"\")","v":""}]
[" 50-03-06","50",null,"03",null,"06",null,null,null,{"$f":"IFERROR(VLOOKUP(I19651,設定・基礎!$G$3:$H$22,2,FALSE),\"\")","v":""}]
[" 50-03-07","50",null,"03",null,"07",null,null,null,{"$f":"IFERROR(VLOOKUP(I19652,設定・基礎!$G$3:$H$22,2,FALSE),\"\")","v":""}]
[" 50-03-08","50",null,"03",null,"08",null,null,null,{"$f":"IFERROR(VLOOKUP(I19653,設定・基礎!$G$3:$H$22,2,FALSE),\"\")","v":""}]
[" 50-03-09","50",null,"03",null,"09",null,null,null,{"$f":"IFERROR(VLOOKUP(I19654,設定・基礎!$G$3:$H$22,2,FALSE),\"\")","v":""}]
[" 50-03-10","50",null,"03",null,"10",null,null,null,{"$f":"IFERROR(VLOOKUP(I19655,設定・基礎!$G$3:$H$22,2,FALSE),\"\")","v":""}]
[" 50-03-11","50",null,"03",null,"11",null,null,null,{"$f":"IFERROR(VLOOKUP(I19656,設定・基礎!$G$3:$H$22,2,FALSE),\"\")","v":""}]
[" 50-03-12","50",null,"03",null,"12",null,null,null,{"$f":"IFERROR(VLOOKUP(I19657,設定・基礎!$G$3:$H$22,2,FALSE),\"\")","v":""}]
[" 50-03-13","50",null,"03",null,"13",null,null,null,{"$f":"IFERROR(VLOOKUP(I19658,設定・基礎!$G$3:$H$22,2,FALSE),\"\")","v":""}]
[" 50-03-14","50",null,"03",null,"14",null,null,null,{"$f":"IFERROR(VLOOKUP(I19659,設定・基礎!$G$3:$H$22,2,FALSE),\"\")","v":""}]
[" 50-03-15","50",null,"03",null,"15",null,null,null,{"$f":"IFERROR(VLOOKUP(I19660,設定・基礎!$G$3:$H$22,2,FALSE),\"\")","v":""}]
[" 50-03-16","50",null,"03",null,"16",null,null,null,{"$f":"IFERROR(VLOOKUP(I19661,設定・基礎!$G$3:$H$22,2,FALSE),\"\")","v":""}]
[" 50-03-17","50",null,"03",null,"17",null,null,null,{"$f":"IFERROR(VLOOKUP(I19662,設定・基礎!$G$3:$H$22,2,FALSE),\"\")","v":""}]
[" 50-03-18","50",null,"03",null,"18",null,null,null,{"$f":"IFERROR(VLOOKUP(I19663,設定・基礎!$G$3:$H$22,2,FALSE),\"\")","v":""}]
[" 50-03-19","50",null,"03",null,"19",null,null,null,{"$f":"IFERROR(VLOOKUP(I19664,設定・基礎!$G$3:$H$22,2,FALSE),\"\")","v":""}]
[" 50-03-20","50",null,"03",null,"20",null,null,null,{"$f":"IFERROR(VLOOKUP(I19665,設定・基礎!$G$3:$H$22,2,FALSE),\"\")","v":""}]
[" 50-04-01","50",null,"04",null,"01",null,null,null,{"$f":"IFERROR(VLOOKUP(I19666,設定・基礎!$G$3:$H$22,2,FALSE),\"\")","v":""}]
[" 50-04-02","50",null,"04",null,"02",null,null,null,{"$f":"IFERROR(VLOOKUP(I19667,設定・基礎!$G$3:$H$22,2,FALSE),\"\")","v":""}]
[" 50-04-03","50",null,"04",null,"03",null,null,null,{"$f":"IFERROR(VLOOKUP(I19668,設定・基礎!$G$3:$H$22,2,FALSE),\"\")","v":""}]
[" 50-04-04","50",null,"04",null,"04",null,null,null,{"$f":"IFERROR(VLOOKUP(I19669,設定・基礎!$G$3:$H$22,2,FALSE),\"\")","v":""}]
[" 50-04-05","50",null,"04",null,"05",null,null,null,{"$f":"IFERROR(VLOOKUP(I19670,設定・基礎!$G$3:$H$22,2,FALSE),\"\")","v":""}]
[" 50-04-06","50",null,"04",null,"06",null,null,null,{"$f":"IFERROR(VLOOKUP(I19671,設定・基礎!$G$3:$H$22,2,FALSE),\"\")","v":""}]
[" 50-04-07","50",null,"04",null,"07",null,null,null,{"$f":"IFERROR(VLOOKUP(I19672,設定・基礎!$G$3:$H$22,2,FALSE),\"\")","v":""}]
[" 50-04-08","50",null,"04",null,"08",null,null,null,{"$f":"IFERROR(VLOOKUP(I19673,設定・基礎!$G$3:$H$22,2,FALSE),\"\")","v":""}]
[" 50-04-09","50",null,"04",null,"09",null,null,null,{"$f":"IFERROR(VLOOKUP(I19674,設定・基礎!$G$3:$H$22,2,FALSE),\"\")","v":""}]
[" 50-04-10","50",null,"04",null,"10",null,null,null,{"$f":"IFERROR(VLOOKUP(I19675,設定・基礎!$G$3:$H$22,2,FALSE),\"\")","v":""}]
[" 50-04-11","50",null,"04",null,"11",null,null,null,{"$f":"IFERROR(VLOOKUP(I19676,設定・基礎!$G$3:$H$22,2,FALSE),\"\")","v":""}]
[" 50-04-12","50",null,"04",null,"12",null,null,null,{"$f":"IFERROR(VLOOKUP(I19677,設定・基礎!$G$3:$H$22,2,FALSE),\"\")","v":""}]
[" 50-04-13","50",null,"04",null,"13",null,null,null,{"$f":"IFERROR(VLOOKUP(I19678,設定・基礎!$G$3:$H$22,2,FALSE),\"\")","v":""}]
[" 50-04-14","50",null,"04",null,"14",null,null,null,{"$f":"IFERROR(VLOOKUP(I19679,設定・基礎!$G$3:$H$22,2,FALSE),\"\")","v":""}]
[" 50-04-15","50",null,"04",null,"15",null,null,null,{"$f":"IFERROR(VLOOKUP(I19680,設定・基礎!$G$3:$H$22,2,FALSE),\"\")","v":""}]
[" 50-04-16","50",null,"04",null,"16",null,null,null,{"$f":"IFERROR(VLOOKUP(I19681,設定・基礎!$G$3:$H$22,2,FALSE),\"\")","v":""}]
[" 50-04-17","50",null,"04",null,"17",null,null,null,{"$f":"IFERROR(VLOOKUP(I19682,設定・基礎!$G$3:$H$22,2,FALSE),\"\")","v":""}]
[" 50-04-18","50",null,"04",null,"18",null,null,null,{"$f":"IFERROR(VLOOKUP(I19683,設定・基礎!$G$3:$H$22,2,FALSE),\"\")","v":""}]
[" 50-04-19","50",null,"04",null,"19",null,null,null,{"$f":"IFERROR(VLOOKUP(I19684,設定・基礎!$G$3:$H$22,2,FALSE),\"\")","v":""}]
[" 50-04-20","50",null,"04",null,"20",null,null,null,{"$f":"IFERROR(VLOOKUP(I19685,設定・基礎!$G$3:$H$22,2,FALSE),\"\")","v":""}]
[" 50-05-01","50",null,"05",null,"01",null,null,null,{"$f":"IFERROR(VLOOKUP(I19686,設定・基礎!$G$3:$H$22,2,FALSE),\"\")","v":""}]
[" 50-05-02","50",null,"05",null,"02",null,null,null,{"$f":"IFERROR(VLOOKUP(I19687,設定・基礎!$G$3:$H$22,2,FALSE),\"\")","v":""}]
[" 50-05-03","50",null,"05",null,"03",null,null,null,{"$f":"IFERROR(VLOOKUP(I19688,設定・基礎!$G$3:$H$22,2,FALSE),\"\")","v":""}]
[" 50-05-04","50",null,"05",null,"04",null,null,null,{"$f":"IFERROR(VLOOKUP(I19689,設定・基礎!$G$3:$H$22,2,FALSE),\"\")","v":""}]
[" 50-05-05","50",null,"05",null,"05",null,null,null,{"$f":"IFERROR(VLOOKUP(I19690,設定・基礎!$G$3:$H$22,2,FALSE),\"\")","v":""}]
[" 50-05-06","50",null,"05",null,"06",null,null,null,{"$f":"IFERROR(VLOOKUP(I19691,設定・基礎!$G$3:$H$22,2,FALSE),\"\")","v":""}]
[" 50-05-07","50",null,"05",null,"07",null,null,null,{"$f":"IFERROR(VLOOKUP(I19692,設定・基礎!$G$3:$H$22,2,FALSE),\"\")","v":""}]
[" 50-05-08","50",null,"05",null,"08",null,null,null,{"$f":"IFERROR(VLOOKUP(I19693,設定・基礎!$G$3:$H$22,2,FALSE),\"\")","v":""}]
[" 50-05-09","50",null,"05",null,"09",null,null,null,{"$f":"IFERROR(VLOOKUP(I19694,設定・基礎!$G$3:$H$22,2,FALSE),\"\")","v":""}]
[" 50-05-10","50",null,"05",null,"10",null,null,null,{"$f":"IFERROR(VLOOKUP(I19695,設定・基礎!$G$3:$H$22,2,FALSE),\"\")","v":""}]
[" 50-05-11","50",null,"05",null,"11",null,null,null,{"$f":"IFERROR(VLOOKUP(I19696,設定・基礎!$G$3:$H$22,2,FALSE),\"\")","v":""}]
[" 50-05-12","50",null,"05",null,"12",null,null,null,{"$f":"IFERROR(VLOOKUP(I19697,設定・基礎!$G$3:$H$22,2,FALSE),\"\")","v":""}]
[" 50-05-13","50",null,"05",null,"13",null,null,null,{"$f":"IFERROR(VLOOKUP(I19698,設定・基礎!$G$3:$H$22,2,FALSE),\"\")","v":""}]
[" 50-05-14","50",null,"05",null,"14",null,null,null,{"$f":"IFERROR(VLOOKUP(I19699,設定・基礎!$G$3:$H$22,2,FALSE),\"\")","v":""}]
[" 50-05-15","50",null,"05",null,"15",null,null,null,{"$f":"IFERROR(VLOOKUP(I19700,設定・基礎!$G$3:$H$22,2,FALSE),\"\")","v":""}]
[" 50-05-16","50",null,"05",null,"16",null,null,null,{"$f":"IFERROR(VLOOKUP(I19701,設定・基礎!$G$3:$H$22,2,FALSE),\"\")","v":""}]
[" 50-05-17","50",null,"05",null,"17",null,null,null,{"$f":"IFERROR(VLOOKUP(I19702,設定・基礎!$G$3:$H$22,2,FALSE),\"\")","v":""}]
[" 50-05-18","50",null,"05",null,"18",null,null,null,{"$f":"IFERROR(VLOOKUP(I19703,設定・基礎!$G$3:$H$22,2,FALSE),\"\")","v":""}]
[" 50-05-19","50",null,"05",null,"19",null,null,null,{"$f":"IFERROR(VLOOKUP(I19704,設定・基礎!$G$3:$H$22,2,FALSE),\"\")","v":""}]
[" 50-05-20","50",null,"05",null,"20",null,null,null,{"$f":"IFERROR(VLOOKUP(I19705,設定・基礎!$G$3:$H$22,2,FALSE),\"\")","v":""}]
[" 50-06-01","50",null,"06",null,"01",null,null,null,{"$f":"IFERROR(VLOOKUP(I19706,設定・基礎!$G$3:$H$22,2,FALSE),\"\")","v":""}]
[" 50-06-02","50",null,"06",null,"02",null,null,null,{"$f":"IFERROR(VLOOKUP(I19707,設定・基礎!$G$3:$H$22,2,FALSE),\"\")","v":""}]
[" 50-06-03","50",null,"06",null,"03",null,null,null,{"$f":"IFERROR(VLOOKUP(I19708,設定・基礎!$G$3:$H$22,2,FALSE),\"\")","v":""}]
[" 50-06-04","50",null,"06",null,"04",null,null,null,{"$f":"IFERROR(VLOOKUP(I19709,設定・基礎!$G$3:$H$22,2,FALSE),\"\")","v":""}]
[" 50-06-05","50",null,"06",null,"05",null,null,null,{"$f":"IFERROR(VLOOKUP(I19710,設定・基礎!$G$3:$H$22,2,FALSE),\"\")","v":""}]
[" 50-06-06","50",null,"06",null,"06",null,null,null,{"$f":"IFERROR(VLOOKUP(I19711,設定・基礎!$G$3:$H$22,2,FALSE),\"\")","v":""}]
[" 50-06-07","50",null,"06",null,"07",null,null,null,{"$f":"IFERROR(VLOOKUP(I19712,設定・基礎!$G$3:$H$22,2,FALSE),\"\")","v":""}]
[" 50-06-08","50",null,"06",null,"08",null,null,null,{"$f":"IFERROR(VLOOKUP(I19713,設定・基礎!$G$3:$H$22,2,FALSE),\"\")","v":""}]
[" 50-06-09","50",null,"06",null,"09",null,null,null,{"$f":"IFERROR(VLOOKUP(I19714,設定・基礎!$G$3:$H$22,2,FALSE),\"\")","v":""}]
[" 50-06-10","50",null,"06",null,"10",null,null,null,{"$f":"IFERROR(VLOOKUP(I19715,設定・基礎!$G$3:$H$22,2,FALSE),\"\")","v":""}]
[" 50-06-11","50",null,"06",null,"11",null,null,null,{"$f":"IFERROR(VLOOKUP(I19716,設定・基礎!$G$3:$H$22,2,FALSE),\"\")","v":""}]
[" 50-06-12","50",null,"06",null,"12",null,null,null,{"$f":"IFERROR(VLOOKUP(I19717,設定・基礎!$G$3:$H$22,2,FALSE),\"\")","v":""}]
[" 50-06-13","50",null,"06",null,"13",null,null,null,{"$f":"IFERROR(VLOOKUP(I19718,設定・基礎!$G$3:$H$22,2,FALSE),\"\")","v":""}]
[" 50-06-14","50",null,"06",null,"14",null,null,null,{"$f":"IFERROR(VLOOKUP(I19719,設定・基礎!$G$3:$H$22,2,FALSE),\"\")","v":""}]
[" 50-06-15","50",null,"06",null,"15",null,null,null,{"$f":"IFERROR(VLOOKUP(I19720,設定・基礎!$G$3:$H$22,2,FALSE),\"\")","v":""}]
[" 50-06-16","50",null,"06",null,"16",null,null,null,{"$f":"IFERROR(VLOOKUP(I19721,設定・基礎!$G$3:$H$22,2,FALSE),\"\")","v":""}]
[" 50-06-17","50",null,"06",null,"17",null,null,null,{"$f":"IFERROR(VLOOKUP(I19722,設定・基礎!$G$3:$H$22,2,FALSE),\"\")","v":""}]
[" 50-06-18","50",null,"06",null,"18",null,null,null,{"$f":"IFERROR(VLOOKUP(I19723,設定・基礎!$G$3:$H$22,2,FALSE),\"\")","v":""}]
[" 50-06-19","50",null,"06",null,"19",null,null,null,{"$f":"IFERROR(VLOOKUP(I19724,設定・基礎!$G$3:$H$22,2,FALSE),\"\")","v":""}]
[" 50-06-20","50",null,"06",null,"20",null,null,null,{"$f":"IFERROR(VLOOKUP(I19725,設定・基礎!$G$3:$H$22,2,FALSE),\"\")","v":""}]
[" 50-07-01","50",null,"07",null,"01",null,null,null,{"$f":"IFERROR(VLOOKUP(I19726,設定・基礎!$G$3:$H$22,2,FALSE),\"\")","v":""}]
[" 50-07-02","50",null,"07",null,"02",null,null,null,{"$f":"IFERROR(VLOOKUP(I19727,設定・基礎!$G$3:$H$22,2,FALSE),\"\")","v":""}]
[" 50-07-03","50",null,"07",null,"03",null,null,null,{"$f":"IFERROR(VLOOKUP(I19728,設定・基礎!$G$3:$H$22,2,FALSE),\"\")","v":""}]
[" 50-07-04","50",null,"07",null,"04",null,null,null,{"$f":"IFERROR(VLOOKUP(I19729,設定・基礎!$G$3:$H$22,2,FALSE),\"\")","v":""}]
[" 50-07-05","50",null,"07",null,"05",null,null,null,{"$f":"IFERROR(VLOOKUP(I19730,設定・基礎!$G$3:$H$22,2,FALSE),\"\")","v":""}]
[" 50-07-06","50",null,"07",null,"06",null,null,null,{"$f":"IFERROR(VLOOKUP(I19731,設定・基礎!$G$3:$H$22,2,FALSE),\"\")","v":""}]
[" 50-07-07","50",null,"07",null,"07",null,null,null,{"$f":"IFERROR(VLOOKUP(I19732,設定・基礎!$G$3:$H$22,2,FALSE),\"\")","v":""}]
[" 50-07-08","50",null,"07",null,"08",null,null,null,{"$f":"IFERROR(VLOOKUP(I19733,設定・基礎!$G$3:$H$22,2,FALSE),\"\")","v":""}]
[" 50-07-09","50",null,"07",null,"09",null,null,null,{"$f":"IFERROR(VLOOKUP(I19734,設定・基礎!$G$3:$H$22,2,FALSE),\"\")","v":""}]
[" 50-07-10","50",null,"07",null,"10",null,null,null,{"$f":"IFERROR(VLOOKUP(I19735,設定・基礎!$G$3:$H$22,2,FALSE),\"\")","v":""}]
[" 50-07-11","50",null,"07",null,"11",null,null,null,{"$f":"IFERROR(VLOOKUP(I19736,設定・基礎!$G$3:$H$22,2,FALSE),\"\")","v":""}]
[" 50-07-12","50",null,"07",null,"12",null,null,null,{"$f":"IFERROR(VLOOKUP(I19737,設定・基礎!$G$3:$H$22,2,FALSE),\"\")","v":""}]
[" 50-07-13","50",null,"07",null,"13",null,null,null,{"$f":"IFERROR(VLOOKUP(I19738,設定・基礎!$G$3:$H$22,2,FALSE),\"\")","v":""}]
[" 50-07-14","50",null,"07",null,"14",null,null,null,{"$f":"IFERROR(VLOOKUP(I19739,設定・基礎!$G$3:$H$22,2,FALSE),\"\")","v":""}]
[" 50-07-15","50",null,"07",null,"15",null,null,null,{"$f":"IFERROR(VLOOKUP(I19740,設定・基礎!$G$3:$H$22,2,FALSE),\"\")","v":""}]
[" 50-07-16","50",null,"07",null,"16",null,null,null,{"$f":"IFERROR(VLOOKUP(I19741,設定・基礎!$G$3:$H$22,2,FALSE),\"\")","v":""}]
[" 50-07-17","50",null,"07",null,"17",null,null,null,{"$f":"IFERROR(VLOOKUP(I19742,設定・基礎!$G$3:$H$22,2,FALSE),\"\")","v":""}]
[" 50-07-18","50",null,"07",null,"18",null,null,null,{"$f":"IFERROR(VLOOKUP(I19743,設定・基礎!$G$3:$H$22,2,FALSE),\"\")","v":""}]
[" 50-07-19","50",null,"07",null,"19",null,null,null,{"$f":"IFERROR(VLOOKUP(I19744,設定・基礎!$G$3:$H$22,2,FALSE),\"\")","v":""}]
[" 50-07-20","50",null,"07",null,"20",null,null,null,{"$f":"IFERROR(VLOOKUP(I19745,設定・基礎!$G$3:$H$22,2,FALSE),\"\")","v":""}]
[" 50-08-01","50",null,"08",null,"01",null,null,null,{"$f":"IFERROR(VLOOKUP(I19746,設定・基礎!$G$3:$H$22,2,FALSE),\"\")","v":""}]
[" 50-08-02","50",null,"08",null,"02",null,null,null,{"$f":"IFERROR(VLOOKUP(I19747,設定・基礎!$G$3:$H$22,2,FALSE),\"\")","v":""}]
[" 50-08-03","50",null,"08",null,"03",null,null,null,{"$f":"IFERROR(VLOOKUP(I19748,設定・基礎!$G$3:$H$22,2,FALSE),\"\")","v":""}]
[" 50-08-04","50",null,"08",null,"04",null,null,null,{"$f":"IFERROR(VLOOKUP(I19749,設定・基礎!$G$3:$H$22,2,FALSE),\"\")","v":""}]
[" 50-08-05","50",null,"08",null,"05",null,null,null,{"$f":"IFERROR(VLOOKUP(I19750,設定・基礎!$G$3:$H$22,2,FALSE),\"\")","v":""}]
[" 50-08-06","50",null,"08",null,"06",null,null,null,{"$f":"IFERROR(VLOOKUP(I19751,設定・基礎!$G$3:$H$22,2,FALSE),\"\")","v":""}]
[" 50-08-07","50",null,"08",null,"07",null,null,null,{"$f":"IFERROR(VLOOKUP(I19752,設定・基礎!$G$3:$H$22,2,FALSE),\"\")","v":""}]
[" 50-08-08","50",null,"08",null,"08",null,null,null,{"$f":"IFERROR(VLOOKUP(I19753,設定・基礎!$G$3:$H$22,2,FALSE),\"\")","v":""}]
[" 50-08-09","50",null,"08",null,"09",null,null,null,{"$f":"IFERROR(VLOOKUP(I19754,設定・基礎!$G$3:$H$22,2,FALSE),\"\")","v":""}]
[" 50-08-10","50",null,"08",null,"10",null,null,null,{"$f":"IFERROR(VLOOKUP(I19755,設定・基礎!$G$3:$H$22,2,FALSE),\"\")","v":""}]
[" 50-08-11","50",null,"08",null,"11",null,null,null,{"$f":"IFERROR(VLOOKUP(I19756,設定・基礎!$G$3:$H$22,2,FALSE),\"\")","v":""}]
[" 50-08-12","50",null,"08",null,"12",null,null,null,{"$f":"IFERROR(VLOOKUP(I19757,設定・基礎!$G$3:$H$22,2,FALSE),\"\")","v":""}]
[" 50-08-13","50",null,"08",null,"13",null,null,null,{"$f":"IFERROR(VLOOKUP(I19758,設定・基礎!$G$3:$H$22,2,FALSE),\"\")","v":""}]
[" 50-08-14","50",null,"08",null,"14",null,null,null,{"$f":"IFERROR(VLOOKUP(I19759,設定・基礎!$G$3:$H$22,2,FALSE),\"\")","v":""}]
[" 50-08-15","50",null,"08",null,"15",null,null,null,{"$f":"IFERROR(VLOOKUP(I19760,設定・基礎!$G$3:$H$22,2,FALSE),\"\")","v":""}]
[" 50-08-16","50",null,"08",null,"16",null,null,null,{"$f":"IFERROR(VLOOKUP(I19761,設定・基礎!$G$3:$H$22,2,FALSE),\"\")","v":""}]
[" 50-08-17","50",null,"08",null,"17",null,null,null,{"$f":"IFERROR(VLOOKUP(I19762,設定・基礎!$G$3:$H$22,2,FALSE),\"\")","v":""}]
[" 50-08-18","50",null,"08",null,"18",null,null,null,{"$f":"IFERROR(VLOOKUP(I19763,設定・基礎!$G$3:$H$22,2,FALSE),\"\")","v":""}]
[" 50-08-19","50",null,"08",null,"19",null,null,null,{"$f":"IFERROR(VLOOKUP(I19764,設定・基礎!$G$3:$H$22,2,FALSE),\"\")","v":""}]
[" 50-08-20","50",null,"08",null,"20",null,null,null,{"$f":"IFERROR(VLOOKUP(I19765,設定・基礎!$G$3:$H$22,2,FALSE),\"\")","v":""}]
[" 50-09-01","50",null,"09",null,"01",null,null,null,{"$f":"IFERROR(VLOOKUP(I19766,設定・基礎!$G$3:$H$22,2,FALSE),\"\")","v":""}]
[" 50-09-02","50",null,"09",null,"02",null,null,null,{"$f":"IFERROR(VLOOKUP(I19767,設定・基礎!$G$3:$H$22,2,FALSE),\"\")","v":""}]
[" 50-09-03","50",null,"09",null,"03",null,null,null,{"$f":"IFERROR(VLOOKUP(I19768,設定・基礎!$G$3:$H$22,2,FALSE),\"\")","v":""}]
[" 50-09-04","50",null,"09",null,"04",null,null,null,{"$f":"IFERROR(VLOOKUP(I19769,設定・基礎!$G$3:$H$22,2,FALSE),\"\")","v":""}]
[" 50-09-05","50",null,"09",null,"05",null,null,null,{"$f":"IFERROR(VLOOKUP(I19770,設定・基礎!$G$3:$H$22,2,FALSE),\"\")","v":""}]
[" 50-09-06","50",null,"09",null,"06",null,null,null,{"$f":"IFERROR(VLOOKUP(I19771,設定・基礎!$G$3:$H$22,2,FALSE),\"\")","v":""}]
[" 50-09-07","50",null,"09",null,"07",null,null,null,{"$f":"IFERROR(VLOOKUP(I19772,設定・基礎!$G$3:$H$22,2,FALSE),\"\")","v":""}]
[" 50-09-08","50",null,"09",null,"08",null,null,null,{"$f":"IFERROR(VLOOKUP(I19773,設定・基礎!$G$3:$H$22,2,FALSE),\"\")","v":""}]
[" 50-09-09","50",null,"09",null,"09",null,null,null,{"$f":"IFERROR(VLOOKUP(I19774,設定・基礎!$G$3:$H$22,2,FALSE),\"\")","v":""}]
[" 50-09-10","50",null,"09",null,"10",null,null,null,{"$f":"IFERROR(VLOOKUP(I19775,設定・基礎!$G$3:$H$22,2,FALSE),\"\")","v":""}]
[" 50-09-11","50",null,"09",null,"11",null,null,null,{"$f":"IFERROR(VLOOKUP(I19776,設定・基礎!$G$3:$H$22,2,FALSE),\"\")","v":""}]
[" 50-09-12","50",null,"09",null,"12",null,null,null,{"$f":"IFERROR(VLOOKUP(I19777,設定・基礎!$G$3:$H$22,2,FALSE),\"\")","v":""}]
[" 50-09-13","50",null,"09",null,"13",null,null,null,{"$f":"IFERROR(VLOOKUP(I19778,設定・基礎!$G$3:$H$22,2,FALSE),\"\")","v":""}]
[" 50-09-14","50",null,"09",null,"14",null,null,null,{"$f":"IFERROR(VLOOKUP(I19779,設定・基礎!$G$3:$H$22,2,FALSE),\"\")","v":""}]
[" 50-09-15","50",null,"09",null,"15",null,null,null,{"$f":"IFERROR(VLOOKUP(I19780,設定・基礎!$G$3:$H$22,2,FALSE),\"\")","v":""}]
[" 50-09-16","50",null,"09",null,"16",null,null,null,{"$f":"IFERROR(VLOOKUP(I19781,設定・基礎!$G$3:$H$22,2,FALSE),\"\")","v":""}]
[" 50-09-17","50",null,"09",null,"17",null,null,null,{"$f":"IFERROR(VLOOKUP(I19782,設定・基礎!$G$3:$H$22,2,FALSE),\"\")","v":""}]
[" 50-09-18","50",null,"09",null,"18",null,null,null,{"$f":"IFERROR(VLOOKUP(I19783,設定・基礎!$G$3:$H$22,2,FALSE),\"\")","v":""}]
[" 50-09-19","50",null,"09",null,"19",null,null,null,{"$f":"IFERROR(VLOOKUP(I19784,設定・基礎!$G$3:$H$22,2,FALSE),\"\")","v":""}]
[" 50-09-20","50",null,"09",null,"20",null,null,null,{"$f":"IFERROR(VLOOKUP(I19785,設定・基礎!$G$3:$H$22,2,FALSE),\"\")","v":""}]
[" 50-10-01","50",null,"10",null,"01",null,null,null,{"$f":"IFERROR(VLOOKUP(I19786,設定・基礎!$G$3:$H$22,2,FALSE),\"\")","v":""}]
[" 50-10-02","50",null,"10",null,"02",null,null,null,{"$f":"IFERROR(VLOOKUP(I19787,設定・基礎!$G$3:$H$22,2,FALSE),\"\")","v":""}]
[" 50-10-03","50",null,"10",null,"03",null,null,null,{"$f":"IFERROR(VLOOKUP(I19788,設定・基礎!$G$3:$H$22,2,FALSE),\"\")","v":""}]
[" 50-10-04","50",null,"10",null,"04",null,null,null,{"$f":"IFERROR(VLOOKUP(I19789,設定・基礎!$G$3:$H$22,2,FALSE),\"\")","v":""}]
[" 50-10-05","50",null,"10",null,"05",null,null,null,{"$f":"IFERROR(VLOOKUP(I19790,設定・基礎!$G$3:$H$22,2,FALSE),\"\")","v":""}]
[" 50-10-06","50",null,"10",null,"06",null,null,null,{"$f":"IFERROR(VLOOKUP(I19791,設定・基礎!$G$3:$H$22,2,FALSE),\"\")","v":""}]
[" 50-10-07","50",null,"10",null,"07",null,null,null,{"$f":"IFERROR(VLOOKUP(I19792,設定・基礎!$G$3:$H$22,2,FALSE),\"\")","v":""}]
[" 50-10-08","50",null,"10",null,"08",null,null,null,{"$f":"IFERROR(VLOOKUP(I19793,設定・基礎!$G$3:$H$22,2,FALSE),\"\")","v":""}]
[" 50-10-09","50",null,"10",null,"09",null,null,null,{"$f":"IFERROR(VLOOKUP(I19794,設定・基礎!$G$3:$H$22,2,FALSE),\"\")","v":""}]
[" 50-10-10","50",null,"10",null,"10",null,null,null,{"$f":"IFERROR(VLOOKUP(I19795,設定・基礎!$G$3:$H$22,2,FALSE),\"\")","v":""}]
[" 50-10-11","50",null,"10",null,"11",null,null,null,{"$f":"IFERROR(VLOOKUP(I19796,設定・基礎!$G$3:$H$22,2,FALSE),\"\")","v":""}]
[" 50-10-12","50",null,"10",null,"12",null,null,null,{"$f":"IFERROR(VLOOKUP(I19797,設定・基礎!$G$3:$H$22,2,FALSE),\"\")","v":""}]
[" 50-10-13","50",null,"10",null,"13",null,null,null,{"$f":"IFERROR(VLOOKUP(I19798,設定・基礎!$G$3:$H$22,2,FALSE),\"\")","v":""}]
[" 50-10-14","50",null,"10",null,"14",null,null,null,{"$f":"IFERROR(VLOOKUP(I19799,設定・基礎!$G$3:$H$22,2,FALSE),\"\")","v":""}]
[" 50-10-15","50",null,"10",null,"15",null,null,null,{"$f":"IFERROR(VLOOKUP(I19800,設定・基礎!$G$3:$H$22,2,FALSE),\"\")","v":""}]
[" 50-10-16","50",null,"10",null,"16",null,null,null,{"$f":"IFERROR(VLOOKUP(I19801,設定・基礎!$G$3:$H$22,2,FALSE),\"\")","v":""}]
[" 50-10-17","50",null,"10",null,"17",null,null,null,{"$f":"IFERROR(VLOOKUP(I19802,設定・基礎!$G$3:$H$22,2,FALSE),\"\")","v":""}]
[" 50-10-18","50",null,"10",null,"18",null,null,null,{"$f":"IFERROR(VLOOKUP(I19803,設定・基礎!$G$3:$H$22,2,FALSE),\"\")","v":""}]
[" 50-10-19","50",null,"10",null,"19",null,null,null,{"$f":"IFERROR(VLOOKUP(I19804,設定・基礎!$G$3:$H$22,2,FALSE),\"\")","v":""}]
[" 50-10-20","50",null,"10",null,"20",null,null,null,{"$f":"IFERROR(VLOOKUP(I19805,設定・基礎!$G$3:$H$22,2,FALSE),\"\")","v":""}]
[" 50-11-01","50",null,"11",null,"01",null,null,null,{"$f":"IFERROR(VLOOKUP(I19806,設定・基礎!$G$3:$H$22,2,FALSE),\"\")","v":""}]
[" 50-11-02","50",null,"11",null,"02",null,null,null,{"$f":"IFERROR(VLOOKUP(I19807,設定・基礎!$G$3:$H$22,2,FALSE),\"\")","v":""}]
[" 50-11-03","50",null,"11",null,"03",null,null,null,{"$f":"IFERROR(VLOOKUP(I19808,設定・基礎!$G$3:$H$22,2,FALSE),\"\")","v":""}]
[" 50-11-04","50",null,"11",null,"04",null,null,null,{"$f":"IFERROR(VLOOKUP(I19809,設定・基礎!$G$3:$H$22,2,FALSE),\"\")","v":""}]
[" 50-11-05","50",null,"11",null,"05",null,null,null,{"$f":"IFERROR(VLOOKUP(I19810,設定・基礎!$G$3:$H$22,2,FALSE),\"\")","v":""}]
[" 50-11-06","50",null,"11",null,"06",null,null,null,{"$f":"IFERROR(VLOOKUP(I19811,設定・基礎!$G$3:$H$22,2,FALSE),\"\")","v":""}]
[" 50-11-07","50",null,"11",null,"07",null,null,null,{"$f":"IFERROR(VLOOKUP(I19812,設定・基礎!$G$3:$H$22,2,FALSE),\"\")","v":""}]
[" 50-11-08","50",null,"11",null,"08",null,null,null,{"$f":"IFERROR(VLOOKUP(I19813,設定・基礎!$G$3:$H$22,2,FALSE),\"\")","v":""}]
[" 50-11-09","50",null,"11",null,"09",null,null,null,{"$f":"IFERROR(VLOOKUP(I19814,設定・基礎!$G$3:$H$22,2,FALSE),\"\")","v":""}]
[" 50-11-10","50",null,"11",null,"10",null,null,null,{"$f":"IFERROR(VLOOKUP(I19815,設定・基礎!$G$3:$H$22,2,FALSE),\"\")","v":""}]
[" 50-11-11","50",null,"11",null,"11",null,null,null,{"$f":"IFERROR(VLOOKUP(I19816,設定・基礎!$G$3:$H$22,2,FALSE),\"\")","v":""}]
[" 50-11-12","50",null,"11",null,"12",null,null,null,{"$f":"IFERROR(VLOOKUP(I19817,設定・基礎!$G$3:$H$22,2,FALSE),\"\")","v":""}]
[" 50-11-13","50",null,"11",null,"13",null,null,null,{"$f":"IFERROR(VLOOKUP(I19818,設定・基礎!$G$3:$H$22,2,FALSE),\"\")","v":""}]
[" 50-11-14","50",null,"11",null,"14",null,null,null,{"$f":"IFERROR(VLOOKUP(I19819,設定・基礎!$G$3:$H$22,2,FALSE),\"\")","v":""}]
[" 50-11-15","50",null,"11",null,"15",null,null,null,{"$f":"IFERROR(VLOOKUP(I19820,設定・基礎!$G$3:$H$22,2,FALSE),\"\")","v":""}]
[" 50-11-16","50",null,"11",null,"16",null,null,null,{"$f":"IFERROR(VLOOKUP(I19821,設定・基礎!$G$3:$H$22,2,FALSE),\"\")","v":""}]
[" 50-11-17","50",null,"11",null,"17",null,null,null,{"$f":"IFERROR(VLOOKUP(I19822,設定・基礎!$G$3:$H$22,2,FALSE),\"\")","v":""}]
[" 50-11-18","50",null,"11",null,"18",null,null,null,{"$f":"IFERROR(VLOOKUP(I19823,設定・基礎!$G$3:$H$22,2,FALSE),\"\")","v":""}]
[" 50-11-19","50",null,"11",null,"19",null,null,null,{"$f":"IFERROR(VLOOKUP(I19824,設定・基礎!$G$3:$H$22,2,FALSE),\"\")","v":""}]
[" 50-11-20","50",null,"11",null,"20",null,null,null,{"$f":"IFERROR(VLOOKUP(I19825,設定・基礎!$G$3:$H$22,2,FALSE),\"\")","v":""}]
[" 50-12-01","50",null,"12",null,"01",null,null,null,{"$f":"IFERROR(VLOOKUP(I19826,設定・基礎!$G$3:$H$22,2,FALSE),\"\")","v":""}]
[" 50-12-02","50",null,"12",null,"02",null,null,null,{"$f":"IFERROR(VLOOKUP(I19827,設定・基礎!$G$3:$H$22,2,FALSE),\"\")","v":""}]
[" 50-12-03","50",null,"12",null,"03",null,null,null,{"$f":"IFERROR(VLOOKUP(I19828,設定・基礎!$G$3:$H$22,2,FALSE),\"\")","v":""}]
[" 50-12-04","50",null,"12",null,"04",null,null,null,{"$f":"IFERROR(VLOOKUP(I19829,設定・基礎!$G$3:$H$22,2,FALSE),\"\")","v":""}]
[" 50-12-05","50",null,"12",null,"05",null,null,null,{"$f":"IFERROR(VLOOKUP(I19830,設定・基礎!$G$3:$H$22,2,FALSE),\"\")","v":""}]
[" 50-12-06","50",null,"12",null,"06",null,null,null,{"$f":"IFERROR(VLOOKUP(I19831,設定・基礎!$G$3:$H$22,2,FALSE),\"\")","v":""}]
[" 50-12-07","50",null,"12",null,"07",null,null,null,{"$f":"IFERROR(VLOOKUP(I19832,設定・基礎!$G$3:$H$22,2,FALSE),\"\")","v":""}]
[" 50-12-08","50",null,"12",null,"08",null,null,null,{"$f":"IFERROR(VLOOKUP(I19833,設定・基礎!$G$3:$H$22,2,FALSE),\"\")","v":""}]
[" 50-12-09","50",null,"12",null,"09",null,null,null,{"$f":"IFERROR(VLOOKUP(I19834,設定・基礎!$G$3:$H$22,2,FALSE),\"\")","v":""}]
[" 50-12-10","50",null,"12",null,"10",null,null,null,{"$f":"IFERROR(VLOOKUP(I19835,設定・基礎!$G$3:$H$22,2,FALSE),\"\")","v":""}]
[" 50-12-11","50",null,"12",null,"11",null,null,null,{"$f":"IFERROR(VLOOKUP(I19836,設定・基礎!$G$3:$H$22,2,FALSE),\"\")","v":""}]
[" 50-12-12","50",null,"12",null,"12",null,null,null,{"$f":"IFERROR(VLOOKUP(I19837,設定・基礎!$G$3:$H$22,2,FALSE),\"\")","v":""}]
[" 50-12-13","50",null,"12",null,"13",null,null,null,{"$f":"IFERROR(VLOOKUP(I19838,設定・基礎!$G$3:$H$22,2,FALSE),\"\")","v":""}]
[" 50-12-14","50",null,"12",null,"14",null,null,null,{"$f":"IFERROR(VLOOKUP(I19839,設定・基礎!$G$3:$H$22,2,FALSE),\"\")","v":""}]
[" 50-12-15","50",null,"12",null,"15",null,null,null,{"$f":"IFERROR(VLOOKUP(I19840,設定・基礎!$G$3:$H$22,2,FALSE),\"\")","v":""}]
[" 50-12-16","50",null,"12",null,"16",null,null,null,{"$f":"IFERROR(VLOOKUP(I19841,設定・基礎!$G$3:$H$22,2,FALSE),\"\")","v":""}]
[" 50-12-17","50",null,"12",null,"17",null,null,null,{"$f":"IFERROR(VLOOKUP(I19842,設定・基礎!$G$3:$H$22,2,FALSE),\"\")","v":""}]
[" 50-12-18","50",null,"12",null,"18",null,null,null,{"$f":"IFERROR(VLOOKUP(I19843,設定・基礎!$G$3:$H$22,2,FALSE),\"\")","v":""}]
[" 50-12-19","50",null,"12",null,"19",null,null,null,{"$f":"IFERROR(VLOOKUP(I19844,設定・基礎!$G$3:$H$22,2,FALSE),\"\")","v":""}]
[" 50-12-20","50",null,"12",null,"20",null,null,null,{"$f":"IFERROR(VLOOKUP(I19845,設定・基礎!$G$3:$H$22,2,FALSE),\"\")","v":""}]
[" 50-13-01","50",null,"13",null,"01",null,null,null,{"$f":"IFERROR(VLOOKUP(I19846,設定・基礎!$G$3:$H$22,2,FALSE),\"\")","v":""}]
[" 50-13-02","50",null,"13",null,"02",null,null,null,{"$f":"IFERROR(VLOOKUP(I19847,設定・基礎!$G$3:$H$22,2,FALSE),\"\")","v":""}]
[" 50-13-03","50",null,"13",null,"03",null,null,null,{"$f":"IFERROR(VLOOKUP(I19848,設定・基礎!$G$3:$H$22,2,FALSE),\"\")","v":""}]
[" 50-13-04","50",null,"13",null,"04",null,null,null,{"$f":"IFERROR(VLOOKUP(I19849,設定・基礎!$G$3:$H$22,2,FALSE),\"\")","v":""}]
[" 50-13-05","50",null,"13",null,"05",null,null,null,{"$f":"IFERROR(VLOOKUP(I19850,設定・基礎!$G$3:$H$22,2,FALSE),\"\")","v":""}]
[" 50-13-06","50",null,"13",null,"06",null,null,null,{"$f":"IFERROR(VLOOKUP(I19851,設定・基礎!$G$3:$H$22,2,FALSE),\"\")","v":""}]
[" 50-13-07","50",null,"13",null,"07",null,null,null,{"$f":"IFERROR(VLOOKUP(I19852,設定・基礎!$G$3:$H$22,2,FALSE),\"\")","v":""}]
[" 50-13-08","50",null,"13",null,"08",null,null,null,{"$f":"IFERROR(VLOOKUP(I19853,設定・基礎!$G$3:$H$22,2,FALSE),\"\")","v":""}]
[" 50-13-09","50",null,"13",null,"09",null,null,null,{"$f":"IFERROR(VLOOKUP(I19854,設定・基礎!$G$3:$H$22,2,FALSE),\"\")","v":""}]
[" 50-13-10","50",null,"13",null,"10",null,null,null,{"$f":"IFERROR(VLOOKUP(I19855,設定・基礎!$G$3:$H$22,2,FALSE),\"\")","v":""}]
[" 50-13-11","50",null,"13",null,"11",null,null,null,{"$f":"IFERROR(VLOOKUP(I19856,設定・基礎!$G$3:$H$22,2,FALSE),\"\")","v":""}]
[" 50-13-12","50",null,"13",null,"12",null,null,null,{"$f":"IFERROR(VLOOKUP(I19857,設定・基礎!$G$3:$H$22,2,FALSE),\"\")","v":""}]
[" 50-13-13","50",null,"13",null,"13",null,null,null,{"$f":"IFERROR(VLOOKUP(I19858,設定・基礎!$G$3:$H$22,2,FALSE),\"\")","v":""}]
[" 50-13-14","50",null,"13",null,"14",null,null,null,{"$f":"IFERROR(VLOOKUP(I19859,設定・基礎!$G$3:$H$22,2,FALSE),\"\")","v":""}]
[" 50-13-15","50",null,"13",null,"15",null,null,null,{"$f":"IFERROR(VLOOKUP(I19860,設定・基礎!$G$3:$H$22,2,FALSE),\"\")","v":""}]
[" 50-13-16","50",null,"13",null,"16",null,null,null,{"$f":"IFERROR(VLOOKUP(I19861,設定・基礎!$G$3:$H$22,2,FALSE),\"\")","v":""}]
[" 50-13-17","50",null,"13",null,"17",null,null,null,{"$f":"IFERROR(VLOOKUP(I19862,設定・基礎!$G$3:$H$22,2,FALSE),\"\")","v":""}]
[" 50-13-18","50",null,"13",null,"18",null,null,null,{"$f":"IFERROR(VLOOKUP(I19863,設定・基礎!$G$3:$H$22,2,FALSE),\"\")","v":""}]
[" 50-13-19","50",null,"13",null,"19",null,null,null,{"$f":"IFERROR(VLOOKUP(I19864,設定・基礎!$G$3:$H$22,2,FALSE),\"\")","v":""}]
[" 50-13-20","50",null,"13",null,"20",null,null,null,{"$f":"IFERROR(VLOOKUP(I19865,設定・基礎!$G$3:$H$22,2,FALSE),\"\")","v":""}]
[" 50-14-01","50",null,"14",null,"01",null,null,null,{"$f":"IFERROR(VLOOKUP(I19866,設定・基礎!$G$3:$H$22,2,FALSE),\"\")","v":""}]
[" 50-14-02","50",null,"14",null,"02",null,null,null,{"$f":"IFERROR(VLOOKUP(I19867,設定・基礎!$G$3:$H$22,2,FALSE),\"\")","v":""}]
[" 50-14-03","50",null,"14",null,"03",null,null,null,{"$f":"IFERROR(VLOOKUP(I19868,設定・基礎!$G$3:$H$22,2,FALSE),\"\")","v":""}]
[" 50-14-04","50",null,"14",null,"04",null,null,null,{"$f":"IFERROR(VLOOKUP(I19869,設定・基礎!$G$3:$H$22,2,FALSE),\"\")","v":""}]
[" 50-14-05","50",null,"14",null,"05",null,null,null,{"$f":"IFERROR(VLOOKUP(I19870,設定・基礎!$G$3:$H$22,2,FALSE),\"\")","v":""}]
[" 50-14-06","50",null,"14",null,"06",null,null,null,{"$f":"IFERROR(VLOOKUP(I19871,設定・基礎!$G$3:$H$22,2,FALSE),\"\")","v":""}]
[" 50-14-07","50",null,"14",null,"07",null,null,null,{"$f":"IFERROR(VLOOKUP(I19872,設定・基礎!$G$3:$H$22,2,FALSE),\"\")","v":""}]
[" 50-14-08","50",null,"14",null,"08",null,null,null,{"$f":"IFERROR(VLOOKUP(I19873,設定・基礎!$G$3:$H$22,2,FALSE),\"\")","v":""}]
[" 50-14-09","50",null,"14",null,"09",null,null,null,{"$f":"IFERROR(VLOOKUP(I19874,設定・基礎!$G$3:$H$22,2,FALSE),\"\")","v":""}]
[" 50-14-10","50",null,"14",null,"10",null,null,null,{"$f":"IFERROR(VLOOKUP(I19875,設定・基礎!$G$3:$H$22,2,FALSE),\"\")","v":""}]
[" 50-14-11","50",null,"14",null,"11",null,null,null,{"$f":"IFERROR(VLOOKUP(I19876,設定・基礎!$G$3:$H$22,2,FALSE),\"\")","v":""}]
[" 50-14-12","50",null,"14",null,"12",null,null,null,{"$f":"IFERROR(VLOOKUP(I19877,設定・基礎!$G$3:$H$22,2,FALSE),\"\")","v":""}]
[" 50-14-13","50",null,"14",null,"13",null,null,null,{"$f":"IFERROR(VLOOKUP(I19878,設定・基礎!$G$3:$H$22,2,FALSE),\"\")","v":""}]
[" 50-14-14","50",null,"14",null,"14",null,null,null,{"$f":"IFERROR(VLOOKUP(I19879,設定・基礎!$G$3:$H$22,2,FALSE),\"\")","v":""}]
[" 50-14-15","50",null,"14",null,"15",null,null,null,{"$f":"IFERROR(VLOOKUP(I19880,設定・基礎!$G$3:$H$22,2,FALSE),\"\")","v":""}]
[" 50-14-16","50",null,"14",null,"16",null,null,null,{"$f":"IFERROR(VLOOKUP(I19881,設定・基礎!$G$3:$H$22,2,FALSE),\"\")","v":""}]
[" 50-14-17","50",null,"14",null,"17",null,null,null,{"$f":"IFERROR(VLOOKUP(I19882,設定・基礎!$G$3:$H$22,2,FALSE),\"\")","v":""}]
[" 50-14-18","50",null,"14",null,"18",null,null,null,{"$f":"IFERROR(VLOOKUP(I19883,設定・基礎!$G$3:$H$22,2,FALSE),\"\")","v":""}]
[" 50-14-19","50",null,"14",null,"19",null,null,null,{"$f":"IFERROR(VLOOKUP(I19884,設定・基礎!$G$3:$H$22,2,FALSE),\"\")","v":""}]
[" 50-14-20","50",null,"14",null,"20",null,null,null,{"$f":"IFERROR(VLOOKUP(I19885,設定・基礎!$G$3:$H$22,2,FALSE),\"\")","v":""}]
[" 50-15-01","50",null,"15",null,"01",null,null,null,{"$f":"IFERROR(VLOOKUP(I19886,設定・基礎!$G$3:$H$22,2,FALSE),\"\")","v":""}]
[" 50-15-02","50",null,"15",null,"02",null,null,null,{"$f":"IFERROR(VLOOKUP(I19887,設定・基礎!$G$3:$H$22,2,FALSE),\"\")","v":""}]
[" 50-15-03","50",null,"15",null,"03",null,null,null,{"$f":"IFERROR(VLOOKUP(I19888,設定・基礎!$G$3:$H$22,2,FALSE),\"\")","v":""}]
[" 50-15-04","50",null,"15",null,"04",null,null,null,{"$f":"IFERROR(VLOOKUP(I19889,設定・基礎!$G$3:$H$22,2,FALSE),\"\")","v":""}]
[" 50-15-05","50",null,"15",null,"05",null,null,null,{"$f":"IFERROR(VLOOKUP(I19890,設定・基礎!$G$3:$H$22,2,FALSE),\"\")","v":""}]
[" 50-15-06","50",null,"15",null,"06",null,null,null,{"$f":"IFERROR(VLOOKUP(I19891,設定・基礎!$G$3:$H$22,2,FALSE),\"\")","v":""}]
[" 50-15-07","50",null,"15",null,"07",null,null,null,{"$f":"IFERROR(VLOOKUP(I19892,設定・基礎!$G$3:$H$22,2,FALSE),\"\")","v":""}]
[" 50-15-08","50",null,"15",null,"08",null,null,null,{"$f":"IFERROR(VLOOKUP(I19893,設定・基礎!$G$3:$H$22,2,FALSE),\"\")","v":""}]
[" 50-15-09","50",null,"15",null,"09",null,null,null,{"$f":"IFERROR(VLOOKUP(I19894,設定・基礎!$G$3:$H$22,2,FALSE),\"\")","v":""}]
[" 50-15-10","50",null,"15",null,"10",null,null,null,{"$f":"IFERROR(VLOOKUP(I19895,設定・基礎!$G$3:$H$22,2,FALSE),\"\")","v":""}]
[" 50-15-11","50",null,"15",null,"11",null,null,null,{"$f":"IFERROR(VLOOKUP(I19896,設定・基礎!$G$3:$H$22,2,FALSE),\"\")","v":""}]
[" 50-15-12","50",null,"15",null,"12",null,null,null,{"$f":"IFERROR(VLOOKUP(I19897,設定・基礎!$G$3:$H$22,2,FALSE),\"\")","v":""}]
[" 50-15-13","50",null,"15",null,"13",null,null,null,{"$f":"IFERROR(VLOOKUP(I19898,設定・基礎!$G$3:$H$22,2,FALSE),\"\")","v":""}]
[" 50-15-14","50",null,"15",null,"14",null,null,null,{"$f":"IFERROR(VLOOKUP(I19899,設定・基礎!$G$3:$H$22,2,FALSE),\"\")","v":""}]
[" 50-15-15","50",null,"15",null,"15",null,null,null,{"$f":"IFERROR(VLOOKUP(I19900,設定・基礎!$G$3:$H$22,2,FALSE),\"\")","v":""}]
[" 50-15-16","50",null,"15",null,"16",null,null,null,{"$f":"IFERROR(VLOOKUP(I19901,設定・基礎!$G$3:$H$22,2,FALSE),\"\")","v":""}]
[" 50-15-17","50",null,"15",null,"17",null,null,null,{"$f":"IFERROR(VLOOKUP(I19902,設定・基礎!$G$3:$H$22,2,FALSE),\"\")","v":""}]
[" 50-15-18","50",null,"15",null,"18",null,null,null,{"$f":"IFERROR(VLOOKUP(I19903,設定・基礎!$G$3:$H$22,2,FALSE),\"\")","v":""}]
[" 50-15-19","50",null,"15",null,"19",null,null,null,{"$f":"IFERROR(VLOOKUP(I19904,設定・基礎!$G$3:$H$22,2,FALSE),\"\")","v":""}]
[" 50-15-20","50",null,"15",null,"20",null,null,null,{"$f":"IFERROR(VLOOKUP(I19905,設定・基礎!$G$3:$H$22,2,FALSE),\"\")","v":""}]
[" 50-16-01","50",null,"16",null,"01",null,null,null,{"$f":"IFERROR(VLOOKUP(I19906,設定・基礎!$G$3:$H$22,2,FALSE),\"\")","v":""}]
[" 50-16-02","50",null,"16",null,"02",null,null,null,{"$f":"IFERROR(VLOOKUP(I19907,設定・基礎!$G$3:$H$22,2,FALSE),\"\")","v":""}]
[" 50-16-03","50",null,"16",null,"03",null,null,null,{"$f":"IFERROR(VLOOKUP(I19908,設定・基礎!$G$3:$H$22,2,FALSE),\"\")","v":""}]
[" 50-16-04","50",null,"16",null,"04",null,null,null,{"$f":"IFERROR(VLOOKUP(I19909,設定・基礎!$G$3:$H$22,2,FALSE),\"\")","v":""}]
[" 50-16-05","50",null,"16",null,"05",null,null,null,{"$f":"IFERROR(VLOOKUP(I19910,設定・基礎!$G$3:$H$22,2,FALSE),\"\")","v":""}]
[" 50-16-06","50",null,"16",null,"06",null,null,null,{"$f":"IFERROR(VLOOKUP(I19911,設定・基礎!$G$3:$H$22,2,FALSE),\"\")","v":""}]
[" 50-16-07","50",null,"16",null,"07",null,null,null,{"$f":"IFERROR(VLOOKUP(I19912,設定・基礎!$G$3:$H$22,2,FALSE),\"\")","v":""}]
[" 50-16-08","50",null,"16",null,"08",null,null,null,{"$f":"IFERROR(VLOOKUP(I19913,設定・基礎!$G$3:$H$22,2,FALSE),\"\")","v":""}]
[" 50-16-09","50",null,"16",null,"09",null,null,null,{"$f":"IFERROR(VLOOKUP(I19914,設定・基礎!$G$3:$H$22,2,FALSE),\"\")","v":""}]
[" 50-16-10","50",null,"16",null,"10",null,null,null,{"$f":"IFERROR(VLOOKUP(I19915,設定・基礎!$G$3:$H$22,2,FALSE),\"\")","v":""}]
[" 50-16-11","50",null,"16",null,"11",null,null,null,{"$f":"IFERROR(VLOOKUP(I19916,設定・基礎!$G$3:$H$22,2,FALSE),\"\")","v":""}]
[" 50-16-12","50",null,"16",null,"12",null,null,null,{"$f":"IFERROR(VLOOKUP(I19917,設定・基礎!$G$3:$H$22,2,FALSE),\"\")","v":""}]
[" 50-16-13","50",null,"16",null,"13",null,null,null,{"$f":"IFERROR(VLOOKUP(I19918,設定・基礎!$G$3:$H$22,2,FALSE),\"\")","v":""}]
[" 50-16-14","50",null,"16",null,"14",null,null,null,{"$f":"IFERROR(VLOOKUP(I19919,設定・基礎!$G$3:$H$22,2,FALSE),\"\")","v":""}]
[" 50-16-15","50",null,"16",null,"15",null,null,null,{"$f":"IFERROR(VLOOKUP(I19920,設定・基礎!$G$3:$H$22,2,FALSE),\"\")","v":""}]
[" 50-16-16","50",null,"16",null,"16",null,null,null,{"$f":"IFERROR(VLOOKUP(I19921,設定・基礎!$G$3:$H$22,2,FALSE),\"\")","v":""}]
[" 50-16-17","50",null,"16",null,"17",null,null,null,{"$f":"IFERROR(VLOOKUP(I19922,設定・基礎!$G$3:$H$22,2,FALSE),\"\")","v":""}]
[" 50-16-18","50",null,"16",null,"18",null,null,null,{"$f":"IFERROR(VLOOKUP(I19923,設定・基礎!$G$3:$H$22,2,FALSE),\"\")","v":""}]
[" 50-16-19","50",null,"16",null,"19",null,null,null,{"$f":"IFERROR(VLOOKUP(I19924,設定・基礎!$G$3:$H$22,2,FALSE),\"\")","v":""}]
[" 50-16-20","50",null,"16",null,"20",null,null,null,{"$f":"IFERROR(VLOOKUP(I19925,設定・基礎!$G$3:$H$22,2,FALSE),\"\")","v":""}]
[" 50-17-01","50",null,"17",null,"01",null,null,null,{"$f":"IFERROR(VLOOKUP(I19926,設定・基礎!$G$3:$H$22,2,FALSE),\"\")","v":""}]
[" 50-17-02","50",null,"17",null,"02",null,null,null,{"$f":"IFERROR(VLOOKUP(I19927,設定・基礎!$G$3:$H$22,2,FALSE),\"\")","v":""}]
[" 50-17-03","50",null,"17",null,"03",null,null,null,{"$f":"IFERROR(VLOOKUP(I19928,設定・基礎!$G$3:$H$22,2,FALSE),\"\")","v":""}]
[" 50-17-04","50",null,"17",null,"04",null,null,null,{"$f":"IFERROR(VLOOKUP(I19929,設定・基礎!$G$3:$H$22,2,FALSE),\"\")","v":""}]
[" 50-17-05","50",null,"17",null,"05",null,null,null,{"$f":"IFERROR(VLOOKUP(I19930,設定・基礎!$G$3:$H$22,2,FALSE),\"\")","v":""}]
[" 50-17-06","50",null,"17",null,"06",null,null,null,{"$f":"IFERROR(VLOOKUP(I19931,設定・基礎!$G$3:$H$22,2,FALSE),\"\")","v":""}]
[" 50-17-07","50",null,"17",null,"07",null,null,null,{"$f":"IFERROR(VLOOKUP(I19932,設定・基礎!$G$3:$H$22,2,FALSE),\"\")","v":""}]
[" 50-17-08","50",null,"17",null,"08",null,null,null,{"$f":"IFERROR(VLOOKUP(I19933,設定・基礎!$G$3:$H$22,2,FALSE),\"\")","v":""}]
[" 50-17-09","50",null,"17",null,"09",null,null,null,{"$f":"IFERROR(VLOOKUP(I19934,設定・基礎!$G$3:$H$22,2,FALSE),\"\")","v":""}]
[" 50-17-10","50",null,"17",null,"10",null,null,null,{"$f":"IFERROR(VLOOKUP(I19935,設定・基礎!$G$3:$H$22,2,FALSE),\"\")","v":""}]
[" 50-17-11","50",null,"17",null,"11",null,null,null,{"$f":"IFERROR(VLOOKUP(I19936,設定・基礎!$G$3:$H$22,2,FALSE),\"\")","v":""}]
[" 50-17-12","50",null,"17",null,"12",null,null,null,{"$f":"IFERROR(VLOOKUP(I19937,設定・基礎!$G$3:$H$22,2,FALSE),\"\")","v":""}]
[" 50-17-13","50",null,"17",null,"13",null,null,null,{"$f":"IFERROR(VLOOKUP(I19938,設定・基礎!$G$3:$H$22,2,FALSE),\"\")","v":""}]
[" 50-17-14","50",null,"17",null,"14",null,null,null,{"$f":"IFERROR(VLOOKUP(I19939,設定・基礎!$G$3:$H$22,2,FALSE),\"\")","v":""}]
[" 50-17-15","50",null,"17",null,"15",null,null,null,{"$f":"IFERROR(VLOOKUP(I19940,設定・基礎!$G$3:$H$22,2,FALSE),\"\")","v":""}]
[" 50-17-16","50",null,"17",null,"16",null,null,null,{"$f":"IFERROR(VLOOKUP(I19941,設定・基礎!$G$3:$H$22,2,FALSE),\"\")","v":""}]
[" 50-17-17","50",null,"17",null,"17",null,null,null,{"$f":"IFERROR(VLOOKUP(I19942,設定・基礎!$G$3:$H$22,2,FALSE),\"\")","v":""}]
[" 50-17-18","50",null,"17",null,"18",null,null,null,{"$f":"IFERROR(VLOOKUP(I19943,設定・基礎!$G$3:$H$22,2,FALSE),\"\")","v":""}]
[" 50-17-19","50",null,"17",null,"19",null,null,null,{"$f":"IFERROR(VLOOKUP(I19944,設定・基礎!$G$3:$H$22,2,FALSE),\"\")","v":""}]
[" 50-17-20","50",null,"17",null,"20",null,null,null,{"$f":"IFERROR(VLOOKUP(I19945,設定・基礎!$G$3:$H$22,2,FALSE),\"\")","v":""}]
[" 50-18-01","50",null,"18",null,"01",null,null,null,{"$f":"IFERROR(VLOOKUP(I19946,設定・基礎!$G$3:$H$22,2,FALSE),\"\")","v":""}]
[" 50-18-02","50",null,"18",null,"02",null,null,null,{"$f":"IFERROR(VLOOKUP(I19947,設定・基礎!$G$3:$H$22,2,FALSE),\"\")","v":""}]
[" 50-18-03","50",null,"18",null,"03",null,null,null,{"$f":"IFERROR(VLOOKUP(I19948,設定・基礎!$G$3:$H$22,2,FALSE),\"\")","v":""}]
[" 50-18-04","50",null,"18",null,"04",null,null,null,{"$f":"IFERROR(VLOOKUP(I19949,設定・基礎!$G$3:$H$22,2,FALSE),\"\")","v":""}]
[" 50-18-05","50",null,"18",null,"05",null,null,null,{"$f":"IFERROR(VLOOKUP(I19950,設定・基礎!$G$3:$H$22,2,FALSE),\"\")","v":""}]
[" 50-18-06","50",null,"18",null,"06",null,null,null,{"$f":"IFERROR(VLOOKUP(I19951,設定・基礎!$G$3:$H$22,2,FALSE),\"\")","v":""}]
[" 50-18-07","50",null,"18",null,"07",null,null,null,{"$f":"IFERROR(VLOOKUP(I19952,設定・基礎!$G$3:$H$22,2,FALSE),\"\")","v":""}]
[" 50-18-08","50",null,"18",null,"08",null,null,null,{"$f":"IFERROR(VLOOKUP(I19953,設定・基礎!$G$3:$H$22,2,FALSE),\"\")","v":""}]
[" 50-18-09","50",null,"18",null,"09",null,null,null,{"$f":"IFERROR(VLOOKUP(I19954,設定・基礎!$G$3:$H$22,2,FALSE),\"\")","v":""}]
[" 50-18-10","50",null,"18",null,"10",null,null,null,{"$f":"IFERROR(VLOOKUP(I19955,設定・基礎!$G$3:$H$22,2,FALSE),\"\")","v":""}]
[" 50-18-11","50",null,"18",null,"11",null,null,null,{"$f":"IFERROR(VLOOKUP(I19956,設定・基礎!$G$3:$H$22,2,FALSE),\"\")","v":""}]
[" 50-18-12","50",null,"18",null,"12",null,null,null,{"$f":"IFERROR(VLOOKUP(I19957,設定・基礎!$G$3:$H$22,2,FALSE),\"\")","v":""}]
[" 50-18-13","50",null,"18",null,"13",null,null,null,{"$f":"IFERROR(VLOOKUP(I19958,設定・基礎!$G$3:$H$22,2,FALSE),\"\")","v":""}]
[" 50-18-14","50",null,"18",null,"14",null,null,null,{"$f":"IFERROR(VLOOKUP(I19959,設定・基礎!$G$3:$H$22,2,FALSE),\"\")","v":""}]
[" 50-18-15","50",null,"18",null,"15",null,null,null,{"$f":"IFERROR(VLOOKUP(I19960,設定・基礎!$G$3:$H$22,2,FALSE),\"\")","v":""}]
[" 50-18-16","50",null,"18",null,"16",null,null,null,{"$f":"IFERROR(VLOOKUP(I19961,設定・基礎!$G$3:$H$22,2,FALSE),\"\")","v":""}]
[" 50-18-17","50",null,"18",null,"17",null,null,null,{"$f":"IFERROR(VLOOKUP(I19962,設定・基礎!$G$3:$H$22,2,FALSE),\"\")","v":""}]
[" 50-18-18","50",null,"18",null,"18",null,null,null,{"$f":"IFERROR(VLOOKUP(I19963,設定・基礎!$G$3:$H$22,2,FALSE),\"\")","v":""}]
[" 50-18-19","50",null,"18",null,"19",null,null,null,{"$f":"IFERROR(VLOOKUP(I19964,設定・基礎!$G$3:$H$22,2,FALSE),\"\")","v":""}]
[" 50-18-20","50",null,"18",null,"20",null,null,null,{"$f":"IFERROR(VLOOKUP(I19965,設定・基礎!$G$3:$H$22,2,FALSE),\"\")","v":""}]
[" 50-19-01","50",null,"19",null,"01",null,null,null,{"$f":"IFERROR(VLOOKUP(I19966,設定・基礎!$G$3:$H$22,2,FALSE),\"\")","v":""}]
[" 50-19-02","50",null,"19",null,"02",null,null,null,{"$f":"IFERROR(VLOOKUP(I19967,設定・基礎!$G$3:$H$22,2,FALSE),\"\")","v":""}]
[" 50-19-03","50",null,"19",null,"03",null,null,null,{"$f":"IFERROR(VLOOKUP(I19968,設定・基礎!$G$3:$H$22,2,FALSE),\"\")","v":""}]
[" 50-19-04","50",null,"19",null,"04",null,null,null,{"$f":"IFERROR(VLOOKUP(I19969,設定・基礎!$G$3:$H$22,2,FALSE),\"\")","v":""}]
[" 50-19-05","50",null,"19",null,"05",null,null,null,{"$f":"IFERROR(VLOOKUP(I19970,設定・基礎!$G$3:$H$22,2,FALSE),\"\")","v":""}]
[" 50-19-06","50",null,"19",null,"06",null,null,null,{"$f":"IFERROR(VLOOKUP(I19971,設定・基礎!$G$3:$H$22,2,FALSE),\"\")","v":""}]
[" 50-19-07","50",null,"19",null,"07",null,null,null,{"$f":"IFERROR(VLOOKUP(I19972,設定・基礎!$G$3:$H$22,2,FALSE),\"\")","v":""}]
[" 50-19-08","50",null,"19",null,"08",null,null,null,{"$f":"IFERROR(VLOOKUP(I19973,設定・基礎!$G$3:$H$22,2,FALSE),\"\")","v":""}]
[" 50-19-09","50",null,"19",null,"09",null,null,null,{"$f":"IFERROR(VLOOKUP(I19974,設定・基礎!$G$3:$H$22,2,FALSE),\"\")","v":""}]
[" 50-19-10","50",null,"19",null,"10",null,null,null,{"$f":"IFERROR(VLOOKUP(I19975,設定・基礎!$G$3:$H$22,2,FALSE),\"\")","v":""}]
[" 50-19-11","50",null,"19",null,"11",null,null,null,{"$f":"IFERROR(VLOOKUP(I19976,設定・基礎!$G$3:$H$22,2,FALSE),\"\")","v":""}]
[" 50-19-12","50",null,"19",null,"12",null,null,null,{"$f":"IFERROR(VLOOKUP(I19977,設定・基礎!$G$3:$H$22,2,FALSE),\"\")","v":""}]
[" 50-19-13","50",null,"19",null,"13",null,null,null,{"$f":"IFERROR(VLOOKUP(I19978,設定・基礎!$G$3:$H$22,2,FALSE),\"\")","v":""}]
[" 50-19-14","50",null,"19",null,"14",null,null,null,{"$f":"IFERROR(VLOOKUP(I19979,設定・基礎!$G$3:$H$22,2,FALSE),\"\")","v":""}]
[" 50-19-15","50",null,"19",null,"15",null,null,null,{"$f":"IFERROR(VLOOKUP(I19980,設定・基礎!$G$3:$H$22,2,FALSE),\"\")","v":""}]
[" 50-19-16","50",null,"19",null,"16",null,null,null,{"$f":"IFERROR(VLOOKUP(I19981,設定・基礎!$G$3:$H$22,2,FALSE),\"\")","v":""}]
[" 50-19-17","50",null,"19",null,"17",null,null,null,{"$f":"IFERROR(VLOOKUP(I19982,設定・基礎!$G$3:$H$22,2,FALSE),\"\")","v":""}]
[" 50-19-18","50",null,"19",null,"18",null,null,null,{"$f":"IFERROR(VLOOKUP(I19983,設定・基礎!$G$3:$H$22,2,FALSE),\"\")","v":""}]
[" 50-19-19","50",null,"19",null,"19",null,null,null,{"$f":"IFERROR(VLOOKUP(I19984,設定・基礎!$G$3:$H$22,2,FALSE),\"\")","v":""}]
[" 50-19-20","50",null,"19",null,"20",null,null,null,{"$f":"IFERROR(VLOOKUP(I19985,設定・基礎!$G$3:$H$22,2,FALSE),\"\")","v":""}]
[" 50-20-01","50",null,"20",null,"01",null,null,null,{"$f":"IFERROR(VLOOKUP(I19986,設定・基礎!$G$3:$H$22,2,FALSE),\"\")","v":""}]
[" 50-20-02","50",null,"20",null,"02",null,null,null,{"$f":"IFERROR(VLOOKUP(I19987,設定・基礎!$G$3:$H$22,2,FALSE),\"\")","v":""}]
[" 50-20-03","50",null,"20",null,"03",null,null,null,{"$f":"IFERROR(VLOOKUP(I19988,設定・基礎!$G$3:$H$22,2,FALSE),\"\")","v":""}]
[" 50-20-04","50",null,"20",null,"04",null,null,null,{"$f":"IFERROR(VLOOKUP(I19989,設定・基礎!$G$3:$H$22,2,FALSE),\"\")","v":""}]
[" 50-20-05","50",null,"20",null,"05",null,null,null,{"$f":"IFERROR(VLOOKUP(I19990,設定・基礎!$G$3:$H$22,2,FALSE),\"\")","v":""}]
[" 50-20-06","50",null,"20",null,"06",null,null,null,{"$f":"IFERROR(VLOOKUP(I19991,設定・基礎!$G$3:$H$22,2,FALSE),\"\")","v":""}]
[" 50-20-07","50",null,"20",null,"07",null,null,null,{"$f":"IFERROR(VLOOKUP(I19992,設定・基礎!$G$3:$H$22,2,FALSE),\"\")","v":""}]
[" 50-20-08","50",null,"20",null,"08",null,null,null,{"$f":"IFERROR(VLOOKUP(I19993,設定・基礎!$G$3:$H$22,2,FALSE),\"\")","v":""}]
[" 50-20-09","50",null,"20",null,"09",null,null,null,{"$f":"IFERROR(VLOOKUP(I19994,設定・基礎!$G$3:$H$22,2,FALSE),\"\")","v":""}]
[" 50-20-10","50",null,"20",null,"10",null,null,null,{"$f":"IFERROR(VLOOKUP(I19995,設定・基礎!$G$3:$H$22,2,FALSE),\"\")","v":""}]
[" 50-20-11","50",null,"20",null,"11",null,null,null,{"$f":"IFERROR(VLOOKUP(I19996,設定・基礎!$G$3:$H$22,2,FALSE),\"\")","v":""}]
[" 50-20-12","50",null,"20",null,"12",null,null,null,{"$f":"IFERROR(VLOOKUP(I19997,設定・基礎!$G$3:$H$22,2,FALSE),\"\")","v":""}]
[" 50-20-13","50",null,"20",null,"13",null,null,null,{"$f":"IFERROR(VLOOKUP(I19998,設定・基礎!$G$3:$H$22,2,FALSE),\"\")","v":""}]
[" 50-20-14","50",null,"20",null,"14",null,null,null,{"$f":"IFERROR(VLOOKUP(I19999,設定・基礎!$G$3:$H$22,2,FALSE),\"\")","v":""}]
[" 50-20-15","50",null,"20",null,"15",null,null,null,{"$f":"IFERROR(VLOOKUP(I20000,設定・基礎!$G$3:$H$22,2,FALSE),\"\")","v":""}]
[" 50-20-16","50",null,"20",null,"16",null,null,null,{"$f":"IFERROR(VLOOKUP(I20001,設定・基礎!$G$3:$H$22,2,FALSE),\"\")","v":""}]
[" 50-20-17","50",null,"20",null,"17",null,null,null,{"$f":"IFERROR(VLOOKUP(I20002,設定・基礎!$G$3:$H$22,2,FALSE),\"\")","v":""}]
[" 50-20-18","50",null,"20",null,"18",null,null,null,{"$f":"IFERROR(VLOOKUP(I20003,設定・基礎!$G$3:$H$22,2,FALSE),\"\")","v":""}]
[" 50-20-19","50",null,"20",null,"19",null,null,null,{"$f":"IFERROR(VLOOKUP(I20004,設定・基礎!$G$3:$H$22,2,FALSE),\"\")","v":""}]
[" 50-20-20","50",null,"20",null,"20",null,null,null,{"$f":"IFERROR(VLOOKUP(I20005,設定・基礎!$G$3:$H$22,2,FALSE),\"\")","v":""}]

{"sheet":"基準表","index":3,"n_rows":96,"n_cols":33,"rows_kept":96,"cut":false,"hidden":false,"merged":[[93,0,95,0],[31,0,37,0],[39,0,43,0],[45,0,59,0],[61,0,63,0],[67,0,75,0],[77,0,85,0],[87,0,91,0],[9,0,11,0],[13,0,29,0],[1,8,1,19],[1,1,1,3],[3,3,3,32],[3,1,3,2],[5,0,7,0]]}
[]
[null,"2019年度",null,null,null,null,null,null,"企画調査課　ファイル基準表"]
[]
["大分類","中分類",null,"小分類"]
[1,1,"共有情報",1,"◆共有情報◆","①",2,"永久保存情報","●",3,"学校情報","③",4,"受講履歴","⑳",5,"受講願・ﾒﾆｭｰ","③",6,"簡易申請ｼｽﾃﾑ","⑳",7,"ｱﾝｹｰﾄｼｽﾃﾑ","⑳",8,null,null,9,null,null,10]
["総括",null,null,11,null,null,12,null,null,13,null,null,14,null,null,15,null,null,16,null,null,17,null,null,18,null,null,19,null,null,20]
[null,2,"課務総括",1,"◆課務総括◆","③",2,"引き継ぎ事項","③",3,"分掌（企画）等","③",4,"年間計画","③",5,"事業概要（所内）","③",6,"懸案事項ヒア","⑤",7,"三役挨拶出張一覧","③",8,null,null,9,null,null,10]
[null,null,null,11,null,null,12,null,null,13,null,null,14,null,null,15,null,null,16,null,null,17,null,null,18,null,null,19,null,null,20]
[2,1,"課内庶務",1,"◆課内庶務◆","③",2,"資料","③",3,"名刺","③",4,"超勤","③",5,"動静表","③",6,"監査資料","⑩",7,"予算","⑩",8,"課内消耗品調査","①",9,"ゆずりは通信","③",10,"配車願","③"]
["庶務・備品",null,null,11,null,null,12,null,null,13,null,null,14,null,null,15,null,null,16,null,null,17,null,null,18,null,null,19,null,null,20]
[null,2,"設備備品",1,"◆設備・備品◆","③",2,"物品購入要求書","③",3,null,null,4,null,null,5,null,null,6,null,null,7,null,null,8,null,null,9,null,null,10]
[null,null,null,11,null,null,12,null,null,13,null,null,14,null,null,15,null,null,16,null,null,17,null,null,18,null,null,19,null,null,20]
[3,1,"研修事務",1,"◆研修Ⅰ◆","⑤",2,"研修ｼｽﾃﾑ設定","⑤",3,"研修事務要領","⑤",4,"研修担当者会（所外）","⑤",5,"研修担当者会（所内）","⑤",6,"研修室使用計画","⑤",7,"講師依頼（教育事務所分）","⑤",8,"貸館","⑤",9,"駐車場","⑤",10,"修了者台帳","⑳"]
["研修事務Ⅰ",null,null,11,null,null,12,null,null,13,null,null,14,null,null,15,null,null,16,null,null,17,null,null,18,null,null,19,null,null,20]
[null,2,"受講決定",1,"◆受講決定◆","①",2,"受講決定通知文","①",3,"受講人数一覧表","①",4,"受講決定①募集期間","①",5,"受講決定②追加６月","①",6,"受講決定③追加６月","①",7,"受講決定④追加6月","①",8,"受講決定⑤追加6月","①",9,"受講決定⑥追加７月","①",10,"受講決定⑦追加８月","①"]
[null,null,null,11,"受講決定⑧追加８月","①",12,"受講決定⑨追加９月","①",13,"受講決定⑩追加９月","①",14,"受講決定⑪追加１０月","①",15,"受講決定⑫追加11・12・１月","①",16,null,null,17,null,null,18,null,null,19,null,null,20]
[null,3,"受講願控",1,"◆受講願控◆","①",2,"受講願控①募集","①",3,"受講願控②追加","①",4,null,null,5,null,null,6,null,null,7,null,null,8,null,null,9,null,null,10]
[null,null,null,11,null,null,12,null,null,13,null,null,14,null,null,15,null,null,16,null,null,17,null,null,18,null,null,19,null,null,20]
[null,4,"実施要項",1,"◆実施要項◆","⑤",2,"実施要項①（2000～）","⑤",3,"実施要項②（3000～）","⑤",4,"実施要項③（6000～）","⑤",5,"実施要項④（8000～）","⑤",6,"実施要項⑤（8300～）","⑤",7,"実施要項⑥（その他）","⑤",8,"研修手引書①義務","⑤",9,"研修手引書②高校","⑤",10,"研修手引書③特支他","⑤"]
[null,null,null,11,"校長・部長会等","⑤",12,null,null,13,null,null,14,null,null,15,null,null,16,null,null,17,null,null,18,null,null,19,null,null,20]
[null,5,"出前研修",1,"◆出前研修◆","⑤",2,"出前研修①依頼報告書","⑤",3,null,null,4,null,null,5,null,null,6,null,null,7,null,null,8,null,null,9,null,null,10]
[null,null,null,11,null,null,12,null,null,13,null,null,14,null,null,15,null,null,16,null,null,17,null,null,18,null,null,19,null,null,20]
[null,6,"講師派遣",1,"◆講師派遣◆","⑤",2,"講師派遣①起案報告","⑤",3,null,null,4,null,null,5,null,null,6,null,null,7,null,null,8,null,null,9,null,null,10]
[null,null,null,11,null,null,12,null,null,13,null,null,14,null,null,15,null,null,16,null,null,17,null,null,18,null,null,19,null,null,20]
[null,7,"自由研修",1,"◆自由研修◆","⑤",2,"自由研修①私学案内","⑤",3,"自由研修②承認","⑤",4,null,null,5,null,null,6,null,null,7,null,null,8,null,null,9,null,null,10]
[null,null,null,11,null,null,12,null,null,13,null,null,14,null,null,15,null,null,16,null,null,17,null,null,18,null,null,19,null,null,20]
[null,8,"公開講座",1,"◆公開講座◆","⑤",2,"公開講座①年初事務","⑤",3,"公開講座②案内","⑤",4,"公開講座③受付資料名簿","⑤",5,null,null,6,null,null,7,null,null,8,null,null,9,null,null,10]
[null,null,null,11,null,null,12,null,null,13,null,null,14,null,null,15,null,null,16,null,null,17,null,null,18,null,null,19,null,null,20]
[null,9,"大学公開",1,"◆大学公開◆","⑤",2,"大学公開講座","⑤",3,null,null,4,null,null,5,null,null,6,null,null,7,null,null,8,null,null,9,null,null,10]
[null,null,null,11,null,null,12,null,null,13,null,null,14,null,null,15,null,null,16,null,null,17,null,null,18,null,null,19,null,null,20]
[4,1,"研修統計",1,"◆研修統計◆","⑤",2,"実施報告書①一般研修１","⑤",3,"実施報告書②一般研修２","⑤",4,"実施報告書③職務研修１","⑤",5,"実施報告書④職務研修２","⑤",6,"欠席届（一般）","①",7,null,null,8,null,null,9,null,null,10]
["研修事務Ⅱ",null,null,11,null,null,12,null,null,13,null,null,14,null,null,15,null,null,16,null,null,17,null,null,18,null,null,19,null,null,20]
[null,2,"研修評価",1,"◆研修評価◆","⑤",2,"講座評価①一覧","⑤",3,"講座評価②選択","⑤",4,"講座評価③職務","⑤",5,null,null,6,null,null,7,null,null,8,null,null,9,null,null,10]
[null,null,null,11,null,null,12,null,null,13,null,null,14,null,null,15,null,null,16,null,null,17,null,null,18,null,null,19,null,null,20]
[null,3,"講座編成",1,"◆講座編成◆","⑤",2,"講座設定様式","⑤",3,"講座編成　方針日程重点","⑤",4,"講座編成会議①","⑤",5,"講座編成会議②","⑤",6,"講座編成会議③","⑤",7,"講座編成会議④","⑤",8,"講座編成会議⑤","⑤",9,"講座日程調整①（本庁各課）","⑤",10,"講座日程調整②（日程・部屋）","⑤"]
[null,null,null,11,null,null,12,null,null,13,null,null,14,null,null,15,null,null,16,null,null,17,null,null,18,null,null,19,null,null,20]
[null,4,"しおり・P",1,"◆しおり・P◆","⑤",2,"しおり作成①日程・仕様・業者","⑤",3,"しおり作成②発送用ﾗﾍﾞﾙ","⑤",4,"しおり・P原稿","⑤",5,null,null,6,null,null,7,null,null,8,null,null,9,null,null,10]
[null,null,null,11,null,null,12,null,null,13,null,null,14,null,null,15,null,null,16,null,null,17,null,null,18,null,null,19,null,null,20]
[5,1,"研究推進",1,"◆研究推進◆","⑤",2,"研究推進計画担当者会課長会","⑤",3,"研究部長ﾋｱ①","⑤",4,"研究部長ﾋｱ②","⑤",5,"研究部長ﾋｱ③","⑤",6,"研究中間発表","⑤",7,"研究所長ﾋｱ①","⑤",8,"研究所長ﾋｱ②","⑤",9,null,null,10]
["研究事業",null,null,11,null,null,12,null,null,13,null,null,14,null,null,15,null,null,16,null,null,17,null,null,18,null,null,19,null,null,20]
[null,2,"研究紀要",1,"◆研究紀要◆","⑩",2,"研究紀要事務①仕様・打合せ","⑩",3,"研究紀要事務②原稿作成・発送","⑩",4,"研究発表会①案内・ﾌﾟﾚｾﾞﾝ","⑩",5,"研究発表会②参加者","⑩",6,"研究発表会③運営","⑩",7,"研究紀要校正","⑩",8,null,null,9,null,null,10]
[null,null,null,11,null,null,12,null,null,13,null,null,14,null,null,15,null,null,16,null,null,17,null,null,18,null,null,19,null,null,20]
[null,3,"所内研修",1,"◆所内研修◆","③",2,"所内研修①部長講話、概要","③",3,null,null,4,null,null,5,null,null,6,null,null,7,null,null,8,null,null,9,null,null,10]
[null,null,null,11,null,null,12,null,null,13,null,null,14,null,null,15,null,null,16,null,null,17,null,null,18,null,null,19,null,null,20]
[6,1,"全教連",1,"◆全教連◆","⑩",2,"全教連①協議会・大会等","⑩",3,"全教連②協議会・大会等","⑩",4,"全教連③調査対応","⑩",5,"全教連・所長協","⑩",6,null,null,7,null,null,8,null,null,9,null,null,10]
["研究調査",null,null,11,null,null,12,null,null,13,null,null,14,null,null,15,null,null,16,null,null,17,null,null,18,null,null,19,null,null,20]
[null,2,"所長協",1,"◆所長協◆","⑩",2,"所長協①大会等","⑩",3,"所長協②調査対応１","⑩",4,"所長協③調査対応２","⑩",5,"所長協④地学分科会","⑩",6,null,null,7,null,null,8,null,null,9,null,null,10]
[null,null,null,11,null,null,12,null,null,13,null,null,14,null,null,15,null,null,16,null,null,17,null,null,18,null,null,19,null,null,20]
[null,3,"近教研連",1,"◆近教研連◆","⑩",2,"近教研連①所長会①②","⑩",3,"近教研連②人ABC特情","⑩",4,"近教研連③研究発表大会","⑩",5,"近教研連⑤H30人権計画","⑩",6,null,null,7,null,null,8,null,null,9,null,null,10]
[null,null,null,11,null,null,12,null,null,13,null,null,14,null,null,15,null,null,16,null,null,17,null,null,18,null,null,19,null,null,20]
[null,4,"県内教連",1,"◆県内教連◆","●",2,"県内教連①担当・要覧作成","●",3,"県内教連②第１回理事会","●",4,"県内教連③第２回理事会","●",5,"県内教連盟④担当者会","●",6,"県内教連⑤研究発表大会","●",7,"県内教連⑥相談・情報","●",8,"県内教連⑦会計","●",9,"県内教連⑧研修研究","●",10]
[null,null,null,11,null,null,12,null,null,13,null,null,14,null,null,15,null,null,16,null,null,17,null,null,18,null,null,19,null,null,20]
[null,5,"連盟事務",1,"◆連盟事務◆","⑤",2,"研究所連盟　発表者出張一覧","⑤",3,"研究所連盟　その他調査対応","⑤",4,null,null,5,null,null,6,null,null,7,null,null,8,null,null,9,null,null,10]
[null,null,null,11,null,null,12,null,null,13,null,null,14,null,null,15,null,null,16,null,null,17,null,null,18,null,null,19,null,null,20]
[null,6,"指導の重点",1,"◆指導の重点◆","⑤",2,"指導の重点①推薦・会議①②","⑤",3,"指導の重点②原稿・参考資料","⑤",4,null,null,5,null,null,6,null,null,7,null,null,8,null,null,9,null,null,10]
[null,null,null,11,null,null,12,null,null,13,null,null,14,null,null,15,null,null,16,null,null,17,null,null,18,null,null,19,null,null,20]
[null,7,"教育史料",1,"◆教育史料◆","●",2,"教育史料","●",3,null,null,4,null,null,5,null,null,6,null,null,7,null,null,8,null,null,9,null,null,10]
[null,null,null,11,null,null,12,null,null,13,null,null,14,null,null,15,null,null,16,null,null,17,null,null,18,null,null,19,null,null,20]
[null,8,"調査",1,"◆調査対応◆","⑩",2,"調査対応","⑩",3,null,null,4,null,null,5,null,null,6,null,null,7,null,null,8,null,null,9,null,null,10]
[null,null,null,11,null,null,12,null,null,13,null,null,14,null,null,15,null,null,16,null,null,17,null,null,18,null,null,19,null,null,20]
[7,1,"講師紹介",1,"◆講師紹介◆","●",2,"講師紹介","●",3,null,null,4,null,null,5,null,null,6,null,null,7,null,null,8,null,null,9,null,null,10]
["教育相談",null,null,11,null,null,12,null,null,13,null,null,14,null,null,15,null,null,16,null,null,17,null,null,18,null,null,19,null,null,20]
[null,2,"研修支援",1,"◆研修支援◆","③",2,"校内研修支援（講師派遣）","③",3,null,null,4,null,null,5,null,null,6,null,null,7,null,null,8,null,null,9,null,null,10]
[null,null,null,11,null,null,12,null,null,13,null,null,14,null,null,15,null,null,16,null,null,17,null,null,18,null,null,19,null,null,20]
[8,1,"図書関係",1,"◆図書関係◆","⑤",2,"図書室①図書関係","⑤",3,"図書室②図書資料供覧","⑤",4,"図書室③資料目録","●",5,"図書室④教科書関係","⑤",6,"図書室⑤図書雑誌購入","⑤",7,null,null,8,null,null,9,null,null,10]
["図書",null,null,11,null,null,12,null,null,13,null,null,14,null,null,15,null,null,16,null,null,17,null,null,18,null,null,19,null,null,20]
[9,1,"兵庫教育",1,"◆兵庫教育◆","⑤",2,"兵庫教育情報　連載兵教大教職","⑤",3,"兵庫教育　年間執筆計画","⑤",4,"兵庫教育　企画委員会①②","⑤",5,"兵庫教育　各月号⑤","③",6,"兵庫教育　各月号⑥","③",7,"兵庫教育　各月号⑦","③",8,"兵庫教育　各月号⑧","③",9,"兵庫教育　各月号⑨","③",10,"兵庫教育　各月号⑩","③"]
["広報",null,null,11,"兵庫教育　各月号⑪","③",12,"兵庫教育　各月号⑫","③",13,"兵庫教育　各月号①","③",14,"兵庫教育　各月号②","③",15,"兵庫教育　各月号③","③",16,"兵庫教育　各月号④","③",17,"兵庫教育　ＰＲ（ﾁﾗｼ）","③",18,"兵庫教育　配布冊数","③",19,"兵庫教育　執筆者ﾃﾞｰﾀ","●",20,"兵庫教育　次年度計画","⑤"]
[null,2,"要覧",1,"◆要覧◆","③",2,"要覧①　配付仕様打合せ","③",3,"要覧②　原稿作成","③",4,null,null,5,null,null,6,null,null,7,null,null,8,null,null,9,null,null,10]
[null,null,null,11,null,null,12,null,null,13,null,null,14,null,null,15,null,null,16,null,null,17,null,null,18,null,null,19,null,null,20]
[null,3,"広報",1,"◆広報◆","③",2,"広報　企画・実施","③",3,"Webﾍﾟｰｼﾞ　管理・更新","③",4,null,null,5,null,null,6,null,null,7,null,null,8,null,null,9,null,null,10]
[null,null,null,11,null,null,12,null,null,13,null,null,14,null,null,15,null,null,16,null,null,17,null,null,18,null,null,19,null,null,20]
[null,4,"事務概要",1,"◆事務概要◆","③",2,"事務概要","③",3,null,null,4,null,null,5,null,null,6,null,null,7,null,null,8,null,null,9,null,null,10]
[null,null,null,11,null,null,12,null,null,13,null,null,14,null,null,15,null,null,16,null,null,17,null,null,18,null,null,19,null,null,20]
[null,5,"特色冊子",1,"◆特色冊子◆","③",2,"特色冊子","③",3,null,null,4,null,null,5,null,null,6,null,null,7,null,null,8,null,null,9,null,null,10]
[null,null,null,11,null,null,12,null,null,13,null,null,14,null,null,15,null,null,16,null,null,17,null,null,18,null,null,19,null,null,20]
[10,1,"運営協議会",1,"◆運営協議会◆","●",2,"協議会①方針日程委嘱","⑤",3,"協議会②資料・ﾌﾟﾚｾﾞﾝ","⑤",4,"協議会③冊子完成～当日","⑤",5,"協議会④Q&A","⑤",6,"協議会⑤事後・３月報告","⑤",7,null,null,8,null,null,9,null,null,10]
["重点課題",null,null,11,null,null,12,null,null,13,null,null,14,null,null,15,null,null,16,null,null,17,null,null,18,null,null,19,null,null,20]
[null,2,"監査",1,"◆監査◆","⑤",2,"監査資料作成","⑤",3,"監査Q&A","⑤",4,null,null,5,null,null,6,null,null,7,null,null,8,null,null,9,null,null,10]
[null,null,null,11,null,null,12,null,null,13,null,null,14,null,null,15,null,null,16,null,null,17,null,null,18,null,null,19,null,null,20]
[null,3,"教職員支援",1,"◆教職員支援◆","⑤",2,"特別研修","㉚",3,"ｼｮｰﾄﾌﾟﾛｸﾞﾗﾑ","⑩",4,"体罰防止研修","⑩",5,null,null,6,null,null,7,null,null,8,null,null,9,null,null,10]
[null,null,null,11,null,null,12,null,null,13,null,null,14,null,null,15,null,null,16,null,null,17,null,null,18,null,null,19,null,null,20]
[null,4,"22条協議会",1,"◆22条協議会◆","●",2,"22条協議会　ｾﾝﾀｰ等協議会","⑤",3,null,null,4,null,null,5,null,null,6,null,null,7,null,null,8,null,null,9,null,null,10]
[null,null,null,11,null,null,12,null,null,13,null,null,14,null,null,15,null,null,16,null,null,17,null,null,18,null,null,19,null,null,20]
[null,5,"耐震化工事",1,"◆耐震化工事◆","⑤",2,"耐震化工事","⑤",3,null,null,4,null,null,5,null,null,6,null,null,7,null,null,8,null,null,9,null,null,10]
[null,null,null,11,null,null,12,null,null,13,null,null,14,null,null,15,null,null,16,null,null,17,null,null,18,null,null,19,null,null,20]
[11,1,"インターン",1,"◆インターン◆","⑤",2,"ｲﾝﾀｰﾝｼｯﾌﾟ　ﾄﾗｲやる","⑤",3,null,null,4,null,null,5,null,null,6,null,null,7,null,null,8,null,null,9,null,null,10]
["その他事務",null,null,11,null,null,12,null,null,13,null,null,14,null,null,15,null,null,16,null,null,17,null,null,18,null,null,19,null,null,20]
[null,2,"その他会議",1,"◆その他◆","③",2,"兵教大GP会議","③",3,"教員研修ｾﾝﾀｰ","③",4,"免許更新連絡協","③",5,null,null,6,null,null,7,null,null,8,null,null,9,null,null,10]
[null,null,null,11,null,null,12,null,null,13,null,null,14,null,null,15,null,null,16,null,null,17,null,null,18,null,null,19,null,null,20]
[null,3,"その他",1,"◆その他◆","③",2,"その他","③",3,"課内回覧","③",4,null,null,5,null,null,6,null,null,7,null,null,8,null,null,9,null,null,10]
[null,null,null,11,null,null,12,null,null,13,null,null,14,null,null,15,null,null,16,null,null,17,null,null,18,null,null,19,null,null,20]
[12,1,"課内親睦",1,"◆課内親睦◆","①",2,"親睦会計","①",3,"親睦会行事","①",4,"課内写真","⑤",5,null,null,6,null,null,7,null,null,8,null,null,9,null,null,10]
["個人用",null,null,11,null,null,12,null,null,13,null,null,14,null,null,15,null,null,16,null,null,17,null,null,18,null,null,19,null,null,20]
[null,2,"個人ファイル",1,"◆個人ﾌｧｲﾙ◆","③",2,"Aさん","③",3,"Bさん","③",4,"Ｃさん","③",5,"Ｄさん","③",6,"Ｅさん","③",7,"Ｆさん","③",8,"Ｇさん","③",9,"Ｈさん","③",10,"Ｉさん","③"]
[null,null,null,11,null,null,12,null,null,13,null,null,14,null,null,15,null,null,16,null,null,17,null,null,18,null,null,19,null,null,20]

{"sheet":"作業用シート","index":4,"n_rows":233,"n_cols":10,"rows_kept":233,"cut":false,"hidden":false,"merged":[]}
[" 01-01-01","01","総括","01","共有情報","01","◆共有情報◆","◆共有情報◆","１年","①"]
[" 01-01-02","01",null,"01",null,"02","永久保存情報","永久保存情報","継続","●"]
[" 01-01-03","01",null,"01",null,"03","学校情報","学校情報","３年","③"]
[" 01-01-04","01",null,"01",null,"04","受講履歴（修了者台帳電子データ）","受講履歴","20年","⑳"]
[" 01-01-05","01",null,"01",null,"05","受講願・研修事務メニュー","受講願・メニュー","３年","③"]
[" 01-01-06","01",null,"01",null,"06","自動集計【簡易申請システム】","簡易申請システム","20年","⑳"]
[" 01-01-07","01",null,"01",null,"07","ひょうご教育アンケートシステム","アンケートシステム","20年","⑳"]
[" 01-02-01","01",null,"02","課務総括","01","◆課務総括◆","◆課務総括◆","３年","③"]
[" 01-02-02","01",null,"02",null,"02","引き継ぎ事項","引き継ぎ事項","３年","③"]
[" 01-02-03","01",null,"02",null,"03","分掌（企画）等","分掌（企画）等","３年","③"]
[" 01-02-04","01",null,"02",null,"04","年間計画","年間計画","３年","③"]
[" 01-02-05","01",null,"02",null,"05","事業概要（所内研修資料）","事業概要（所内）","３年","③"]
[" 01-02-06","01",null,"02",null,"06","懸案事項ヒア用資料（企画）","懸案事項ヒア","５年","⑤"]
[" 01-02-07","01",null,"02",null,"07","三役への挨拶等依頼事項一覧","三役挨拶出張一覧","３年","③"]
[" 02-01-01","02","庶務・備品","01","課内庶務","01","◆課内庶務◆","◆課内庶務◆","３年","③"]
[" 02-01-02","02",null,"01",null,"02","資料","資料","３年","③"]
[" 02-01-03","02",null,"01",null,"03","名刺","名刺","３年","③"]
[" 02-01-04","02",null,"01",null,"04","超勤","超勤","３年","③"]
[" 02-01-05","02",null,"01",null,"05","動静表","動静表","３年","③"]
[" 02-01-06","02",null,"01",null,"06","監査資料","監査資料","10年","⑩"]
[" 02-01-07","02",null,"01",null,"07","予算","予算","10年","⑩"]
[" 02-01-08","02",null,"01",null,"08","課内消耗品調査","課内消耗品調査","１年","①"]
[" 02-01-09","02",null,"01",null,"09","ゆずりは通信","ゆずりは通信","３年","③"]
[" 02-01-10","02",null,"01",null,"10","配車願","配車願","３年","③"]
[" 02-02-01","02",null,"02","設備備品","01","◆設備・備品◆","◆設備・備品◆","３年","③"]
[" 02-02-02","02",null,"02",null,"02","物品購入要求書","物品購入要求書","３年","③"]
[" 03-01-01","03","研修事務Ⅰ","01","研修事務","01","◆研修Ⅰ◆","◆研修Ⅰ◆","５年","⑤"]
[" 03-01-02","03",null,"01",null,"02","研修事務システム設定（受講願等）","研修システム設定","５年","⑤"]
[" 03-01-03","03",null,"01",null,"03","研修事務要領（冊子・様式集）","研修事務要領","５年","⑤"]
[" 03-01-04","03",null,"01",null,"04","研修事務担当者会（教育事務所）","研修担当者会（所外）","５年","⑤"]
[" 03-01-05","03",null,"01",null,"05","研修事務担当者会（所内）・所員説明会","研修担当者会（所内）","５年","⑤"]
[" 03-01-06","03",null,"01",null,"06","研修室の使用計画","研修室使用計画","５年","⑤"]
[" 03-01-07","03",null,"01",null,"07","講師依頼（教育事務所分）小・中教員等","講師依頼（教育事務所分）","５年","⑤"]
[" 03-01-08","03",null,"01",null,"08","貸館","貸館","５年","⑤"]
[" 03-01-09","03",null,"01",null,"09","駐車場相互利用","駐車場","５年","⑤"]
[" 03-01-10","03",null,"01",null,"10","修了者台帳","修了者台帳","20年","⑳"]
[" 03-02-01","03",null,"02","受講決定","01","◆受講決定◆","◆受講決定◆","１年","①"]
[" 03-02-02","03",null,"02",null,"02","受講決定通知文　起案・施行","受講決定通知文","１年","①"]
[" 03-02-03","03",null,"02",null,"03","受講人数一覧表","受講人数一覧表","１年","①"]
[" 03-02-04","03",null,"02",null,"04","受講決定①　募集期間","受講決定①募集期間","１年","①"]
[" 03-02-05","03",null,"02",null,"05","受講決定②　追加募集６月①","受講決定②追加６月","１年","①"]
[" 03-02-06","03",null,"02",null,"06","受講決定③　追加募集６月②","受講決定③追加６月","１年","①"]
[" 03-02-07","03",null,"02",null,"07","受講決定④　追加募集６月③","受講決定④追加６月","１年","①"]
[" 03-02-08","03",null,"02",null,"08","受講決定⑤　追加募集７月①","受講決定⑤追加６月","１年","①"]
[" 03-02-09","03",null,"02",null,"09","受講決定⑥　追加募集７月②","受講決定⑥追加７月","１年","①"]
[" 03-02-10","03",null,"02",null,"10","受講決定⑦　追加募集８月①","受講決定⑦追加８月","１年","①"]
[" 03-02-11","03",null,"02",null,"11","受講決定⑧　追加募集８月②","受講決定⑧追加８月","１年","①"]
[" 03-02-12","03",null,"02",null,"12","受講決定⑨　追加募集９月①","受講決定⑨追加９月","１年","①"]
[" 03-02-13","03",null,"02",null,"13","受講決定⑩　追加募集９月②","受講決定⑩追加９月","１年","①"]
[" 03-02-14","03",null,"02",null,"14","受講決定⑪　追加募集１０月①","受講決定⑪追加１０月","１年","①"]
[" 03-02-15","03",null,"02",null,"15","受講決定⑫　追加募集１１・１２・１月","受講決定⑫追加１１・１２・１月","１年","①"]
[" 03-03-01","03",null,"03","受講願控","01","◆受講願控◆","◆受講願控◆","１年","①"]
[" 03-03-02","03",null,"03",null,"02","受講願控①　募集期間","受講願控①募集","１年","①"]
[" 03-03-03","03",null,"03",null,"03","受講願控②　追加募集","受講願控②追加","１年","①"]
[" 03-04-01","03",null,"04","実施要項","01","◆実施要項◆","◆実施要項◆","５年","⑤"]
[" 03-04-02","03",null,"04",null,"02","実施要項①（選択２０００～）","実施要項①（２０００～）","５年","⑤"]
[" 03-04-03","03",null,"04",null,"03","実施要項②（選択３０００～５０００）","実施要項②（３０００～）","５年","⑤"]
[" 03-04-04","03",null,"04",null,"04","実施要項③（選択６０００～７０００）","実施要項③（６０００～）","５年","⑤"]
[" 03-04-05","03",null,"04",null,"05","実施要項④（年次８０００～８２００）","実施要項④（８０００～）","５年","⑤"]
[" 03-04-06","03",null,"04",null,"06","実施要項⑤（年次８３００～８９００）","実施要項⑤（８３００～）","５年","⑤"]
[" 03-04-07","03",null,"04",null,"07","実施要項⑥（その他）","実施要項⑥（その他）","５年","⑤"]
[" 03-04-08","03",null,"04",null,"08","初任研、中堅研修等手引書①義務","研修手引書①義務","５年","⑤"]
[" 03-04-09","03",null,"04",null,"09","初任研、中堅研修等手引書②高校","研修手引書②高校","５年","⑤"]
[" 03-04-10","03",null,"04",null,"10","初任研、中堅研修等手引書③特支","研修手引書③特支他","５年","⑤"]
[" 03-04-11","03",null,"04",null,"11","校長・教頭・部長会等資料","校長・部長会等","５年","⑤"]
[" 03-05-01","03",null,"05","出前研修","01","◆出前研修◆","◆出前研修◆","５年","⑤"]
[" 03-05-02","03",null,"05",null,"02","出前研修①　依頼書・報告書","出前研修①依頼報告書","５年","⑤"]
[" 03-06-01","03",null,"06","講師派遣","01","◆講師派遣◆","◆講師派遣◆","５年","⑤"]
[" 03-06-02","03",null,"06",null,"02","講師派遣①　起案・報告・一覧","講師派遣①起案報告","５年","⑤"]
[" 03-07-01","03",null,"07","自由研修","01","◆自由研修◆","◆自由研修◆","５年","⑤"]
[" 03-07-02","03",null,"07",null,"02","自由研修①　私学への案内・しおり発送","自由研修①私学案内","５年","⑤"]
[" 03-07-03","03",null,"07",null,"03","自由研修②　起案・承認通知・報告書","自由研修②承認","５年","⑤"]
[" 03-08-01","03",null,"08","公開講座","01","◆公開講座◆","◆公開講座◆","５年","⑤"]
[" 03-08-02","03",null,"08",null,"02","公開講座①　年度当初事務、連絡先等","公開講座①年初事務","５年","⑤"]
[" 03-08-03","03",null,"08",null,"03","公開講座②　起案（案内）","公開講座②案内","５年","⑤"]
[" 03-08-04","03",null,"08",null,"04","公開講座③　受付・当日資料・名簿","公開講座③受付資料名簿","５年","⑤"]
[" 03-09-01","03",null,"09","大学公開","01","◆大学公開◆","◆大学公開◆","５年","⑤"]
[" 03-09-02","03",null,"09",null,"02","大学等の公開講座情報収集・公開","大学公開講座","５年","⑤"]
[" 04-01-01","04","研修事務Ⅱ","01","研修統計","01","◆研修統計◆","◆研修統計◆","５年","⑤"]
[" 04-01-02","04",null,"01",null,"02","実施報告書①選択研修１","実施報告書①一般研修１","５年","⑤"]
[" 04-01-03","04",null,"01",null,"03","実施報告書②選択研修２","実施報告書②一般研修２","５年","⑤"]
[" 04-01-04","04",null,"01",null,"04","実施報告書③年次職務１","実施報告書③職務研修１","５年","⑤"]
[" 04-01-05","04",null,"01",null,"05","実施報告書④年次職務２","実施報告書④職務研修２","５年","⑤"]
[" 04-01-06","04",null,"01",null,"06","欠席届・遅刻・早退届（選択研修）","欠席届（一般）","１年","①"]
[" 04-02-01","04",null,"02","研修評価","01","◆研修評価◆","◆研修評価◆","５年","⑤"]
[" 04-02-02","04",null,"02",null,"02","講座評価①一覧（選択研修）","講座評価①一覧","５年","⑤"]
[" 04-02-03","04",null,"02",null,"03","講座評価②選択研修","講座評価②選択","５年","⑤"]
[" 04-02-04","04",null,"02",null,"04","講座評価③年次職務研修","講座評価③職務","５年","⑤"]
[" 04-03-01","04",null,"03","講座編成","01","◆講座編成◆","◆講座編成◆","５年","⑤"]
[" 04-03-02","04",null,"03",null,"02","講座設定様式","講座設定様式","５年","⑤"]
[" 04-03-03","04",null,"03",null,"03","講座編成方針・日程・重点的な取り組み","講座編成　方針日程重点","５年","⑤"]
[" 04-03-04","04",null,"03",null,"04","講座編成会議①","講座編成会議①","５年","⑤"]
[" 04-03-05","04",null,"03",null,"05","講座編成会議②","講座編成会議②","５年","⑤"]
[" 04-03-06","04",null,"03",null,"06","講座編成会議③","講座編成会議③","５年","⑤"]
[" 04-03-07","04",null,"03",null,"07","講座編成会議④","講座編成会議④","５年","⑤"]
[" 04-03-08","04",null,"03",null,"08","講座編成会議⑤","講座編成会議⑤","５年","⑤"]
[" 04-03-09","04",null,"03",null,"09","講座日程調整①（本庁各課）","講座日程調整①（本庁各課）","５年","⑤"]
[" 04-03-10","04",null,"03",null,"10","講座日程調整②（所内日程・使用室）","講座日程調整②（日程・部屋）","５年","⑤"]
[" 04-04-01","04",null,"04","しおり・P","01","◆しおり・Ｐ◆","◆しおり・Ｐ◆","５年","⑤"]
[" 04-04-02","04",null,"04",null,"02","しおり作成事務①日程・仕様・業者対応","しおり作成①日程・仕様・業者","５年","⑤"]
[" 04-04-03","04",null,"04",null,"03","しおり作成事務②発送用ラベル作成","しおり作成②発送用ラベル","５年","⑤"]
[" 04-04-04","04",null,"04",null,"04","しおり・ポスター原稿","しおり・Ｐ原稿","５年","⑤"]
[" 05-01-01","05","研究事業","01","研究推進","01","◆研究推進◆","◆研究推進◆","５年","⑤"]
[" 05-01-02","05",null,"01",null,"02","研究推進計画　担当者会・課長会","研究推進計画担当者会課長会","５年","⑤"]
[" 05-01-03","05",null,"01",null,"03","研究部長ヒア①","研究部長ヒア①","５年","⑤"]
[" 05-01-04","05",null,"01",null,"04","研究部長ヒア②","研究部長ヒア②","５年","⑤"]
[" 05-01-05","05",null,"01",null,"05","研究部長ヒア③","研究部長ヒア③","５年","⑤"]
[" 05-01-06","05",null,"01",null,"06","研究中間発表","研究中間発表","５年","⑤"]
[" 05-01-07","05",null,"01",null,"07","研究所長ヒア①","研究所長ヒア①","５年","⑤"]
[" 05-01-08","05",null,"01",null,"08","研究所長ヒア②","研究所長ヒア②","５年","⑤"]
[" 05-02-01","05",null,"02","研究紀要","01","◆研究紀要◆","◆研究紀要◆","10年","⑩"]
[" 05-02-02","05",null,"02",null,"02","研究紀要発行事務①仕様書・業者・配付","研究紀要事務①仕様・打合せ","10年","⑩"]
[" 05-02-03","05",null,"02",null,"03","研究紀要発行事務②原稿作成・発送","研究紀要事務②原稿作成・発送","10年","⑩"]
[" 05-02-04","05",null,"02",null,"04","研究発表会①案内（実施要領）・プレゼン","研究発表会①案内・プレゼン","10年","⑩"]
[" 05-02-05","05",null,"02",null,"05","研究発表会②参加者","研究発表会②参加者","10年","⑩"]
[" 05-02-06","05",null,"02",null,"06","研究発表会③運営","研究発表会③運営","10年","⑩"]
[" 05-02-07","05",null,"02",null,"07","研究紀要校正","研究紀要校正","10年","⑩"]
[" 05-03-01","05",null,"03","所内研修","01","◆所内研修◆","◆所内研修◆","３年","③"]
[" 05-03-02","05",null,"03",null,"02","所内研修①（部長講話、各課事業概要）","所内研修①部長講話、概要","３年","③"]
[" 06-01-01","06","研究調査","01","全教連","01","◆全教連◆","◆全教連◆","10年","⑩"]
[" 06-01-02","06",null,"01",null,"02","全国教育研修所連盟①協議会・大会等","全教連①協議会・大会等","10年","⑩"]
[" 06-01-03","06",null,"01",null,"03","全国教育研修所連盟②協議会・大会等","全教連②協議会・大会等","10年","⑩"]
[" 06-01-04","06",null,"01",null,"04","全国教育研修所連盟③調査対応","全教連③調査対応","10年","⑩"]
[" 06-01-05","06",null,"01",null,"05","全教連・所長協（千葉大会）資料２","全教連・所長協","10年","⑩"]
[" 06-02-01","06",null,"02","所長協","01","◆所長協◆","◆所長協◆","10年","⑩"]
[" 06-02-02","06",null,"02",null,"02","都道府県・指定都市所長協議会①大会","所長協①大会等","10年","⑩"]
[" 06-02-03","06",null,"02",null,"03","都道府県・指定都市所長協議会②調査","所長協②調査対応１","10年","⑩"]
[" 06-02-04","06",null,"02",null,"04","都道府県・指定都市所長協議会③調査","所長協③調査対応２","10年","⑩"]
[" 06-02-05","06",null,"02",null,"05","都道府県・指定都市所長協議会④地学","所長協④地学分科会","10年","⑩"]
[" 06-03-01","06",null,"03","近教研連","01","◆近教研連◆","◆近教研連◆","10年","⑩"]
[" 06-03-02","06",null,"03",null,"02","近教研連①所長会①②","近教研連①所長会①②","10年","⑩"]
[" 06-03-03","06",null,"03",null,"03","近教研連②人権・Ａ・Ｂ・Ｃ・特支・情報","近教研連②人ＡＢＣ特情","10年","⑩"]
[" 06-03-04","06",null,"03",null,"04","近教研連③研究発表大会","近教研連③研究発表大会","10年","⑩"]
[" 06-03-05","06",null,"03",null,"05","近教研連⑤Ｈ３０人権教育部会計画","近教研連⑤Ｈ３０人権計画","10年","⑩"]
[" 06-04-01","06",null,"04","県内教連","01","◆県内教連◆","◆県内教連◆","継続","●"]
[" 06-04-02","06",null,"04",null,"02","県内教育研究所連盟①要覧作成","県内教連①担当・要覧作成","継続","●"]
[" 06-04-03","06",null,"04",null,"03","県内教育研究所連盟②第１回理事会","県内教連②第１回理事会","継続","●"]
[" 06-04-04","06",null,"04",null,"04","県内教育研究所連盟③第２回理事会","県内教連③第２回理事会","継続","●"]
[" 06-04-05","06",null,"04",null,"05","県内教育研究所連盟④担当者会","県内教連盟④担当者会","継続","●"]
[" 06-04-06","06",null,"04",null,"06","県内教育研究所連盟⑤研究発表大会","県内教連⑤研究発表大会","継続","●"]
[" 06-04-07","06",null,"04",null,"07","県内教育研究所連盟⑥（相談・情報）","県内教連⑥相談・情報","継続","●"]
[" 06-04-08","06",null,"04",null,"08","県内教育研究所連盟⑦会計","県内教連⑦会計","継続","●"]
[" 06-04-09","06",null,"04",null,"09","県内教育研究所連盟⑧研修研究一覧","県内教連⑧研修研究","継続","●"]
[" 06-05-01","06",null,"05","連盟事務","01","◆連盟事務◆","◆連盟事務◆","５年","⑤"]
[" 06-05-02","06",null,"05",null,"02","研究所連盟　研究発表者決定・出張一覧","研究所連盟　発表者出張一覧","５年","⑤"]
[" 06-05-03","06",null,"05",null,"03","研究所連盟　その他の各種調査対応","研究所連盟　その他調査対応","５年","⑤"]
[" 06-06-01","06",null,"06","指導の重点","01","◆指導の重点◆","◆指導の重点◆","５年","⑤"]
[" 06-06-02","06",null,"06",null,"02","指導の重点①委員推薦・編集会議①②","指導の重点①推薦・会議①②","５年","⑤"]
[" 06-06-03","06",null,"06",null,"03","指導の重点②原稿　各課集約・意見対応","指導の重点②原稿・参考資料","５年","⑤"]
[" 06-07-01","06",null,"07","教育史料","01","◆教育史料◆","◆教育史料◆","継続","●"]
[" 06-07-02","06",null,"07",null,"02","教育史料","教育史料","継続","●"]
[" 06-08-01","06",null,"08","調査","01","◆調査対応◆","◆調査対応◆","10年","⑩"]
[" 06-08-02","06",null,"08",null,"02","調査対応","調査対応","10年","⑩"]
[" 07-01-01","07","教育相談","01","講師紹介","01","◆講師紹介◆","◆講師紹介◆","継続","●"]
[" 07-01-02","07",null,"01",null,"02","講師紹介","講師紹介","継続","●"]
[" 07-02-01","07",null,"02","研修支援","01","◆研修支援◆","◆研修支援◆","３年","③"]
[" 07-02-02","07",null,"02",null,"02","校内研修支援（講師派遣）","校内研修支援（講師派遣）","３年","③"]
[" 08-01-01","08","図書","01","図書関係","01","◆図書関係◆","◆図書関係◆","５年","⑤"]
[" 08-01-02","08",null,"01",null,"02","図書室①　図書関係","図書室①図書関係","５年","⑤"]
[" 08-01-03","08",null,"01",null,"03","図書室②　図書・資料　供覧関係","図書室②図書資料供覧","５年","⑤"]
[" 08-01-04","08",null,"01",null,"04","図書室③　資料目録関係","図書室③資料目録","継続","●"]
[" 08-01-05","08",null,"01",null,"05","図書室④　教科書関係（展示会含）","図書室④教科書関係","５年","⑤"]
[" 08-01-06","08",null,"01",null,"06","図書室⑤　図書・雑誌の購入","図書室⑤図書雑誌購入","５年","⑤"]
[" 09-01-01","09","広報","01","兵庫教育","01","◆兵庫教育◆","◆兵庫教育◆","５年","⑤"]
[" 09-01-02","09",null,"01",null,"02","兵庫教育関連の共有情報　連載","兵庫教育情報　連載兵教大教職","５年","⑤"]
[" 09-01-03","09",null,"01",null,"03","兵庫教育　年間執筆計画","兵庫教育　年間執筆計画","５年","⑤"]
[" 09-01-04","09",null,"01",null,"04","兵庫教育　編集企画委員会①②","兵庫教育　企画委員会①②","５年","⑤"]
[" 09-01-05","09",null,"01",null,"05","兵庫教育　各月号編集⑤","兵庫教育　各月号⑤","３年","③"]
[" 09-01-06","09",null,"01",null,"06","兵庫教育　各月号編集⑥","兵庫教育　各月号⑥","３年","③"]
[" 09-01-07","09",null,"01",null,"07","兵庫教育　各月号編集⑦","兵庫教育　各月号⑦","３年","③"]
[" 09-01-08","09",null,"01",null,"08","兵庫教育　各月号編集⑧","兵庫教育　各月号⑧","３年","③"]
[" 09-01-09","09",null,"01",null,"09","兵庫教育　各月号編集⑨","兵庫教育　各月号⑨","３年","③"]
[" 09-01-10","09",null,"01",null,"10","兵庫教育　各月号編集⑩","兵庫教育　各月号⑩","３年","③"]
[" 09-01-11","09",null,"01",null,"11","兵庫教育　各月号編集⑪","兵庫教育　各月号⑪","３年","③"]
[" 09-01-12","09",null,"01",null,"12","兵庫教育　各月号編集⑫","兵庫教育　各月号⑫","３年","③"]
[" 09-01-13","09",null,"01",null,"13","兵庫教育　各月号編集①","兵庫教育　各月号①","３年","③"]
[" 09-01-14","09",null,"01",null,"14","兵庫教育　各月号編集②","兵庫教育　各月号②","３年","③"]
[" 09-01-15","09",null,"01",null,"15","兵庫教育　各月号編集③","兵庫教育　各月号③","３年","③"]
[" 09-01-16","09",null,"01",null,"16","兵庫教育　各月号編集④","兵庫教育　各月号④","３年","③"]
[" 09-01-17","09",null,"01",null,"17","兵庫教育　ＰＲに関するもの（チラシ）","兵庫教育　ＰＲ（チラシ）","３年","③"]
[" 09-01-18","09",null,"01",null,"18","兵庫教育　配布冊数","兵庫教育　配布冊数","３年","③"]
[" 09-01-19","09",null,"01",null,"19","兵庫教育　執筆者データ","兵庫教育　執筆者データ","継続","●"]
[" 09-01-20","09",null,"01",null,"20","兵庫教育　次年度の計画","兵庫教育　次年度計画","５年","⑤"]
[" 09-02-01","09",null,"02","要覧","01","◆要覧◆","◆要覧◆","３年","③"]
[" 09-02-02","09",null,"02",null,"02","要覧①　事務（配付計画、仕様書、業者）","要覧①　配付仕様打合せ","３年","③"]
[" 09-02-03","09",null,"02",null,"03","要覧②　原稿作成","要覧②　原稿作成","３年","③"]
[" 09-03-01","09",null,"03","広報","01","◆広報◆","◆広報◆","３年","③"]
[" 09-03-02","09",null,"03",null,"02","広報　企画・実施","広報　企画・実施","３年","③"]
[" 09-03-03","09",null,"03",null,"03","Ｗｅｂページ　管理・更新","Ｗｅｂページ　管理・更新","３年","③"]
[" 09-04-01","09",null,"04","事務概要","01","◆事務概要◆","◆事務概要◆","３年","③"]
[" 09-04-02","09",null,"04",null,"02","事務概要","事務概要","３年","③"]
[" 09-05-01","09",null,"05","特色冊子","01","◆特色冊子◆","◆特色冊子◆","３年","③"]
[" 09-05-02","09",null,"05",null,"02","特色冊子","特色冊子","３年","③"]
[" 10-01-01","10","重点課題","01","運営協議会","01","◆協議会◆","◆運営協議会◆","継続","●"]
[" 10-01-02","10",null,"01",null,"02","協議会①準備（方針・日程・委員委嘱）","協議会①方針日程委嘱","５年","⑤"]
[" 10-01-03","10",null,"01",null,"03","協議会②資料作成（冊子・プレゼン）","協議会②資料・プレゼン","５年","⑤"]
[" 10-01-04","10",null,"01",null,"04","協議会③事前説明・あいさつ・資料・旅費","協議会③冊子完成～当日","５年","⑤"]
[" 10-01-05","10",null,"01",null,"05","協議会④Ｑ＆Ａ","協議会④Ｑ＆Ａ","５年","⑤"]
[" 10-01-06","10",null,"01",null,"06","協議会⑤事後処理（議事録・礼状・報告）","協議会⑤事後・３月報告","５年","⑤"]
[" 10-02-01","10",null,"02","監査","01","◆監査◆","◆監査◆","５年","⑤"]
[" 10-02-02","10",null,"02",null,"02","監査資料作成","監査資料作成","５年","⑤"]
[" 10-02-03","10",null,"02",null,"03","監査Ｑ＆Ａ","監査Ｑ＆Ａ","５年","⑤"]
[" 10-03-01","10",null,"03","教職員支援","01","◆教職員支援◆","◆教職員支援◆","５年","⑤"]
[" 10-03-02","10",null,"03",null,"02","特別研修","特別研修","30年","㉚"]
[" 10-03-03","10",null,"03",null,"03","ショートプログラム","ショートプログラム","10年","⑩"]
[" 10-03-04","10",null,"03",null,"04","体罰再発防止研修","体罰防止研修","10年","⑩"]
[" 10-04-01","10",null,"04","22条協議会","01","◆２２条協議会◆","◆２２条協議会◆","継続","●"]
[" 10-04-02","10",null,"04",null,"02","２２条協議会　全国教育センター協議会","２２条協議会　センター等協議会","５年","⑤"]
[" 10-05-01","10",null,"05","耐震化工事","01","◆耐震化工事◆","◆耐震化工事◆","５年","⑤"]
[" 10-05-02","10",null,"05",null,"02","耐震化工事","耐震化工事","５年","⑤"]
[" 11-01-01","11","その他事務","01","インターン","01","◆インターン◆","◆インターン◆","５年","⑤"]
[" 11-01-02","11",null,"01",null,"02","県庁インターンシップ・トライやる","インターンシップ　トライやる","５年","⑤"]
[" 11-02-01","11",null,"02","その他会議","01","◆その他会議◆","◆その他◆","３年","③"]
[" 11-02-02","11",null,"02",null,"02","兵庫教育大学ＧＰ会議","兵教大ＧＰ会議","３年","③"]
[" 11-02-03","11",null,"02",null,"03","教員研修センター","教員研修センター","３年","③"]
[" 11-02-04","11",null,"02",null,"04","兵庫県教員免許更新講習連絡協議会","免許更新連絡協","３年","③"]
[" 11-03-01","11",null,"03","その他","01","◆その他◆","◆その他◆","３年","③"]
[" 11-03-02","11",null,"03",null,"02","その他","その他","３年","③"]
[" 11-03-03","11",null,"03",null,"03","課内回覧","課内回覧","３年","③"]
[" 12-01-01","12","個人用","01","課内親睦","01","◆課内親睦◆","◆課内親睦◆","１年","①"]
[" 12-01-02","12",null,"01",null,"02","親睦会計","親睦会計","１年","①"]
[" 12-01-03","12",null,"01",null,"03","親睦会行事","親睦会行事","１年","①"]
[" 12-01-04","12",null,"01",null,"04","課内写真","課内写真","５年","⑤"]
[" 12-02-01","12",null,"02","個人ファイル","01","◆個人ファイル◆","◆個人ファイル◆","３年","③"]
[" 12-02-02","12",null,"02",null,"02","Ａさん","Ａさん","３年","③"]
[" 12-02-03","12",null,"02",null,"03","Ｂさん","Ｂさん","３年","③"]
[" 12-02-04","12",null,"02",null,"04","Ｃさん","Ｃさん","３年","③"]
[" 12-02-05","12",null,"02",null,"05","Ｄさん","Ｄさん","３年","③"]
[" 12-02-06","12",null,"02",null,"06","Ｅさん","Ｅさん","３年","③"]
[" 12-02-07","12",null,"02",null,"07","Ｆさん","Ｆさん","３年","③"]
[" 12-02-08","12",null,"02",null,"08","Ｇさん","Ｇさん","３年","③"]
[" 12-02-09","12",null,"02",null,"09","Ｈさん","Ｈさん","３年","③"]
[" 12-02-10","12",null,"02",null,"10","Ｉさん","Ｉさん","３年","③"]

{"sheet":"背表紙データ","index":5,"n_rows":234,"n_cols":5,"rows_kept":234,"cut":false,"hidden":false,"merged":[]}
["大No.","中小No.","小分類名","年度","保存期間記号"]
[{"$f":"INDIRECT(\"作業用シート!\"&ADDRESS(ROW()-1,COLUMN()+1))","v":"01"},{"$f":"CONCATENATE(INDIRECT(\"作業用シート!\"&ADDRESS(ROW()-1,COLUMN()+2)),INDIRECT(\"作業用シート!\"&ADDRESS(ROW()-1,COLUMN()+4)))","v":"0101"},{"$f":"INDIRECT(\"作業用シート!\"&ADDRESS(ROW()-1,COLUMN()+4))","v":"◆共有情報◆"},{"$f":"設定・基礎!$D$3","v":2019},{"$f":"INDIRECT(\"作業用シート!\"&ADDRESS(ROW()-1,COLUMN()+5))","v":"①"}]
[{"$f":"INDIRECT(\"作業用シート!\"&ADDRESS(ROW()-1,COLUMN()+1))","v":"01"},{"$f":"CONCATENATE(INDIRECT(\"作業用シート!\"&ADDRESS(ROW()-1,COLUMN()+2)),INDIRECT(\"作業用シート!\"&ADDRESS(ROW()-1,COLUMN()+4)))","v":"0102"},{"$f":"INDIRECT(\"作業用シート!\"&ADDRESS(ROW()-1,COLUMN()+4))","v":"永久保存情報"},{"$f":"設定・基礎!$D$3","v":2019},{"$f":"INDIRECT(\"作業用シート!\"&ADDRESS(ROW()-1,COLUMN()+5))","v":"●"}]
["01",{"$f":"CONCATENATE(INDIRECT(\"作業用シート!\"&ADDRESS(ROW()-1,COLUMN()+2)),INDIRECT(\"作業用シート!\"&ADDRESS(ROW()-1,COLUMN()+4)))","v":"0103"},"学校情報",{"$f":"設定・基礎!$D$3","v":2019},{"$f":"INDIRECT(\"作業用シート!\"&ADDRESS(ROW()-1,COLUMN()+5))","v":"③"}]
["01",{"$f":"CONCATENATE(INDIRECT(\"作業用シート!\"&ADDRESS(ROW()-1,COLUMN()+2)),INDIRECT(\"作業用シート!\"&ADDRESS(ROW()-1,COLUMN()+4)))","v":"0104"},"受講履歴（修了者台帳電子データ）",{"$f":"設定・基礎!$D$3","v":2019},"⑳"]
["01","0105","受講願・研修事務メニュー",{"$f":"設定・基礎!$D$3","v":2019},"③"]
["01","0106","自動集計【簡易申請システム】",{"$f":"設定・基礎!$D$3","v":2019},"⑳"]
["01","0107","ひょうご教育アンケートシステム",{"$f":"設定・基礎!$D$3","v":2019},"⑳"]
["01","0201","◆課務総括◆",{"$f":"設定・基礎!$D$3","v":2019},"③"]
["01","0202","引き継ぎ事項",{"$f":"設定・基礎!$D$3","v":2019},"③"]
["01","0203","分掌（企画）等",{"$f":"設定・基礎!$D$3","v":2019},"③"]
["01","0204","年間計画",{"$f":"設定・基礎!$D$3","v":2019},"③"]
["01","0205","事業概要（所内研修資料）",{"$f":"設定・基礎!$D$3","v":2019},"③"]
["01","0206","懸案事項ヒア用資料（企画）",{"$f":"設定・基礎!$D$3","v":2019},"⑤"]
["01","0207","三役への挨拶等依頼事項一覧",{"$f":"設定・基礎!$D$3","v":2019},"③"]
["02","0101","◆課内庶務◆",{"$f":"設定・基礎!$D$3","v":2019},"③"]
["02","0102","資料",{"$f":"設定・基礎!$D$3","v":2019},"③"]
["02","0103","名刺",{"$f":"設定・基礎!$D$3","v":2019},"③"]
["02","0104","超勤",{"$f":"設定・基礎!$D$3","v":2019},"③"]
["02","0105","動静表",{"$f":"設定・基礎!$D$3","v":2019},"③"]
["02","0106","監査資料",{"$f":"設定・基礎!$D$3","v":2019},"⑩"]
["02","0107","予算",{"$f":"設定・基礎!$D$3","v":2019},"⑩"]
["02","0108","課内消耗品調査",{"$f":"設定・基礎!$D$3","v":2019},"①"]
["02","0109","ゆずりは通信",{"$f":"設定・基礎!$D$3","v":2019},"③"]
["02","0110","配車願",{"$f":"設定・基礎!$D$3","v":2019},"③"]
["02","0201","◆設備・備品◆",{"$f":"設定・基礎!$D$3","v":2019},"③"]
["02","0202","物品購入要求書",{"$f":"設定・基礎!$D$3","v":2019},"③"]
["03","0101","◆研修Ⅰ◆",{"$f":"設定・基礎!$D$3","v":2019},"⑤"]
["03","0102","研修事務システム設定（受講願等）",{"$f":"設定・基礎!$D$3","v":2019},"⑤"]
[{"$f":"INDIRECT(\"作業用シート!\"&ADDRESS(ROW()-1,COLUMN()+1))","v":"03"},{"$f":"CONCATENATE(INDIRECT(\"作業用シート!\"&ADDRESS(ROW()-1,COLUMN()+2)),INDIRECT(\"作業用シート!\"&ADDRESS(ROW()-1,COLUMN()+4)))","v":"0103"},{"$f":"INDIRECT(\"作業用シート!\"&ADDRESS(ROW()-1,COLUMN()+4))","v":"研修事務要領（冊子・様式集）"},{"$f":"設定・基礎!$D$3","v":2019},{"$f":"INDIRECT(\"作業用シート!\"&ADDRESS(ROW()-1,COLUMN()+5))","v":"⑤"}]
["03","0104","研修事務担当者会（教育事務所）",{"$f":"設定・基礎!$D$3","v":2019},"⑤"]
["03","0105","研修事務担当者会（所内）・所員説明会",{"$f":"設定・基礎!$D$3","v":2019},"⑤"]
["03","0106","研修室の使用計画",{"$f":"設定・基礎!$D$3","v":2019},"⑤"]
["03","0107","講師依頼（教育事務所分）小・中教員等",{"$f":"設定・基礎!$D$3","v":2019},"⑤"]
["03","0108","貸館",{"$f":"設定・基礎!$D$3","v":2019},"⑤"]
["03","0109","駐車場相互利用",{"$f":"設定・基礎!$D$3","v":2019},"⑤"]
["03","0110","修了者台帳",{"$f":"設定・基礎!$D$3","v":2019},"⑳"]
[{"$f":"INDIRECT(\"作業用シート!\"&ADDRESS(ROW()-1,COLUMN()+1))","v":"03"},{"$f":"CONCATENATE(INDIRECT(\"作業用シート!\"&ADDRESS(ROW()-1,COLUMN()+2)),INDIRECT(\"作業用シート!\"&ADDRESS(ROW()-1,COLUMN()+4)))","v":"0201"},{"$f":"INDIRECT(\"作業用シート!\"&ADDRESS(ROW()-1,COLUMN()+4))","v":"◆受講決定◆"},{"$f":"設定・基礎!$D$3","v":2019},{"$f":"INDIRECT(\"作業用シート!\"&ADDRESS(ROW()-1,COLUMN()+5))","v":"①"}]
["03","0202","受講決定通知文　起案・施行",{"$f":"設定・基礎!$D$3","v":2019},"①"]
["03","0203","受講人数一覧表",{"$f":"設定・基礎!$D$3","v":2019},"①"]
["03","0204","受講決定①　募集期間",{"$f":"設定・基礎!$D$3","v":2019},"①"]
["03","0205","受講決定②　追加募集６月①",{"$f":"設定・基礎!$D$3","v":2019},"①"]
["03","0206","受講決定③　追加募集６月②",{"$f":"設定・基礎!$D$3","v":2019},"①"]
["03","0207","受講決定④　追加募集６月③",{"$f":"設定・基礎!$D$3","v":2019},"①"]
["03","0208","受講決定⑤　追加募集７月①",{"$f":"設定・基礎!$D$3","v":2019},"①"]
[{"$f":"INDIRECT(\"作業用シート!\"&ADDRESS(ROW()-1,COLUMN()+1))","v":"03"},{"$f":"CONCATENATE(INDIRECT(\"作業用シート!\"&ADDRESS(ROW()-1,COLUMN()+2)),INDIRECT(\"作業用シート!\"&ADDRESS(ROW()-1,COLUMN()+4)))","v":"0209"},{"$f":"INDIRECT(\"作業用シート!\"&ADDRESS(ROW()-1,COLUMN()+4))","v":"受講決定⑥　追加募集７月②"},{"$f":"設定・基礎!$D$3","v":2019},{"$f":"INDIRECT(\"作業用シート!\"&ADDRESS(ROW()-1,COLUMN()+5))","v":"①"}]
["03","0210","受講決定⑦　追加募集８月①",{"$f":"設定・基礎!$D$3","v":2019},"①"]
["03","0211","受講決定⑧　追加募集８月②",{"$f":"設定・基礎!$D$3","v":2019},"①"]
["03","0212","受講決定⑨　追加募集９月①",{"$f":"設定・基礎!$D$3","v":2019},"①"]
["03","0213","受講決定⑩　追加募集９月②",{"$f":"設定・基礎!$D$3","v":2019},"①"]
[{"$f":"INDIRECT(\"作業用シート!\"&ADDRESS(ROW()-1,COLUMN()+1))","v":"03"},{"$f":"CONCATENATE(INDIRECT(\"作業用シート!\"&ADDRESS(ROW()-1,COLUMN()+2)),INDIRECT(\"作業用シート!\"&ADDRESS(ROW()-1,COLUMN()+4)))","v":"0214"},{"$f":"INDIRECT(\"作業用シート!\"&ADDRESS(ROW()-1,COLUMN()+4))","v":"受講決定⑪　追加募集１０月①"},{"$f":"設定・基礎!$D$3","v":2019},{"$f":"INDIRECT(\"作業用シート!\"&ADDRESS(ROW()-1,COLUMN()+5))","v":"①"}]
["03","0215","受講決定⑫　追加募集１１・１２・１月",{"$f":"設定・基礎!$D$3","v":2019},"①"]
[{"$f":"INDIRECT(\"作業用シート!\"&ADDRESS(ROW()-1,COLUMN()+1))","v":"03"},{"$f":"CONCATENATE(INDIRECT(\"作業用シート!\"&ADDRESS(ROW()-1,COLUMN()+2)),INDIRECT(\"作業用シート!\"&ADDRESS(ROW()-1,COLUMN()+4)))","v":"0301"},{"$f":"INDIRECT(\"作業用シート!\"&ADDRESS(ROW()-1,COLUMN()+4))","v":"◆受講願控◆"},{"$f":"設定・基礎!$D$3","v":2019},{"$f":"INDIRECT(\"作業用シート!\"&ADDRESS(ROW()-1,COLUMN()+5))","v":"①"}]
["03","0302","受講願控①　募集期間",{"$f":"設定・基礎!$D$3","v":2019},"①"]
["03","0303","受講願控②　追加募集",{"$f":"設定・基礎!$D$3","v":2019},"①"]
["03","0401","◆実施要項◆",{"$f":"設定・基礎!$D$3","v":2019},"⑤"]
[{"$f":"INDIRECT(\"作業用シート!\"&ADDRESS(ROW()-1,COLUMN()+1))","v":"03"},{"$f":"CONCATENATE(INDIRECT(\"作業用シート!\"&ADDRESS(ROW()-1,COLUMN()+2)),INDIRECT(\"作業用シート!\"&ADDRESS(ROW()-1,COLUMN()+4)))","v":"0402"},{"$f":"INDIRECT(\"作業用シート!\"&ADDRESS(ROW()-1,COLUMN()+4))","v":"実施要項①（選択２０００～）"},{"$f":"設定・基礎!$D$3","v":2019},{"$f":"INDIRECT(\"作業用シート!\"&ADDRESS(ROW()-1,COLUMN()+5))","v":"⑤"}]
[{"$f":"INDIRECT(\"作業用シート!\"&ADDRESS(ROW()-1,COLUMN()+1))","v":"03"},{"$f":"CONCATENATE(INDIRECT(\"作業用シート!\"&ADDRESS(ROW()-1,COLUMN()+2)),INDIRECT(\"作業用シート!\"&ADDRESS(ROW()-1,COLUMN()+4)))","v":"0403"},{"$f":"INDIRECT(\"作業用シート!\"&ADDRESS(ROW()-1,COLUMN()+4))","v":"実施要項②（選択３０００～５０００）"},{"$f":"設定・基礎!$D$3","v":2019},{"$f":"INDIRECT(\"作業用シート!\"&ADDRESS(ROW()-1,COLUMN()+5))","v":"⑤"}]
["03","0404","実施要項③（選択６０００～７０００）",{"$f":"設定・基礎!$D$3","v":2019},"⑤"]
[{"$f":"INDIRECT(\"作業用シート!\"&ADDRESS(ROW()-1,COLUMN()+1))","v":"03"},{"$f":"CONCATENATE(INDIRECT(\"作業用シート!\"&ADDRESS(ROW()-1,COLUMN()+2)),INDIRECT(\"作業用シート!\"&ADDRESS(ROW()-1,COLUMN()+4)))","v":"0405"},{"$f":"INDIRECT(\"作業用シート!\"&ADDRESS(ROW()-1,COLUMN()+4))","v":"実施要項④（年次８０００～８２００）"},{"$f":"設定・基礎!$D$3","v":2019},{"$f":"INDIRECT(\"作業用シート!\"&ADDRESS(ROW()-1,COLUMN()+5))","v":"⑤"}]
[{"$f":"INDIRECT(\"作業用シート!\"&ADDRESS(ROW()-1,COLUMN()+1))","v":"03"},{"$f":"CONCATENATE(INDIRECT(\"作業用シート!\"&ADDRESS(ROW()-1,COLUMN()+2)),INDIRECT(\"作業用シート!\"&ADDRESS(ROW()-1,COLUMN()+4)))","v":"0406"},{"$f":"INDIRECT(\"作業用シート!\"&ADDRESS(ROW()-1,COLUMN()+4))","v":"実施要項⑤（年次８３００～８９００）"},{"$f":"設定・基礎!$D$3","v":2019},{"$f":"INDIRECT(\"作業用シート!\"&ADDRESS(ROW()-1,COLUMN()+5))","v":"⑤"}]
["03","0407","実施要項⑥（その他）",{"$f":"設定・基礎!$D$3","v":2019},"⑤"]
["03","0408","初任研、中堅研修等手引書①義務",{"$f":"設定・基礎!$D$3","v":2019},"⑤"]
["03","0409","初任研、中堅研修等手引書②高校",{"$f":"設定・基礎!$D$3","v":2019},"⑤"]
["03","0410","初任研、中堅研修等手引書③特支",{"$f":"設定・基礎!$D$3","v":2019},"⑤"]
["03","0411","校長・教頭・部長会等資料",{"$f":"設定・基礎!$D$3","v":2019},"⑤"]
["03","0501","◆出前研修◆",{"$f":"設定・基礎!$D$3","v":2019},"⑤"]
["03","0502","出前研修①　依頼書・報告書",{"$f":"設定・基礎!$D$3","v":2019},"⑤"]
["03","0601","◆講師派遣◆",{"$f":"設定・基礎!$D$3","v":2019},"⑤"]
["03","0602","講師派遣①　起案・報告・一覧",{"$f":"設定・基礎!$D$3","v":2019},"⑤"]
[{"$f":"INDIRECT(\"作業用シート!\"&ADDRESS(ROW()-1,COLUMN()+1))","v":"03"},{"$f":"CONCATENATE(INDIRECT(\"作業用シート!\"&ADDRESS(ROW()-1,COLUMN()+2)),INDIRECT(\"作業用シート!\"&ADDRESS(ROW()-1,COLUMN()+4)))","v":"0701"},{"$f":"INDIRECT(\"作業用シート!\"&ADDRESS(ROW()-1,COLUMN()+4))","v":"◆自由研修◆"},{"$f":"設定・基礎!$D$3","v":2019},{"$f":"INDIRECT(\"作業用シート!\"&ADDRESS(ROW()-1,COLUMN()+5))","v":"⑤"}]
[{"$f":"INDIRECT(\"作業用シート!\"&ADDRESS(ROW()-1,COLUMN()+1))","v":"03"},{"$f":"CONCATENATE(INDIRECT(\"作業用シート!\"&ADDRESS(ROW()-1,COLUMN()+2)),INDIRECT(\"作業用シート!\"&ADDRESS(ROW()-1,COLUMN()+4)))","v":"0702"},{"$f":"INDIRECT(\"作業用シート!\"&ADDRESS(ROW()-1,COLUMN()+4))","v":"自由研修①　私学への案内・しおり発送"},{"$f":"設定・基礎!$D$3","v":2019},{"$f":"INDIRECT(\"作業用シート!\"&ADDRESS(ROW()-1,COLUMN()+5))","v":"⑤"}]
["03","0703","自由研修②　起案・承認通知・報告書",{"$f":"設定・基礎!$D$3","v":2019},"⑤"]
["03","0801","◆公開講座◆",{"$f":"設定・基礎!$D$3","v":2019},"⑤"]
["03","0802","公開講座①　年度当初事務、連絡先等",{"$f":"設定・基礎!$D$3","v":2019},"⑤"]
["03","0803","公開講座②　起案（案内）",{"$f":"設定・基礎!$D$3","v":2019},"⑤"]
["03","0804","公開講座③　受付・当日資料・名簿",{"$f":"設定・基礎!$D$3","v":2019},"⑤"]
["03","0901","◆大学公開◆",{"$f":"設定・基礎!$D$3","v":2019},"⑤"]
["03","0902","大学等の公開講座情報収集・公開",{"$f":"設定・基礎!$D$3","v":2019},"⑤"]
["04","0101","◆研修統計◆",{"$f":"設定・基礎!$D$3","v":2019},"⑤"]
["04","0102","実施報告書①選択研修１",{"$f":"設定・基礎!$D$3","v":2019},"⑤"]
["04","0103","実施報告書②選択研修２",{"$f":"設定・基礎!$D$3","v":2019},"⑤"]
["04","0104","実施報告書③年次職務１",{"$f":"設定・基礎!$D$3","v":2019},"⑤"]
["04","0105","実施報告書④年次職務２",{"$f":"設定・基礎!$D$3","v":2019},"⑤"]
["04","0106","欠席届・遅刻・早退届（選択研修）",{"$f":"設定・基礎!$D$3","v":2019},"①"]
["04","0201","◆研修評価◆",{"$f":"設定・基礎!$D$3","v":2019},"⑤"]
["04","0202","講座評価①一覧（選択研修）",{"$f":"設定・基礎!$D$3","v":2019},"⑤"]
["04","0203","講座評価②選択研修",{"$f":"設定・基礎!$D$3","v":2019},"⑤"]
["04","0204","講座評価③年次職務研修",{"$f":"設定・基礎!$D$3","v":2019},"⑤"]
["04","0301","◆講座編成◆",{"$f":"設定・基礎!$D$3","v":2019},"⑤"]
["04","0302","講座設定様式",{"$f":"設定・基礎!$D$3","v":2019},"⑤"]
["04","0303","講座編成方針・日程・重点的な取り組み",{"$f":"設定・基礎!$D$3","v":2019},"⑤"]
["04","0304","講座編成会議①",{"$f":"設定・基礎!$D$3","v":2019},"⑤"]
["04","0305","講座編成会議②",{"$f":"設定・基礎!$D$3","v":2019},"⑤"]
["04","0306","講座編成会議③",{"$f":"設定・基礎!$D$3","v":2019},"⑤"]
["04","0307","講座編成会議④",{"$f":"設定・基礎!$D$3","v":2019},"⑤"]
["04","0308","講座編成会議⑤",{"$f":"設定・基礎!$D$3","v":2019},"⑤"]
["04","0309","講座日程調整①（本庁各課）",{"$f":"設定・基礎!$D$3","v":2019},"⑤"]
["04","0310","講座日程調整②（所内日程・使用室）",{"$f":"設定・基礎!$D$3","v":2019},"⑤"]
["04","0401","◆しおり・Ｐ◆",{"$f":"設定・基礎!$D$3","v":2019},"⑤"]
["04","0402","しおり作成事務①日程・仕様・業者対応",{"$f":"設定・基礎!$D$3","v":2019},"⑤"]
["04","0403","しおり作成事務②発送用ラベル作成",{"$f":"設定・基礎!$D$3","v":2019},"⑤"]
["04","0404","しおり・ポスター原稿",{"$f":"設定・基礎!$D$3","v":2019},"⑤"]
[{"$f":"INDIRECT(\"作業用シート!\"&ADDRESS(ROW()-1,COLUMN()+1))","v":"05"},{"$f":"CONCATENATE(INDIRECT(\"作業用シート!\"&ADDRESS(ROW()-1,COLUMN()+2)),INDIRECT(\"作業用シート!\"&ADDRESS(ROW()-1,COLUMN()+4)))","v":"0101"},{"$f":"INDIRECT(\"作業用シート!\"&ADDRESS(ROW()-1,COLUMN()+4))","v":"◆研究推進◆"},{"$f":"設定・基礎!$D$3","v":2019},{"$f":"INDIRECT(\"作業用シート!\"&ADDRESS(ROW()-1,COLUMN()+5))","v":"⑤"}]
["05","0102","研究推進計画　担当者会・課長会",{"$f":"設定・基礎!$D$3","v":2019},"⑤"]
["05","0103","研究部長ヒア①",{"$f":"設定・基礎!$D$3","v":2019},"⑤"]
["05","0104","研究部長ヒア②",{"$f":"設定・基礎!$D$3","v":2019},"⑤"]
["05","0105","研究部長ヒア③",{"$f":"設定・基礎!$D$3","v":2019},"⑤"]
["05","0106","研究中間発表",{"$f":"設定・基礎!$D$3","v":2019},"⑤"]
["05","0107","研究所長ヒア①",{"$f":"設定・基礎!$D$3","v":2019},"⑤"]
["05","0108","研究所長ヒア②",{"$f":"設定・基礎!$D$3","v":2019},"⑤"]
["05","0201","◆研究紀要◆",{"$f":"設定・基礎!$D$3","v":2019},"⑩"]
["05","0202","研究紀要発行事務①仕様書・業者・配付",{"$f":"設定・基礎!$D$3","v":2019},"⑩"]
["05","0203","研究紀要発行事務②原稿作成・発送",{"$f":"設定・基礎!$D$3","v":2019},"⑩"]
["05","0204","研究発表会①案内（実施要領）・プレゼン",{"$f":"設定・基礎!$D$3","v":2019},"⑩"]
["05","0205","研究発表会②参加者",{"$f":"設定・基礎!$D$3","v":2019},"⑩"]
["05","0206","研究発表会③運営",{"$f":"設定・基礎!$D$3","v":2019},"⑩"]
["05","0207","研究紀要校正",{"$f":"設定・基礎!$D$3","v":2019},"⑩"]
["05","0301","◆所内研修◆",{"$f":"設定・基礎!$D$3","v":2019},"③"]
["05","0302","所内研修①（部長講話、各課事業概要）",{"$f":"設定・基礎!$D$3","v":2019},"③"]
["06","0101","◆全教連◆",{"$f":"設定・基礎!$D$3","v":2019},"⑩"]
["06","0102","全国教育研修所連盟①協議会・大会等",{"$f":"設定・基礎!$D$3","v":2019},"⑩"]
["06","0103","全国教育研修所連盟②協議会・大会等",{"$f":"設定・基礎!$D$3","v":2019},"⑩"]
["06","0104","全国教育研修所連盟③調査対応",{"$f":"設定・基礎!$D$3","v":2019},"⑩"]
["06","0105","全教連・所長協（千葉大会）資料２",{"$f":"設定・基礎!$D$3","v":2019},"⑩"]
["06","0201","◆所長協◆",{"$f":"設定・基礎!$D$3","v":2019},"⑩"]
["06","0202","都道府県・指定都市所長協議会①大会",{"$f":"設定・基礎!$D$3","v":2019},"⑩"]
["06","0203","都道府県・指定都市所長協議会②調査",{"$f":"設定・基礎!$D$3","v":2019},"⑩"]
["06","0204","都道府県・指定都市所長協議会③調査",{"$f":"設定・基礎!$D$3","v":2019},"⑩"]
["06","0205","都道府県・指定都市所長協議会④地学",{"$f":"設定・基礎!$D$3","v":2019},"⑩"]
["06","0301","◆近教研連◆",{"$f":"設定・基礎!$D$3","v":2019},"⑩"]
["06","0302","近教研連①所長会①②",{"$f":"設定・基礎!$D$3","v":2019},"⑩"]
["06","0303","近教研連②人権・Ａ・Ｂ・Ｃ・特支・情報",{"$f":"設定・基礎!$D$3","v":2019},"⑩"]
["06","0304","近教研連③研究発表大会",{"$f":"設定・基礎!$D$3","v":2019},"⑩"]
["06","0305","近教研連⑤Ｈ３０人権教育部会計画",{"$f":"設定・基礎!$D$3","v":2019},"⑩"]
[{"$f":"INDIRECT(\"作業用シート!\"&ADDRESS(ROW()-1,COLUMN()+1))","v":"06"},{"$f":"CONCATENATE(INDIRECT(\"作業用シート!\"&ADDRESS(ROW()-1,COLUMN()+2)),INDIRECT(\"作業用シート!\"&ADDRESS(ROW()-1,COLUMN()+4)))","v":"0401"},{"$f":"INDIRECT(\"作業用シート!\"&ADDRESS(ROW()-1,COLUMN()+4))","v":"◆県内教連◆"},{"$f":"設定・基礎!$D$3","v":2019},{"$f":"INDIRECT(\"作業用シート!\"&ADDRESS(ROW()-1,COLUMN()+5))","v":"●"}]
["06","0402","県内教育研究所連盟①要覧作成",{"$f":"設定・基礎!$D$3","v":2019},"●"]
["06","0403","県内教育研究所連盟②第１回理事会",{"$f":"設定・基礎!$D$3","v":2019},"●"]
["06","0404","県内教育研究所連盟③第２回理事会",{"$f":"設定・基礎!$D$3","v":2019},"●"]
["06","0405","県内教育研究所連盟④担当者会",{"$f":"設定・基礎!$D$3","v":2019},"●"]
["06","0406","県内教育研究所連盟⑤研究発表大会",{"$f":"設定・基礎!$D$3","v":2019},"●"]
["06","0407","県内教育研究所連盟⑥（相談・情報）",{"$f":"設定・基礎!$D$3","v":2019},"●"]
["06","0408","県内教育研究所連盟⑦会計",{"$f":"設定・基礎!$D$3","v":2019},"●"]
["06","0409","県内教育研究所連盟⑧研修研究一覧",{"$f":"設定・基礎!$D$3","v":2019},"●"]
["06","0501","◆連盟事務◆",{"$f":"設定・基礎!$D$3","v":2019},"⑤"]
["06","0502","研究所連盟　研究発表者決定・出張一覧",{"$f":"設定・基礎!$D$3","v":2019},"⑤"]
["06","0503","研究所連盟　その他の各種調査対応",{"$f":"設定・基礎!$D$3","v":2019},"⑤"]
["06","0601","◆指導の重点◆",{"$f":"設定・基礎!$D$3","v":2019},"⑤"]
["06","0602","指導の重点①委員推薦・編集会議①②",{"$f":"設定・基礎!$D$3","v":2019},"⑤"]
["06","0603","指導の重点②原稿　各課集約・意見対応",{"$f":"設定・基礎!$D$3","v":2019},"⑤"]
["06","0701","◆教育史料◆",{"$f":"設定・基礎!$D$3","v":2019},"●"]
["06","0702","教育史料",{"$f":"設定・基礎!$D$3","v":2019},"●"]
["06","0801","◆調査対応◆",{"$f":"設定・基礎!$D$3","v":2019},"⑩"]
["06","0802","調査対応",{"$f":"設定・基礎!$D$3","v":2019},"⑩"]
["07","0101","◆講師紹介◆",{"$f":"設定・基礎!$D$3","v":2019},"●"]
["07","0102","講師紹介",{"$f":"設定・基礎!$D$3","v":2019},"●"]
["07","0201","◆研修支援◆",{"$f":"設定・基礎!$D$3","v":2019},"③"]
["07","0202","校内研修支援（講師派遣）",{"$f":"設定・基礎!$D$3","v":2019},"③"]
["08","0101","◆図書関係◆",{"$f":"設定・基礎!$D$3","v":2019},"⑤"]
["08","0102","図書室①　図書関係",{"$f":"設定・基礎!$D$3","v":2019},"⑤"]
["08","0103","図書室②　図書・資料　供覧関係",{"$f":"設定・基礎!$D$3","v":2019},"⑤"]
["08","0104","図書室③　資料目録関係",{"$f":"設定・基礎!$D$3","v":2019},"●"]
["08","0105","図書室④　教科書関係（展示会含）",{"$f":"設定・基礎!$D$3","v":2019},"⑤"]
["08","0106","図書室⑤　図書・雑誌の購入",{"$f":"設定・基礎!$D$3","v":2019},"⑤"]
["09","0101","◆兵庫教育◆",{"$f":"設定・基礎!$D$3","v":2019},"⑤"]
["09","0102","兵庫教育関連の共有情報　連載",{"$f":"設定・基礎!$D$3","v":2019},"⑤"]
["09","0103","兵庫教育　年間執筆計画",{"$f":"設定・基礎!$D$3","v":2019},"⑤"]
[{"$f":"INDIRECT(\"作業用シート!\"&ADDRESS(ROW()-1,COLUMN()+1))","v":"09"},{"$f":"CONCATENATE(INDIRECT(\"作業用シート!\"&ADDRESS(ROW()-1,COLUMN()+2)),INDIRECT(\"作業用シート!\"&ADDRESS(ROW()-1,COLUMN()+4)))","v":"0104"},{"$f":"INDIRECT(\"作業用シート!\"&ADDRESS(ROW()-1,COLUMN()+4))","v":"兵庫教育　編集企画委員会①②"},{"$f":"設定・基礎!$D$3","v":2019},{"$f":"INDIRECT(\"作業用シート!\"&ADDRESS(ROW()-1,COLUMN()+5))","v":"⑤"}]
["09","0105","兵庫教育　各月号編集⑤",{"$f":"設定・基礎!$D$3","v":2019},"③"]
["09","0106","兵庫教育　各月号編集⑥",{"$f":"設定・基礎!$D$3","v":2019},"③"]
["09","0107","兵庫教育　各月号編集⑦",{"$f":"設定・基礎!$D$3","v":2019},"③"]
["09","0108","兵庫教育　各月号編集⑧",{"$f":"設定・基礎!$D$3","v":2019},"③"]
["09","0109","兵庫教育　各月号編集⑨",{"$f":"設定・基礎!$D$3","v":2019},"③"]
["09","0110","兵庫教育　各月号編集⑩",{"$f":"設定・基礎!$D$3","v":2019},"③"]
["09","0111","兵庫教育　各月号編集⑪",{"$f":"設定・基礎!$D$3","v":2019},"③"]
["09","0112","兵庫教育　各月号編集⑫",{"$f":"設定・基礎!$D$3","v":2019},"③"]
["09","0113","兵庫教育　各月号編集①",{"$f":"設定・基礎!$D$3","v":2019},"③"]
["09","0114","兵庫教育　各月号編集②",{"$f":"設定・基礎!$D$3","v":2019},"③"]
["09","0115","兵庫教育　各月号編集③",{"$f":"設定・基礎!$D$3","v":2019},"③"]
[{"$f":"INDIRECT(\"作業用シート!\"&ADDRESS(ROW()-1,COLUMN()+1))","v":"09"},{"$f":"CONCATENATE(INDIRECT(\"作業用シート!\"&ADDRESS(ROW()-1,COLUMN()+2)),INDIRECT(\"作業用シート!\"&ADDRESS(ROW()-1,COLUMN()+4)))","v":"0116"},{"$f":"INDIRECT(\"作業用シート!\"&ADDRESS(ROW()-1,COLUMN()+4))","v":"兵庫教育　各月号編集④"},{"$f":"設定・基礎!$D$3","v":2019},{"$f":"INDIRECT(\"作業用シート!\"&ADDRESS(ROW()-1,COLUMN()+5))","v":"③"}]
["09","0117","兵庫教育　ＰＲに関するもの（チラシ）",{"$f":"設定・基礎!$D$3","v":2019},"③"]
["09","0118","兵庫教育　配布冊数",{"$f":"設定・基礎!$D$3","v":2019},"③"]
["09","0119","兵庫教育　執筆者データ",{"$f":"設定・基礎!$D$3","v":2019},"●"]
["09","0120","兵庫教育　次年度の計画",{"$f":"設定・基礎!$D$3","v":2019},"⑤"]
["09","0201","◆要覧◆",{"$f":"設定・基礎!$D$3","v":2019},"③"]
["09","0202","要覧①　事務（配付計画、仕様書、業者）",{"$f":"設定・基礎!$D$3","v":2019},"③"]
["09","0203","要覧②　原稿作成",{"$f":"設定・基礎!$D$3","v":2019},"③"]
["09","0301","◆広報◆",{"$f":"設定・基礎!$D$3","v":2019},"③"]
["09","0302","広報　企画・実施",{"$f":"設定・基礎!$D$3","v":2019},"③"]
["09","0303","Ｗｅｂページ　管理・更新",{"$f":"設定・基礎!$D$3","v":2019},"③"]
["09","0401","◆事務概要◆",{"$f":"設定・基礎!$D$3","v":2019},"③"]
["09","0402","事務概要",{"$f":"設定・基礎!$D$3","v":2019},"③"]
["09","0501","◆特色冊子◆",{"$f":"設定・基礎!$D$3","v":2019},"③"]
["09","0502","特色冊子",{"$f":"設定・基礎!$D$3","v":2019},"③"]
["10","0101","◆協議会◆",{"$f":"設定・基礎!$D$3","v":2019},"●"]
["10","0102","協議会①準備（方針・日程・委員委嘱）",{"$f":"設定・基礎!$D$3","v":2019},"⑤"]
["10","0103","協議会②資料作成（冊子・プレゼン）",{"$f":"設定・基礎!$D$3","v":2019},"⑤"]
["10","0104","協議会③事前説明・あいさつ・資料・旅費",{"$f":"設定・基礎!$D$3","v":2019},"⑤"]
["10","0105","協議会④Ｑ＆Ａ",{"$f":"設定・基礎!$D$3","v":2019},"⑤"]
["10","0106","協議会⑤事後処理（議事録・礼状・報告）",{"$f":"設定・基礎!$D$3","v":2019},"⑤"]
["10","0201","◆監査◆",{"$f":"設定・基礎!$D$3","v":2019},"⑤"]
["10","0202","監査資料作成",{"$f":"設定・基礎!$D$3","v":2019},"⑤"]
["10","0203","監査Ｑ＆Ａ",{"$f":"設定・基礎!$D$3","v":2019},"⑤"]
["10","0301","◆教職員支援◆",{"$f":"設定・基礎!$D$3","v":2019},"⑤"]
["10","0302","特別研修",{"$f":"設定・基礎!$D$3","v":2019},"㉚"]
["10","0303","ショートプログラム",{"$f":"設定・基礎!$D$3","v":2019},"⑩"]
["10","0304","体罰再発防止研修",{"$f":"設定・基礎!$D$3","v":2019},"⑩"]
["10","0401","◆２２条協議会◆",{"$f":"設定・基礎!$D$3","v":2019},"●"]
["10","0402","２２条協議会　全国教育センター協議会",{"$f":"設定・基礎!$D$3","v":2019},"⑤"]
["10","0501","◆耐震化工事◆",{"$f":"設定・基礎!$D$3","v":2019},"⑤"]
["10","0502","耐震化工事",{"$f":"設定・基礎!$D$3","v":2019},"⑤"]
[{"$f":"INDIRECT(\"作業用シート!\"&ADDRESS(ROW()-1,COLUMN()+1))","v":"11"},{"$f":"CONCATENATE(INDIRECT(\"作業用シート!\"&ADDRESS(ROW()-1,COLUMN()+2)),INDIRECT(\"作業用シート!\"&ADDRESS(ROW()-1,COLUMN()+4)))","v":"0101"},{"$f":"INDIRECT(\"作業用シート!\"&ADDRESS(ROW()-1,COLUMN()+4))","v":"◆インターン◆"},{"$f":"設定・基礎!$D$3","v":2019},{"$f":"INDIRECT(\"作業用シート!\"&ADDRESS(ROW()-1,COLUMN()+5))","v":"⑤"}]
["11","0102","県庁インターンシップ・トライやる",{"$f":"設定・基礎!$D$3","v":2019},"⑤"]
["11","0201","◆その他会議◆",{"$f":"設定・基礎!$D$3","v":2019},"③"]
["11","0202","兵庫教育大学ＧＰ会議",{"$f":"設定・基礎!$D$3","v":2019},"③"]
["11","0203","教員研修センター",{"$f":"設定・基礎!$D$3","v":2019},"③"]
["11","0204","兵庫県教員免許更新講習連絡協議会",{"$f":"設定・基礎!$D$3","v":2019},"③"]
["11","0301","◆その他◆",{"$f":"設定・基礎!$D$3","v":2019},"③"]
["11","0302","その他",{"$f":"設定・基礎!$D$3","v":2019},"③"]
["11","0303","課内回覧",{"$f":"設定・基礎!$D$3","v":2019},"③"]
["12","0101","◆課内親睦◆",{"$f":"設定・基礎!$D$3","v":2019},"①"]
["12","0102","親睦会計",{"$f":"設定・基礎!$D$3","v":2019},"①"]
["12","0103","親睦会行事",{"$f":"設定・基礎!$D$3","v":2019},"①"]
["12","0104","課内写真",{"$f":"設定・基礎!$D$3","v":2019},"⑤"]
["12","0201","◆個人ファイル◆",{"$f":"設定・基礎!$D$3","v":2019},"③"]
["12","0202","Ａさん",{"$f":"設定・基礎!$D$3","v":2019},"③"]
["12","0203","Ｂさん",{"$f":"設定・基礎!$D$3","v":2019},"③"]
["12","0204","Ｃさん",{"$f":"設定・基礎!$D$3","v":2019},"③"]
["12","0205","Ｄさん",{"$f":"設定・基礎!$D$3","v":2019},"③"]
["12","0206","Ｅさん",{"$f":"設定・基礎!$D$3","v":2019},"③"]
["12","0207","Ｆさん",{"$f":"設定・基礎!$D$3","v":2019},"③"]
["12","0208","Ｇさん",{"$f":"設定・基礎!$D$3","v":2019},"③"]
["12","0209","Ｈさん",{"$f":"設定・基礎!$D$3","v":2019},"③"]
["12","0210","Ｉさん",{"$f":"設定・基礎!$D$3","v":2019},"③"]

{"sheet":"ファイルタグデータ","index":6,"n_rows":234,"n_cols":3,"rows_kept":234,"cut":false,"hidden":false,"merged":[]}
["大中小No.","担当記号","小名略"]
[{"$f":"CONCATENATE(INDIRECT(\"作業用シート!\"&ADDRESS(ROW()-1,COLUMN()+1)),INDIRECT(\"作業用シート!\"&ADDRESS(ROW()-1,COLUMN()+3)),INDIRECT(\"作業用シート!\"&ADDRESS(ROW()-1,COLUMN()+5)))","v":"010101"},{"$f":"INDIRECT(\"作業用シート!\"&ADDRESS(ROW()-1,COLUMN()+8))","v":"①"},{"$f":"IF(INDIRECT(\"作業用シート!\"&ADDRESS(ROW()-1,COLUMN()+5))=\"\",INDIRECT(\"作業用シート!\"&ADDRESS(ROW()-1,COLUMN()+4)),INDIRECT(\"作業用シート!\"&ADDRESS(ROW()-1,COLUMN()+5)))","v":"◆共有情報◆"}]
["010102",{"$f":"INDIRECT(\"作業用シート!\"&ADDRESS(ROW()-1,COLUMN()+8))","v":"●"},"永久保存情報"]
["010103","③","学校情報"]
["010104","⑳","受講履歴"]
["010105","③","受講願・メニュー"]
["010106","⑳","簡易申請システム"]
["010107","⑳","アンケートシステム"]
["010201","③","◆課務総括◆"]
["010202","③","引き継ぎ事項"]
["010203","③","分掌（企画）等"]
["010204","③","年間計画"]
["010205","③","事業概要（所内）"]
["010206","⑤","懸案事項ヒア"]
["010207","③","三役挨拶出張一覧"]
["020101","③","◆課内庶務◆"]
["020102","③","資料"]
["020103","③","名刺"]
["020104","③","超勤"]
["020105","③","動静表"]
["020106","⑩","監査資料"]
["020107","⑩","予算"]
["020108","①","課内消耗品調査"]
["020109","③","ゆずりは通信"]
["020110","③","配車願"]
["020201","③","◆設備・備品◆"]
["020202","③","物品購入要求書"]
["030101","⑤","◆研修Ⅰ◆"]
["030102","⑤","研修システム設定"]
[{"$f":"CONCATENATE(INDIRECT(\"作業用シート!\"&ADDRESS(ROW()-1,COLUMN()+1)),INDIRECT(\"作業用シート!\"&ADDRESS(ROW()-1,COLUMN()+3)),INDIRECT(\"作業用シート!\"&ADDRESS(ROW()-1,COLUMN()+5)))","v":"030103"},{"$f":"INDIRECT(\"作業用シート!\"&ADDRESS(ROW()-1,COLUMN()+8))","v":"⑤"},{"$f":"IF(INDIRECT(\"作業用シート!\"&ADDRESS(ROW()-1,COLUMN()+5))=\"\",INDIRECT(\"作業用シート!\"&ADDRESS(ROW()-1,COLUMN()+4)),INDIRECT(\"作業用シート!\"&ADDRESS(ROW()-1,COLUMN()+5)))","v":"研修事務要領"}]
["030104","⑤","研修担当者会（所外）"]
["030105","⑤","研修担当者会（所内）"]
["030106","⑤","研修室使用計画"]
["030107","⑤","講師依頼（教育事務所分）"]
["030108","⑤","貸館"]
["030109","⑤","駐車場"]
["030110","⑳","修了者台帳"]
[{"$f":"CONCATENATE(INDIRECT(\"作業用シート!\"&ADDRESS(ROW()-1,COLUMN()+1)),INDIRECT(\"作業用シート!\"&ADDRESS(ROW()-1,COLUMN()+3)),INDIRECT(\"作業用シート!\"&ADDRESS(ROW()-1,COLUMN()+5)))","v":"030201"},{"$f":"INDIRECT(\"作業用シート!\"&ADDRESS(ROW()-1,COLUMN()+8))","v":"①"},{"$f":"IF(INDIRECT(\"作業用シート!\"&ADDRESS(ROW()-1,COLUMN()+5))=\"\",INDIRECT(\"作業用シート!\"&ADDRESS(ROW()-1,COLUMN()+4)),INDIRECT(\"作業用シート!\"&ADDRESS(ROW()-1,COLUMN()+5)))","v":"◆受講決定◆"}]
["030202","①","受講決定通知文"]
["030203","①","受講人数一覧表"]
["030204","①","受講決定①募集期間"]
["030205","①","受講決定②追加６月"]
["030206","①","受講決定③追加６月"]
["030207","①","受講決定④追加６月"]
["030208","①","受講決定⑤追加６月"]
[{"$f":"CONCATENATE(INDIRECT(\"作業用シート!\"&ADDRESS(ROW()-1,COLUMN()+1)),INDIRECT(\"作業用シート!\"&ADDRESS(ROW()-1,COLUMN()+3)),INDIRECT(\"作業用シート!\"&ADDRESS(ROW()-1,COLUMN()+5)))","v":"030209"},{"$f":"INDIRECT(\"作業用シート!\"&ADDRESS(ROW()-1,COLUMN()+8))","v":"①"},{"$f":"IF(INDIRECT(\"作業用シート!\"&ADDRESS(ROW()-1,COLUMN()+5))=\"\",INDIRECT(\"作業用シート!\"&ADDRESS(ROW()-1,COLUMN()+4)),INDIRECT(\"作業用シート!\"&ADDRESS(ROW()-1,COLUMN()+5)))","v":"受講決定⑥追加７月"}]
["030210","①","受講決定⑦追加８月"]
["030211","①","受講決定⑧追加８月"]
["030212","①","受講決定⑨追加９月"]
["030213","①","受講決定⑩追加９月"]
[{"$f":"CONCATENATE(INDIRECT(\"作業用シート!\"&ADDRESS(ROW()-1,COLUMN()+1)),INDIRECT(\"作業用シート!\"&ADDRESS(ROW()-1,COLUMN()+3)),INDIRECT(\"作業用シート!\"&ADDRESS(ROW()-1,COLUMN()+5)))","v":"030214"},{"$f":"INDIRECT(\"作業用シート!\"&ADDRESS(ROW()-1,COLUMN()+8))","v":"①"},{"$f":"IF(INDIRECT(\"作業用シート!\"&ADDRESS(ROW()-1,COLUMN()+5))=\"\",INDIRECT(\"作業用シート!\"&ADDRESS(ROW()-1,COLUMN()+4)),INDIRECT(\"作業用シート!\"&ADDRESS(ROW()-1,COLUMN()+5)))","v":"受講決定⑪追加１０月"}]
["030215","①","受講決定⑫追加１１・１２・１月"]
[{"$f":"CONCATENATE(INDIRECT(\"作業用シート!\"&ADDRESS(ROW()-1,COLUMN()+1)),INDIRECT(\"作業用シート!\"&ADDRESS(ROW()-1,COLUMN()+3)),INDIRECT(\"作業用シート!\"&ADDRESS(ROW()-1,COLUMN()+5)))","v":"030301"},{"$f":"INDIRECT(\"作業用シート!\"&ADDRESS(ROW()-1,COLUMN()+8))","v":"①"},{"$f":"IF(INDIRECT(\"作業用シート!\"&ADDRESS(ROW()-1,COLUMN()+5))=\"\",INDIRECT(\"作業用シート!\"&ADDRESS(ROW()-1,COLUMN()+4)),INDIRECT(\"作業用シート!\"&ADDRESS(ROW()-1,COLUMN()+5)))","v":"◆受講願控◆"}]
["030302","①","受講願控①募集"]
["030303","①","受講願控②追加"]
["030401","⑤","◆実施要項◆"]
[{"$f":"CONCATENATE(INDIRECT(\"作業用シート!\"&ADDRESS(ROW()-1,COLUMN()+1)),INDIRECT(\"作業用シート!\"&ADDRESS(ROW()-1,COLUMN()+3)),INDIRECT(\"作業用シート!\"&ADDRESS(ROW()-1,COLUMN()+5)))","v":"030402"},{"$f":"INDIRECT(\"作業用シート!\"&ADDRESS(ROW()-1,COLUMN()+8))","v":"⑤"},{"$f":"IF(INDIRECT(\"作業用シート!\"&ADDRESS(ROW()-1,COLUMN()+5))=\"\",INDIRECT(\"作業用シート!\"&ADDRESS(ROW()-1,COLUMN()+4)),INDIRECT(\"作業用シート!\"&ADDRESS(ROW()-1,COLUMN()+5)))","v":"実施要項①（２０００～）"}]
[{"$f":"CONCATENATE(INDIRECT(\"作業用シート!\"&ADDRESS(ROW()-1,COLUMN()+1)),INDIRECT(\"作業用シート!\"&ADDRESS(ROW()-1,COLUMN()+3)),INDIRECT(\"作業用シート!\"&ADDRESS(ROW()-1,COLUMN()+5)))","v":"030403"},{"$f":"INDIRECT(\"作業用シート!\"&ADDRESS(ROW()-1,COLUMN()+8))","v":"⑤"},{"$f":"IF(INDIRECT(\"作業用シート!\"&ADDRESS(ROW()-1,COLUMN()+5))=\"\",INDIRECT(\"作業用シート!\"&ADDRESS(ROW()-1,COLUMN()+4)),INDIRECT(\"作業用シート!\"&ADDRESS(ROW()-1,COLUMN()+5)))","v":"実施要項②（３０００～）"}]
["030404","⑤","実施要項③（６０００～）"]
[{"$f":"CONCATENATE(INDIRECT(\"作業用シート!\"&ADDRESS(ROW()-1,COLUMN()+1)),INDIRECT(\"作業用シート!\"&ADDRESS(ROW()-1,COLUMN()+3)),INDIRECT(\"作業用シート!\"&ADDRESS(ROW()-1,COLUMN()+5)))","v":"030405"},{"$f":"INDIRECT(\"作業用シート!\"&ADDRESS(ROW()-1,COLUMN()+8))","v":"⑤"},{"$f":"IF(INDIRECT(\"作業用シート!\"&ADDRESS(ROW()-1,COLUMN()+5))=\"\",INDIRECT(\"作業用シート!\"&ADDRESS(ROW()-1,COLUMN()+4)),INDIRECT(\"作業用シート!\"&ADDRESS(ROW()-1,COLUMN()+5)))","v":"実施要項④（８０００～）"}]
[{"$f":"CONCATENATE(INDIRECT(\"作業用シート!\"&ADDRESS(ROW()-1,COLUMN()+1)),INDIRECT(\"作業用シート!\"&ADDRESS(ROW()-1,COLUMN()+3)),INDIRECT(\"作業用シート!\"&ADDRESS(ROW()-1,COLUMN()+5)))","v":"030406"},{"$f":"INDIRECT(\"作業用シート!\"&ADDRESS(ROW()-1,COLUMN()+8))","v":"⑤"},{"$f":"IF(INDIRECT(\"作業用シート!\"&ADDRESS(ROW()-1,COLUMN()+5))=\"\",INDIRECT(\"作業用シート!\"&ADDRESS(ROW()-1,COLUMN()+4)),INDIRECT(\"作業用シート!\"&ADDRESS(ROW()-1,COLUMN()+5)))","v":"実施要項⑤（８３００～）"}]
["030407","⑤","実施要項⑥（その他）"]
["030408","⑤","研修手引書①義務"]
["030409","⑤","研修手引書②高校"]
["030410","⑤","研修手引書③特支他"]
["030411","⑤","校長・部長会等"]
["030501","⑤","◆出前研修◆"]
["030502","⑤","出前研修①依頼報告書"]
["030601","⑤","◆講師派遣◆"]
["030602","⑤","講師派遣①起案報告"]
[{"$f":"CONCATENATE(INDIRECT(\"作業用シート!\"&ADDRESS(ROW()-1,COLUMN()+1)),INDIRECT(\"作業用シート!\"&ADDRESS(ROW()-1,COLUMN()+3)),INDIRECT(\"作業用シート!\"&ADDRESS(ROW()-1,COLUMN()+5)))","v":"030701"},{"$f":"INDIRECT(\"作業用シート!\"&ADDRESS(ROW()-1,COLUMN()+8))","v":"⑤"},{"$f":"IF(INDIRECT(\"作業用シート!\"&ADDRESS(ROW()-1,COLUMN()+5))=\"\",INDIRECT(\"作業用シート!\"&ADDRESS(ROW()-1,COLUMN()+4)),INDIRECT(\"作業用シート!\"&ADDRESS(ROW()-1,COLUMN()+5)))","v":"◆自由研修◆"}]
[{"$f":"CONCATENATE(INDIRECT(\"作業用シート!\"&ADDRESS(ROW()-1,COLUMN()+1)),INDIRECT(\"作業用シート!\"&ADDRESS(ROW()-1,COLUMN()+3)),INDIRECT(\"作業用シート!\"&ADDRESS(ROW()-1,COLUMN()+5)))","v":"030702"},{"$f":"INDIRECT(\"作業用シート!\"&ADDRESS(ROW()-1,COLUMN()+8))","v":"⑤"},{"$f":"IF(INDIRECT(\"作業用シート!\"&ADDRESS(ROW()-1,COLUMN()+5))=\"\",INDIRECT(\"作業用シート!\"&ADDRESS(ROW()-1,COLUMN()+4)),INDIRECT(\"作業用シート!\"&ADDRESS(ROW()-1,COLUMN()+5)))","v":"自由研修①私学案内"}]
["030703","⑤","自由研修②承認"]
["030801","⑤","◆公開講座◆"]
["030802","⑤","公開講座①年初事務"]
["030803","⑤","公開講座②案内"]
["030804","⑤","公開講座③受付資料名簿"]
["030901","⑤","◆大学公開◆"]
["030902","⑤","大学公開講座"]
["040101","⑤","◆研修統計◆"]
["040102","⑤","実施報告書①一般研修１"]
["040103","⑤","実施報告書②一般研修２"]
["040104","⑤","実施報告書③職務研修１"]
["040105","⑤","実施報告書④職務研修２"]
["040106","①","欠席届（一般）"]
["040201","⑤","◆研修評価◆"]
["040202","⑤","講座評価①一覧"]
["040203","⑤","講座評価②選択"]
["040204","⑤","講座評価③職務"]
["040301","⑤","◆講座編成◆"]
["040302","⑤","講座設定様式"]
["040303","⑤","講座編成　方針日程重点"]
["040304","⑤","講座編成会議①"]
["040305","⑤","講座編成会議②"]
["040306","⑤","講座編成会議③"]
["040307","⑤","講座編成会議④"]
["040308","⑤","講座編成会議⑤"]
["040309","⑤","講座日程調整①（本庁各課）"]
["040310","⑤","講座日程調整②（日程・部屋）"]
["040401","⑤","◆しおり・Ｐ◆"]
["040402","⑤","しおり作成①日程・仕様・業者"]
["040403","⑤","しおり作成②発送用ラベル"]
["040404","⑤","しおり・Ｐ原稿"]
[{"$f":"CONCATENATE(INDIRECT(\"作業用シート!\"&ADDRESS(ROW()-1,COLUMN()+1)),INDIRECT(\"作業用シート!\"&ADDRESS(ROW()-1,COLUMN()+3)),INDIRECT(\"作業用シート!\"&ADDRESS(ROW()-1,COLUMN()+5)))","v":"050101"},{"$f":"INDIRECT(\"作業用シート!\"&ADDRESS(ROW()-1,COLUMN()+8))","v":"⑤"},{"$f":"IF(INDIRECT(\"作業用シート!\"&ADDRESS(ROW()-1,COLUMN()+5))=\"\",INDIRECT(\"作業用シート!\"&ADDRESS(ROW()-1,COLUMN()+4)),INDIRECT(\"作業用シート!\"&ADDRESS(ROW()-1,COLUMN()+5)))","v":"◆研究推進◆"}]
["050102","⑤","研究推進計画担当者会課長会"]
["050103","⑤","研究部長ヒア①"]
["050104","⑤","研究部長ヒア②"]
["050105","⑤","研究部長ヒア③"]
["050106","⑤","研究中間発表"]
["050107","⑤","研究所長ヒア①"]
["050108","⑤","研究所長ヒア②"]
["050201","⑩","◆研究紀要◆"]
["050202","⑩","研究紀要事務①仕様・打合せ"]
["050203","⑩","研究紀要事務②原稿作成・発送"]
["050204","⑩","研究発表会①案内・プレゼン"]
["050205","⑩","研究発表会②参加者"]
["050206","⑩","研究発表会③運営"]
["050207","⑩","研究紀要校正"]
["050301","③","◆所内研修◆"]
["050302","③","所内研修①部長講話、概要"]
["060101","⑩","◆全教連◆"]
["060102","⑩","全教連①協議会・大会等"]
["060103","⑩","全教連②協議会・大会等"]
["060104","⑩","全教連③調査対応"]
["060105","⑩","全教連・所長協"]
["060201","⑩","◆所長協◆"]
["060202","⑩","所長協①大会等"]
["060203","⑩","所長協②調査対応１"]
["060204","⑩","所長協③調査対応２"]
["060205","⑩","所長協④地学分科会"]
["060301","⑩","◆近教研連◆"]
["060302","⑩","近教研連①所長会①②"]
["060303","⑩","近教研連②人ＡＢＣ特情"]
["060304","⑩","近教研連③研究発表大会"]
["060305","⑩","近教研連⑤Ｈ３０人権計画"]
[{"$f":"CONCATENATE(INDIRECT(\"作業用シート!\"&ADDRESS(ROW()-1,COLUMN()+1)),INDIRECT(\"作業用シート!\"&ADDRESS(ROW()-1,COLUMN()+3)),INDIRECT(\"作業用シート!\"&ADDRESS(ROW()-1,COLUMN()+5)))","v":"060401"},{"$f":"INDIRECT(\"作業用シート!\"&ADDRESS(ROW()-1,COLUMN()+8))","v":"●"},{"$f":"IF(INDIRECT(\"作業用シート!\"&ADDRESS(ROW()-1,COLUMN()+5))=\"\",INDIRECT(\"作業用シート!\"&ADDRESS(ROW()-1,COLUMN()+4)),INDIRECT(\"作業用シート!\"&ADDRESS(ROW()-1,COLUMN()+5)))","v":"◆県内教連◆"}]
["060402","●","県内教連①担当・要覧作成"]
["060403","●","県内教連②第１回理事会"]
["060404","●","県内教連③第２回理事会"]
["060405","●","県内教連盟④担当者会"]
["060406","●","県内教連⑤研究発表大会"]
["060407","●","県内教連⑥相談・情報"]
["060408","●","県内教連⑦会計"]
["060409","●","県内教連⑧研修研究"]
["060501","⑤","◆連盟事務◆"]
["060502","⑤","研究所連盟　発表者出張一覧"]
["060503","⑤","研究所連盟　その他調査対応"]
["060601","⑤","◆指導の重点◆"]
["060602","⑤","指導の重点①推薦・会議①②"]
["060603","⑤","指導の重点②原稿・参考資料"]
["060701","●","◆教育史料◆"]
["060702","●","教育史料"]
["060801","⑩","◆調査対応◆"]
["060802","⑩","調査対応"]
["070101","●","◆講師紹介◆"]
["070102","●","講師紹介"]
["070201","③","◆研修支援◆"]
["070202","③","校内研修支援（講師派遣）"]
["080101","⑤","◆図書関係◆"]
["080102","⑤","図書室①図書関係"]
["080103","⑤","図書室②図書資料供覧"]
["080104","●","図書室③資料目録"]
["080105","⑤","図書室④教科書関係"]
["080106","⑤","図書室⑤図書雑誌購入"]
["090101","⑤","◆兵庫教育◆"]
["090102","⑤","兵庫教育情報　連載兵教大教職"]
["090103","⑤","兵庫教育　年間執筆計画"]
[{"$f":"CONCATENATE(INDIRECT(\"作業用シート!\"&ADDRESS(ROW()-1,COLUMN()+1)),INDIRECT(\"作業用シート!\"&ADDRESS(ROW()-1,COLUMN()+3)),INDIRECT(\"作業用シート!\"&ADDRESS(ROW()-1,COLUMN()+5)))","v":"090104"},{"$f":"INDIRECT(\"作業用シート!\"&ADDRESS(ROW()-1,COLUMN()+8))","v":"⑤"},{"$f":"IF(INDIRECT(\"作業用シート!\"&ADDRESS(ROW()-1,COLUMN()+5))=\"\",INDIRECT(\"作業用シート!\"&ADDRESS(ROW()-1,COLUMN()+4)),INDIRECT(\"作業用シート!\"&ADDRESS(ROW()-1,COLUMN()+5)))","v":"兵庫教育　企画委員会①②"}]
["090105","③","兵庫教育　各月号⑤"]
["090106","③","兵庫教育　各月号⑥"]
["090107","③","兵庫教育　各月号⑦"]
["090108","③","兵庫教育　各月号⑧"]
["090109","③","兵庫教育　各月号⑨"]
["090110","③","兵庫教育　各月号⑩"]
["090111","③","兵庫教育　各月号⑪"]
["090112","③","兵庫教育　各月号⑫"]
["090113","③","兵庫教育　各月号①"]
["090114","③","兵庫教育　各月号②"]
["090115","③","兵庫教育　各月号③"]
[{"$f":"CONCATENATE(INDIRECT(\"作業用シート!\"&ADDRESS(ROW()-1,COLUMN()+1)),INDIRECT(\"作業用シート!\"&ADDRESS(ROW()-1,COLUMN()+3)),INDIRECT(\"作業用シート!\"&ADDRESS(ROW()-1,COLUMN()+5)))","v":"090116"},{"$f":"INDIRECT(\"作業用シート!\"&ADDRESS(ROW()-1,COLUMN()+8))","v":"③"},{"$f":"IF(INDIRECT(\"作業用シート!\"&ADDRESS(ROW()-1,COLUMN()+5))=\"\",INDIRECT(\"作業用シート!\"&ADDRESS(ROW()-1,COLUMN()+4)),INDIRECT(\"作業用シート!\"&ADDRESS(ROW()-1,COLUMN()+5)))","v":"兵庫教育　各月号④"}]
["090117","③","兵庫教育　ＰＲ（チラシ）"]
["090118","③","兵庫教育　配布冊数"]
["090119","●","兵庫教育　執筆者データ"]
["090120","⑤","兵庫教育　次年度計画"]
["090201","③","◆要覧◆"]
["090202","③","要覧①　配付仕様打合せ"]
["090203","③","要覧②　原稿作成"]
["090301","③","◆広報◆"]
["090302","③","広報　企画・実施"]
["090303","③","Ｗｅｂページ　管理・更新"]
["090401","③","◆事務概要◆"]
["090402","③","事務概要"]
["090501","③","◆特色冊子◆"]
["090502","③","特色冊子"]
["100101","●","◆運営協議会◆"]
["100102","⑤","協議会①方針日程委嘱"]
["100103","⑤","協議会②資料・プレゼン"]
["100104","⑤","協議会③冊子完成～当日"]
["100105","⑤","協議会④Ｑ＆Ａ"]
["100106","⑤","協議会⑤事後・３月報告"]
["100201","⑤","◆監査◆"]
["100202","⑤","監査資料作成"]
["100203","⑤","監査Ｑ＆Ａ"]
["100301","⑤","◆教職員支援◆"]
["100302","㉚","特別研修"]
["100303","⑩","ショートプログラム"]
["100304","⑩","体罰防止研修"]
["100401","●","◆２２条協議会◆"]
["100402","⑤","２２条協議会　センター等協議会"]
["100501","⑤","◆耐震化工事◆"]
["100502","⑤","耐震化工事"]
[{"$f":"CONCATENATE(INDIRECT(\"作業用シート!\"&ADDRESS(ROW()-1,COLUMN()+1)),INDIRECT(\"作業用シート!\"&ADDRESS(ROW()-1,COLUMN()+3)),INDIRECT(\"作業用シート!\"&ADDRESS(ROW()-1,COLUMN()+5)))","v":"110101"},{"$f":"INDIRECT(\"作業用シート!\"&ADDRESS(ROW()-1,COLUMN()+8))","v":"⑤"},{"$f":"IF(INDIRECT(\"作業用シート!\"&ADDRESS(ROW()-1,COLUMN()+5))=\"\",INDIRECT(\"作業用シート!\"&ADDRESS(ROW()-1,COLUMN()+4)),INDIRECT(\"作業用シート!\"&ADDRESS(ROW()-1,COLUMN()+5)))","v":"◆インターン◆"}]
["110102","⑤","インターンシップ　トライやる"]
["110201","③","◆その他◆"]
["110202","③","兵教大ＧＰ会議"]
["110203","③","教員研修センター"]
["110204","③","免許更新連絡協"]
["110301","③","◆その他◆"]
["110302","③","その他"]
["110303","③","課内回覧"]
["120101","①","◆課内親睦◆"]
["120102","①","親睦会計"]
["120103","①","親睦会行事"]
["120104","⑤","課内写真"]
["120201","③","◆個人ファイル◆"]
["120202","③","Ａさん"]
["120203","③","Ｂさん"]
["120204","③","Ｃさん"]
["120205","③","Ｄさん"]
["120206","③","Ｅさん"]
["120207","③","Ｆさん"]
["120208","③","Ｇさん"]
["120209","③","Ｈさん"]
["120210","③","Ｉさん"]